{"text_format":"1","workbook":"xlsx","n_sheets":7,"sheets":["Schedule Setup","Shift Schedule","Weekly Schedule","Schedule Forecast","Schedule Forecast-Detailed","#Include","Opening-Closing"],"not_rendered":{"charts":0,"images":1,"macros":1,"external_links":0,"defined_names":7,"comments":0,"pivot_tables":0},"unopened":[],"bounds":{"document_bytes":16777216,"sheet_cells":100000,"rows_first":2000,"rows_last":500,"rows_between":2000,"halvings":0,"cell_chars":16384,"cell_head_chars":4096},"cells_cut":0,"cells_raw":0,"read":"whole","date_system":"1900"}

{"sheet":"Schedule Setup","index":0,"n_rows":87,"n_cols":22,"rows_kept":87,"cut":false,"hidden":false,"merged":[[39,1,39,2],[2,13,2,14],[2,15,2,16],[2,17,2,18],[0,0,0,3],[2,5,2,6],[2,7,2,8],[2,9,2,10],[2,11,2,12],[1,0,1,3],[49,0,49,3],[50,15,50,16],[50,17,50,18],[50,5,50,6],[50,7,50,8],[50,9,50,10],[50,11,50,12],[50,13,50,14]]}
[]
["Schedule Availability "]
[null,null,null,null,null,"TUESDAY",null,"WEDNESDAY",null,"THURSDAY",null,"FRIDAY",null,"SATURDAY",null,"SUNDAY",null,"MONDAY",null,null,null,"Time"]
[null,"Name","Number","Job","Wage","Start","End","Start","End","Start","End","Start","End","Start","End","Start","End","Start","End",null,null,"09:00:00"]
[{"$f":"A4+1","v":1},null,null,null,null,null,null,null,null,null,null,null,null,null,null,null,null,null,null,null,null,{"$f":"V4+(0.25/24)","v":"09:15:00"}]
[2,null,null,null,null,null,null,null,null,null,null,null,null,null,null,null,null,null,null,null,null,{"$f":"V5+(0.25/24)","v":"09:30:00"}]
[3,null,null,null,null,null,null,null,null,null,null,null,null,null,null,null,null,null,null,null,null,"09:45:00"]
[4,null,null,null,null,null,null,null,null,null,null,null,null,null,null,null,null,null,null,null,null,"10:00:00"]
[{"$f":"A8+1","v":5},null,null,null,null,null,null,null,null,null,null,null,null,null,null,null,null,null,null,null,null,"10:15:00"]
[6,null,null,null,null,null,null,null,null,null,null,null,null,null,null,null,null,null,null,null,null,"10:30:00"]
[7,null,null,null,null,null,null,null,null,null,null,null,null,null,null,null,null,null,null,null,null,"10:45:00"]
[8,null,null,null,null,null,null,null,null,null,null,null,null,null,null,null,null,null,null,null,null,"11:00:00"]
[9,null,null,null,null,null,null,null,null,null,null,null,null,null,null,null,null,null,null,null,null,"11:15:00"]
[10,null,null,null,null,null,null,null,null,null,null,null,null,null,null,null,null,null,null,null,null,"11:30:00"]
[11,null,null,null,null,null,null,null,null,null,null,null,null,null,null,null,null,null,null,null,null,"11:45:00"]
[12,null,null,null,null,null,null,null,null,null,null,null,null,null,null,null,null,null,null,null,null,"12:00:00"]
[{"$f":"A16+1","v":13},null,null,null,null,null,null,null,null,null,null,null,null,null,null,null,null,null,null,null,null,"12:15:00"]
[14,null,null,null,null,null,null,null,null,null,null,null,null,null,null,null,null,null,null,null,null,"12:30:00"]
[15,null,null,null,null,null,null,null,null,null,null,null,null,null,null,null,null,null,null,null,null,"12:45:00"]
[{"$f":"A19+1","v":16},null,null,null,null,null,null,null,null,null,null,null,null,null,null,null,null,null,null,null,null,"13:00:00"]
[17,null,null,null,null,null,null,null,null,null,null,null,null,null,null,null,null,null,null,null,null,"13:15:00"]
[18,null,null,null,null,null,null,null,null,null,null,null,null,null,null,null,null,null,null,null,null,"13:30:00"]
[{"$f":"A22+1","v":19},null,null,null,null,null,null,null,null,null,null,null,null,null,null,null,null,null,null,null,null,"13:45:00"]
[20,null,null,null,null,null,null,null,null,null,null,null,null,null,null,null,null,null,null,null,null,"14:00:00"]
[21,null,null,null,null,null,null,null,null,null,null,null,null,null,null,null,null,null,null,null,null,"14:15:00"]
[22,null,null,null,null,null,null,null,null,null,null,null,null,null,null,null,null,null,null,null,null,"14:30:00"]
[23,null,null,null,null,null,null,null,null,null,null,null,null,null,null,null,null,null,null,null,null,"14:45:00"]
[24,null,null,null,null,null,null,null,null,null,null,null,null,null,null,null,null,null,null,null,null,"15:00:00"]
[25,null,null,null,null,null,null,null,null,null,null,null,null,null,null,null,null,null,null,null,null,"15:15:00"]
[26,null,null,null,null,null,null,null,null,null,null,null,null,null,null,null,null,null,null,null,null,"15:30:00"]
[27,null,null,null,null,null,null,null,null,null,null,null,null,null,null,null,null,null,null,null,null,"15:45:00"]
[28,null,null,null,null,null,null,null,null,null,null,null,null,null,null,null,null,null,null,null,null,"16:00:00"]
[29,null,null,null,null,null,null,null,null,null,null,null,null,null,null,null,null,null,null,null,null,"16:15:00"]
[30,null,null,null,null,null,null,null,null,null,null,null,null,null,null,null,null,null,null,null,null,"16:30:00"]
[31,null,null,null,null,null,null,null,null,null,null,null,null,null,null,null,null,null,null,null,null,"16:45:00"]
[32,null,null,null,null,null,null,null,null,null,null,null,null,null,null,null,null,null,null,null,null,"17:00:00"]
[33,null,null,null,null,null,null,null,null,null,null,null,null,null,null,null,null,null,null,null,null,"17:15:00"]
[34,null,null,null,null,null,null,null,null,null,null,null,null,null,null,null,null,null,null,null,null,"17:30:00"]
[35,null,null,null,null,null,null,null,null,null,null,null,null,null,null,null,null,null,null,null,null,"17:45:00"]
[null,"v10.17.14",null,"Store Hours",null,"07:00:00","20:00:00","07:00:00","20:00:00","07:00:00","21:00:00","07:30:00","21:00:00","08:00:00","19:00:00","07:00:00","20:00:00","07:00:00","20:00:00",null,null,"18:00:00"]
[null,null,null,null,null,null,null,null,null,null,null,null,null,null,null,null,null,null,null,null,null,"18:15:00"]
[null,null,null,"Events",null,null,null,null,null,null,null,null,null,null,null,null,null,null,null,null,null,"18:30:00"]
[null,null,null,null,null,null,null,null,null,null,null,null,null,null,null,null,null,null,null,null,null,"18:45:00"]
[null,null,null,null,null,null,null,null,null,null,null,null,null,null,null,null,null,null,null,null,null,"19:00:00"]
[null,null,null,null,null,null,null,null,null,null,null,null,null,null,null,null,null,null,null,null,null,"19:15:00"]
[null,null,null,null,null,null,null,null,null,null,null,null,null,null,null,null,null,null,null,null,null,"19:30:00"]
[null,null,null,null,null,null,null,null,null,null,null,null,null,null,null,null,null,null,null,null,null,"19:45:00"]
[null,null,null,null,null,null,null,null,null,null,null,null,null,null,null,null,null,null,null,null,null,"20:00:00"]
[null,null,null,null,null,null,null,null,null,null,null,null,null,null,null,null,null,null,null,null,null,"20:15:00"]
["Standard Availability ",null,null,null,null,null,null,null,null,null,null,null,null,null,null,null,null,null,null,null,null,"20:30:00"]
[null,null,null,null,null,"TUESDAY",null,"WEDNESDAY",null,"THURSDAY",null,"FRIDAY",null,"SATURDAY",null,"SUNDAY",null,"MONDAY",null,null,null,"20:45:00"]
[null,"Name","Number","Job","Wage","Start","End","Start","End","Start","End","Start","End","Start","End","Start","End","Start","End",null,null,"21:00:00"]
[{"$f":"A52+1","v":1},null,null,null,null,null,null,null,null,null,null,null,null,null,null,null,null,null,null,null,null,"21:15:00"]
[2,null,null,null,null,null,null,null,null,null,null,null,null,null,null,null,null,null,null,null,null,"21:30:00"]
[3,null,null,null,null,null,null,null,null,null,null,null,null,null,null,null,null,null,null,null,null,"21:45:00"]
[4,null,null,null,null,null,null,null,null,null,null,null,null,null,null,null,null,null,null,null,null,"22:00:00"]
[{"$f":"A56+1","v":5},null,null,null,null,null,null,null,null,null,null,null,null,null,null,null,null,null,null,null,null,"22:15:00"]
[6,null,null,null,null,null,null,null,null,null,null,null,null,null,null,null,null,null,null,null,null,"22:30:00"]
[7,null,null,null,null,null,null,null,null,null,null,null,null,null,null,null,null,null,null,null,null,"22:45:00"]
[8,null,null,null,null,null,null,null,null,null,null,null,null,null,null,null,null,null,null,null,null,"23:00:00"]
[9,null,null,null,null,null,null,null,null,null,null,null,null,null,null,null,null,null,null,null,null,"23:15:00"]
[10,null,null,null,null,null,null,null,null,null,null,null,null,null,null,null,null,null,null,null,null,"23:30:00"]
[11,null,null,null,null,null,null,null,null,null,null,null,null,null,null,null,null,null,null,null,null,"23:45:00"]
[12,null,null,null,null,null,null,null,null,null,null,null,null,null,null,null,null,null,null,null,null,0.99999999999999845]
[{"$f":"A64+1","v":13},null,null,null,null,null,null,null,null,null,null,null,null,null,null,null,null,null,null,null,null,"UnAvail"]
[14,null,null,null,null,null,null,null,null,null,null,null,null,null,null,null,null,null,null,null,null,"Req. Off"]
[15]
[{"$f":"A67+1","v":16},null,null,null,null,null,null,null,null,null,null,null,null,null,null,null,null,null,null,null,null,"Job"]
[17,null,null,null,null,null,null,null,null,null,null,null,null,null,null,null,null,null,null,null,null,"General Manager (S)"]
[18,null,null,null,null,null,null,null,null,null,null,null,null,null,null,null,null,null,null,null,null,"General Manager (H)"]
[{"$f":"A70+1","v":19},null,null,null,null,null,null,null,null,null,null,null,null,null,null,null,null,null,null,null,null,"Acting Manager"]
[20,null,null,null,null,null,null,null,null,null,null,null,null,null,null,null,null,null,null,null,null,"Assistant Manager"]
[21,null,null,null,null,null,null,null,null,null,null,null,null,null,null,null,null,null,null,null,null,"Shift Manager"]
[22,null,null,null,null,null,null,null,null,null,null,null,null,null,null,null,null,null,null,null,null,"Team Lead"]
[23,null,null,null,null,null,null,null,null,null,null,null,null,null,null,null,null,null,null,null,null,"Team Member"]
[24]
[25]
[26]
[27]
[28]
[29]
[30]
[31]
[32]
[33]
[34]
[35]

{"sheet":"Shift Schedule","index":1,"n_rows":325,"n_cols":148,"rows_kept":325,"cut":false,"hidden":false,"merged":[[4,144,4,145],[50,126,50,127],[50,128,50,129],[50,130,50,131],[50,132,50,133],[50,135,50,136],[50,137,50,138],[50,139,50,140],[50,141,50,142],[50,144,50,145],[4,126,4,127],[4,128,4,129],[4,130,4,131],[4,132,4,133],[4,135,4,136],[4,137,4,138],[234,144,234,145],[234,128,234,129],[234,130,234,131],[234,132,234,133],[234,19,234,21],[234,126,234,127],[96,144,96,145],[280,128,280,129],[280,137,280,138],[188,144,188,145],[188,135,188,136],[142,135,142,136],[142,137,142,138],[142,139,142,140],[142,141,142,142],[142,144,142,145],[280,139,280,140],[280,141,280,142],[280,144,280,145],[234,137,234,138],[234,139,234,140],[234,141,234,142],[280,135,280,136],[234,135,234,136],[96,135,96,136],[188,130,188,131],[188,132,188,133],[96,130,96,131],[96,132,96,133],[142,130,142,131],[142,132,142,133],[1,32,1,37],[280,126,280,127],[1,22,1,27],[1,28,1,30],[188,126,188,127],[142,126,142,127],[96,126,96,127],[2,126,2,133],[280,130,280,131],[280,132,280,133],[1,38,1,40],[188,128,188,129],[142,128,142,129],[96,128,96,129],[2,135,2,142],[4,139,4,140],[4,141,4,142],[188,137,188,138],[188,139,188,140],[188,141,188,142],[96,137,96,138],[96,139,96,140],[96,141,96,142],[280,19,280,21],[4,19,4,21],[50,19,50,21],[4,1,4,5],[50,1,50,5],[96,1,96,5],[142,1,142,5],[188,1,188,5],[188,19,188,21],[96,19,96,21],[142,19,142,21],[1,3,1,4],[1,14,1,18],[1,8,1,13],[234,1,234,5],[280,1,280,5],[1,5,1,6],[2,5,2,6]]}
[]
[null,"Store:",null,null,null,null,null,null,"For the Week of: ",null,null,null,null,null,"2019-05-01",null,null,null,null,null,null,null,"Last Weeks AVG Labor",null,null,null,null,null,10,null,null,null,"Reccomended Hours",null,null,null,null,null,{"$f":"AT49+AT95+AT141+AT187+AT233+AT279+AT325","v":181}]
[null,null,null,null,null,null,null,null,null,null,null,null,null,null,null,null,null,null,null,null,null,null,null,null,null,null,null,null,null,null,null,null,null,null,null,null,null,null,null,null,null,null,null,null,null,null,null,null,null,null,null,null,null,null,null,null,null,null,null,null,null,null,null,null,null,null,null,null,null,null,null,null,null,null,null,null,null,null,null,null,null,null,null,null,null,null,null,null,null,null,null,null,null,null,null,null,null,null,null,null,null,null,null,null,null,null,null,null,null,null,null,null,null,null,null,null,null,null,null,null,null,null,null,null,null,null,"Gross Labor",null,null,null,null,null,null,null,null,"Net Labor"]
[]
[null,"Tuesday",null,null,null,null,null,null,null,null,null,null,null,null,null,null,null,null,"Today's Date",{"$f":"O2","v":"2019-05-01"},null,null,null,null,null,null,null,null,null,null,null,null,null,null,null,null,null,null,null,null,null,null,null,null,null,null,null,null,null,null,null,null,null,null,null,null,null,null,null,null,null,null,null,null,null,null,null,null,null,null,null,null,null,null,null,null,null,null,null,null,null,null,null,null,null,null,null,null,null,null,null,null,null,null,null,null,null,null,null,null,null,null,null,null,null,null,null,null,null,null,null,null,null,null,null,null,null,null,null,null,null,null,null,null,null,null,"Breakfast",null,"Lunch",null,"Dinner",null,"Total",null,null,"Breakfast",null,"Lunch",null,"Dinner",null,"Total",null,null,"Availability"]
[null,"Employee","Job",null,"Start","End",null,"05:00:00","05:30:00","06:00:00","06:30:00","07:00:00","07:30:00","08:00:00","08:30:00","09:00:00","09:30:00","10:00:00","10:30:00","11:00:00","11:30:00","12:00:00","12:30:00","13:00:00","13:30:00","14:00:00","14:30:00","15:00:00","15:30:00","16:00:00","16:30:00","17:00:00","17:30:00","18:00:00","18:30:00","19:00:00","19:30:00","20:00:00","20:30:00","21:00:00","21:30:00","22:00:00","22:30:00","23:00:00","23:30:00","TOTAL",null,5,null,6,null,7,null,8,null,9,null,10,null,11,null,12,null,1,null,2,null,3,null,4,null,5,null,6,null,7,null,8,null,9,null,10,null,11,null,null,5,null,6,null,7,null,8,null,9,null,10,null,11,null,12,null,1,null,2,null,3,null,4,null,5,null,6,null,7,null,8,null,9,null,10,null,11,null,null,"Rate","Hrs","$","Hrs","$","Hrs","$","Hrs","$",null,"Hrs","$","Hrs","$","Hrs","$","Hrs","$",null,"Start","End","Start-Early","End-Late"]
[1,{"$f":"IF(VLOOKUP($A7,'Schedule Setup'!$A$4:$E$39,2,FALSE)=0,\"\",VLOOKUP($A7,'Schedule Setup'!$A$4:$E$39,2,FALSE))","v":""},{"$f":"IF(VLOOKUP($A7,'Schedule Setup'!$A$4:$E$39,4,FALSE)=0,\"\",VLOOKUP($A7,'Schedule Setup'!$A$4:$E$39,4,FALSE))","v":""},{"$f":"IF(B7<>\"\",IF(OR(C7=\"General Manager (S)\", C7=\"General Manager (H)\"), \"GM\",IF(C7=\"Acting Manager\",\"AM\",IF(C7=\"Shift Manager\",\"SM\",IF(C7=\"Team Lead\",\"TL\",\"TM\")))),\"\")","v":""},null,null,null,{"$f":"AV7","v":"x"},"x","x","x","x","x","x","x","x","x",{"$f":"BF7","v":"x"},"x","x","x","x","x","x","x","x","x",{"$f":"BP7","v":"x"},"x","x","x","x","x","x","x","x","x",{"$f":"BZ7","v":"x"},"x","x","x","x","x","x","x",{"$f":"EC7","v":0},null,{"$f":"IF(AND($EO7<=H$6+0.01,$EP7>H$6+0.01),IF(AND(H$6<$F7-0.01,H$6>=$E7-0.01),$D7,\"\"),\"x\")","v":"x"},{"$f":"IF(AND($EO7<=I$6+0.01,$EP7>I$6+0.01),IF(AND(I$6<$F7-0.01,I$6>=$E7-0.01),$D7,\"\"),\"x\")","v":"x"},{"$f":"IF(AND($EO7<=J$6+0.01,$EP7>J$6+0.01),IF(AND(J$6<$F7-0.01,J$6>=$E7-0.01),$D7,\"\"),\"x\")","v":"x"},{"$f":"IF(AND($EO7<=K$6+0.01,$EP7>K$6+0.01),IF(AND(K$6<$F7-0.01,K$6>=$E7-0.01),$D7,\"\"),\"x\")","v":"x"},{"$f":"IF(AND($EO7<=L$6+0.01,$EP7>L$6+0.01),IF(AND(L$6<$F7-0.01,L$6>=$E7-0.01),$D7,\"\"),\"x\")","v":"x"},{"$f":"IF(AND($EO7<=M$6+0.01,$EP7>M$6+0.01),IF(AND(M$6<$F7-0.01,M$6>=$E7-0.01),$D7,\"\"),\"x\")","v":"x"},{"$f":"IF(AND($EO7<=N$6+0.01,$EP7>N$6+0.01),IF(AND(N$6<$F7-0.01,N$6>=$E7-0.01),$D7,\"\"),\"x\")","v":"x"},{"$f":"IF(AND($EO7<=O$6+0.01,$EP7>O$6+0.01),IF(AND(O$6<$F7-0.01,O$6>=$E7-0.01),$D7,\"\"),\"x\")","v":"x"},{"$f":"IF(AND($EO7<=P$6+0.01,$EP7>P$6+0.01),IF(AND(P$6<$F7-0.01,P$6>=$E7-0.01),$D7,\"\"),\"x\")","v":"x"},{"$f":"IF(AND($EO7<=Q$6+0.01,$EP7>Q$6+0.01),IF(AND(Q$6<$F7-0.01,Q$6>=$E7-0.01),$D7,\"\"),\"x\")","v":"x"},{"$f":"IF(AND($EO7<=R$6+0.01,$EP7>R$6+0.01),IF(AND(R$6<$F7-0.01,R$6>=$E7-0.01),$D7,\"\"),\"x\")","v":"x"},{"$f":"IF(AND($EO7<=S$6+0.01,$EP7>S$6+0.01),IF(AND(S$6<$F7-0.01,S$6>=$E7-0.01),$D7,\"\"),\"x\")","v":"x"},{"$f":"IF(AND($EO7<=T$6+0.01,$EP7>T$6+0.01),IF(AND(T$6<$F7-0.01,T$6>=$E7-0.01),$D7,\"\"),\"x\")","v":"x"},{"$f":"IF(AND($EO7<=U$6+0.01,$EP7>U$6+0.01),IF(AND(U$6<$F7-0.01,U$6>=$E7-0.01),$D7,\"\"),\"x\")","v":"x"},{"$f":"IF(AND($EO7<=V$6+0.01,$EP7>V$6+0.01),IF(AND(V$6<$F7-0.01,V$6>=$E7-0.01),$D7,\"\"),\"x\")","v":"x"},{"$f":"IF(AND($EO7<=W$6+0.01,$EP7>W$6+0.01),IF(AND(W$6<$F7-0.01,W$6>=$E7-0.01),$D7,\"\"),\"x\")","v":"x"},{"$f":"IF(AND($EO7<=X$6+0.01,$EP7>X$6+0.01),IF(AND(X$6<$F7-0.01,X$6>=$E7-0.01),$D7,\"\"),\"x\")","v":"x"},{"$f":"IF(AND($EO7<=Y$6+0.01,$EP7>Y$6+0.01),IF(AND(Y$6<$F7-0.01,Y$6>=$E7-0.01),$D7,\"\"),\"x\")","v":"x"},{"$f":"IF(AND($EO7<=Z$6+0.01,$EP7>Z$6+0.01),IF(AND(Z$6<$F7-0.01,Z$6>=$E7-0.01),$D7,\"\"),\"x\")","v":"x"},{"$f":"IF(AND($EO7<=AA$6+0.01,$EP7>AA$6+0.01),IF(AND(AA$6<$F7-0.01,AA$6>=$E7-0.01),$D7,\"\"),\"x\")","v":"x"},{"$f":"IF(AND($EO7<=AB$6+0.01,$EP7>AB$6+0.01),IF(AND(AB$6<$F7-0.01,AB$6>=$E7-0.01),$D7,\"\"),\"x\")","v":"x"},{"$f":"IF(AND($EO7<=AC$6+0.01,$EP7>AC$6+0.01),IF(AND(AC$6<$F7-0.01,AC$6>=$E7-0.01),$D7,\"\"),\"x\")","v":"x"},{"$f":"IF(AND($EO7<=AD$6+0.01,$EP7>AD$6+0.01),IF(AND(AD$6<$F7-0.01,AD$6>=$E7-0.01),$D7,\"\"),\"x\")","v":"x"},{"$f":"IF(AND($EO7<=AE$6+0.01,$EP7>AE$6+0.01),IF(AND(AE$6<$F7-0.01,AE$6>=$E7-0.01),$D7,\"\"),\"x\")","v":"x"},{"$f":"IF(AND($EO7<=AF$6+0.01,$EP7>AF$6+0.01),IF(AND(AF$6<$F7-0.01,AF$6>=$E7-0.01),$D7,\"\"),\"x\")","v":"x"},{"$f":"IF(AND($EO7<=AG$6+0.01,$EP7>AG$6+0.01),IF(AND(AG$6<$F7-0.01,AG$6>=$E7-0.01),$D7,\"\"),\"x\")","v":"x"},{"$f":"IF(AND($EO7<=AH$6+0.01,$EP7>AH$6+0.01),IF(AND(AH$6<$F7-0.01,AH$6>=$E7-0.01),$D7,\"\"),\"x\")","v":"x"},{"$f":"IF(AND($EO7<=AI$6+0.01,$EP7>AI$6+0.01),IF(AND(AI$6<$F7-0.01,AI$6>=$E7-0.01),$D7,\"\"),\"x\")","v":"x"},{"$f":"IF(AND($EO7<=AJ$6+0.01,$EP7>AJ$6+0.01),IF(AND(AJ$6<$F7-0.01,AJ$6>=$E7-0.01),$D7,\"\"),\"x\")","v":"x"},{"$f":"IF(AND($EO7<=AK$6+0.01,$EP7>AK$6+0.01),IF(AND(AK$6<$F7-0.01,AK$6>=$E7-0.01),$D7,\"\"),\"x\")","v":"x"},{"$f":"IF(AND($EO7<=AL$6+0.01,$EP7>AL$6+0.01),IF(AND(AL$6<$F7-0.01,AL$6>=$E7-0.01),$D7,\"\"),\"x\")","v":"x"},{"$f":"IF(AND($EO7<=AM$6+0.01,$EP7>AM$6+0.01),IF(AND(AM$6<$F7-0.01,AM$6>=$E7-0.01),$D7,\"\"),\"x\")","v":"x"},{"$f":"IF(AND($EO7<=AN$6+0.01,$EP7>AN$6+0.01),IF(AND(AN$6<$F7-0.01,AN$6>=$E7-0.01),$D7,\"\"),\"x\")","v":"x"},{"$f":"IF(AND($EO7<=AO$6+0.01,$EP7>AO$6+0.01),IF(AND(AO$6<$F7-0.01,AO$6>=$E7-0.01),$D7,\"\"),\"x\")","v":"x"},{"$f":"IF(AND($EO7<=AP$6+0.01,$EP7>AP$6+0.01),IF(AND(AP$6<$F7-0.01,AP$6>=$E7-0.01),$D7,\"\"),\"x\")","v":"x"},{"$f":"IF(AND($EO7<=AQ$6+0.01,$EP7>AQ$6+0.01),IF(AND(AQ$6<$F7-0.01,AQ$6>=$E7-0.01),$D7,\"\"),\"x\")","v":"x"},{"$f":"IF(AND($EO7<=AR$6+0.01,$EP7>AR$6+0.01),IF(AND(AR$6<$F7-0.01,AR$6>=$E7-0.01),$D7,\"\"),\"x\")","v":"x"},{"$f":"IF(AND($EO7<=AS$6+0.01,$EP7>AS$6+0.01),IF(AND(AS$6<$F7-0.01,AS$6>=$E7-0.01),$D7,\"\"),\"x\")","v":"x"},null,{"$f":"IF(AND(AV7<>\"\",AV7<>\"x\"),0.5,)","v":0},{"$f":"IF(AND(AW7<>\"\",AW7<>\"x\"),0.5,)","v":0},{"$f":"IF(AND(AX7<>\"\",AX7<>\"x\"),0.5,)","v":0},{"$f":"IF(AND(AY7<>\"\",AY7<>\"x\"),0.5,)","v":0},{"$f":"IF(AND(AZ7<>\"\",AZ7<>\"x\"),0.5,)","v":0},{"$f":"IF(AND(BA7<>\"\",BA7<>\"x\"),0.5,)","v":0},{"$f":"IF(AND(BB7<>\"\",BB7<>\"x\"),0.5,)","v":0},{"$f":"IF(AND(BC7<>\"\",BC7<>\"x\"),0.5,)","v":0},{"$f":"IF(AND(BD7<>\"\",BD7<>\"x\"),0.5,)","v":0},{"$f":"IF(AND(BE7<>\"\",BE7<>\"x\"),0.5,)","v":0},{"$f":"IF(AND(BF7<>\"\",BF7<>\"x\"),0.5,)","v":0},{"$f":"IF(AND(BG7<>\"\",BG7<>\"x\"),0.5,)","v":0},{"$f":"IF(AND(BH7<>\"\",BH7<>\"x\"),0.5,)","v":0},{"$f":"IF(AND(BI7<>\"\",BI7<>\"x\"),0.5,)","v":0},{"$f":"IF(AND(BJ7<>\"\",BJ7<>\"x\"),0.5,)","v":0},{"$f":"IF(AND(BK7<>\"\",BK7<>\"x\"),0.5,)","v":0},{"$f":"IF(AND(BL7<>\"\",BL7<>\"x\"),0.5,)","v":0},{"$f":"IF(AND(BM7<>\"\",BM7<>\"x\"),0.5,)","v":0},{"$f":"IF(AND(BN7<>\"\",BN7<>\"x\"),0.5,)","v":0},{"$f":"IF(AND(BO7<>\"\",BO7<>\"x\"),0.5,)","v":0},{"$f":"IF(AND(BP7<>\"\",BP7<>\"x\"),0.5,)","v":0},{"$f":"IF(AND(BQ7<>\"\",BQ7<>\"x\"),0.5,)","v":0},{"$f":"IF(AND(BR7<>\"\",BR7<>\"x\"),0.5,)","v":0},{"$f":"IF(AND(BS7<>\"\",BS7<>\"x\"),0.5,)","v":0},{"$f":"IF(AND(BT7<>\"\",BT7<>\"x\"),0.5,)","v":0},{"$f":"IF(AND(BU7<>\"\",BU7<>\"x\"),0.5,)","v":0},{"$f":"IF(AND(BV7<>\"\",BV7<>\"x\"),0.5,)","v":0},{"$f":"IF(AND(BW7<>\"\",BW7<>\"x\"),0.5,)","v":0},{"$f":"IF(AND(BX7<>\"\",BX7<>\"x\"),0.5,)","v":0},{"$f":"IF(AND(BY7<>\"\",BY7<>\"x\"),0.5,)","v":0},{"$f":"IF(AND(BZ7<>\"\",BZ7<>\"x\"),0.5,)","v":0},{"$f":"IF(AND(CA7<>\"\",CA7<>\"x\"),0.5,)","v":0},{"$f":"IF(AND(CB7<>\"\",CB7<>\"x\"),0.5,)","v":0},{"$f":"IF(AND(CC7<>\"\",CC7<>\"x\"),0.5,)","v":0},{"$f":"IF(AND(CD7<>\"\",CD7<>\"x\"),0.5,)","v":0},{"$f":"IF(AND(CE7<>\"\",CE7<>\"x\"),0.5,)","v":0},{"$f":"IF(AND(CF7<>\"\",CF7<>\"x\"),0.5,)","v":0},{"$f":"IF(AND(CG7<>\"\",CG7<>\"x\"),0.5,)","v":0},null,{"$f":"IF(VLOOKUP($A7,'Schedule Setup'!$A$4:$E$39,5,FALSE)=0,\"\",VLOOKUP($A7,'Schedule Setup'!$A$4:$E$39,5,FALSE))","v":""},{"$f":"SUM(CI7:CT7)","v":0},{"$f":"IFERROR(DW7*$DV7,\"\")","v":""},{"$f":"SUM(CU7:DF7)","v":0},{"$f":"IFERROR(DY7*$DV7,\"\")","v":""},{"$f":"SUM(DG7:DT7)","v":0},{"$f":"IFERROR(EA7*$DV7,\"\")","v":""},{"$f":"SUM(DW7,DY7,EA7)","v":0},{"$f":"IFERROR(EC7*$DV7,\"\")","v":""},null,{"$f":"IF(DW7>5,(DW7-0.5),DW7)","v":0},{"$f":"IFERROR(EF7*$DV7,\"\")","v":""},{"$f":"IF(DY7>5,(DY7-0.5),DY7)","v":0},{"$f":"IFERROR(EH7*$DV7,\"\")","v":""},{"$f":"IF(EA7>5,(EA7-0.5),EA7)","v":0},{"$f":"IFERROR(EJ7*$DV7,\"\")","v":""},{"$f":"SUM(EF7,EH7,EJ7)","v":0},{"$f":"IFERROR(EL7*$DV7,\"\")","v":""},null,{"$f":"'Schedule Setup'!F5","v":"00:00:00"},{"$f":"'Schedule Setup'!G5","v":"00:00:00"},{"$f":"EO7-(0.5/24)","v":-2.0833333333333332E-2},{"$f":"EP7+(0.5/24)","v":"00:30:00"}]
[{"$f":"A7+1","v":2},{"$f":"IF(VLOOKUP($A8,'Schedule Setup'!$A$4:$E$39,2,FALSE)=0,\"\",VLOOKUP($A8,'Schedule Setup'!$A$4:$E$39,2,FALSE))","v":""},{"$f":"IF(VLOOKUP($A8,'Schedule Setup'!$A$4:$E$39,4,FALSE)=0,\"\",VLOOKUP($A8,'Schedule Setup'!$A$4:$E$39,4,FALSE))","v":""},{"$f":"IF(B8<>\"\",IF(OR(C8=\"General Manager (S)\", C8=\"General Manager (H)\"), \"GM\",IF(C8=\"Acting Manager\",\"AM\",IF(C8=\"Shift Manager\",\"SM\",IF(C8=\"Team Lead\",\"TL\",\"TM\")))),\"\")","v":""},null,null,null,"x","x","x","x","x","x","x","x","x","x","x","x","x","x","x","x","x","x","x","x","x","x","x","x","x","x","x","x","x","x","x","x","x","x","x","x","x","x",{"$f":"EC8","v":0},null,"x","x","x","x","x","x","x","x","x","x","x","x","x","x","x","x","x","x","x","x","x","x","x","x","x","x","x","x","x","x","x","x","x","x","x","x","x","x",null,0,0,0,0,0,0,0,0,0,0,0,0,0,0,0,0,0,0,0,0,0,0,0,0,0,0,0,0,0,0,0,0,0,0,0,0,0,0,null,{"$f":"IF(VLOOKUP($A8,'Schedule Setup'!$A$4:$E$39,5,FALSE)=0,\"\",VLOOKUP($A8,'Schedule Setup'!$A$4:$E$39,5,FALSE))","v":""},0,"",0,"",0,"",{"$f":"SUM(DW8,DY8,EA8)","v":0},"",null,{"$f":"IF(DW8>5,(DW8-0.5),DW8)","v":0},"",{"$f":"IF(DY8>5,(DY8-0.5),DY8)","v":0},"",0,"",{"$f":"SUM(EF8,EH8,EJ8)","v":0},"",null,{"$f":"'Schedule Setup'!F6","v":"00:00:00"},{"$f":"'Schedule Setup'!G6","v":"00:00:00"},{"$f":"EO8-(0.5/24)","v":-2.0833333333333332E-2},{"$f":"EP8+(0.5/24)","v":"00:30:00"}]
[{"$f":"A8+1","v":3},{"$f":"IF(VLOOKUP($A9,'Schedule Setup'!$A$4:$E$39,2,FALSE)=0,\"\",VLOOKUP($A9,'Schedule Setup'!$A$4:$E$39,2,FALSE))","v":""},{"$f":"IF(VLOOKUP($A9,'Schedule Setup'!$A$4:$E$39,4,FALSE)=0,\"\",VLOOKUP($A9,'Schedule Setup'!$A$4:$E$39,4,FALSE))","v":""},"",null,null,null,"x","x","x","x","x","x","x","x","x","x","x","x","x","x","x","x","x","x","x","x","x","x","x","x","x","x","x","x","x","x","x","x","x","x","x","x","x","x",0,null,"x","x","x","x","x","x","x","x","x","x","x","x","x","x","x","x","x","x","x","x","x","x","x","x","x","x","x","x","x","x","x","x","x","x","x","x","x","x",null,0,0,0,0,0,0,0,0,0,0,0,0,0,0,0,0,0,0,0,0,0,0,0,0,0,0,0,0,0,0,0,0,0,0,0,0,0,0,null,{"$f":"IF(VLOOKUP($A9,'Schedule Setup'!$A$4:$E$39,5,FALSE)=0,\"\",VLOOKUP($A9,'Schedule Setup'!$A$4:$E$39,5,FALSE))","v":""},0,"",0,"",0,"",{"$f":"SUM(DW9,DY9,EA9)","v":0},"",null,0,"",0,"",0,"",0,"",null,{"$f":"'Schedule Setup'!F7","v":"00:00:00"},{"$f":"'Schedule Setup'!G7","v":"00:00:00"},-2.0833333333333332E-2,"00:30:00"]
[4,{"$f":"IF(VLOOKUP($A10,'Schedule Setup'!$A$4:$E$39,2,FALSE)=0,\"\",VLOOKUP($A10,'Schedule Setup'!$A$4:$E$39,2,FALSE))","v":""},{"$f":"IF(VLOOKUP($A10,'Schedule Setup'!$A$4:$E$39,4,FALSE)=0,\"\",VLOOKUP($A10,'Schedule Setup'!$A$4:$E$39,4,FALSE))","v":""},"",null,null,null,"x","x","x","x","x","x","x","x","x","x","x","x","x","x","x","x","x","x","x","x","x","x","x","x","x","x","x","x","x","x","x","x","x","x","x","x","x","x",0,null,"x","x","x","x","x","x","x","x","x","x","x","x","x","x","x","x","x","x","x","x","x","x","x","x","x","x","x","x","x","x","x","x","x","x","x","x","x","x",null,0,0,0,0,0,0,0,0,0,0,0,0,0,0,0,0,0,0,0,0,0,0,0,0,0,0,0,0,0,0,0,0,0,0,0,0,0,0,null,{"$f":"IF(VLOOKUP($A10,'Schedule Setup'!$A$4:$E$39,5,FALSE)=0,\"\",VLOOKUP($A10,'Schedule Setup'!$A$4:$E$39,5,FALSE))","v":""},0,"",0,"",0,"",0,"",null,0,"",0,"",0,"",0,"",null,{"$f":"'Schedule Setup'!F8","v":"00:00:00"},{"$f":"'Schedule Setup'!G8","v":"00:00:00"},{"$f":"EO10-(0.5/24)","v":-2.0833333333333332E-2},{"$f":"EP10+(0.5/24)","v":"00:30:00"}]
[5,{"$f":"IF(VLOOKUP($A11,'Schedule Setup'!$A$4:$E$39,2,FALSE)=0,\"\",VLOOKUP($A11,'Schedule Setup'!$A$4:$E$39,2,FALSE))","v":""},{"$f":"IF(VLOOKUP($A11,'Schedule Setup'!$A$4:$E$39,4,FALSE)=0,\"\",VLOOKUP($A11,'Schedule Setup'!$A$4:$E$39,4,FALSE))","v":""},"",null,null,null,"x","x","x","x","x","x","x","x","x","x","x","x","x","x","x","x","x","x","x","x","x","x","x","x","x","x","x","x","x","x","x","x","x","x","x","x","x","x",0,null,"x","x","x","x","x","x","x","x","x","x","x","x","x","x","x","x","x","x","x","x","x","x","x","x","x","x","x","x","x","x","x","x","x","x","x","x","x","x",null,0,0,0,0,0,0,0,0,0,0,0,0,0,0,0,0,0,0,0,0,0,0,0,0,0,0,0,0,0,0,0,0,0,0,0,0,0,0,null,{"$f":"IF(VLOOKUP($A11,'Schedule Setup'!$A$4:$E$39,5,FALSE)=0,\"\",VLOOKUP($A11,'Schedule Setup'!$A$4:$E$39,5,FALSE))","v":""},0,"",0,"",0,"",0,"",null,0,"",0,"",0,"",0,"",null,{"$f":"'Schedule Setup'!F9","v":"00:00:00"},{"$f":"'Schedule Setup'!G9","v":"00:00:00"},-2.0833333333333332E-2,"00:30:00"]
[6,{"$f":"IF(VLOOKUP($A12,'Schedule Setup'!$A$4:$E$39,2,FALSE)=0,\"\",VLOOKUP($A12,'Schedule Setup'!$A$4:$E$39,2,FALSE))","v":""},{"$f":"IF(VLOOKUP($A12,'Schedule Setup'!$A$4:$E$39,4,FALSE)=0,\"\",VLOOKUP($A12,'Schedule Setup'!$A$4:$E$39,4,FALSE))","v":""},"",null,null,null,"x","x","x","x","x","x","x","x","x","x","x","x","x","x","x","x","x","x","x","x","x","x","x","x","x","x","x","x","x","x","x","x","x","x","x","x","x","x",0,null,"x","x","x","x","x","x","x","x","x","x","x","x","x","x","x","x","x","x","x","x","x","x","x","x","x","x","x","x","x","x","x","x","x","x","x","x","x","x",null,0,0,0,0,0,0,0,0,0,0,0,0,0,0,0,0,0,0,0,0,0,0,0,0,0,0,0,0,0,0,0,0,0,0,0,0,0,0,null,{"$f":"IF(VLOOKUP($A12,'Schedule Setup'!$A$4:$E$39,5,FALSE)=0,\"\",VLOOKUP($A12,'Schedule Setup'!$A$4:$E$39,5,FALSE))","v":""},0,"",0,"",0,"",0,"",null,0,"",0,"",0,"",0,"",null,{"$f":"'Schedule Setup'!F10","v":"00:00:00"},{"$f":"'Schedule Setup'!G10","v":"00:00:00"},-2.0833333333333332E-2,"00:30:00"]
[7,{"$f":"IF(VLOOKUP($A13,'Schedule Setup'!$A$4:$E$39,2,FALSE)=0,\"\",VLOOKUP($A13,'Schedule Setup'!$A$4:$E$39,2,FALSE))","v":""},{"$f":"IF(VLOOKUP($A13,'Schedule Setup'!$A$4:$E$39,4,FALSE)=0,\"\",VLOOKUP($A13,'Schedule Setup'!$A$4:$E$39,4,FALSE))","v":""},"",null,null,null,"x","x","x","x","x","x","x","x","x","x",{"$f":"BF13","v":"x"},"x","x","x","x","x","x","x","x","x","x","x","x","x","x","x","x",{"$f":"BW13","v":"x"},"x","x","x","x","x","x","x","x","x","x",0,null,"x","x","x","x","x","x","x","x","x","x","x","x","x","x","x","x","x","x","x","x","x","x","x","x","x","x","x","x","x","x","x","x","x","x","x","x","x","x",null,0,0,0,0,0,0,0,0,0,0,0,0,0,0,0,0,0,0,0,0,0,0,0,0,0,0,0,0,0,0,0,0,0,0,0,0,0,0,null,{"$f":"IF(VLOOKUP($A13,'Schedule Setup'!$A$4:$E$39,5,FALSE)=0,\"\",VLOOKUP($A13,'Schedule Setup'!$A$4:$E$39,5,FALSE))","v":""},0,"",0,"",0,"",0,"",null,0,"",0,"",0,"",0,"",null,{"$f":"'Schedule Setup'!F11","v":"00:00:00"},{"$f":"'Schedule Setup'!G11","v":"00:00:00"},-2.0833333333333332E-2,"00:30:00"]
[8,{"$f":"IF(VLOOKUP($A14,'Schedule Setup'!$A$4:$E$39,2,FALSE)=0,\"\",VLOOKUP($A14,'Schedule Setup'!$A$4:$E$39,2,FALSE))","v":""},{"$f":"IF(VLOOKUP($A14,'Schedule Setup'!$A$4:$E$39,4,FALSE)=0,\"\",VLOOKUP($A14,'Schedule Setup'!$A$4:$E$39,4,FALSE))","v":""},"",null,null,null,{"$f":"AV14","v":"x"},"x","x","x","x","x","x","x","x","x",{"$f":"BF14","v":"x"},{"$f":"BG14","v":"x"},{"$f":"BH14","v":"x"},{"$f":"BI14","v":"x"},{"$f":"BJ14","v":"x"},{"$f":"BK14","v":"x"},{"$f":"BL14","v":"x"},"x","x","x","x","x","x","x","x","x","x","x","x","x","x","x","x","x","x","x","x","x",0,null,"x","x","x","x","x","x","x","x","x","x","x","x","x","x","x","x","x","x","x","x","x","x","x","x","x","x","x","x","x","x","x","x","x","x","x","x","x","x",null,0,0,0,0,0,0,0,0,0,0,0,0,0,0,0,0,0,0,0,0,0,0,0,0,0,0,0,0,0,0,0,0,0,0,0,0,0,0,null,{"$f":"IF(VLOOKUP($A14,'Schedule Setup'!$A$4:$E$39,5,FALSE)=0,\"\",VLOOKUP($A14,'Schedule Setup'!$A$4:$E$39,5,FALSE))","v":""},0,{"$f":"IFERROR(DW14*$DV14,\"\")","v":""},0,"",0,"",0,"",null,0,"",0,"",0,"",0,"",null,{"$f":"'Schedule Setup'!F12","v":"00:00:00"},{"$f":"'Schedule Setup'!G12","v":"00:00:00"},-2.0833333333333332E-2,"00:30:00"]
[9,{"$f":"IF(VLOOKUP($A15,'Schedule Setup'!$A$4:$E$39,2,FALSE)=0,\"\",VLOOKUP($A15,'Schedule Setup'!$A$4:$E$39,2,FALSE))","v":""},{"$f":"IF(VLOOKUP($A15,'Schedule Setup'!$A$4:$E$39,4,FALSE)=0,\"\",VLOOKUP($A15,'Schedule Setup'!$A$4:$E$39,4,FALSE))","v":""},"",null,null,null,"x","x","x","x","x","x","x","x","x","x","x","x","x","x","x","x","x","x","x","x","x","x","x","x","x","x","x","x","x","x","x","x","x","x","x","x","x","x",0,null,"x","x","x","x","x","x","x","x","x","x","x","x","x","x","x","x","x","x","x","x","x","x","x","x","x","x","x","x","x","x","x","x","x","x","x","x","x","x",null,0,0,0,0,0,0,0,0,0,0,0,0,0,0,0,0,0,0,0,0,0,0,0,0,0,0,0,0,0,0,0,0,0,0,0,0,0,0,null,{"$f":"IF(VLOOKUP($A15,'Schedule Setup'!$A$4:$E$39,5,FALSE)=0,\"\",VLOOKUP($A15,'Schedule Setup'!$A$4:$E$39,5,FALSE))","v":""},0,"",0,"",0,"",0,"",null,0,"",0,"",0,"",0,"",null,{"$f":"'Schedule Setup'!F13","v":"00:00:00"},{"$f":"'Schedule Setup'!G13","v":"00:00:00"},-2.0833333333333332E-2,"00:30:00"]
[10,{"$f":"IF(VLOOKUP($A16,'Schedule Setup'!$A$4:$E$39,2,FALSE)=0,\"\",VLOOKUP($A16,'Schedule Setup'!$A$4:$E$39,2,FALSE))","v":""},{"$f":"IF(VLOOKUP($A16,'Schedule Setup'!$A$4:$E$39,4,FALSE)=0,\"\",VLOOKUP($A16,'Schedule Setup'!$A$4:$E$39,4,FALSE))","v":""},"",null,null,null,"x","x","x","x","x","x","x","x","x","x","x","x","x","x","x","x","x","x","x","x","x","x","x","x","x","x","x","x","x","x","x","x","x","x","x","x","x","x",0,null,"x","x","x","x","x","x","x","x","x","x","x","x","x","x","x","x","x","x","x","x","x","x","x","x","x","x","x","x","x","x","x","x","x","x","x","x","x","x",null,0,0,0,0,0,0,0,0,0,0,0,0,0,0,0,0,0,0,0,0,0,0,0,0,0,0,0,0,0,0,0,0,0,0,0,0,0,0,null,{"$f":"IF(VLOOKUP($A16,'Schedule Setup'!$A$4:$E$39,5,FALSE)=0,\"\",VLOOKUP($A16,'Schedule Setup'!$A$4:$E$39,5,FALSE))","v":""},0,"",0,"",0,"",0,"",null,0,"",0,"",0,"",0,"",null,{"$f":"'Schedule Setup'!F14","v":"00:00:00"},{"$f":"'Schedule Setup'!G14","v":"00:00:00"},-2.0833333333333332E-2,"00:30:00"]
[11,{"$f":"IF(VLOOKUP($A17,'Schedule Setup'!$A$4:$E$39,2,FALSE)=0,\"\",VLOOKUP($A17,'Schedule Setup'!$A$4:$E$39,2,FALSE))","v":""},{"$f":"IF(VLOOKUP($A17,'Schedule Setup'!$A$4:$E$39,4,FALSE)=0,\"\",VLOOKUP($A17,'Schedule Setup'!$A$4:$E$39,4,FALSE))","v":""},"",null,null,null,"x","x","x","x","x","x","x","x","x","x","x","x","x","x","x","x","x","x","x","x","x","x","x","x","x","x","x","x","x","x","x","x","x","x","x","x","x","x",0,null,"x","x","x","x","x","x","x","x","x","x","x","x","x","x","x","x","x","x","x","x","x","x","x","x","x","x","x","x","x","x","x","x","x","x","x","x","x","x",null,0,0,0,0,0,0,0,0,0,0,0,0,0,0,0,0,0,0,0,0,0,0,0,0,0,0,0,0,0,0,0,0,0,0,0,0,0,0,null,{"$f":"IF(VLOOKUP($A17,'Schedule Setup'!$A$4:$E$39,5,FALSE)=0,\"\",VLOOKUP($A17,'Schedule Setup'!$A$4:$E$39,5,FALSE))","v":""},0,"",0,"",0,"",0,"",null,0,"",0,"",0,"",0,"",null,{"$f":"'Schedule Setup'!F15","v":"00:00:00"},{"$f":"'Schedule Setup'!G15","v":"00:00:00"},-2.0833333333333332E-2,"00:30:00"]
[12,{"$f":"IF(VLOOKUP($A18,'Schedule Setup'!$A$4:$E$39,2,FALSE)=0,\"\",VLOOKUP($A18,'Schedule Setup'!$A$4:$E$39,2,FALSE))","v":""},{"$f":"IF(VLOOKUP($A18,'Schedule Setup'!$A$4:$E$39,4,FALSE)=0,\"\",VLOOKUP($A18,'Schedule Setup'!$A$4:$E$39,4,FALSE))","v":""},"",null,null,null,"x","x","x","x","x","x","x","x","x","x","x","x","x","x","x","x","x","x","x","x","x","x","x","x","x","x","x","x","x","x","x","x","x","x","x","x","x","x",0,null,"x","x","x","x","x","x","x","x","x","x","x","x","x","x","x","x","x","x","x","x","x","x","x","x","x","x","x","x","x","x","x","x","x","x","x","x","x","x",null,0,0,0,0,0,0,0,0,0,0,0,0,0,0,0,0,0,0,0,0,0,0,0,0,0,0,0,0,0,0,0,0,0,0,0,0,0,0,null,{"$f":"IF(VLOOKUP($A18,'Schedule Setup'!$A$4:$E$39,5,FALSE)=0,\"\",VLOOKUP($A18,'Schedule Setup'!$A$4:$E$39,5,FALSE))","v":""},0,"",0,"",0,"",0,"",null,0,"",0,"",0,"",0,"",null,{"$f":"'Schedule Setup'!F16","v":"00:00:00"},{"$f":"'Schedule Setup'!G16","v":"00:00:00"},-2.0833333333333332E-2,"00:30:00"]
[13,{"$f":"IF(VLOOKUP($A19,'Schedule Setup'!$A$4:$E$39,2,FALSE)=0,\"\",VLOOKUP($A19,'Schedule Setup'!$A$4:$E$39,2,FALSE))","v":""},{"$f":"IF(VLOOKUP($A19,'Schedule Setup'!$A$4:$E$39,4,FALSE)=0,\"\",VLOOKUP($A19,'Schedule Setup'!$A$4:$E$39,4,FALSE))","v":""},"",null,null,null,"x","x","x","x","x","x","x","x","x","x","x","x","x","x","x","x","x","x","x","x","x","x","x","x","x","x","x","x","x","x","x","x","x","x","x","x","x","x",0,null,"x","x","x","x","x","x","x","x","x","x","x","x","x","x","x","x","x","x","x","x","x","x","x","x","x","x","x","x","x","x","x","x","x","x","x","x","x","x",null,0,0,0,0,0,0,0,0,0,0,0,0,0,0,0,0,0,0,0,0,0,0,0,0,0,0,0,0,0,0,0,0,0,0,0,0,0,0,null,{"$f":"IF(VLOOKUP($A19,'Schedule Setup'!$A$4:$E$39,5,FALSE)=0,\"\",VLOOKUP($A19,'Schedule Setup'!$A$4:$E$39,5,FALSE))","v":""},0,"",0,"",0,"",0,"",null,0,"",0,"",0,"",0,"",null,{"$f":"'Schedule Setup'!F17","v":"00:00:00"},{"$f":"'Schedule Setup'!G17","v":"00:00:00"},-2.0833333333333332E-2,"00:30:00"]
[14,{"$f":"IF(VLOOKUP($A20,'Schedule Setup'!$A$4:$E$39,2,FALSE)=0,\"\",VLOOKUP($A20,'Schedule Setup'!$A$4:$E$39,2,FALSE))","v":""},{"$f":"IF(VLOOKUP($A20,'Schedule Setup'!$A$4:$E$39,4,FALSE)=0,\"\",VLOOKUP($A20,'Schedule Setup'!$A$4:$E$39,4,FALSE))","v":""},"",null,null,null,"x","x","x","x","x","x","x","x","x","x","x","x","x","x","x","x","x","x","x","x","x","x","x","x","x","x","x","x","x","x","x","x","x","x","x","x","x","x",0,null,"x","x","x","x","x","x","x","x","x","x","x","x","x","x","x","x","x","x","x","x","x","x","x","x","x","x","x","x","x","x","x","x","x","x","x","x","x","x",null,0,0,0,0,0,0,0,0,0,0,0,0,0,0,0,0,0,0,0,0,0,0,0,0,0,0,0,0,0,0,0,0,0,0,0,0,0,0,null,{"$f":"IF(VLOOKUP($A20,'Schedule Setup'!$A$4:$E$39,5,FALSE)=0,\"\",VLOOKUP($A20,'Schedule Setup'!$A$4:$E$39,5,FALSE))","v":""},0,"",0,"",0,"",0,"",null,0,"",0,"",0,"",0,"",null,{"$f":"'Schedule Setup'!F18","v":"00:00:00"},{"$f":"'Schedule Setup'!G18","v":"00:00:00"},-2.0833333333333332E-2,"00:30:00"]
[15,{"$f":"IF(VLOOKUP($A21,'Schedule Setup'!$A$4:$E$39,2,FALSE)=0,\"\",VLOOKUP($A21,'Schedule Setup'!$A$4:$E$39,2,FALSE))","v":""},{"$f":"IF(VLOOKUP($A21,'Schedule Setup'!$A$4:$E$39,4,FALSE)=0,\"\",VLOOKUP($A21,'Schedule Setup'!$A$4:$E$39,4,FALSE))","v":""},"",null,null,null,"x","x","x","x","x","x","x","x","x","x","x","x","x","x","x","x","x","x","x","x","x","x","x","x","x","x","x","x","x","x","x","x","x","x","x","x","x","x",0,null,"x","x","x","x","x","x","x","x","x","x","x","x","x","x","x","x","x","x","x","x","x","x","x","x","x","x","x","x","x","x","x","x","x","x","x","x","x","x",null,0,0,0,0,0,0,0,0,0,0,0,0,0,0,0,0,0,0,0,0,0,0,0,0,0,0,0,0,0,0,0,0,0,0,0,0,0,0,null,{"$f":"IF(VLOOKUP($A21,'Schedule Setup'!$A$4:$E$39,5,FALSE)=0,\"\",VLOOKUP($A21,'Schedule Setup'!$A$4:$E$39,5,FALSE))","v":""},0,"",0,"",0,"",0,"",null,0,"",0,"",0,"",0,"",null,{"$f":"'Schedule Setup'!F19","v":"00:00:00"},{"$f":"'Schedule Setup'!G19","v":"00:00:00"},-2.0833333333333332E-2,"00:30:00"]
[16,{"$f":"IF(VLOOKUP($A22,'Schedule Setup'!$A$4:$E$39,2,FALSE)=0,\"\",VLOOKUP($A22,'Schedule Setup'!$A$4:$E$39,2,FALSE))","v":""},{"$f":"IF(VLOOKUP($A22,'Schedule Setup'!$A$4:$E$39,4,FALSE)=0,\"\",VLOOKUP($A22,'Schedule Setup'!$A$4:$E$39,4,FALSE))","v":""},"",null,null,null,"x","x","x","x","x","x","x","x","x","x","x","x","x","x","x","x","x","x","x","x","x","x","x","x","x","x","x","x","x","x","x","x","x","x","x","x","x","x",0,null,"x","x","x","x","x","x","x","x","x","x","x","x","x","x","x","x","x","x","x","x","x","x","x","x","x","x","x","x","x","x","x","x","x","x","x","x","x","x",null,0,0,0,0,0,0,0,0,0,0,0,0,0,0,0,0,0,0,0,0,0,0,0,0,0,0,0,0,0,0,0,0,0,0,0,0,0,0,null,{"$f":"IF(VLOOKUP($A22,'Schedule Setup'!$A$4:$E$39,5,FALSE)=0,\"\",VLOOKUP($A22,'Schedule Setup'!$A$4:$E$39,5,FALSE))","v":""},0,"",0,"",0,"",0,"",null,0,"",0,"",0,"",0,"",null,{"$f":"'Schedule Setup'!F20","v":"00:00:00"},{"$f":"'Schedule Setup'!G20","v":"00:00:00"},-2.0833333333333332E-2,"00:30:00"]
[17,{"$f":"IF(VLOOKUP($A23,'Schedule Setup'!$A$4:$E$39,2,FALSE)=0,\"\",VLOOKUP($A23,'Schedule Setup'!$A$4:$E$39,2,FALSE))","v":""},{"$f":"IF(VLOOKUP($A23,'Schedule Setup'!$A$4:$E$39,4,FALSE)=0,\"\",VLOOKUP($A23,'Schedule Setup'!$A$4:$E$39,4,FALSE))","v":""},"",null,null,null,"x","x","x","x","x","x","x","x","x","x","x","x","x","x","x","x","x","x","x","x","x","x","x","x","x","x","x","x","x","x","x","x","x","x","x","x","x","x",0,null,"x","x","x","x","x","x","x","x","x","x","x","x","x","x","x","x","x","x","x","x","x","x","x","x","x","x","x","x","x","x","x","x","x","x","x","x","x","x",null,0,0,0,0,0,0,0,0,0,0,0,0,0,0,0,0,0,0,0,0,0,0,0,0,0,0,0,0,0,0,0,0,0,0,0,0,0,0,null,{"$f":"IF(VLOOKUP($A23,'Schedule Setup'!$A$4:$E$39,5,FALSE)=0,\"\",VLOOKUP($A23,'Schedule Setup'!$A$4:$E$39,5,FALSE))","v":""},0,"",0,"",0,"",0,"",null,0,"",0,"",0,"",0,"",null,{"$f":"'Schedule Setup'!F21","v":"00:00:00"},{"$f":"'Schedule Setup'!G21","v":"00:00:00"},-2.0833333333333332E-2,"00:30:00"]
[18,{"$f":"IF(VLOOKUP($A24,'Schedule Setup'!$A$4:$E$39,2,FALSE)=0,\"\",VLOOKUP($A24,'Schedule Setup'!$A$4:$E$39,2,FALSE))","v":""},{"$f":"IF(VLOOKUP($A24,'Schedule Setup'!$A$4:$E$39,4,FALSE)=0,\"\",VLOOKUP($A24,'Schedule Setup'!$A$4:$E$39,4,FALSE))","v":""},"",null,null,null,"x","x","x","x","x","x","x","x","x","x","x","x","x","x","x","x","x","x","x","x","x","x","x","x","x","x","x","x","x","x","x","x","x","x","x","x","x","x",0,null,"x","x","x","x","x","x","x","x","x","x","x","x","x","x","x","x","x","x","x","x","x","x","x","x","x","x","x","x","x","x","x","x","x","x","x","x","x","x",null,0,0,0,0,0,0,0,0,0,0,0,0,0,0,0,0,0,0,0,0,0,0,0,0,0,0,0,0,0,0,0,0,0,0,0,0,0,0,null,{"$f":"IF(VLOOKUP($A24,'Schedule Setup'!$A$4:$E$39,5,FALSE)=0,\"\",VLOOKUP($A24,'Schedule Setup'!$A$4:$E$39,5,FALSE))","v":""},0,"",0,"",0,"",0,"",null,0,"",0,"",0,"",0,"",null,{"$f":"'Schedule Setup'!F22","v":"00:00:00"},{"$f":"'Schedule Setup'!G22","v":"00:00:00"},-2.0833333333333332E-2,"00:30:00"]
[19,{"$f":"IF(VLOOKUP($A25,'Schedule Setup'!$A$4:$E$39,2,FALSE)=0,\"\",VLOOKUP($A25,'Schedule Setup'!$A$4:$E$39,2,FALSE))","v":""},{"$f":"IF(VLOOKUP($A25,'Schedule Setup'!$A$4:$E$39,4,FALSE)=0,\"\",VLOOKUP($A25,'Schedule Setup'!$A$4:$E$39,4,FALSE))","v":""},"",null,null,null,"x","x","x","x","x","x","x","x","x","x","x","x","x","x","x","x","x","x","x","x","x","x","x","x","x","x","x","x","x","x","x","x","x","x","x","x","x","x",0,null,"x","x","x","x","x","x","x","x","x","x","x","x","x","x","x","x","x","x","x","x","x","x","x","x","x","x","x","x","x","x","x","x","x","x","x","x","x","x",null,0,0,0,0,0,0,0,0,0,0,0,0,0,0,0,0,0,0,0,0,0,0,0,0,0,0,0,0,0,0,0,0,0,0,0,0,0,0,null,{"$f":"IF(VLOOKUP($A25,'Schedule Setup'!$A$4:$E$39,5,FALSE)=0,\"\",VLOOKUP($A25,'Schedule Setup'!$A$4:$E$39,5,FALSE))","v":""},0,"",0,"",0,"",0,"",null,0,"",0,"",0,"",0,"",null,{"$f":"'Schedule Setup'!F23","v":"00:00:00"},{"$f":"'Schedule Setup'!G23","v":"00:00:00"},-2.0833333333333332E-2,"00:30:00"]
[20,{"$f":"IF(VLOOKUP($A26,'Schedule Setup'!$A$4:$E$39,2,FALSE)=0,\"\",VLOOKUP($A26,'Schedule Setup'!$A$4:$E$39,2,FALSE))","v":""},{"$f":"IF(VLOOKUP($A26,'Schedule Setup'!$A$4:$E$39,4,FALSE)=0,\"\",VLOOKUP($A26,'Schedule Setup'!$A$4:$E$39,4,FALSE))","v":""},"",null,null,null,"x","x","x","x","x","x","x","x","x","x","x","x","x","x","x","x","x","x","x","x","x","x","x","x","x","x","x","x","x","x","x","x","x","x","x","x","x","x",0,null,"x","x","x","x","x","x","x","x","x","x","x","x","x","x","x","x","x","x","x","x","x","x","x","x","x","x","x","x","x","x","x","x","x","x","x","x","x","x",null,0,0,0,0,0,0,0,0,0,0,0,0,0,0,0,0,0,0,0,0,0,0,0,0,0,0,0,0,0,0,0,0,0,0,0,0,0,0,null,{"$f":"IF(VLOOKUP($A26,'Schedule Setup'!$A$4:$E$39,5,FALSE)=0,\"\",VLOOKUP($A26,'Schedule Setup'!$A$4:$E$39,5,FALSE))","v":""},0,"",0,"",0,"",0,"",null,0,"",0,"",0,"",0,"",null,{"$f":"'Schedule Setup'!F24","v":"00:00:00"},{"$f":"'Schedule Setup'!G24","v":"00:00:00"},-2.0833333333333332E-2,"00:30:00"]
[21,{"$f":"IF(VLOOKUP($A27,'Schedule Setup'!$A$4:$E$39,2,FALSE)=0,\"\",VLOOKUP($A27,'Schedule Setup'!$A$4:$E$39,2,FALSE))","v":""},{"$f":"IF(VLOOKUP($A27,'Schedule Setup'!$A$4:$E$39,4,FALSE)=0,\"\",VLOOKUP($A27,'Schedule Setup'!$A$4:$E$39,4,FALSE))","v":""},"",null,null,null,"x","x","x","x","x","x","x","x","x","x","x","x","x","x","x","x","x","x","x","x","x","x","x","x","x","x","x","x","x","x","x","x","x","x","x","x","x","x",0,null,"x","x","x","x","x","x","x","x","x","x","x","x","x","x","x","x","x","x","x","x","x","x","x","x","x","x","x","x","x","x","x","x","x","x","x","x","x","x",null,0,0,0,0,0,0,0,0,0,0,0,0,0,0,0,0,0,0,0,0,0,0,0,0,0,0,0,0,0,0,0,0,0,0,0,0,0,0,null,{"$f":"IF(VLOOKUP($A27,'Schedule Setup'!$A$4:$E$39,5,FALSE)=0,\"\",VLOOKUP($A27,'Schedule Setup'!$A$4:$E$39,5,FALSE))","v":""},0,"",0,"",0,"",0,"",null,0,"",0,"",0,"",0,"",null,{"$f":"'Schedule Setup'!F25","v":"00:00:00"},{"$f":"'Schedule Setup'!G25","v":"00:00:00"},-2.0833333333333332E-2,"00:30:00"]
[22,{"$f":"IF(VLOOKUP($A28,'Schedule Setup'!$A$4:$E$39,2,FALSE)=0,\"\",VLOOKUP($A28,'Schedule Setup'!$A$4:$E$39,2,FALSE))","v":""},{"$f":"IF(VLOOKUP($A28,'Schedule Setup'!$A$4:$E$39,4,FALSE)=0,\"\",VLOOKUP($A28,'Schedule Setup'!$A$4:$E$39,4,FALSE))","v":""},"",null,null,null,"x","x","x","x","x","x","x","x","x","x","x","x","x","x","x","x","x","x","x","x","x","x","x","x","x","x","x","x","x","x","x","x","x","x","x","x","x","x",0,null,"x","x","x","x","x","x","x","x","x","x","x","x","x","x","x","x","x","x","x","x","x","x","x","x","x","x","x","x","x","x","x","x","x","x","x","x","x","x",null,0,0,0,0,0,0,0,0,0,0,0,0,0,0,0,0,0,0,0,0,0,0,0,0,0,0,0,0,0,0,0,0,0,0,0,0,0,0,null,{"$f":"IF(VLOOKUP($A28,'Schedule Setup'!$A$4:$E$39,5,FALSE)=0,\"\",VLOOKUP($A28,'Schedule Setup'!$A$4:$E$39,5,FALSE))","v":""},0,"",0,"",0,"",0,"",null,0,"",0,"",0,"",0,"",null,{"$f":"'Schedule Setup'!F26","v":"00:00:00"},{"$f":"'Schedule Setup'!G26","v":"00:00:00"},-2.0833333333333332E-2,"00:30:00"]
[23,{"$f":"IF(VLOOKUP($A29,'Schedule Setup'!$A$4:$E$39,2,FALSE)=0,\"\",VLOOKUP($A29,'Schedule Setup'!$A$4:$E$39,2,FALSE))","v":""},{"$f":"IF(VLOOKUP($A29,'Schedule Setup'!$A$4:$E$39,4,FALSE)=0,\"\",VLOOKUP($A29,'Schedule Setup'!$A$4:$E$39,4,FALSE))","v":""},"",null,null,null,"x","x","x","x","x","x","x","x","x","x",{"$f":"BF29","v":"x"},{"$f":"BG29","v":"x"},{"$f":"BH29","v":"x"},{"$f":"BI29","v":"x"},"x","x","x","x","x","x","x","x","x","x","x","x","x","x","x","x",{"$f":"BZ29","v":"x"},"x","x","x","x","x","x","x",0,null,"x","x","x","x","x","x","x","x","x","x","x","x","x","x","x","x","x","x","x","x","x","x","x","x","x","x","x","x","x","x","x","x","x","x","x","x","x","x",null,0,0,0,0,0,0,0,0,0,0,0,0,0,0,0,0,0,0,0,0,0,0,0,0,0,0,0,0,0,0,0,0,0,0,0,0,0,0,null,{"$f":"IF(VLOOKUP($A29,'Schedule Setup'!$A$4:$E$39,5,FALSE)=0,\"\",VLOOKUP($A29,'Schedule Setup'!$A$4:$E$39,5,FALSE))","v":""},0,"",0,"",0,"",0,"",null,0,"",0,"",0,"",0,"",null,{"$f":"'Schedule Setup'!F27","v":"00:00:00"},{"$f":"'Schedule Setup'!G27","v":"00:00:00"},-2.0833333333333332E-2,"00:30:00"]
[24,{"$f":"IF(VLOOKUP($A30,'Schedule Setup'!$A$4:$E$39,2,FALSE)=0,\"\",VLOOKUP($A30,'Schedule Setup'!$A$4:$E$39,2,FALSE))","v":""},{"$f":"IF(VLOOKUP($A30,'Schedule Setup'!$A$4:$E$39,4,FALSE)=0,\"\",VLOOKUP($A30,'Schedule Setup'!$A$4:$E$39,4,FALSE))","v":""},{"$f":"IF(B30<>\"\",IF(OR(C30=\"General Manager (S)\", C30=\"General Manager (H)\"), \"GM\",IF(C30=\"Acting Manager\",\"AM\",IF(C30=\"Shift Manager\",\"SM\",IF(C30=\"Team Lead\",\"TL\",\"TM\")))),\"\")","v":""},null,null,null,{"$f":"AV30","v":"x"},"x","x","x","x","x","x","x","x","x","x","x","x","x",{"$f":"BJ30","v":"x"},{"$f":"BK30","v":"x"},{"$f":"BL30","v":"x"},{"$f":"BM30","v":"x"},{"$f":"BN30","v":"x"},{"$f":"BO30","v":"x"},{"$f":"BP30","v":"x"},{"$f":"BQ30","v":"x"},{"$f":"BR30","v":"x"},{"$f":"BS30","v":"x"},{"$f":"BT30","v":"x"},{"$f":"BU30","v":"x"},{"$f":"BV30","v":"x"},{"$f":"BW30","v":"x"},{"$f":"BX30","v":"x"},{"$f":"BY30","v":"x"},{"$f":"BZ30","v":"x"},{"$f":"CA30","v":"x"},{"$f":"CB30","v":"x"},{"$f":"CC30","v":"x"},{"$f":"CD30","v":"x"},{"$f":"CE30","v":"x"},{"$f":"CF30","v":"x"},{"$f":"CG30","v":"x"},{"$f":"EC30","v":0},null,"x","x","x","x","x","x","x","x","x","x","x","x","x","x","x","x","x","x","x","x","x","x","x","x","x","x","x","x","x","x","x","x","x","x","x","x","x","x",null,0,0,0,0,0,0,0,0,0,0,0,0,0,0,0,0,0,0,0,0,0,0,0,0,0,0,0,0,0,0,0,0,0,0,0,0,0,0,null,{"$f":"IF(VLOOKUP($A30,'Schedule Setup'!$A$4:$E$39,5,FALSE)=0,\"\",VLOOKUP($A30,'Schedule Setup'!$A$4:$E$39,5,FALSE))","v":""},0,{"$f":"IFERROR(DW30*$DV30,\"\")","v":""},{"$f":"SUM(CU30:DF30)","v":0},{"$f":"IFERROR(DY30*$DV30,\"\")","v":""},{"$f":"SUM(DG30:DT30)","v":0},{"$f":"IFERROR(EA30*$DV30,\"\")","v":""},{"$f":"SUM(DW30,DY30,EA30)","v":0},{"$f":"IFERROR(EC30*$DV30,\"\")","v":""},null,{"$f":"IF(DW30>5,(DW30-0.5),DW30)","v":0},{"$f":"IFERROR(EF30*$DV30,\"\")","v":""},{"$f":"IF(DY30>5,(DY30-0.5),DY30)","v":0},{"$f":"IFERROR(EH30*$DV30,\"\")","v":""},{"$f":"IF(EA30>5,(EA30-0.5),EA30)","v":0},{"$f":"IFERROR(EJ30*$DV30,\"\")","v":""},{"$f":"SUM(EF30,EH30,EJ30)","v":0},{"$f":"IFERROR(EL30*$DV30,\"\")","v":""},null,{"$f":"'Schedule Setup'!F28","v":"00:00:00"},{"$f":"'Schedule Setup'!G28","v":"00:00:00"},-2.0833333333333332E-2,"00:30:00"]
[25,{"$f":"IF(VLOOKUP($A31,'Schedule Setup'!$A$4:$E$39,2,FALSE)=0,\"\",VLOOKUP($A31,'Schedule Setup'!$A$4:$E$39,2,FALSE))","v":""},{"$f":"IF(VLOOKUP($A31,'Schedule Setup'!$A$4:$E$39,4,FALSE)=0,\"\",VLOOKUP($A31,'Schedule Setup'!$A$4:$E$39,4,FALSE))","v":""},"",null,null,null,"x","x","x","x","x","x","x","x","x","x","x","x","x","x","x","x","x","x","x","x","x","x","x","x","x","x","x","x","x","x","x","x","x","x","x","x","x","x",0,null,"x","x","x","x","x","x","x","x","x","x","x","x","x","x","x","x","x","x","x","x","x","x","x","x","x","x","x","x","x","x","x","x","x","x","x","x","x","x",null,0,0,0,0,0,0,0,0,0,0,0,0,0,0,0,0,0,0,0,0,0,0,0,0,0,0,0,0,0,0,0,0,0,0,0,0,0,0,null,{"$f":"IF(VLOOKUP($A31,'Schedule Setup'!$A$4:$E$39,5,FALSE)=0,\"\",VLOOKUP($A31,'Schedule Setup'!$A$4:$E$39,5,FALSE))","v":""},0,"",0,"",0,"",0,"",null,0,"",0,"",0,"",0,"",null,{"$f":"'Schedule Setup'!F29","v":"00:00:00"},{"$f":"'Schedule Setup'!G29","v":"00:00:00"},-2.0833333333333332E-2,"00:30:00"]
[26,{"$f":"IF(VLOOKUP($A32,'Schedule Setup'!$A$4:$E$39,2,FALSE)=0,\"\",VLOOKUP($A32,'Schedule Setup'!$A$4:$E$39,2,FALSE))","v":""},{"$f":"IF(VLOOKUP($A32,'Schedule Setup'!$A$4:$E$39,4,FALSE)=0,\"\",VLOOKUP($A32,'Schedule Setup'!$A$4:$E$39,4,FALSE))","v":""},"",null,null,null,"x","x","x","x","x","x","x","x","x","x","x","x","x","x","x","x","x","x","x","x","x","x","x","x","x","x","x","x","x","x","x","x","x","x","x","x","x","x",0,null,"x","x","x","x","x","x","x","x","x","x","x","x","x","x","x","x","x","x","x","x","x","x","x","x","x","x","x","x","x","x","x","x","x","x","x","x","x","x",null,0,0,0,0,0,0,0,0,0,0,0,0,0,0,0,0,0,0,0,0,0,0,0,0,0,0,0,0,0,0,0,0,0,0,0,0,0,0,null,{"$f":"IF(VLOOKUP($A32,'Schedule Setup'!$A$4:$E$39,5,FALSE)=0,\"\",VLOOKUP($A32,'Schedule Setup'!$A$4:$E$39,5,FALSE))","v":""},0,"",0,"",0,"",0,"",null,0,"",0,"",0,"",0,"",null,{"$f":"'Schedule Setup'!F30","v":"00:00:00"},{"$f":"'Schedule Setup'!G30","v":"00:00:00"},-2.0833333333333332E-2,"00:30:00"]
[27,{"$f":"IF(VLOOKUP($A33,'Schedule Setup'!$A$4:$E$39,2,FALSE)=0,\"\",VLOOKUP($A33,'Schedule Setup'!$A$4:$E$39,2,FALSE))","v":""},{"$f":"IF(VLOOKUP($A33,'Schedule Setup'!$A$4:$E$39,4,FALSE)=0,\"\",VLOOKUP($A33,'Schedule Setup'!$A$4:$E$39,4,FALSE))","v":""},"",null,null,null,"x","x","x","x","x","x","x","x","x","x","x","x","x","x","x","x","x","x","x","x","x","x","x","x","x","x","x","x","x","x","x","x","x","x","x","x","x","x",0,null,"x","x","x","x","x","x","x","x","x","x","x","x","x","x","x","x","x","x","x","x","x","x","x","x","x","x","x","x","x","x","x","x","x","x","x","x","x","x",null,0,0,0,0,0,0,0,0,0,0,0,0,0,0,0,0,0,0,0,0,0,0,0,0,0,0,0,0,0,0,0,0,0,0,0,0,0,0,null,{"$f":"IF(VLOOKUP($A33,'Schedule Setup'!$A$4:$E$39,5,FALSE)=0,\"\",VLOOKUP($A33,'Schedule Setup'!$A$4:$E$39,5,FALSE))","v":""},0,"",0,"",0,"",0,"",null,0,"",0,"",0,"",0,"",null,{"$f":"'Schedule Setup'!F31","v":"00:00:00"},{"$f":"'Schedule Setup'!G31","v":"00:00:00"},-2.0833333333333332E-2,"00:30:00"]
[28,{"$f":"IF(VLOOKUP($A34,'Schedule Setup'!$A$4:$E$39,2,FALSE)=0,\"\",VLOOKUP($A34,'Schedule Setup'!$A$4:$E$39,2,FALSE))","v":""},{"$f":"IF(VLOOKUP($A34,'Schedule Setup'!$A$4:$E$39,4,FALSE)=0,\"\",VLOOKUP($A34,'Schedule Setup'!$A$4:$E$39,4,FALSE))","v":""},"",null,null,null,"x","x","x","x","x","x","x","x","x","x","x","x","x","x","x","x","x","x","x","x","x","x","x","x","x","x","x","x","x","x","x","x","x","x","x","x","x","x",0,null,"x","x","x","x","x","x","x","x","x","x","x","x","x","x","x","x","x","x","x","x","x","x","x","x","x","x","x","x","x","x","x","x","x","x","x","x","x","x",null,0,0,0,0,0,0,0,0,0,0,0,0,0,0,0,0,0,0,0,0,0,0,0,0,0,0,0,0,0,0,0,0,0,0,0,0,0,0,null,{"$f":"IF(VLOOKUP($A34,'Schedule Setup'!$A$4:$E$39,5,FALSE)=0,\"\",VLOOKUP($A34,'Schedule Setup'!$A$4:$E$39,5,FALSE))","v":""},0,"",0,"",0,"",0,"",null,0,"",0,"",0,"",0,"",null,{"$f":"'Schedule Setup'!F32","v":"00:00:00"},{"$f":"'Schedule Setup'!G32","v":"00:00:00"},-2.0833333333333332E-2,"00:30:00"]
[29,{"$f":"IF(VLOOKUP($A35,'Schedule Setup'!$A$4:$E$39,2,FALSE)=0,\"\",VLOOKUP($A35,'Schedule Setup'!$A$4:$E$39,2,FALSE))","v":""},{"$f":"IF(VLOOKUP($A35,'Schedule Setup'!$A$4:$E$39,4,FALSE)=0,\"\",VLOOKUP($A35,'Schedule Setup'!$A$4:$E$39,4,FALSE))","v":""},"",null,null,null,"x","x","x","x","x","x","x","x","x","x","x","x","x","x","x","x","x","x","x","x","x","x","x","x","x","x","x","x","x","x","x","x","x","x","x","x","x","x",0,null,"x","x","x","x","x","x","x","x","x","x","x","x","x","x","x","x","x","x","x","x","x","x","x","x","x","x","x","x","x","x","x","x","x","x","x","x","x","x",null,0,0,0,0,0,0,0,0,0,0,0,0,0,0,0,0,0,0,0,0,0,0,0,0,0,0,0,0,0,0,0,0,0,0,0,0,0,0,null,{"$f":"IF(VLOOKUP($A35,'Schedule Setup'!$A$4:$E$39,5,FALSE)=0,\"\",VLOOKUP($A35,'Schedule Setup'!$A$4:$E$39,5,FALSE))","v":""},0,"",0,"",0,"",0,"",null,0,"",0,"",0,"",0,"",null,{"$f":"'Schedule Setup'!F33","v":"00:00:00"},{"$f":"'Schedule Setup'!G33","v":"00:00:00"},-2.0833333333333332E-2,"00:30:00"]
[30,{"$f":"IF(VLOOKUP($A36,'Schedule Setup'!$A$4:$E$39,2,FALSE)=0,\"\",VLOOKUP($A36,'Schedule Setup'!$A$4:$E$39,2,FALSE))","v":""},{"$f":"IF(VLOOKUP($A36,'Schedule Setup'!$A$4:$E$39,4,FALSE)=0,\"\",VLOOKUP($A36,'Schedule Setup'!$A$4:$E$39,4,FALSE))","v":""},"",null,null,null,"x","x","x","x","x","x","x","x","x","x","x","x","x","x","x","x","x","x","x","x","x","x","x","x","x","x","x","x","x","x","x","x","x","x","x","x","x","x",0,null,"x","x","x","x","x","x","x","x","x","x","x","x","x","x","x","x","x","x","x","x","x","x","x","x","x","x","x","x","x","x","x","x","x","x","x","x","x","x",null,0,0,0,0,0,0,0,0,0,0,0,0,0,0,0,0,0,0,0,0,0,0,0,0,0,0,0,0,0,0,0,0,0,0,0,0,0,0,null,{"$f":"IF(VLOOKUP($A36,'Schedule Setup'!$A$4:$E$39,5,FALSE)=0,\"\",VLOOKUP($A36,'Schedule Setup'!$A$4:$E$39,5,FALSE))","v":""},0,"",0,"",0,"",0,"",null,0,"",0,"",0,"",0,"",null,{"$f":"'Schedule Setup'!F34","v":"00:00:00"},{"$f":"'Schedule Setup'!G34","v":"00:00:00"},-2.0833333333333332E-2,"00:30:00"]
[31,{"$f":"IF(VLOOKUP($A37,'Schedule Setup'!$A$4:$E$39,2,FALSE)=0,\"\",VLOOKUP($A37,'Schedule Setup'!$A$4:$E$39,2,FALSE))","v":""},{"$f":"IF(VLOOKUP($A37,'Schedule Setup'!$A$4:$E$39,4,FALSE)=0,\"\",VLOOKUP($A37,'Schedule Setup'!$A$4:$E$39,4,FALSE))","v":""},"",null,null,null,"x","x","x","x","x","x","x","x","x","x","x","x","x","x","x","x","x","x","x","x","x","x","x","x","x","x","x","x","x","x","x","x","x","x","x","x","x","x",0,null,"x","x","x","x","x","x","x","x","x","x","x","x","x","x","x","x","x","x","x","x","x","x","x","x","x","x","x","x","x","x","x","x","x","x","x","x","x","x",null,0,0,0,0,0,0,0,0,0,0,0,0,0,0,0,0,0,0,0,0,0,0,0,0,0,0,0,0,0,0,0,0,0,0,0,0,0,0,null,{"$f":"IF(VLOOKUP($A37,'Schedule Setup'!$A$4:$E$39,5,FALSE)=0,\"\",VLOOKUP($A37,'Schedule Setup'!$A$4:$E$39,5,FALSE))","v":""},0,"",0,"",0,"",0,"",null,0,"",0,"",0,"",0,"",null,{"$f":"'Schedule Setup'!F35","v":"00:00:00"},{"$f":"'Schedule Setup'!G35","v":"00:00:00"},-2.0833333333333332E-2,"00:30:00"]
[32,{"$f":"IF(VLOOKUP($A38,'Schedule Setup'!$A$4:$E$39,2,FALSE)=0,\"\",VLOOKUP($A38,'Schedule Setup'!$A$4:$E$39,2,FALSE))","v":""},{"$f":"IF(VLOOKUP($A38,'Schedule Setup'!$A$4:$E$39,4,FALSE)=0,\"\",VLOOKUP($A38,'Schedule Setup'!$A$4:$E$39,4,FALSE))","v":""},"",null,null,null,"x","x","x","x","x","x","x","x","x","x","x","x","x","x","x","x","x","x","x","x","x","x","x","x","x","x","x","x","x","x","x","x","x","x","x","x","x","x",0,null,"x","x","x","x","x","x","x","x","x","x","x","x","x","x","x","x","x","x","x","x","x","x","x","x","x","x","x","x","x","x","x","x","x","x","x","x","x","x",null,0,0,0,0,0,0,0,0,0,0,0,0,0,0,0,0,0,0,0,0,0,0,0,0,0,0,0,0,0,0,0,0,0,0,0,0,0,0,null,{"$f":"IF(VLOOKUP($A38,'Schedule Setup'!$A$4:$E$39,5,FALSE)=0,\"\",VLOOKUP($A38,'Schedule Setup'!$A$4:$E$39,5,FALSE))","v":""},0,"",0,"",0,"",0,"",null,0,"",0,"",0,"",0,"",null,{"$f":"'Schedule Setup'!F36","v":"00:00:00"},{"$f":"'Schedule Setup'!G36","v":"00:00:00"},-2.0833333333333332E-2,"00:30:00"]
[33,{"$f":"IF(VLOOKUP($A39,'Schedule Setup'!$A$4:$E$39,2,FALSE)=0,\"\",VLOOKUP($A39,'Schedule Setup'!$A$4:$E$39,2,FALSE))","v":""},{"$f":"IF(VLOOKUP($A39,'Schedule Setup'!$A$4:$E$39,4,FALSE)=0,\"\",VLOOKUP($A39,'Schedule Setup'!$A$4:$E$39,4,FALSE))","v":""},"",null,null,null,"x","x","x","x","x","x","x","x","x","x","x","x","x","x","x","x","x","x","x","x","x","x","x","x","x","x","x","x","x","x","x","x","x","x","x","x","x","x",0,null,"x","x","x","x","x","x","x","x","x","x","x","x","x","x","x","x","x","x","x","x","x","x","x","x","x","x","x","x","x","x","x","x","x","x","x","x","x","x",null,0,0,0,0,0,0,0,0,0,0,0,0,0,0,0,0,0,0,0,0,0,0,0,0,0,0,0,0,0,0,0,0,0,0,0,0,0,0,null,{"$f":"IF(VLOOKUP($A39,'Schedule Setup'!$A$4:$E$39,5,FALSE)=0,\"\",VLOOKUP($A39,'Schedule Setup'!$A$4:$E$39,5,FALSE))","v":""},0,{"$f":"IFERROR(DW39*$DV39,\"\")","v":""},{"$f":"SUM(CU39:DF39)","v":0},{"$f":"IFERROR(DY39*$DV39,\"\")","v":""},{"$f":"SUM(DG39:DT39)","v":0},{"$f":"IFERROR(EA39*$DV39,\"\")","v":""},{"$f":"SUM(DW39,DY39,EA39)","v":0},{"$f":"IFERROR(EC39*$DV39,\"\")","v":""},null,{"$f":"IF(DW39>5,(DW39-0.5),DW39)","v":0},{"$f":"IFERROR(EF39*$DV39,\"\")","v":""},{"$f":"IF(DY39>5,(DY39-0.5),DY39)","v":0},{"$f":"IFERROR(EH39*$DV39,\"\")","v":""},{"$f":"IF(EA39>5,(EA39-0.5),EA39)","v":0},{"$f":"IFERROR(EJ39*$DV39,\"\")","v":""},{"$f":"SUM(EF39,EH39,EJ39)","v":0},{"$f":"IFERROR(EL39*$DV39,\"\")","v":""},null,{"$f":"'Schedule Setup'!F37","v":"00:00:00"},{"$f":"'Schedule Setup'!G37","v":"00:00:00"},-2.0833333333333332E-2,"00:30:00"]
[34,{"$f":"IF(VLOOKUP($A40,'Schedule Setup'!$A$4:$E$39,2,FALSE)=0,\"\",VLOOKUP($A40,'Schedule Setup'!$A$4:$E$39,2,FALSE))","v":""},{"$f":"IF(VLOOKUP($A40,'Schedule Setup'!$A$4:$E$39,4,FALSE)=0,\"\",VLOOKUP($A40,'Schedule Setup'!$A$4:$E$39,4,FALSE))","v":""},"",null,null,null,"x","x","x","x","x","x","x","x","x","x","x","x","x","x","x","x","x","x","x","x","x","x","x","x","x","x","x","x","x","x","x","x","x","x","x","x","x","x",0,null,"x","x","x","x","x","x","x","x","x","x","x","x","x","x","x","x","x","x","x","x","x","x","x","x","x","x","x","x","x","x","x","x","x","x","x","x","x","x",null,0,0,0,0,0,0,0,0,0,0,0,0,0,0,0,0,0,0,0,0,0,0,0,0,0,0,0,0,0,0,0,0,0,0,0,0,0,0,null,{"$f":"IF(VLOOKUP($A40,'Schedule Setup'!$A$4:$E$39,5,FALSE)=0,\"\",VLOOKUP($A40,'Schedule Setup'!$A$4:$E$39,5,FALSE))","v":""},0,"",0,"",0,"",0,"",null,0,"",0,"",0,"",0,"",null,{"$f":"'Schedule Setup'!F37","v":"00:00:00"},{"$f":"'Schedule Setup'!G37","v":"00:00:00"},-2.0833333333333332E-2,"00:30:00"]
[35,{"$f":"IF(VLOOKUP($A41,'Schedule Setup'!$A$4:$E$39,2,FALSE)=0,\"\",VLOOKUP($A41,'Schedule Setup'!$A$4:$E$39,2,FALSE))","v":""},{"$f":"IF(VLOOKUP($A41,'Schedule Setup'!$A$4:$E$39,4,FALSE)=0,\"\",VLOOKUP($A41,'Schedule Setup'!$A$4:$E$39,4,FALSE))","v":""},"",null,null,null,{"$f":"AV41","v":"x"},"x","x",{"$f":"AY41","v":"x"},"x","x","x","x","x","x","x","x","x","x",{"$f":"BJ41","v":"x"},{"$f":"BK41","v":"x"},{"$f":"BL41","v":"x"},{"$f":"BM41","v":"x"},"x","x","x","x","x","x","x","x","x","x","x","x","x","x","x","x","x","x","x","x",0,null,"x","x","x","x","x","x","x","x","x","x","x","x","x","x","x","x","x","x","x","x","x","x","x","x","x","x","x","x","x","x","x","x","x","x","x","x","x","x",null,0,0,0,0,0,0,0,0,0,0,0,0,0,0,0,0,0,0,0,0,0,0,0,0,0,0,0,0,0,0,0,0,0,0,0,0,0,0,null,{"$f":"IF(VLOOKUP($A41,'Schedule Setup'!$A$4:$E$39,5,FALSE)=0,\"\",VLOOKUP($A41,'Schedule Setup'!$A$4:$E$39,5,FALSE))","v":""},0,"",0,"",0,"",0,"",null,0,"",0,"",0,"",0,"",null,{"$f":"'Schedule Setup'!F39","v":"00:00:00"},{"$f":"'Schedule Setup'!G39","v":"00:00:00"},-2.0833333333333332E-2,"00:30:00"]
[null,null,"Totals/Coverage","Totals/Coverage",{"$f":"MIN(E7:E41)","v":"00:00:00"},{"$f":"MAX(F7:F41)","v":"00:00:00"},null,{"$f":"CI42","v":0},{"$f":"CJ42","v":0},0,0,0,0,0,0,0,{"$f":"CR42","v":0},0,0,0,0,0,0,0,0,0,0,0,0,0,0,0,0,0,0,0,0,0,0,0,0,0,0,0,0,{"$f":"SUM(AT7:AT41)","v":0},null,null,null,null,null,null,null,null,null,null,null,null,null,null,null,null,null,null,null,null,null,null,null,null,null,null,null,null,null,null,null,null,null,null,null,null,null,null,null,null,{"$f":"COUNTIF(CI7:CI41,0.5)","v":0},{"$f":"COUNTIF(CJ7:CJ41,0.5)","v":0},0,0,0,0,0,0,0,0,0,0,0,0,0,0,0,0,0,0,0,0,0,0,0,0,0,0,0,0,0,0,0,0,0,0,0,0,null,null,{"$f":"SUM(DW7:DW41)","v":0},0,0,0,0,0,0,0,null,{"$f":"SUM(EF7:EF41)","v":0},0,0,0,0,0,0,0,null,{"$f":"'Schedule Setup'!F40","v":"07:00:00"},{"$f":"'Schedule Setup'!G40","v":"20:00:00"},"06:30:00","20:30:00"]
[null,{"$f":"O2-8","v":"2019-04-23"},null,null,null,{"$f":"'Schedule Forecast'!A14","v":"Last Week"},null,{"$f":"IFERROR(INDEX(INDIRECT(\"'\"&$F43&\"'!$C:$C\"),MATCH(H$6,INDIRECT(\"'\"&$F43&\"'!$A$1:$A$250\"),0)+1),0)","v":0},0,0,0,0,0,0,0,0,0,0,0,0,0,0,0,{"$f":"IFERROR(INDEX(INDIRECT(\"'\"&$F43&\"'!$C:$C\"),MATCH(X$6,INDIRECT(\"'\"&$F43&\"'!$A$1:$A$250\"),0)+1),0)","v":0},0,0,0,0,0,0,0,0,0,0,0,0,0,0,0,0,0,0,0,0,0]
[null,{"$f":"B43-7","v":"2019-04-16"},null,null,null,{"$f":"'Schedule Forecast'!A15","v":"2 Weeks Ago"},null,0,0,0,0,0,0,0,0,0,0,0,0,0,0,0,0,{"$f":"IFERROR(INDEX(INDIRECT(\"'\"&$F44&\"'!$C:$C\"),MATCH(X$6,INDIRECT(\"'\"&$F44&\"'!$A$1:$A$250\"),0)+1),0)","v":0},0,0,0,0,0,0,0,0,0,0,0,0,0,0,0,0,0,0,0,0,0]
[null,{"$f":"B44-7","v":"2019-04-09"},null,null,null,{"$f":"'Schedule Forecast'!A16","v":"3 Weeks Ago"},null,0,0,0,0,0,0,0,0,0,0,0,0,0,0,0,0,0,0,0,0,0,0,0,0,0,0,0,0,0,0,0,0,0,0,0,0,0,0]
[null,{"$f":"B45-7","v":"2019-04-02"},null,null,null,{"$f":"'Schedule Forecast'!A17","v":"4 Weeks Ago"},null,0,0,0,0,{"$f":"IFERROR(INDEX(INDIRECT(\"'\"&$F46&\"'!$C:$C\"),MATCH(L$6,INDIRECT(\"'\"&$F46&\"'!$A$1:$A$250\"),0)+1),0)","v":0},0,0,0,0,0,0,0,0,0,0,0,0,0,0,0,0,0,0,0,0,0,0,0,0,0,0,0,0,0,0,0,0,0]
[null,{"$f":"((EP42-EO42)*24+(EP88-EO88)*24+(EP134-EO134)*24+(EP180-EO180)*24+(EP226-EO226)*24+(EP272-EO272)*24+(EP318-EO318)*24)","v":90.500000000000085},null,"Open Hours",null,"AVERAGE",null,{"$f":"IFERROR(IF(AND(H$6>=$EO$42,H$6<$EP$42-0.001),AVERAGE(H43:H46),\"\"),\"\")","v":""},"","","",0,0,0,0,0,0,0,0,0,0,0,0,0,0,0,0,0,0,0,0,0,0,0,0,0,0,"","","","","","","",""]
[null,{"$f":"IF((('Schedule Forecast'!AE23*'Schedule Forecast'!C4/'Shift Schedule'!AC2)-14-B47*2)/(SUM(H48:AS48)+SUM(H94:AS94)+SUM(H140:AS140)+SUM(H186:AS186)+SUM(H232:AS232)+SUM(H278:AS278)+SUM(H324:AS324)-B47*2)>0,(('Schedule Forecast'!AE23*'Schedule Forecast'!C4/'Shift Schedule'!AC2)-14-B47*2)/(SUM(H48:AS48)+SUM(H94:AS94)+SUM(H140:AS140)+SUM(H186:AS186)+SUM(H232:AS232)+SUM(H278:AS278)+SUM(H324:AS324)-B47*2),0)","v":{"$error":"#VALUE!"}},null,"P/ over 2",null,null,{"$f":"IFERROR(IF((G47*'Schedule Forecast'!#REF!-$AC$2)>1,(G47*'Schedule Forecast'!#REF!-$AC$2),1),\"\")","v":""},{"$f":"IFERROR(IF((H47*'Schedule Forecast'!$C$4-$AC$2)>1,(H47*'Schedule Forecast'!$C$4-$AC$2),1),\"\")","v":""},{"$f":"IFERROR(IF((I47*'Schedule Forecast'!$C$4-$AC$2)>1,(I47*'Schedule Forecast'!$C$4-$AC$2),1),\"\")","v":""},{"$f":"IFERROR(IF((J47*'Schedule Forecast'!$C$4-$AC$2)>1,(J47*'Schedule Forecast'!$C$4-$AC$2),1),\"\")","v":""},{"$f":"IFERROR(IF((K47*'Schedule Forecast'!$C$4-$AC$2)>1,(K47*'Schedule Forecast'!$C$4-$AC$2),1),\"\")","v":""},{"$f":"IFERROR(IF((L47*'Schedule Forecast'!$C$4-$AC$2)>1,(L47*'Schedule Forecast'!$C$4-$AC$2),1),\"\")","v":1},{"$f":"IFERROR(IF((M47*'Schedule Forecast'!$C$4-$AC$2)>1,(M47*'Schedule Forecast'!$C$4-$AC$2),1),\"\")","v":1},{"$f":"IFERROR(IF((N47*'Schedule Forecast'!$C$4-$AC$2)>1,(N47*'Schedule Forecast'!$C$4-$AC$2),1),\"\")","v":1},{"$f":"IFERROR(IF((O47*'Schedule Forecast'!$C$4-$AC$2)>1,(O47*'Schedule Forecast'!$C$4-$AC$2),1),\"\")","v":1},{"$f":"IFERROR(IF((P47*'Schedule Forecast'!$C$4-$AC$2)>1,(P47*'Schedule Forecast'!$C$4-$AC$2),1),\"\")","v":1},{"$f":"IFERROR(IF((Q47*'Schedule Forecast'!$C$4-$AC$2)>1,(Q47*'Schedule Forecast'!$C$4-$AC$2),1),\"\")","v":1},{"$f":"IFERROR(IF((R47*'Schedule Forecast'!$C$4-$AC$2)>1,(R47*'Schedule Forecast'!$C$4-$AC$2),1),\"\")","v":1},{"$f":"IFERROR(IF((S47*'Schedule Forecast'!$C$4-$AC$2)>1,(S47*'Schedule Forecast'!$C$4-$AC$2),1),\"\")","v":1},{"$f":"IFERROR(IF((T47*'Schedule Forecast'!$C$4-$AC$2)>1,(T47*'Schedule Forecast'!$C$4-$AC$2),1),\"\")","v":1},{"$f":"IFERROR(IF((U47*'Schedule Forecast'!$C$4-$AC$2)>1,(U47*'Schedule Forecast'!$C$4-$AC$2),1),\"\")","v":1},{"$f":"IFERROR(IF((V47*'Schedule Forecast'!$C$4-$AC$2)>1,(V47*'Schedule Forecast'!$C$4-$AC$2),1),\"\")","v":1},{"$f":"IFERROR(IF((W47*'Schedule Forecast'!$C$4-$AC$2)>1,(W47*'Schedule Forecast'!$C$4-$AC$2),1),\"\")","v":1},{"$f":"IFERROR(IF((X47*'Schedule Forecast'!$C$4-$AC$2)>1,(X47*'Schedule Forecast'!$C$4-$AC$2),1),\"\")","v":1},{"$f":"IFERROR(IF((Y47*'Schedule Forecast'!$C$4-$AC$2)>1,(Y47*'Schedule Forecast'!$C$4-$AC$2),1),\"\")","v":1},{"$f":"IFERROR(IF((Z47*'Schedule Forecast'!$C$4-$AC$2)>1,(Z47*'Schedule Forecast'!$C$4-$AC$2),1),\"\")","v":1},{"$f":"IFERROR(IF((AA47*'Schedule Forecast'!$C$4-$AC$2)>1,(AA47*'Schedule Forecast'!$C$4-$AC$2),1),\"\")","v":1},{"$f":"IFERROR(IF((AB47*'Schedule Forecast'!$C$4-$AC$2)>1,(AB47*'Schedule Forecast'!$C$4-$AC$2),1),\"\")","v":1},{"$f":"IFERROR(IF((AC47*'Schedule Forecast'!$C$4-$AC$2)>1,(AC47*'Schedule Forecast'!$C$4-$AC$2),1),\"\")","v":1},{"$f":"IFERROR(IF((AD47*'Schedule Forecast'!$C$4-$AC$2)>1,(AD47*'Schedule Forecast'!$C$4-$AC$2),1),\"\")","v":1},{"$f":"IFERROR(IF((AE47*'Schedule Forecast'!$C$4-$AC$2)>1,(AE47*'Schedule Forecast'!$C$4-$AC$2),1),\"\")","v":1},{"$f":"IFERROR(IF((AF47*'Schedule Forecast'!$C$4-$AC$2)>1,(AF47*'Schedule Forecast'!$C$4-$AC$2),1),\"\")","v":1},{"$f":"IFERROR(IF((AG47*'Schedule Forecast'!$C$4-$AC$2)>1,(AG47*'Schedule Forecast'!$C$4-$AC$2),1),\"\")","v":1},{"$f":"IFERROR(IF((AH47*'Schedule Forecast'!$C$4-$AC$2)>1,(AH47*'Schedule Forecast'!$C$4-$AC$2),1),\"\")","v":1},{"$f":"IFERROR(IF((AI47*'Schedule Forecast'!$C$4-$AC$2)>1,(AI47*'Schedule Forecast'!$C$4-$AC$2),1),\"\")","v":1},{"$f":"IFERROR(IF((AJ47*'Schedule Forecast'!$C$4-$AC$2)>1,(AJ47*'Schedule Forecast'!$C$4-$AC$2),1),\"\")","v":1},{"$f":"IFERROR(IF((AK47*'Schedule Forecast'!$C$4-$AC$2)>1,(AK47*'Schedule Forecast'!$C$4-$AC$2),1),\"\")","v":1},{"$f":"IFERROR(IF((AL47*'Schedule Forecast'!$C$4-$AC$2)>1,(AL47*'Schedule Forecast'!$C$4-$AC$2),1),\"\")","v":""},{"$f":"IFERROR(IF((AM47*'Schedule Forecast'!$C$4-$AC$2)>1,(AM47*'Schedule Forecast'!$C$4-$AC$2),1),\"\")","v":""},{"$f":"IFERROR(IF((AN47*'Schedule Forecast'!$C$4-$AC$2)>1,(AN47*'Schedule Forecast'!$C$4-$AC$2),1),\"\")","v":""},{"$f":"IFERROR(IF((AO47*'Schedule Forecast'!$C$4-$AC$2)>1,(AO47*'Schedule Forecast'!$C$4-$AC$2),1),\"\")","v":""},{"$f":"IFERROR(IF((AP47*'Schedule Forecast'!$C$4-$AC$2)>1,(AP47*'Schedule Forecast'!$C$4-$AC$2),1),\"\")","v":""},{"$f":"IFERROR(IF((AQ47*'Schedule Forecast'!$C$4-$AC$2)>1,(AQ47*'Schedule Forecast'!$C$4-$AC$2),1),\"\")","v":""},{"$f":"IFERROR(IF((AR47*'Schedule Forecast'!$C$4-$AC$2)>1,(AR47*'Schedule Forecast'!$C$4-$AC$2),1),\"\")","v":""},{"$f":"IFERROR(IF((AS47*'Schedule Forecast'!$C$4-$AC$2)>1,(AS47*'Schedule Forecast'!$C$4-$AC$2),1),\"\")","v":""}]
[null,null,null,null,null,null,"Recommended:",{"$f":"IF(H6>=$EO$42,IF(H6<$EP$42-0.01,ROUND(IF(H48>1,(H48*$B$48)+1,H48)*2,0),\"\"),\"\")","v":""},"","","",2,2,2,2,2,2,2,2,2,2,2,2,2,2,2,2,2,2,2,2,2,2,2,2,2,2,"","","","","","","","",{"$f":"SUM(H49:AS49)/2","v":26}]
[]
[null,"Wednesday",null,null,null,null,null,null,null,null,null,null,null,null,null,null,null,null,{"$f":"S5","v":"Today's Date"},{"$f":"T5+1","v":"2019-05-02"},null,null,null,null,null,null,null,null,null,null,null,null,null,null,null,null,null,null,null,null,null,null,null,null,null,null,null,null,null,null,null,null,null,null,null,null,null,null,null,null,null,null,null,null,null,null,null,null,null,null,null,null,null,null,null,null,null,null,null,null,null,null,null,null,null,null,null,null,null,null,null,null,null,null,null,null,null,null,null,null,null,null,null,null,null,null,null,null,null,null,null,null,null,null,null,null,null,null,null,null,null,null,null,null,null,null,"Breakfast",null,"Lunch",null,"Dinner",null,"Total",null,null,"Breakfast",null,"Lunch",null,"Dinner",null,"Total",null,null,"Availability"]
[null,"Employee","Job",null,"Start","End",null,"05:00:00",{"$f":"H52+(0.5/24)","v":"05:30:00"},{"$f":"I52+(0.5/24)","v":"06:00:00"},{"$f":"J52+(0.5/24)","v":"06:30:00"},{"$f":"K52+(0.5/24)","v":"07:00:00"},{"$f":"L52+(0.5/24)","v":"07:30:00"},{"$f":"M52+(0.5/24)","v":"08:00:00"},{"$f":"N52+(0.5/24)","v":"08:30:00"},{"$f":"O52+(0.5/24)","v":"09:00:00"},{"$f":"P52+(0.5/24)","v":"09:30:00"},{"$f":"Q52+(0.5/24)","v":"10:00:00"},{"$f":"R52+(0.5/24)","v":"10:30:00"},{"$f":"S52+(0.5/24)","v":"11:00:00"},{"$f":"T52+(0.5/24)","v":"11:30:00"},{"$f":"U52+(0.5/24)","v":"12:00:00"},{"$f":"V52+(0.5/24)","v":"12:30:00"},{"$f":"W52+(0.5/24)","v":"13:00:00"},{"$f":"X52+(0.5/24)","v":"13:30:00"},{"$f":"Y52+(0.5/24)","v":"14:00:00"},{"$f":"Z52+(0.5/24)","v":"14:30:00"},{"$f":"AA52+(0.5/24)","v":"15:00:00"},{"$f":"AB52+(0.5/24)","v":"15:30:00"},{"$f":"AC52+(0.5/24)","v":"16:00:00"},{"$f":"AD52+(0.5/24)","v":"16:30:00"},{"$f":"AE52+(0.5/24)","v":"17:00:00"},{"$f":"AF52+(0.5/24)","v":"17:30:00"},{"$f":"AG52+(0.5/24)","v":"18:00:00"},{"$f":"AH52+(0.5/24)","v":"18:30:00"},{"$f":"AI52+(0.5/24)","v":"19:00:00"},{"$f":"AJ52+(0.5/24)","v":"19:30:00"},{"$f":"AK52+(0.5/24)","v":"20:00:00"},{"$f":"AL52+(0.5/24)","v":"20:30:00"},{"$f":"AM52+(0.5/24)","v":"21:00:00"},{"$f":"AN52+(0.5/24)","v":"21:30:00"},{"$f":"AO52+(0.5/24)","v":"22:00:00"},{"$f":"AP52+(0.5/24)","v":"22:30:00"},{"$f":"AQ52+(0.5/24)","v":"23:00:00"},{"$f":"AR52+(0.5/24)","v":"23:30:00"},"TOTAL",null,5,null,6,null,7,null,8,null,9,null,10,null,11,null,12,null,1,null,2,null,3,null,4,null,5,null,6,null,7,null,8,null,9,null,10,null,11,null,null,5,null,6,null,7,null,8,null,9,null,10,null,11,null,12,null,1,null,2,null,3,null,4,null,5,null,6,null,7,null,8,null,9,null,10,null,11,null,null,"Rate","Hrs","$","Hrs","$","Hrs","$","Hrs","$",null,"Hrs","$","Hrs","$","Hrs","$","Hrs","$",null,"Start","End","Start-Early","End-Late"]
[1,{"$f":"IF(VLOOKUP($A53,'Schedule Setup'!$A$4:$E$39,2,FALSE)=0,\"\",VLOOKUP($A53,'Schedule Setup'!$A$4:$E$39,2,FALSE))","v":""},{"$f":"IF(VLOOKUP($A53,'Schedule Setup'!$A$4:$E$39,4,FALSE)=0,\"\",VLOOKUP($A53,'Schedule Setup'!$A$4:$E$39,4,FALSE))","v":""},{"$f":"IF(B53<>\"\",IF(OR(C53=\"General Manager (S)\", C53=\"General Manager (H)\"), \"GM\",IF(C53=\"Acting Manager\",\"AM\",IF(C53=\"Shift Manager\",\"SM\",IF(C53=\"Team Lead\",\"TL\",\"TM\")))),\"\")","v":""},null,null,null,{"$f":"AV53","v":"x"},"x","x","x","x","x","x","x","x","x",{"$f":"BF53","v":"x"},"x","x","x","x","x","x","x","x","x",{"$f":"BP53","v":"x"},"x","x","x","x","x","x","x","x","x",{"$f":"BZ53","v":"x"},"x","x","x","x","x","x","x",{"$f":"EC53","v":0},null,{"$f":"IF(AND($EO53<=H$6+0.01,$EP53>H$6+0.01),IF(AND(H$6<$F53-0.01,H$6>=$E53-0.01),$D53,\"\"),\"x\")","v":"x"},{"$f":"IF(AND($EO53<=I$6+0.01,$EP53>I$6+0.01),IF(AND(I$6<$F53-0.01,I$6>=$E53-0.01),$D53,\"\"),\"x\")","v":"x"},{"$f":"IF(AND($EO53<=J$6+0.01,$EP53>J$6+0.01),IF(AND(J$6<$F53-0.01,J$6>=$E53-0.01),$D53,\"\"),\"x\")","v":"x"},{"$f":"IF(AND($EO53<=K$6+0.01,$EP53>K$6+0.01),IF(AND(K$6<$F53-0.01,K$6>=$E53-0.01),$D53,\"\"),\"x\")","v":"x"},{"$f":"IF(AND($EO53<=L$6+0.01,$EP53>L$6+0.01),IF(AND(L$6<$F53-0.01,L$6>=$E53-0.01),$D53,\"\"),\"x\")","v":"x"},{"$f":"IF(AND($EO53<=M$6+0.01,$EP53>M$6+0.01),IF(AND(M$6<$F53-0.01,M$6>=$E53-0.01),$D53,\"\"),\"x\")","v":"x"},{"$f":"IF(AND($EO53<=N$6+0.01,$EP53>N$6+0.01),IF(AND(N$6<$F53-0.01,N$6>=$E53-0.01),$D53,\"\"),\"x\")","v":"x"},{"$f":"IF(AND($EO53<=O$6+0.01,$EP53>O$6+0.01),IF(AND(O$6<$F53-0.01,O$6>=$E53-0.01),$D53,\"\"),\"x\")","v":"x"},{"$f":"IF(AND($EO53<=P$6+0.01,$EP53>P$6+0.01),IF(AND(P$6<$F53-0.01,P$6>=$E53-0.01),$D53,\"\"),\"x\")","v":"x"},{"$f":"IF(AND($EO53<=Q$6+0.01,$EP53>Q$6+0.01),IF(AND(Q$6<$F53-0.01,Q$6>=$E53-0.01),$D53,\"\"),\"x\")","v":"x"},{"$f":"IF(AND($EO53<=R$6+0.01,$EP53>R$6+0.01),IF(AND(R$6<$F53-0.01,R$6>=$E53-0.01),$D53,\"\"),\"x\")","v":"x"},{"$f":"IF(AND($EO53<=S$6+0.01,$EP53>S$6+0.01),IF(AND(S$6<$F53-0.01,S$6>=$E53-0.01),$D53,\"\"),\"x\")","v":"x"},{"$f":"IF(AND($EO53<=T$6+0.01,$EP53>T$6+0.01),IF(AND(T$6<$F53-0.01,T$6>=$E53-0.01),$D53,\"\"),\"x\")","v":"x"},{"$f":"IF(AND($EO53<=U$6+0.01,$EP53>U$6+0.01),IF(AND(U$6<$F53-0.01,U$6>=$E53-0.01),$D53,\"\"),\"x\")","v":"x"},{"$f":"IF(AND($EO53<=V$6+0.01,$EP53>V$6+0.01),IF(AND(V$6<$F53-0.01,V$6>=$E53-0.01),$D53,\"\"),\"x\")","v":"x"},{"$f":"IF(AND($EO53<=W$6+0.01,$EP53>W$6+0.01),IF(AND(W$6<$F53-0.01,W$6>=$E53-0.01),$D53,\"\"),\"x\")","v":"x"},{"$f":"IF(AND($EO53<=X$6+0.01,$EP53>X$6+0.01),IF(AND(X$6<$F53-0.01,X$6>=$E53-0.01),$D53,\"\"),\"x\")","v":"x"},{"$f":"IF(AND($EO53<=Y$6+0.01,$EP53>Y$6+0.01),IF(AND(Y$6<$F53-0.01,Y$6>=$E53-0.01),$D53,\"\"),\"x\")","v":"x"},{"$f":"IF(AND($EO53<=Z$6+0.01,$EP53>Z$6+0.01),IF(AND(Z$6<$F53-0.01,Z$6>=$E53-0.01),$D53,\"\"),\"x\")","v":"x"},{"$f":"IF(AND($EO53<=AA$6+0.01,$EP53>AA$6+0.01),IF(AND(AA$6<$F53-0.01,AA$6>=$E53-0.01),$D53,\"\"),\"x\")","v":"x"},{"$f":"IF(AND($EO53<=AB$6+0.01,$EP53>AB$6+0.01),IF(AND(AB$6<$F53-0.01,AB$6>=$E53-0.01),$D53,\"\"),\"x\")","v":"x"},{"$f":"IF(AND($EO53<=AC$6+0.01,$EP53>AC$6+0.01),IF(AND(AC$6<$F53-0.01,AC$6>=$E53-0.01),$D53,\"\"),\"x\")","v":"x"},{"$f":"IF(AND($EO53<=AD$6+0.01,$EP53>AD$6+0.01),IF(AND(AD$6<$F53-0.01,AD$6>=$E53-0.01),$D53,\"\"),\"x\")","v":"x"},{"$f":"IF(AND($EO53<=AE$6+0.01,$EP53>AE$6+0.01),IF(AND(AE$6<$F53-0.01,AE$6>=$E53-0.01),$D53,\"\"),\"x\")","v":"x"},{"$f":"IF(AND($EO53<=AF$6+0.01,$EP53>AF$6+0.01),IF(AND(AF$6<$F53-0.01,AF$6>=$E53-0.01),$D53,\"\"),\"x\")","v":"x"},{"$f":"IF(AND($EO53<=AG$6+0.01,$EP53>AG$6+0.01),IF(AND(AG$6<$F53-0.01,AG$6>=$E53-0.01),$D53,\"\"),\"x\")","v":"x"},{"$f":"IF(AND($EO53<=AH$6+0.01,$EP53>AH$6+0.01),IF(AND(AH$6<$F53-0.01,AH$6>=$E53-0.01),$D53,\"\"),\"x\")","v":"x"},{"$f":"IF(AND($EO53<=AI$6+0.01,$EP53>AI$6+0.01),IF(AND(AI$6<$F53-0.01,AI$6>=$E53-0.01),$D53,\"\"),\"x\")","v":"x"},{"$f":"IF(AND($EO53<=AJ$6+0.01,$EP53>AJ$6+0.01),IF(AND(AJ$6<$F53-0.01,AJ$6>=$E53-0.01),$D53,\"\"),\"x\")","v":"x"},{"$f":"IF(AND($EO53<=AK$6+0.01,$EP53>AK$6+0.01),IF(AND(AK$6<$F53-0.01,AK$6>=$E53-0.01),$D53,\"\"),\"x\")","v":"x"},{"$f":"IF(AND($EO53<=AL$6+0.01,$EP53>AL$6+0.01),IF(AND(AL$6<$F53-0.01,AL$6>=$E53-0.01),$D53,\"\"),\"x\")","v":"x"},{"$f":"IF(AND($EO53<=AM$6+0.01,$EP53>AM$6+0.01),IF(AND(AM$6<$F53-0.01,AM$6>=$E53-0.01),$D53,\"\"),\"x\")","v":"x"},{"$f":"IF(AND($EO53<=AN$6+0.01,$EP53>AN$6+0.01),IF(AND(AN$6<$F53-0.01,AN$6>=$E53-0.01),$D53,\"\"),\"x\")","v":"x"},{"$f":"IF(AND($EO53<=AO$6+0.01,$EP53>AO$6+0.01),IF(AND(AO$6<$F53-0.01,AO$6>=$E53-0.01),$D53,\"\"),\"x\")","v":"x"},{"$f":"IF(AND($EO53<=AP$6+0.01,$EP53>AP$6+0.01),IF(AND(AP$6<$F53-0.01,AP$6>=$E53-0.01),$D53,\"\"),\"x\")","v":"x"},{"$f":"IF(AND($EO53<=AQ$6+0.01,$EP53>AQ$6+0.01),IF(AND(AQ$6<$F53-0.01,AQ$6>=$E53-0.01),$D53,\"\"),\"x\")","v":"x"},{"$f":"IF(AND($EO53<=AR$6+0.01,$EP53>AR$6+0.01),IF(AND(AR$6<$F53-0.01,AR$6>=$E53-0.01),$D53,\"\"),\"x\")","v":"x"},{"$f":"IF(AND($EO53<=AS$6+0.01,$EP53>AS$6+0.01),IF(AND(AS$6<$F53-0.01,AS$6>=$E53-0.01),$D53,\"\"),\"x\")","v":"x"},null,{"$f":"IF(AND(AV53<>\"\",AV53<>\"x\"),0.5,)","v":0},{"$f":"IF(AND(AW53<>\"\",AW53<>\"x\"),0.5,)","v":0},{"$f":"IF(AND(AX53<>\"\",AX53<>\"x\"),0.5,)","v":0},{"$f":"IF(AND(AY53<>\"\",AY53<>\"x\"),0.5,)","v":0},{"$f":"IF(AND(AZ53<>\"\",AZ53<>\"x\"),0.5,)","v":0},{"$f":"IF(AND(BA53<>\"\",BA53<>\"x\"),0.5,)","v":0},{"$f":"IF(AND(BB53<>\"\",BB53<>\"x\"),0.5,)","v":0},{"$f":"IF(AND(BC53<>\"\",BC53<>\"x\"),0.5,)","v":0},{"$f":"IF(AND(BD53<>\"\",BD53<>\"x\"),0.5,)","v":0},{"$f":"IF(AND(BE53<>\"\",BE53<>\"x\"),0.5,)","v":0},{"$f":"IF(AND(BF53<>\"\",BF53<>\"x\"),0.5,)","v":0},{"$f":"IF(AND(BG53<>\"\",BG53<>\"x\"),0.5,)","v":0},{"$f":"IF(AND(BH53<>\"\",BH53<>\"x\"),0.5,)","v":0},{"$f":"IF(AND(BI53<>\"\",BI53<>\"x\"),0.5,)","v":0},{"$f":"IF(AND(BJ53<>\"\",BJ53<>\"x\"),0.5,)","v":0},{"$f":"IF(AND(BK53<>\"\",BK53<>\"x\"),0.5,)","v":0},{"$f":"IF(AND(BL53<>\"\",BL53<>\"x\"),0.5,)","v":0},{"$f":"IF(AND(BM53<>\"\",BM53<>\"x\"),0.5,)","v":0},{"$f":"IF(AND(BN53<>\"\",BN53<>\"x\"),0.5,)","v":0},{"$f":"IF(AND(BO53<>\"\",BO53<>\"x\"),0.5,)","v":0},{"$f":"IF(AND(BP53<>\"\",BP53<>\"x\"),0.5,)","v":0},{"$f":"IF(AND(BQ53<>\"\",BQ53<>\"x\"),0.5,)","v":0},{"$f":"IF(AND(BR53<>\"\",BR53<>\"x\"),0.5,)","v":0},{"$f":"IF(AND(BS53<>\"\",BS53<>\"x\"),0.5,)","v":0},{"$f":"IF(AND(BT53<>\"\",BT53<>\"x\"),0.5,)","v":0},{"$f":"IF(AND(BU53<>\"\",BU53<>\"x\"),0.5,)","v":0},{"$f":"IF(AND(BV53<>\"\",BV53<>\"x\"),0.5,)","v":0},{"$f":"IF(AND(BW53<>\"\",BW53<>\"x\"),0.5,)","v":0},{"$f":"IF(AND(BX53<>\"\",BX53<>\"x\"),0.5,)","v":0},{"$f":"IF(AND(BY53<>\"\",BY53<>\"x\"),0.5,)","v":0},{"$f":"IF(AND(BZ53<>\"\",BZ53<>\"x\"),0.5,)","v":0},{"$f":"IF(AND(CA53<>\"\",CA53<>\"x\"),0.5,)","v":0},{"$f":"IF(AND(CB53<>\"\",CB53<>\"x\"),0.5,)","v":0},{"$f":"IF(AND(CC53<>\"\",CC53<>\"x\"),0.5,)","v":0},{"$f":"IF(AND(CD53<>\"\",CD53<>\"x\"),0.5,)","v":0},{"$f":"IF(AND(CE53<>\"\",CE53<>\"x\"),0.5,)","v":0},{"$f":"IF(AND(CF53<>\"\",CF53<>\"x\"),0.5,)","v":0},{"$f":"IF(AND(CG53<>\"\",CG53<>\"x\"),0.5,)","v":0},null,{"$f":"IF(VLOOKUP($A53,'Schedule Setup'!$A$4:$E$39,5,FALSE)=0,\"\",VLOOKUP($A53,'Schedule Setup'!$A$4:$E$39,5,FALSE))","v":""},{"$f":"SUM(CI53:CT53)","v":0},{"$f":"IFERROR(DW53*$DV53,\"\")","v":""},{"$f":"SUM(CU53:DF53)","v":0},{"$f":"IFERROR(DY53*$DV53,\"\")","v":""},{"$f":"SUM(DG53:DT53)","v":0},{"$f":"IFERROR(EA53*$DV53,\"\")","v":""},{"$f":"SUM(DW53,DY53,EA53)","v":0},{"$f":"IFERROR(EC53*$DV53,\"\")","v":""},null,{"$f":"IF(DW53>5,(DW53-0.5),DW53)","v":0},{"$f":"IFERROR(EF53*$DV53,\"\")","v":""},{"$f":"IF(DY53>5,(DY53-0.5),DY53)","v":0},{"$f":"IFERROR(EH53*$DV53,\"\")","v":""},{"$f":"IF(EA53>5,(EA53-0.5),EA53)","v":0},{"$f":"IFERROR(EJ53*$DV53,\"\")","v":""},{"$f":"SUM(EF53,EH53,EJ53)","v":0},{"$f":"IFERROR(EL53*$DV53,\"\")","v":""},null,{"$f":"'Schedule Setup'!H5","v":"00:00:00"},{"$f":"'Schedule Setup'!I5","v":"00:00:00"},{"$f":"EO53-(0.5/24)","v":-2.0833333333333332E-2},{"$f":"EP53+(0.5/24)","v":"00:30:00"}]
[{"$f":"A53+1","v":2},{"$f":"IF(VLOOKUP($A54,'Schedule Setup'!$A$4:$E$39,2,FALSE)=0,\"\",VLOOKUP($A54,'Schedule Setup'!$A$4:$E$39,2,FALSE))","v":""},{"$f":"IF(VLOOKUP($A54,'Schedule Setup'!$A$4:$E$39,4,FALSE)=0,\"\",VLOOKUP($A54,'Schedule Setup'!$A$4:$E$39,4,FALSE))","v":""},{"$f":"IF(B54<>\"\",IF(OR(C54=\"General Manager (S)\", C54=\"General Manager (H)\"), \"GM\",IF(C54=\"Acting Manager\",\"AM\",IF(C54=\"Shift Manager\",\"SM\",IF(C54=\"Team Lead\",\"TL\",\"TM\")))),\"\")","v":""},null,null,null,"x","x","x","x","x","x","x","x","x","x","x","x","x","x","x","x","x","x","x","x","x","x","x","x","x","x","x","x","x","x","x","x","x","x","x","x","x","x",{"$f":"EC54","v":0},null,"x","x","x","x","x","x","x","x","x","x","x","x","x","x","x","x","x","x","x","x","x","x","x","x","x","x","x","x","x","x","x","x","x","x","x","x","x","x",null,0,0,0,0,0,0,0,0,0,0,0,0,0,0,0,0,0,0,0,0,0,0,0,0,0,0,0,0,0,0,0,0,0,0,0,0,0,0,null,{"$f":"IF(VLOOKUP($A54,'Schedule Setup'!$A$4:$E$39,5,FALSE)=0,\"\",VLOOKUP($A54,'Schedule Setup'!$A$4:$E$39,5,FALSE))","v":""},0,"",0,"",0,"",{"$f":"SUM(DW54,DY54,EA54)","v":0},"",null,{"$f":"IF(DW54>5,(DW54-0.5),DW54)","v":0},"",{"$f":"IF(DY54>5,(DY54-0.5),DY54)","v":0},"",0,"",{"$f":"SUM(EF54,EH54,EJ54)","v":0},"",null,{"$f":"'Schedule Setup'!H6","v":"00:00:00"},{"$f":"'Schedule Setup'!I6","v":"00:00:00"},{"$f":"EO54-(0.5/24)","v":-2.0833333333333332E-2},{"$f":"EP54+(0.5/24)","v":"00:30:00"}]
[{"$f":"A54+1","v":3},{"$f":"IF(VLOOKUP($A55,'Schedule Setup'!$A$4:$E$39,2,FALSE)=0,\"\",VLOOKUP($A55,'Schedule Setup'!$A$4:$E$39,2,FALSE))","v":""},{"$f":"IF(VLOOKUP($A55,'Schedule Setup'!$A$4:$E$39,4,FALSE)=0,\"\",VLOOKUP($A55,'Schedule Setup'!$A$4:$E$39,4,FALSE))","v":""},"",null,null,null,"x","x","x","x","x","x","x","x","x","x","x","x","x","x","x","x","x","x","x","x","x","x","x","x","x","x","x","x","x","x","x","x","x","x","x","x","x","x",0,null,"x","x","x","x","x","x","x","x","x","x","x","x","x","x","x","x","x","x","x","x","x","x","x","x","x","x","x","x","x","x","x","x","x","x","x","x","x","x",null,0,0,0,0,0,0,0,0,0,0,0,0,0,0,0,0,0,0,0,0,0,0,0,0,0,0,0,0,0,0,0,0,0,0,0,0,0,0,null,{"$f":"IF(VLOOKUP($A55,'Schedule Setup'!$A$4:$E$39,5,FALSE)=0,\"\",VLOOKUP($A55,'Schedule Setup'!$A$4:$E$39,5,FALSE))","v":""},0,"",0,"",0,"",{"$f":"SUM(DW55,DY55,EA55)","v":0},"",null,0,"",0,"",0,"",0,"",null,{"$f":"'Schedule Setup'!H7","v":"00:00:00"},{"$f":"'Schedule Setup'!I7","v":"00:00:00"},-2.0833333333333332E-2,"00:30:00"]
[4,{"$f":"IF(VLOOKUP($A56,'Schedule Setup'!$A$4:$E$39,2,FALSE)=0,\"\",VLOOKUP($A56,'Schedule Setup'!$A$4:$E$39,2,FALSE))","v":""},{"$f":"IF(VLOOKUP($A56,'Schedule Setup'!$A$4:$E$39,4,FALSE)=0,\"\",VLOOKUP($A56,'Schedule Setup'!$A$4:$E$39,4,FALSE))","v":""},"",null,null,null,"x","x","x","x","x","x","x","x","x","x","x","x","x","x","x","x","x","x","x","x","x","x","x","x","x","x","x","x","x","x","x","x","x","x","x","x","x","x",0,null,"x","x","x","x","x","x","x","x","x","x","x","x","x","x","x","x","x","x","x","x","x","x","x","x","x","x","x","x","x","x","x","x","x","x","x","x","x","x",null,0,0,0,0,0,0,0,0,0,0,0,0,0,0,0,0,0,0,0,0,0,0,0,0,0,0,0,0,0,0,0,0,0,0,0,0,0,0,null,{"$f":"IF(VLOOKUP($A56,'Schedule Setup'!$A$4:$E$39,5,FALSE)=0,\"\",VLOOKUP($A56,'Schedule Setup'!$A$4:$E$39,5,FALSE))","v":""},0,"",0,"",0,"",0,"",null,0,"",0,"",0,"",0,"",null,{"$f":"'Schedule Setup'!H8","v":"00:00:00"},{"$f":"'Schedule Setup'!I8","v":"00:00:00"},-2.0833333333333332E-2,"00:30:00"]
[5,{"$f":"IF(VLOOKUP($A57,'Schedule Setup'!$A$4:$E$39,2,FALSE)=0,\"\",VLOOKUP($A57,'Schedule Setup'!$A$4:$E$39,2,FALSE))","v":""},{"$f":"IF(VLOOKUP($A57,'Schedule Setup'!$A$4:$E$39,4,FALSE)=0,\"\",VLOOKUP($A57,'Schedule Setup'!$A$4:$E$39,4,FALSE))","v":""},"",null,null,null,"x","x","x","x","x","x","x","x","x","x","x","x","x","x","x","x","x","x","x","x","x","x","x","x","x","x","x","x","x","x","x","x","x","x","x","x","x","x",0,null,"x","x","x","x","x","x","x","x","x","x","x","x","x","x","x","x","x","x","x","x","x","x","x","x","x","x","x","x","x","x","x","x","x","x","x","x","x","x",null,0,0,0,0,0,0,0,0,0,0,0,0,0,0,0,0,0,0,0,0,0,0,0,0,0,0,0,0,0,0,0,0,0,0,0,0,0,0,null,{"$f":"IF(VLOOKUP($A57,'Schedule Setup'!$A$4:$E$39,5,FALSE)=0,\"\",VLOOKUP($A57,'Schedule Setup'!$A$4:$E$39,5,FALSE))","v":""},0,"",0,"",0,"",0,"",null,0,"",0,"",0,"",0,"",null,{"$f":"'Schedule Setup'!H9","v":"00:00:00"},{"$f":"'Schedule Setup'!I9","v":"00:00:00"},-2.0833333333333332E-2,"00:30:00"]
[6,{"$f":"IF(VLOOKUP($A58,'Schedule Setup'!$A$4:$E$39,2,FALSE)=0,\"\",VLOOKUP($A58,'Schedule Setup'!$A$4:$E$39,2,FALSE))","v":""},{"$f":"IF(VLOOKUP($A58,'Schedule Setup'!$A$4:$E$39,4,FALSE)=0,\"\",VLOOKUP($A58,'Schedule Setup'!$A$4:$E$39,4,FALSE))","v":""},"",null,null,null,"x","x","x","x","x","x","x","x","x","x","x","x","x","x","x","x","x","x","x","x","x","x","x","x","x","x","x","x","x","x","x","x","x","x","x","x","x","x",0,null,"x","x","x","x","x","x","x","x","x","x","x","x","x","x","x","x","x","x","x","x","x","x","x","x","x","x","x","x","x","x","x","x","x","x","x","x","x","x",null,0,0,0,0,0,0,0,0,0,0,0,0,0,0,0,0,0,0,0,0,0,0,0,0,0,0,0,0,0,0,0,0,0,0,0,0,0,0,null,{"$f":"IF(VLOOKUP($A58,'Schedule Setup'!$A$4:$E$39,5,FALSE)=0,\"\",VLOOKUP($A58,'Schedule Setup'!$A$4:$E$39,5,FALSE))","v":""},0,"",0,"",0,"",0,"",null,0,"",0,"",0,"",0,"",null,{"$f":"'Schedule Setup'!H10","v":"00:00:00"},{"$f":"'Schedule Setup'!I10","v":"00:00:00"},-2.0833333333333332E-2,"00:30:00"]
[7,{"$f":"IF(VLOOKUP($A59,'Schedule Setup'!$A$4:$E$39,2,FALSE)=0,\"\",VLOOKUP($A59,'Schedule Setup'!$A$4:$E$39,2,FALSE))","v":""},{"$f":"IF(VLOOKUP($A59,'Schedule Setup'!$A$4:$E$39,4,FALSE)=0,\"\",VLOOKUP($A59,'Schedule Setup'!$A$4:$E$39,4,FALSE))","v":""},"",null,null,null,"x","x","x","x","x","x","x","x","x","x",{"$f":"BF59","v":"x"},"x","x","x","x","x","x","x","x","x","x","x","x","x","x","x","x",{"$f":"BW59","v":"x"},"x","x","x","x","x","x","x","x","x","x",0,null,"x","x","x","x","x","x","x","x","x","x","x","x","x","x","x","x","x","x","x","x","x","x","x","x","x","x","x","x","x","x","x","x","x","x","x","x","x","x",null,0,0,0,0,0,0,0,0,0,0,0,0,0,0,0,0,0,0,0,0,0,0,0,0,0,0,0,0,0,0,0,0,0,0,0,0,0,0,null,{"$f":"IF(VLOOKUP($A59,'Schedule Setup'!$A$4:$E$39,5,FALSE)=0,\"\",VLOOKUP($A59,'Schedule Setup'!$A$4:$E$39,5,FALSE))","v":""},0,"",0,"",0,"",0,"",null,0,"",0,"",0,"",0,"",null,{"$f":"'Schedule Setup'!H11","v":"00:00:00"},{"$f":"'Schedule Setup'!I11","v":"00:00:00"},-2.0833333333333332E-2,"00:30:00"]
[8,{"$f":"IF(VLOOKUP($A60,'Schedule Setup'!$A$4:$E$39,2,FALSE)=0,\"\",VLOOKUP($A60,'Schedule Setup'!$A$4:$E$39,2,FALSE))","v":""},{"$f":"IF(VLOOKUP($A60,'Schedule Setup'!$A$4:$E$39,4,FALSE)=0,\"\",VLOOKUP($A60,'Schedule Setup'!$A$4:$E$39,4,FALSE))","v":""},"",null,null,null,{"$f":"AV60","v":"x"},"x","x","x","x","x","x","x","x","x",{"$f":"BF60","v":"x"},"x","x","x","x","x",{"$f":"BL60","v":"x"},"x","x","x","x","x","x","x","x","x","x","x","x","x","x","x","x","x","x","x","x","x",0,null,"x","x","x","x","x","x","x","x","x","x","x","x","x","x","x","x","x","x","x","x","x","x","x","x","x","x","x","x","x","x","x","x","x","x","x","x","x","x",null,0,0,0,0,0,0,0,0,0,0,0,0,0,0,0,0,0,0,0,0,0,0,0,0,0,0,0,0,0,0,0,0,0,0,0,0,0,0,null,{"$f":"IF(VLOOKUP($A60,'Schedule Setup'!$A$4:$E$39,5,FALSE)=0,\"\",VLOOKUP($A60,'Schedule Setup'!$A$4:$E$39,5,FALSE))","v":""},0,{"$f":"IFERROR(DW60*$DV60,\"\")","v":""},0,"",0,"",0,"",null,0,"",0,"",0,"",0,"",null,{"$f":"'Schedule Setup'!H12","v":"00:00:00"},{"$f":"'Schedule Setup'!I12","v":"00:00:00"},-2.0833333333333332E-2,"00:30:00"]
[9,{"$f":"IF(VLOOKUP($A61,'Schedule Setup'!$A$4:$E$39,2,FALSE)=0,\"\",VLOOKUP($A61,'Schedule Setup'!$A$4:$E$39,2,FALSE))","v":""},{"$f":"IF(VLOOKUP($A61,'Schedule Setup'!$A$4:$E$39,4,FALSE)=0,\"\",VLOOKUP($A61,'Schedule Setup'!$A$4:$E$39,4,FALSE))","v":""},"",null,null,null,"x","x","x","x","x","x","x","x","x","x",{"$f":"BF61","v":"x"},{"$f":"BG61","v":"x"},{"$f":"BH61","v":"x"},{"$f":"BI61","v":"x"},"x","x","x","x","x","x","x","x","x","x","x","x","x","x","x","x","x","x","x","x","x","x","x","x",0,null,"x","x","x","x","x","x","x","x","x","x","x","x","x","x","x","x","x","x","x","x","x","x","x","x","x","x","x","x","x","x","x","x","x","x","x","x","x","x",null,0,0,0,0,0,0,0,0,0,0,0,0,0,0,0,0,0,0,0,0,0,0,0,0,0,0,0,0,0,0,0,0,0,0,0,0,0,0,null,{"$f":"IF(VLOOKUP($A61,'Schedule Setup'!$A$4:$E$39,5,FALSE)=0,\"\",VLOOKUP($A61,'Schedule Setup'!$A$4:$E$39,5,FALSE))","v":""},0,{"$f":"IFERROR(DW61*$DV61,\"\")","v":""},0,"",0,"",0,"",null,0,"",0,"",0,"",0,"",null,{"$f":"'Schedule Setup'!H13","v":"00:00:00"},{"$f":"'Schedule Setup'!I13","v":"00:00:00"},-2.0833333333333332E-2,"00:30:00"]
[10,{"$f":"IF(VLOOKUP($A62,'Schedule Setup'!$A$4:$E$39,2,FALSE)=0,\"\",VLOOKUP($A62,'Schedule Setup'!$A$4:$E$39,2,FALSE))","v":""},{"$f":"IF(VLOOKUP($A62,'Schedule Setup'!$A$4:$E$39,4,FALSE)=0,\"\",VLOOKUP($A62,'Schedule Setup'!$A$4:$E$39,4,FALSE))","v":""},"",null,null,null,"x","x","x","x","x","x","x","x","x","x","x","x","x","x","x","x","x","x","x","x","x","x","x","x","x","x","x","x","x","x","x","x","x","x","x","x","x","x",0,null,"x","x","x","x","x","x","x","x","x","x","x","x","x","x","x","x","x","x","x","x","x","x","x","x","x","x","x","x","x","x","x","x","x","x","x","x","x","x",null,0,0,0,0,0,0,0,0,0,0,0,0,0,0,0,0,0,0,0,0,0,0,0,0,0,0,0,0,0,0,0,0,0,0,0,0,0,0,null,{"$f":"IF(VLOOKUP($A62,'Schedule Setup'!$A$4:$E$39,5,FALSE)=0,\"\",VLOOKUP($A62,'Schedule Setup'!$A$4:$E$39,5,FALSE))","v":""},0,"",0,"",0,"",0,"",null,0,"",0,"",0,"",0,"",null,{"$f":"'Schedule Setup'!H14","v":"00:00:00"},{"$f":"'Schedule Setup'!I14","v":"00:00:00"},-2.0833333333333332E-2,"00:30:00"]
[11,{"$f":"IF(VLOOKUP($A63,'Schedule Setup'!$A$4:$E$39,2,FALSE)=0,\"\",VLOOKUP($A63,'Schedule Setup'!$A$4:$E$39,2,FALSE))","v":""},{"$f":"IF(VLOOKUP($A63,'Schedule Setup'!$A$4:$E$39,4,FALSE)=0,\"\",VLOOKUP($A63,'Schedule Setup'!$A$4:$E$39,4,FALSE))","v":""},"",null,null,null,"x","x","x","x","x","x","x","x","x","x","x","x","x","x","x","x","x","x","x","x","x","x","x","x","x","x","x","x","x","x","x","x","x","x","x","x","x","x",0,null,"x","x","x","x","x","x","x","x","x","x","x","x","x","x","x","x","x","x","x","x","x","x","x","x","x","x","x","x","x","x","x","x","x","x","x","x","x","x",null,0,0,0,0,0,0,0,0,0,0,0,0,0,0,0,0,0,0,0,0,0,0,0,0,0,0,0,0,0,0,0,0,0,0,0,0,0,0,null,{"$f":"IF(VLOOKUP($A63,'Schedule Setup'!$A$4:$E$39,5,FALSE)=0,\"\",VLOOKUP($A63,'Schedule Setup'!$A$4:$E$39,5,FALSE))","v":""},0,"",0,"",0,"",0,"",null,0,"",0,"",0,"",0,"",null,{"$f":"'Schedule Setup'!H15","v":"00:00:00"},{"$f":"'Schedule Setup'!I15","v":"00:00:00"},-2.0833333333333332E-2,"00:30:00"]
[12,{"$f":"IF(VLOOKUP($A64,'Schedule Setup'!$A$4:$E$39,2,FALSE)=0,\"\",VLOOKUP($A64,'Schedule Setup'!$A$4:$E$39,2,FALSE))","v":""},{"$f":"IF(VLOOKUP($A64,'Schedule Setup'!$A$4:$E$39,4,FALSE)=0,\"\",VLOOKUP($A64,'Schedule Setup'!$A$4:$E$39,4,FALSE))","v":""},"",null,null,null,"x","x","x","x","x","x","x","x","x","x","x","x","x","x","x","x","x","x","x","x","x","x","x","x","x","x","x","x","x","x","x","x","x","x","x","x","x","x",0,null,"x","x","x","x","x","x","x","x","x","x","x","x","x","x","x","x","x","x","x","x","x","x","x","x","x","x","x","x","x","x","x","x","x","x","x","x","x","x",null,0,0,0,0,0,0,0,0,0,0,0,0,0,0,0,0,0,0,0,0,0,0,0,0,0,0,0,0,0,0,0,0,0,0,0,0,0,0,null,{"$f":"IF(VLOOKUP($A64,'Schedule Setup'!$A$4:$E$39,5,FALSE)=0,\"\",VLOOKUP($A64,'Schedule Setup'!$A$4:$E$39,5,FALSE))","v":""},0,"",0,"",0,"",0,"",null,0,"",0,"",0,"",0,"",null,{"$f":"'Schedule Setup'!H16","v":"00:00:00"},{"$f":"'Schedule Setup'!I16","v":"00:00:00"},-2.0833333333333332E-2,"00:30:00"]
[13,{"$f":"IF(VLOOKUP($A65,'Schedule Setup'!$A$4:$E$39,2,FALSE)=0,\"\",VLOOKUP($A65,'Schedule Setup'!$A$4:$E$39,2,FALSE))","v":""},{"$f":"IF(VLOOKUP($A65,'Schedule Setup'!$A$4:$E$39,4,FALSE)=0,\"\",VLOOKUP($A65,'Schedule Setup'!$A$4:$E$39,4,FALSE))","v":""},"",null,null,null,"x","x","x","x","x","x","x","x","x","x","x","x","x","x","x","x","x","x","x","x","x","x","x","x","x","x","x","x","x","x","x","x","x","x","x","x","x","x",0,null,"x","x","x","x","x","x","x","x","x","x","x","x","x","x","x","x","x","x","x","x","x","x","x","x","x","x","x","x","x","x","x","x","x","x","x","x","x","x",null,0,0,0,0,0,0,0,0,0,0,0,0,0,0,0,0,0,0,0,0,0,0,0,0,0,0,0,0,0,0,0,0,0,0,0,0,0,0,null,{"$f":"IF(VLOOKUP($A65,'Schedule Setup'!$A$4:$E$39,5,FALSE)=0,\"\",VLOOKUP($A65,'Schedule Setup'!$A$4:$E$39,5,FALSE))","v":""},0,"",0,"",0,"",0,"",null,0,"",0,"",0,"",0,"",null,{"$f":"'Schedule Setup'!H17","v":"00:00:00"},{"$f":"'Schedule Setup'!I17","v":"00:00:00"},-2.0833333333333332E-2,"00:30:00"]
[14,{"$f":"IF(VLOOKUP($A66,'Schedule Setup'!$A$4:$E$39,2,FALSE)=0,\"\",VLOOKUP($A66,'Schedule Setup'!$A$4:$E$39,2,FALSE))","v":""},{"$f":"IF(VLOOKUP($A66,'Schedule Setup'!$A$4:$E$39,4,FALSE)=0,\"\",VLOOKUP($A66,'Schedule Setup'!$A$4:$E$39,4,FALSE))","v":""},"",null,null,null,"x","x","x","x","x","x","x","x","x","x","x","x","x","x","x","x","x","x","x","x","x","x","x","x","x","x","x","x","x","x","x","x","x","x","x","x","x","x",0,null,"x","x","x","x","x","x","x","x","x","x","x","x","x","x","x","x","x","x","x","x","x","x","x","x","x","x","x","x","x","x","x","x","x","x","x","x","x","x",null,0,0,0,0,0,0,0,0,0,0,0,0,0,0,0,0,0,0,0,0,0,0,0,0,0,0,0,0,0,0,0,0,0,0,0,0,0,0,null,{"$f":"IF(VLOOKUP($A66,'Schedule Setup'!$A$4:$E$39,5,FALSE)=0,\"\",VLOOKUP($A66,'Schedule Setup'!$A$4:$E$39,5,FALSE))","v":""},0,"",0,"",0,"",0,"",null,0,"",0,"",0,"",0,"",null,{"$f":"'Schedule Setup'!H18","v":"00:00:00"},{"$f":"'Schedule Setup'!I18","v":"00:00:00"},-2.0833333333333332E-2,"00:30:00"]
[15,{"$f":"IF(VLOOKUP($A67,'Schedule Setup'!$A$4:$E$39,2,FALSE)=0,\"\",VLOOKUP($A67,'Schedule Setup'!$A$4:$E$39,2,FALSE))","v":""},{"$f":"IF(VLOOKUP($A67,'Schedule Setup'!$A$4:$E$39,4,FALSE)=0,\"\",VLOOKUP($A67,'Schedule Setup'!$A$4:$E$39,4,FALSE))","v":""},"",null,null,null,"x","x","x","x","x","x","x","x","x","x","x","x","x","x","x","x","x","x","x","x","x","x","x","x","x","x","x","x","x","x","x","x","x","x","x","x","x","x",0,null,"x","x","x","x","x","x","x","x","x","x","x","x","x","x","x","x","x","x","x","x","x","x","x","x","x","x","x","x","x","x","x","x","x","x","x","x","x","x",null,0,0,0,0,0,0,0,0,0,0,0,0,0,0,0,0,0,0,0,0,0,0,0,0,0,0,0,0,0,0,0,0,0,0,0,0,0,0,null,{"$f":"IF(VLOOKUP($A67,'Schedule Setup'!$A$4:$E$39,5,FALSE)=0,\"\",VLOOKUP($A67,'Schedule Setup'!$A$4:$E$39,5,FALSE))","v":""},0,"",0,"",0,"",0,"",null,0,"",0,"",0,"",0,"",null,{"$f":"'Schedule Setup'!H19","v":"00:00:00"},{"$f":"'Schedule Setup'!I19","v":"00:00:00"},-2.0833333333333332E-2,"00:30:00"]
[16,{"$f":"IF(VLOOKUP($A68,'Schedule Setup'!$A$4:$E$39,2,FALSE)=0,\"\",VLOOKUP($A68,'Schedule Setup'!$A$4:$E$39,2,FALSE))","v":""},{"$f":"IF(VLOOKUP($A68,'Schedule Setup'!$A$4:$E$39,4,FALSE)=0,\"\",VLOOKUP($A68,'Schedule Setup'!$A$4:$E$39,4,FALSE))","v":""},"",null,null,null,"x","x","x","x","x","x","x","x","x","x","x","x","x","x","x","x","x","x","x","x","x","x","x","x","x","x","x","x","x","x","x","x","x","x","x","x","x","x",0,null,"x","x","x","x","x","x","x","x","x","x","x","x","x","x","x","x","x","x","x","x","x","x","x","x","x","x","x","x","x","x","x","x","x","x","x","x","x","x",null,0,0,0,0,0,0,0,0,0,0,0,0,0,0,0,0,0,0,0,0,0,0,0,0,0,0,0,0,0,0,0,0,0,0,0,0,0,0,null,{"$f":"IF(VLOOKUP($A68,'Schedule Setup'!$A$4:$E$39,5,FALSE)=0,\"\",VLOOKUP($A68,'Schedule Setup'!$A$4:$E$39,5,FALSE))","v":""},0,"",0,"",0,"",0,"",null,0,"",0,"",0,"",0,"",null,{"$f":"'Schedule Setup'!H20","v":"00:00:00"},{"$f":"'Schedule Setup'!I20","v":"00:00:00"},{"$f":"EO68-(0.5/24)","v":-2.0833333333333332E-2},{"$f":"EP68+(0.5/24)","v":"00:30:00"}]
[17,{"$f":"IF(VLOOKUP($A69,'Schedule Setup'!$A$4:$E$39,2,FALSE)=0,\"\",VLOOKUP($A69,'Schedule Setup'!$A$4:$E$39,2,FALSE))","v":""},{"$f":"IF(VLOOKUP($A69,'Schedule Setup'!$A$4:$E$39,4,FALSE)=0,\"\",VLOOKUP($A69,'Schedule Setup'!$A$4:$E$39,4,FALSE))","v":""},"",null,null,null,"x","x","x","x","x","x","x","x","x","x","x","x","x","x","x","x","x","x","x","x","x","x","x","x","x","x","x","x","x","x","x","x","x","x","x","x","x","x",0,null,"x","x","x","x","x","x","x","x","x","x","x","x","x","x","x","x","x","x","x","x","x","x","x","x","x","x","x","x","x","x","x","x","x","x","x","x","x","x",null,0,0,0,0,0,0,0,0,0,0,0,0,0,0,0,0,0,0,0,0,0,0,0,0,0,0,0,0,0,0,0,0,0,0,0,0,0,0,null,{"$f":"IF(VLOOKUP($A69,'Schedule Setup'!$A$4:$E$39,5,FALSE)=0,\"\",VLOOKUP($A69,'Schedule Setup'!$A$4:$E$39,5,FALSE))","v":""},0,"",0,"",0,"",0,"",null,0,"",0,"",0,"",0,"",null,{"$f":"'Schedule Setup'!H21","v":"00:00:00"},{"$f":"'Schedule Setup'!I21","v":"00:00:00"},-2.0833333333333332E-2,"00:30:00"]
[18,{"$f":"IF(VLOOKUP($A70,'Schedule Setup'!$A$4:$E$39,2,FALSE)=0,\"\",VLOOKUP($A70,'Schedule Setup'!$A$4:$E$39,2,FALSE))","v":""},{"$f":"IF(VLOOKUP($A70,'Schedule Setup'!$A$4:$E$39,4,FALSE)=0,\"\",VLOOKUP($A70,'Schedule Setup'!$A$4:$E$39,4,FALSE))","v":""},"",null,null,null,"x","x","x","x","x","x","x","x","x","x","x","x","x","x","x","x","x","x","x","x","x","x","x","x","x","x","x","x","x","x","x","x","x","x","x","x","x","x",0,null,"x","x","x","x","x","x","x","x","x","x","x","x","x","x","x","x","x","x","x","x","x","x","x","x","x","x","x","x","x","x","x","x","x","x","x","x","x","x",null,0,0,0,0,0,0,0,0,0,0,0,0,0,0,0,0,0,0,0,0,0,0,0,0,0,0,0,0,0,0,0,0,0,0,0,0,0,0,null,{"$f":"IF(VLOOKUP($A70,'Schedule Setup'!$A$4:$E$39,5,FALSE)=0,\"\",VLOOKUP($A70,'Schedule Setup'!$A$4:$E$39,5,FALSE))","v":""},0,"",0,"",0,"",0,"",null,0,"",0,"",0,"",0,"",null,{"$f":"'Schedule Setup'!H22","v":"00:00:00"},{"$f":"'Schedule Setup'!I22","v":"00:00:00"},-2.0833333333333332E-2,"00:30:00"]
[19,{"$f":"IF(VLOOKUP($A71,'Schedule Setup'!$A$4:$E$39,2,FALSE)=0,\"\",VLOOKUP($A71,'Schedule Setup'!$A$4:$E$39,2,FALSE))","v":""},{"$f":"IF(VLOOKUP($A71,'Schedule Setup'!$A$4:$E$39,4,FALSE)=0,\"\",VLOOKUP($A71,'Schedule Setup'!$A$4:$E$39,4,FALSE))","v":""},"",null,null,null,"x","x","x","x","x","x","x","x","x","x","x","x","x","x","x","x","x","x","x","x","x","x","x","x","x","x","x","x","x","x","x","x","x","x","x","x","x","x",0,null,"x","x","x","x","x","x","x","x","x","x","x","x","x","x","x","x","x","x","x","x","x","x","x","x","x","x","x","x","x","x","x","x","x","x","x","x","x","x",null,0,0,0,0,0,0,0,0,0,0,0,0,0,0,0,0,0,0,0,0,0,0,0,0,0,0,0,0,0,0,0,0,0,0,0,0,0,0,null,{"$f":"IF(VLOOKUP($A71,'Schedule Setup'!$A$4:$E$39,5,FALSE)=0,\"\",VLOOKUP($A71,'Schedule Setup'!$A$4:$E$39,5,FALSE))","v":""},0,"",0,"",0,"",0,"",null,0,"",0,"",0,"",0,"",null,{"$f":"'Schedule Setup'!H23","v":"00:00:00"},{"$f":"'Schedule Setup'!I23","v":"00:00:00"},-2.0833333333333332E-2,"00:30:00"]
[20,{"$f":"IF(VLOOKUP($A72,'Schedule Setup'!$A$4:$E$39,2,FALSE)=0,\"\",VLOOKUP($A72,'Schedule Setup'!$A$4:$E$39,2,FALSE))","v":""},{"$f":"IF(VLOOKUP($A72,'Schedule Setup'!$A$4:$E$39,4,FALSE)=0,\"\",VLOOKUP($A72,'Schedule Setup'!$A$4:$E$39,4,FALSE))","v":""},"",null,null,null,"x","x","x","x","x","x","x","x","x","x","x","x","x","x","x","x","x","x","x","x","x","x","x","x","x","x","x","x","x","x","x","x","x","x","x","x","x","x",0,null,"x","x","x","x","x","x","x","x","x","x","x","x","x","x","x","x","x","x","x","x","x","x","x","x","x","x","x","x","x","x","x","x","x","x","x","x","x","x",null,0,0,0,0,0,0,0,0,0,0,0,0,0,0,0,0,0,0,0,0,0,0,0,0,0,0,0,0,0,0,0,0,0,0,0,0,0,0,null,{"$f":"IF(VLOOKUP($A72,'Schedule Setup'!$A$4:$E$39,5,FALSE)=0,\"\",VLOOKUP($A72,'Schedule Setup'!$A$4:$E$39,5,FALSE))","v":""},0,"",0,"",0,"",0,"",null,0,"",0,"",0,"",0,"",null,{"$f":"'Schedule Setup'!H24","v":"00:00:00"},{"$f":"'Schedule Setup'!I24","v":"00:00:00"},-2.0833333333333332E-2,"00:30:00"]
[21,{"$f":"IF(VLOOKUP($A73,'Schedule Setup'!$A$4:$E$39,2,FALSE)=0,\"\",VLOOKUP($A73,'Schedule Setup'!$A$4:$E$39,2,FALSE))","v":""},{"$f":"IF(VLOOKUP($A73,'Schedule Setup'!$A$4:$E$39,4,FALSE)=0,\"\",VLOOKUP($A73,'Schedule Setup'!$A$4:$E$39,4,FALSE))","v":""},"",null,null,null,"x","x","x","x","x","x","x","x","x","x","x","x","x","x","x","x","x","x","x","x","x","x","x","x","x","x","x","x","x","x","x","x","x","x","x","x","x","x",0,null,"x","x","x","x","x","x","x","x","x","x","x","x","x","x","x","x","x","x","x","x","x","x","x","x","x","x","x","x","x","x","x","x","x","x","x","x","x","x",null,0,0,0,0,0,0,0,0,0,0,0,0,0,0,0,0,0,0,0,0,0,0,0,0,0,0,0,0,0,0,0,0,0,0,0,0,0,0,null,{"$f":"IF(VLOOKUP($A73,'Schedule Setup'!$A$4:$E$39,5,FALSE)=0,\"\",VLOOKUP($A73,'Schedule Setup'!$A$4:$E$39,5,FALSE))","v":""},0,"",0,"",0,"",0,"",null,0,"",0,"",0,"",0,"",null,{"$f":"'Schedule Setup'!H25","v":"00:00:00"},{"$f":"'Schedule Setup'!I25","v":"00:00:00"},-2.0833333333333332E-2,"00:30:00"]
[22,{"$f":"IF(VLOOKUP($A74,'Schedule Setup'!$A$4:$E$39,2,FALSE)=0,\"\",VLOOKUP($A74,'Schedule Setup'!$A$4:$E$39,2,FALSE))","v":""},{"$f":"IF(VLOOKUP($A74,'Schedule Setup'!$A$4:$E$39,4,FALSE)=0,\"\",VLOOKUP($A74,'Schedule Setup'!$A$4:$E$39,4,FALSE))","v":""},"",null,null,null,"x","x","x","x","x","x","x","x","x","x","x","x","x","x","x","x","x","x","x","x","x","x","x","x","x","x","x","x","x","x","x","x","x","x","x","x","x","x",0,null,"x","x","x","x","x","x","x","x","x","x","x","x","x","x","x","x","x","x","x","x","x","x","x","x","x","x","x","x","x","x","x","x","x","x","x","x","x","x",null,0,0,0,0,0,0,0,0,0,0,0,0,0,0,0,0,0,0,0,0,0,0,0,0,0,0,0,0,0,0,0,0,0,0,0,0,0,0,null,{"$f":"IF(VLOOKUP($A74,'Schedule Setup'!$A$4:$E$39,5,FALSE)=0,\"\",VLOOKUP($A74,'Schedule Setup'!$A$4:$E$39,5,FALSE))","v":""},0,"",0,"",0,"",0,"",null,0,"",0,"",0,"",0,"",null,{"$f":"'Schedule Setup'!H26","v":"00:00:00"},{"$f":"'Schedule Setup'!I26","v":"00:00:00"},-2.0833333333333332E-2,"00:30:00"]
[23,{"$f":"IF(VLOOKUP($A75,'Schedule Setup'!$A$4:$E$39,2,FALSE)=0,\"\",VLOOKUP($A75,'Schedule Setup'!$A$4:$E$39,2,FALSE))","v":""},{"$f":"IF(VLOOKUP($A75,'Schedule Setup'!$A$4:$E$39,4,FALSE)=0,\"\",VLOOKUP($A75,'Schedule Setup'!$A$4:$E$39,4,FALSE))","v":""},"",null,null,null,"x","x","x","x","x","x","x","x","x","x","x","x","x","x","x","x","x","x","x","x","x","x","x","x","x","x","x","x","x","x",{"$f":"BZ75","v":"x"},"x","x","x","x","x","x","x",0,null,"x","x","x","x","x","x","x","x","x","x","x","x","x","x","x","x","x","x","x","x","x","x","x","x","x","x","x","x","x","x","x","x","x","x","x","x","x","x",null,0,0,0,0,0,0,0,0,0,0,0,0,0,0,0,0,0,0,0,0,0,0,0,0,0,0,0,0,0,0,0,0,0,0,0,0,0,0,null,{"$f":"IF(VLOOKUP($A75,'Schedule Setup'!$A$4:$E$39,5,FALSE)=0,\"\",VLOOKUP($A75,'Schedule Setup'!$A$4:$E$39,5,FALSE))","v":""},0,"",0,"",0,"",0,"",null,0,"",0,"",0,"",0,"",null,{"$f":"'Schedule Setup'!H27","v":"00:00:00"},{"$f":"'Schedule Setup'!I27","v":"00:00:00"},-2.0833333333333332E-2,"00:30:00"]
[24,{"$f":"IF(VLOOKUP($A76,'Schedule Setup'!$A$4:$E$39,2,FALSE)=0,\"\",VLOOKUP($A76,'Schedule Setup'!$A$4:$E$39,2,FALSE))","v":""},{"$f":"IF(VLOOKUP($A76,'Schedule Setup'!$A$4:$E$39,4,FALSE)=0,\"\",VLOOKUP($A76,'Schedule Setup'!$A$4:$E$39,4,FALSE))","v":""},"",null,null,null,"x","x","x","x","x","x","x","x","x","x","x","x","x","x",{"$f":"BJ76","v":"x"},{"$f":"BK76","v":"x"},{"$f":"BL76","v":"x"},"x","x","x","x","x","x","x","x","x","x","x","x","x","x","x","x","x","x","x","x","x",0,null,"x","x","x","x","x","x","x","x","x","x","x","x","x","x","x","x","x","x","x","x","x","x","x","x","x","x","x","x","x","x","x","x","x","x","x","x","x","x",null,0,0,0,0,0,0,0,0,0,0,0,0,0,0,0,0,0,0,0,0,0,0,0,0,0,0,0,0,0,0,0,0,0,0,0,0,0,0,null,{"$f":"IF(VLOOKUP($A76,'Schedule Setup'!$A$4:$E$39,5,FALSE)=0,\"\",VLOOKUP($A76,'Schedule Setup'!$A$4:$E$39,5,FALSE))","v":""},0,"",0,"",0,"",0,"",null,0,"",0,"",0,"",0,"",null,{"$f":"'Schedule Setup'!H28","v":"00:00:00"},{"$f":"'Schedule Setup'!I28","v":"00:00:00"},-2.0833333333333332E-2,"00:30:00"]
[25,{"$f":"IF(VLOOKUP($A77,'Schedule Setup'!$A$4:$E$39,2,FALSE)=0,\"\",VLOOKUP($A77,'Schedule Setup'!$A$4:$E$39,2,FALSE))","v":""},{"$f":"IF(VLOOKUP($A77,'Schedule Setup'!$A$4:$E$39,4,FALSE)=0,\"\",VLOOKUP($A77,'Schedule Setup'!$A$4:$E$39,4,FALSE))","v":""},{"$f":"IF(B77<>\"\",IF(OR(C77=\"General Manager (S)\", C77=\"General Manager (H)\"), \"GM\",IF(C77=\"Acting Manager\",\"AM\",IF(C77=\"Shift Manager\",\"SM\",IF(C77=\"Team Lead\",\"TL\",\"TM\")))),\"\")","v":""},null,null,null,{"$f":"AV77","v":"x"},"x","x","x","x","x","x","x","x","x","x","x","x","x","x","x",{"$f":"BL77","v":"x"},{"$f":"BM77","v":"x"},{"$f":"BN77","v":"x"},{"$f":"BO77","v":"x"},{"$f":"BP77","v":"x"},{"$f":"BQ77","v":"x"},{"$f":"BR77","v":"x"},{"$f":"BS77","v":"x"},{"$f":"BT77","v":"x"},{"$f":"BU77","v":"x"},{"$f":"BV77","v":"x"},{"$f":"BW77","v":"x"},{"$f":"BX77","v":"x"},{"$f":"BY77","v":"x"},{"$f":"BZ77","v":"x"},{"$f":"CA77","v":"x"},{"$f":"CB77","v":"x"},{"$f":"CC77","v":"x"},{"$f":"CD77","v":"x"},{"$f":"CE77","v":"x"},{"$f":"CF77","v":"x"},{"$f":"CG77","v":"x"},{"$f":"EC77","v":0},null,"x","x","x","x","x","x","x","x","x","x","x","x","x","x","x","x","x","x","x","x","x","x","x","x","x","x","x","x","x","x","x","x","x","x","x","x","x","x",null,0,0,0,0,0,0,0,0,0,0,0,0,0,0,0,0,0,0,0,0,0,0,0,0,0,0,0,0,0,0,0,0,0,0,0,0,0,0,null,{"$f":"IF(VLOOKUP($A77,'Schedule Setup'!$A$4:$E$39,5,FALSE)=0,\"\",VLOOKUP($A77,'Schedule Setup'!$A$4:$E$39,5,FALSE))","v":""},0,{"$f":"IFERROR(DW77*$DV77,\"\")","v":""},{"$f":"SUM(CU77:DF77)","v":0},{"$f":"IFERROR(DY77*$DV77,\"\")","v":""},{"$f":"SUM(DG77:DT77)","v":0},{"$f":"IFERROR(EA77*$DV77,\"\")","v":""},{"$f":"SUM(DW77,DY77,EA77)","v":0},{"$f":"IFERROR(EC77*$DV77,\"\")","v":""},null,{"$f":"IF(DW77>5,(DW77-0.5),DW77)","v":0},{"$f":"IFERROR(EF77*$DV77,\"\")","v":""},{"$f":"IF(DY77>5,(DY77-0.5),DY77)","v":0},{"$f":"IFERROR(EH77*$DV77,\"\")","v":""},{"$f":"IF(EA77>5,(EA77-0.5),EA77)","v":0},{"$f":"IFERROR(EJ77*$DV77,\"\")","v":""},{"$f":"SUM(EF77,EH77,EJ77)","v":0},{"$f":"IFERROR(EL77*$DV77,\"\")","v":""},null,{"$f":"'Schedule Setup'!H29","v":"00:00:00"},{"$f":"'Schedule Setup'!I29","v":"00:00:00"},-2.0833333333333332E-2,"00:30:00"]
[26,{"$f":"IF(VLOOKUP($A78,'Schedule Setup'!$A$4:$E$39,2,FALSE)=0,\"\",VLOOKUP($A78,'Schedule Setup'!$A$4:$E$39,2,FALSE))","v":""},{"$f":"IF(VLOOKUP($A78,'Schedule Setup'!$A$4:$E$39,4,FALSE)=0,\"\",VLOOKUP($A78,'Schedule Setup'!$A$4:$E$39,4,FALSE))","v":""},"",null,null,null,"x","x","x","x","x","x","x","x","x","x","x","x","x","x","x","x","x","x","x","x","x","x","x","x","x","x","x","x","x","x","x","x","x","x","x","x","x","x",0,null,"x","x","x","x","x","x","x","x","x","x","x","x","x","x","x","x","x","x","x","x","x","x","x","x","x","x","x","x","x","x","x","x","x","x","x","x","x","x",null,0,0,0,0,0,0,0,0,0,0,0,0,0,0,0,0,0,0,0,0,0,0,0,0,0,0,0,0,0,0,0,0,0,0,0,0,0,0,null,{"$f":"IF(VLOOKUP($A78,'Schedule Setup'!$A$4:$E$39,5,FALSE)=0,\"\",VLOOKUP($A78,'Schedule Setup'!$A$4:$E$39,5,FALSE))","v":""},0,"",0,"",0,"",0,"",null,0,"",0,"",0,"",0,"",null,{"$f":"'Schedule Setup'!H30","v":"00:00:00"},{"$f":"'Schedule Setup'!I30","v":"00:00:00"},-2.0833333333333332E-2,"00:30:00"]
[27,{"$f":"IF(VLOOKUP($A79,'Schedule Setup'!$A$4:$E$39,2,FALSE)=0,\"\",VLOOKUP($A79,'Schedule Setup'!$A$4:$E$39,2,FALSE))","v":""},{"$f":"IF(VLOOKUP($A79,'Schedule Setup'!$A$4:$E$39,4,FALSE)=0,\"\",VLOOKUP($A79,'Schedule Setup'!$A$4:$E$39,4,FALSE))","v":""},"",null,null,null,"x","x","x","x","x","x","x","x","x","x","x","x","x","x","x","x","x","x","x","x","x","x","x","x","x","x","x","x","x","x","x","x","x","x","x","x","x","x",0,null,"x","x","x","x","x","x","x","x","x","x","x","x","x","x","x","x","x","x","x","x","x","x","x","x","x","x","x","x","x","x","x","x","x","x","x","x","x","x",null,0,0,0,0,0,0,0,0,0,0,0,0,0,0,0,0,0,0,0,0,0,0,0,0,0,0,0,0,0,0,0,0,0,0,0,0,0,0,null,{"$f":"IF(VLOOKUP($A79,'Schedule Setup'!$A$4:$E$39,5,FALSE)=0,\"\",VLOOKUP($A79,'Schedule Setup'!$A$4:$E$39,5,FALSE))","v":""},0,"",0,"",0,"",0,"",null,0,"",0,"",0,"",0,"",null,{"$f":"'Schedule Setup'!H31","v":"00:00:00"},{"$f":"'Schedule Setup'!I31","v":"00:00:00"},-2.0833333333333332E-2,"00:30:00"]
[28,{"$f":"IF(VLOOKUP($A80,'Schedule Setup'!$A$4:$E$39,2,FALSE)=0,\"\",VLOOKUP($A80,'Schedule Setup'!$A$4:$E$39,2,FALSE))","v":""},{"$f":"IF(VLOOKUP($A80,'Schedule Setup'!$A$4:$E$39,4,FALSE)=0,\"\",VLOOKUP($A80,'Schedule Setup'!$A$4:$E$39,4,FALSE))","v":""},"",null,null,null,"x","x","x","x","x","x","x","x","x","x","x","x","x","x","x","x","x","x","x","x","x","x","x","x","x","x","x","x","x","x","x","x","x","x","x","x","x","x",0,null,"x","x","x","x","x","x","x","x","x","x","x","x","x","x","x","x","x","x","x","x","x","x","x","x","x","x","x","x","x","x","x","x","x","x","x","x","x","x",null,0,0,0,0,0,0,0,0,0,0,0,0,0,0,0,0,0,0,0,0,0,0,0,0,0,0,0,0,0,0,0,0,0,0,0,0,0,0,null,{"$f":"IF(VLOOKUP($A80,'Schedule Setup'!$A$4:$E$39,5,FALSE)=0,\"\",VLOOKUP($A80,'Schedule Setup'!$A$4:$E$39,5,FALSE))","v":""},0,"",0,"",0,"",0,"",null,0,"",0,"",0,"",0,"",null,{"$f":"'Schedule Setup'!H32","v":"00:00:00"},{"$f":"'Schedule Setup'!I32","v":"00:00:00"},-2.0833333333333332E-2,"00:30:00"]
[29,{"$f":"IF(VLOOKUP($A81,'Schedule Setup'!$A$4:$E$39,2,FALSE)=0,\"\",VLOOKUP($A81,'Schedule Setup'!$A$4:$E$39,2,FALSE))","v":""},{"$f":"IF(VLOOKUP($A81,'Schedule Setup'!$A$4:$E$39,4,FALSE)=0,\"\",VLOOKUP($A81,'Schedule Setup'!$A$4:$E$39,4,FALSE))","v":""},"",null,null,null,"x","x","x","x","x","x","x","x","x","x","x","x","x","x","x","x","x","x","x","x","x","x","x","x","x","x","x","x","x","x","x","x","x","x","x","x","x","x",0,null,"x","x","x","x","x","x","x","x","x","x","x","x","x","x","x","x","x","x","x","x","x","x","x","x","x","x","x","x","x","x","x","x","x","x","x","x","x","x",null,0,0,0,0,0,0,0,0,0,0,0,0,0,0,0,0,0,0,0,0,0,0,0,0,0,0,0,0,0,0,0,0,0,0,0,0,0,0,null,{"$f":"IF(VLOOKUP($A81,'Schedule Setup'!$A$4:$E$39,5,FALSE)=0,\"\",VLOOKUP($A81,'Schedule Setup'!$A$4:$E$39,5,FALSE))","v":""},0,"",0,"",0,"",0,"",null,0,"",0,"",0,"",0,"",null,{"$f":"'Schedule Setup'!H33","v":"00:00:00"},{"$f":"'Schedule Setup'!I33","v":"00:00:00"},-2.0833333333333332E-2,"00:30:00"]
[30,{"$f":"IF(VLOOKUP($A82,'Schedule Setup'!$A$4:$E$39,2,FALSE)=0,\"\",VLOOKUP($A82,'Schedule Setup'!$A$4:$E$39,2,FALSE))","v":""},{"$f":"IF(VLOOKUP($A82,'Schedule Setup'!$A$4:$E$39,4,FALSE)=0,\"\",VLOOKUP($A82,'Schedule Setup'!$A$4:$E$39,4,FALSE))","v":""},"",null,null,null,"x","x","x","x","x","x","x","x","x","x","x","x","x","x","x","x","x","x","x","x","x","x","x","x","x","x","x","x","x","x","x","x","x","x","x","x","x","x",0,null,"x","x","x","x","x","x","x","x","x","x","x","x","x","x","x","x","x","x","x","x","x","x","x","x","x","x","x","x","x","x","x","x","x","x","x","x","x","x",null,0,0,0,0,0,0,0,0,0,0,0,0,0,0,0,0,0,0,0,0,0,0,0,0,0,0,0,0,0,0,0,0,0,0,0,0,0,0,null,{"$f":"IF(VLOOKUP($A82,'Schedule Setup'!$A$4:$E$39,5,FALSE)=0,\"\",VLOOKUP($A82,'Schedule Setup'!$A$4:$E$39,5,FALSE))","v":""},0,"",0,"",0,"",0,"",null,0,"",0,"",0,"",0,"",null,{"$f":"'Schedule Setup'!H34","v":"00:00:00"},{"$f":"'Schedule Setup'!I34","v":"00:00:00"},-2.0833333333333332E-2,"00:30:00"]
[31,{"$f":"IF(VLOOKUP($A83,'Schedule Setup'!$A$4:$E$39,2,FALSE)=0,\"\",VLOOKUP($A83,'Schedule Setup'!$A$4:$E$39,2,FALSE))","v":""},{"$f":"IF(VLOOKUP($A83,'Schedule Setup'!$A$4:$E$39,4,FALSE)=0,\"\",VLOOKUP($A83,'Schedule Setup'!$A$4:$E$39,4,FALSE))","v":""},"",null,null,null,"x","x","x","x","x","x","x","x","x","x","x","x","x","x","x","x","x","x","x","x","x","x","x","x","x","x","x","x","x","x","x","x","x","x","x","x","x","x",0,null,"x","x","x","x","x","x","x","x","x","x","x","x","x","x","x","x","x","x","x","x","x","x","x","x","x","x","x","x","x","x","x","x","x","x","x","x","x","x",null,0,0,0,0,0,0,0,0,0,0,0,0,0,0,0,0,0,0,0,0,0,0,0,0,0,0,0,0,0,0,0,0,0,0,0,0,0,0,null,{"$f":"IF(VLOOKUP($A83,'Schedule Setup'!$A$4:$E$39,5,FALSE)=0,\"\",VLOOKUP($A83,'Schedule Setup'!$A$4:$E$39,5,FALSE))","v":""},0,"",0,"",0,"",0,"",null,0,"",0,"",0,"",0,"",null,{"$f":"'Schedule Setup'!H35","v":"00:00:00"},{"$f":"'Schedule Setup'!I35","v":"00:00:00"},-2.0833333333333332E-2,"00:30:00"]
[32,{"$f":"IF(VLOOKUP($A84,'Schedule Setup'!$A$4:$E$39,2,FALSE)=0,\"\",VLOOKUP($A84,'Schedule Setup'!$A$4:$E$39,2,FALSE))","v":""},{"$f":"IF(VLOOKUP($A84,'Schedule Setup'!$A$4:$E$39,4,FALSE)=0,\"\",VLOOKUP($A84,'Schedule Setup'!$A$4:$E$39,4,FALSE))","v":""},"",null,null,null,"x","x","x","x","x","x","x","x","x","x","x","x","x","x","x","x","x","x","x","x","x","x","x","x","x","x","x","x","x","x","x","x","x","x","x","x","x","x",0,null,"x","x","x","x","x","x","x","x","x","x","x","x","x","x","x","x","x","x","x","x","x","x","x","x","x","x","x","x","x","x","x","x","x","x","x","x","x","x",null,0,0,0,0,0,0,0,0,0,0,0,0,0,0,0,0,0,0,0,0,0,0,0,0,0,0,0,0,0,0,0,0,0,0,0,0,0,0,null,{"$f":"IF(VLOOKUP($A84,'Schedule Setup'!$A$4:$E$39,5,FALSE)=0,\"\",VLOOKUP($A84,'Schedule Setup'!$A$4:$E$39,5,FALSE))","v":""},0,"",0,"",0,"",0,"",null,0,"",0,"",0,"",0,"",null,{"$f":"'Schedule Setup'!H36","v":"00:00:00"},{"$f":"'Schedule Setup'!I36","v":"00:00:00"},-2.0833333333333332E-2,"00:30:00"]
[33,{"$f":"IF(VLOOKUP($A85,'Schedule Setup'!$A$4:$E$39,2,FALSE)=0,\"\",VLOOKUP($A85,'Schedule Setup'!$A$4:$E$39,2,FALSE))","v":""},{"$f":"IF(VLOOKUP($A85,'Schedule Setup'!$A$4:$E$39,4,FALSE)=0,\"\",VLOOKUP($A85,'Schedule Setup'!$A$4:$E$39,4,FALSE))","v":""},"",null,null,null,"x","x","x","x","x","x","x","x","x","x","x","x","x","x","x","x","x","x","x","x","x","x","x","x","x","x","x","x","x","x","x","x","x","x","x","x","x","x",0,null,"x","x","x","x","x","x","x","x","x","x","x","x","x","x","x","x","x","x","x","x","x","x","x","x","x","x","x","x","x","x","x","x","x","x","x","x","x","x",null,0,0,0,0,0,0,0,0,0,0,0,0,0,0,0,0,0,0,0,0,0,0,0,0,0,0,0,0,0,0,0,0,0,0,0,0,0,0,null,{"$f":"IF(VLOOKUP($A85,'Schedule Setup'!$A$4:$E$39,5,FALSE)=0,\"\",VLOOKUP($A85,'Schedule Setup'!$A$4:$E$39,5,FALSE))","v":""},0,"",0,"",0,"",0,"",null,0,"",0,"",0,"",0,"",null,{"$f":"'Schedule Setup'!H37","v":"00:00:00"},{"$f":"'Schedule Setup'!I37","v":"00:00:00"},-2.0833333333333332E-2,"00:30:00"]
[34,{"$f":"IF(VLOOKUP($A86,'Schedule Setup'!$A$4:$E$39,2,FALSE)=0,\"\",VLOOKUP($A86,'Schedule Setup'!$A$4:$E$39,2,FALSE))","v":""},{"$f":"IF(VLOOKUP($A86,'Schedule Setup'!$A$4:$E$39,4,FALSE)=0,\"\",VLOOKUP($A86,'Schedule Setup'!$A$4:$E$39,4,FALSE))","v":""},"",null,null,null,"x","x","x","x","x","x","x","x","x","x","x","x","x","x","x","x","x","x","x","x","x","x","x","x","x","x","x","x","x","x","x","x","x","x","x","x","x","x",0,null,"x","x","x","x","x","x","x","x","x","x","x","x","x","x","x","x","x","x","x","x","x","x","x","x","x","x","x","x","x","x","x","x","x","x","x","x","x","x",null,0,0,0,0,0,0,0,0,0,0,0,0,0,0,0,0,0,0,0,0,0,0,0,0,0,0,0,0,0,0,0,0,0,0,0,0,0,0,null,{"$f":"IF(VLOOKUP($A86,'Schedule Setup'!$A$4:$E$39,5,FALSE)=0,\"\",VLOOKUP($A86,'Schedule Setup'!$A$4:$E$39,5,FALSE))","v":""},0,"",0,"",0,"",0,"",null,0,"",0,"",0,"",0,"",null,{"$f":"'Schedule Setup'!H38","v":"00:00:00"},{"$f":"'Schedule Setup'!I38","v":"00:00:00"},-2.0833333333333332E-2,"00:30:00"]
[35,{"$f":"IF(VLOOKUP($A87,'Schedule Setup'!$A$4:$E$39,2,FALSE)=0,\"\",VLOOKUP($A87,'Schedule Setup'!$A$4:$E$39,2,FALSE))","v":""},{"$f":"IF(VLOOKUP($A87,'Schedule Setup'!$A$4:$E$39,4,FALSE)=0,\"\",VLOOKUP($A87,'Schedule Setup'!$A$4:$E$39,4,FALSE))","v":""},"",null,null,null,"x","x","x","x","x","x","x","x","x","x",{"$f":"BF87","v":"x"},{"$f":"BG87","v":"x"},{"$f":"BH87","v":"x"},{"$f":"BI87","v":"x"},"x","x","x","x","x","x","x","x","x","x","x","x","x","x","x","x","x","x","x","x","x","x","x","x",0,null,"x","x","x","x","x","x","x","x","x","x","x","x","x","x","x","x","x","x","x","x","x","x","x","x","x","x","x","x","x","x","x","x","x","x","x","x","x","x",null,0,0,0,0,0,0,0,0,0,0,0,0,0,0,0,0,0,0,0,0,0,0,0,0,0,0,0,0,0,0,0,0,0,0,0,0,0,0,null,{"$f":"IF(VLOOKUP($A87,'Schedule Setup'!$A$4:$E$39,5,FALSE)=0,\"\",VLOOKUP($A87,'Schedule Setup'!$A$4:$E$39,5,FALSE))","v":""},0,"",0,"",0,"",0,"",null,0,"",0,"",0,"",0,"",null,{"$f":"'Schedule Setup'!H39","v":"00:00:00"},{"$f":"'Schedule Setup'!I39","v":"00:00:00"},-2.0833333333333332E-2,"00:30:00"]
[null,null,null,"Totals/Coverage",{"$f":"MIN(E53:E87)","v":"00:00:00"},{"$f":"MAX(F53:F87)","v":"00:00:00"},null,{"$f":"CI88","v":0},{"$f":"CJ88","v":0},{"$f":"CK88","v":0},{"$f":"CL88","v":0},{"$f":"CM88","v":0},{"$f":"CN88","v":0},{"$f":"CO88","v":0},{"$f":"CP88","v":0},{"$f":"CQ88","v":0},{"$f":"CR88","v":0},{"$f":"CS88","v":0},{"$f":"CT88","v":0},{"$f":"CU88","v":0},{"$f":"CV88","v":0},{"$f":"CW88","v":0},{"$f":"CX88","v":0},{"$f":"CY88","v":0},{"$f":"CZ88","v":0},{"$f":"DA88","v":0},{"$f":"DB88","v":0},{"$f":"DC88","v":0},{"$f":"DD88","v":0},{"$f":"DE88","v":0},{"$f":"DF88","v":0},{"$f":"DG88","v":0},{"$f":"DH88","v":0},{"$f":"DI88","v":0},{"$f":"DJ88","v":0},{"$f":"DK88","v":0},{"$f":"DL88","v":0},{"$f":"DM88","v":0},{"$f":"DN88","v":0},{"$f":"DO88","v":0},{"$f":"DP88","v":0},{"$f":"DQ88","v":0},{"$f":"DR88","v":0},{"$f":"DS88","v":0},{"$f":"DT88","v":0},{"$f":"SUM(AT53:AT87)","v":0},null,null,null,null,null,null,null,null,null,null,null,null,null,null,null,null,null,null,null,null,null,null,null,null,null,null,null,null,null,null,null,null,null,null,null,null,null,null,null,null,{"$f":"COUNTIF(CI53:CI87,0.5)","v":0},0,0,0,0,0,0,0,0,0,0,0,0,0,0,0,0,0,0,0,0,0,0,0,0,0,0,0,0,0,0,0,0,0,0,0,0,0,null,null,{"$f":"SUM(DW53:DW87)","v":0},0,0,0,0,0,0,0,null,{"$f":"SUM(EF53:EF87)","v":0},0,0,0,0,0,0,0,null,{"$f":"'Schedule Setup'!H40","v":"07:00:00"},{"$f":"'Schedule Setup'!I40","v":"20:00:00"},"06:30:00","20:30:00"]
[null,null,null,null,null,{"$f":"'Schedule Forecast'!A14","v":"Last Week"},null,{"$f":"IFERROR(INDEX(INDIRECT(\"'\"&$F89&\"'!$D:$D\"),MATCH(H$6,INDIRECT(\"'\"&$F89&\"'!$A$1:$A$250\"),0)+1),0)","v":0},0,0,0,0,0,0,0,0,0,{"$f":"IFERROR(INDEX(INDIRECT(\"'\"&$F89&\"'!$D:$D\"),MATCH(R$6,INDIRECT(\"'\"&$F89&\"'!$A$1:$A$250\"),0)+1),0)","v":0},0,0,0,0,0,0,0,0,0,{"$f":"IFERROR(INDEX(INDIRECT(\"'\"&$F89&\"'!$D:$D\"),MATCH(AB$6,INDIRECT(\"'\"&$F89&\"'!$A$1:$A$250\"),0)+1),0)","v":0},0,0,0,0,0,0,0,0,0,{"$f":"IFERROR(INDEX(INDIRECT(\"'\"&$F89&\"'!$D:$D\"),MATCH(AL$6,INDIRECT(\"'\"&$F89&\"'!$A$1:$A$250\"),0)+1),0)","v":0},0,0,0,0,0,0,0]
[null,null,null,null,null,{"$f":"'Schedule Forecast'!A15","v":"2 Weeks Ago"},null,0,0,0,0,0,0,0,0,0,0,0,0,0,0,0,0,0,0,0,0,0,0,0,0,0,0,0,0,0,0,0,0,0,0,0,0,0,0]
[null,null,null,null,null,{"$f":"'Schedule Forecast'!A16","v":"3 Weeks Ago"},null,0,0,0,0,0,0,0,0,0,0,0,0,0,0,0,0,0,0,0,0,0,0,0,0,0,0,0,0,0,0,0,0,0,0,0,0,0,0]
[null,null,null,null,null,{"$f":"'Schedule Forecast'!A17","v":"4 Weeks Ago"},null,0,0,0,0,0,0,0,0,0,0,0,0,0,0,0,0,0,0,0,0,0,0,0,0,0,0,0,0,0,0,0,0,0,0,0,0,0,0]
[null,null,null,null,null,"AVERAGE",null,{"$f":"IFERROR(IF(AND(H$6>=$EO$88,H$6<$EP$88-0.001),AVERAGE(H89:H92),\"\"),\"\")","v":""},"","","",0,0,0,0,0,0,0,0,0,0,0,0,0,0,0,0,0,0,0,0,0,0,0,0,0,0,"","","","","","","",""]
[null,null,null,null,null,null,null,{"$f":"IFERROR(IF((H93*'Schedule Forecast'!$C$4-$AC$2)>1,(H93*'Schedule Forecast'!$C$4-$AC$2),1),\"\")","v":""},{"$f":"IFERROR(IF((I93*'Schedule Forecast'!$C$4-$AC$2)>1,(I93*'Schedule Forecast'!$C$4-$AC$2),1),\"\")","v":""},{"$f":"IFERROR(IF((J93*'Schedule Forecast'!$C$4-$AC$2)>1,(J93*'Schedule Forecast'!$C$4-$AC$2),1),\"\")","v":""},{"$f":"IFERROR(IF((K93*'Schedule Forecast'!$C$4-$AC$2)>1,(K93*'Schedule Forecast'!$C$4-$AC$2),1),\"\")","v":""},{"$f":"IFERROR(IF((L93*'Schedule Forecast'!$C$4-$AC$2)>1,(L93*'Schedule Forecast'!$C$4-$AC$2),1),\"\")","v":1},{"$f":"IFERROR(IF((M93*'Schedule Forecast'!$C$4-$AC$2)>1,(M93*'Schedule Forecast'!$C$4-$AC$2),1),\"\")","v":1},{"$f":"IFERROR(IF((N93*'Schedule Forecast'!$C$4-$AC$2)>1,(N93*'Schedule Forecast'!$C$4-$AC$2),1),\"\")","v":1},{"$f":"IFERROR(IF((O93*'Schedule Forecast'!$C$4-$AC$2)>1,(O93*'Schedule Forecast'!$C$4-$AC$2),1),\"\")","v":1},{"$f":"IFERROR(IF((P93*'Schedule Forecast'!$C$4-$AC$2)>1,(P93*'Schedule Forecast'!$C$4-$AC$2),1),\"\")","v":1},{"$f":"IFERROR(IF((Q93*'Schedule Forecast'!$C$4-$AC$2)>1,(Q93*'Schedule Forecast'!$C$4-$AC$2),1),\"\")","v":1},{"$f":"IFERROR(IF((R93*'Schedule Forecast'!$C$4-$AC$2)>1,(R93*'Schedule Forecast'!$C$4-$AC$2),1),\"\")","v":1},{"$f":"IFERROR(IF((S93*'Schedule Forecast'!$C$4-$AC$2)>1,(S93*'Schedule Forecast'!$C$4-$AC$2),1),\"\")","v":1},{"$f":"IFERROR(IF((T93*'Schedule Forecast'!$C$4-$AC$2)>1,(T93*'Schedule Forecast'!$C$4-$AC$2),1),\"\")","v":1},{"$f":"IFERROR(IF((U93*'Schedule Forecast'!$C$4-$AC$2)>1,(U93*'Schedule Forecast'!$C$4-$AC$2),1),\"\")","v":1},{"$f":"IFERROR(IF((V93*'Schedule Forecast'!$C$4-$AC$2)>1,(V93*'Schedule Forecast'!$C$4-$AC$2),1),\"\")","v":1},{"$f":"IFERROR(IF((W93*'Schedule Forecast'!$C$4-$AC$2)>1,(W93*'Schedule Forecast'!$C$4-$AC$2),1),\"\")","v":1},{"$f":"IFERROR(IF((X93*'Schedule Forecast'!$C$4-$AC$2)>1,(X93*'Schedule Forecast'!$C$4-$AC$2),1),\"\")","v":1},{"$f":"IFERROR(IF((Y93*'Schedule Forecast'!$C$4-$AC$2)>1,(Y93*'Schedule Forecast'!$C$4-$AC$2),1),\"\")","v":1},{"$f":"IFERROR(IF((Z93*'Schedule Forecast'!$C$4-$AC$2)>1,(Z93*'Schedule Forecast'!$C$4-$AC$2),1),\"\")","v":1},{"$f":"IFERROR(IF((AA93*'Schedule Forecast'!$C$4-$AC$2)>1,(AA93*'Schedule Forecast'!$C$4-$AC$2),1),\"\")","v":1},{"$f":"IFERROR(IF((AB93*'Schedule Forecast'!$C$4-$AC$2)>1,(AB93*'Schedule Forecast'!$C$4-$AC$2),1),\"\")","v":1},{"$f":"IFERROR(IF((AC93*'Schedule Forecast'!$C$4-$AC$2)>1,(AC93*'Schedule Forecast'!$C$4-$AC$2),1),\"\")","v":1},{"$f":"IFERROR(IF((AD93*'Schedule Forecast'!$C$4-$AC$2)>1,(AD93*'Schedule Forecast'!$C$4-$AC$2),1),\"\")","v":1},{"$f":"IFERROR(IF((AE93*'Schedule Forecast'!$C$4-$AC$2)>1,(AE93*'Schedule Forecast'!$C$4-$AC$2),1),\"\")","v":1},{"$f":"IFERROR(IF((AF93*'Schedule Forecast'!$C$4-$AC$2)>1,(AF93*'Schedule Forecast'!$C$4-$AC$2),1),\"\")","v":1},{"$f":"IFERROR(IF((AG93*'Schedule Forecast'!$C$4-$AC$2)>1,(AG93*'Schedule Forecast'!$C$4-$AC$2),1),\"\")","v":1},{"$f":"IFERROR(IF((AH93*'Schedule Forecast'!$C$4-$AC$2)>1,(AH93*'Schedule Forecast'!$C$4-$AC$2),1),\"\")","v":1},{"$f":"IFERROR(IF((AI93*'Schedule Forecast'!$C$4-$AC$2)>1,(AI93*'Schedule Forecast'!$C$4-$AC$2),1),\"\")","v":1},{"$f":"IFERROR(IF((AJ93*'Schedule Forecast'!$C$4-$AC$2)>1,(AJ93*'Schedule Forecast'!$C$4-$AC$2),1),\"\")","v":1},{"$f":"IFERROR(IF((AK93*'Schedule Forecast'!$C$4-$AC$2)>1,(AK93*'Schedule Forecast'!$C$4-$AC$2),1),\"\")","v":1},{"$f":"IFERROR(IF((AL93*'Schedule Forecast'!$C$4-$AC$2)>1,(AL93*'Schedule Forecast'!$C$4-$AC$2),1),\"\")","v":""},{"$f":"IFERROR(IF((AM93*'Schedule Forecast'!$C$4-$AC$2)>1,(AM93*'Schedule Forecast'!$C$4-$AC$2),1),\"\")","v":""},{"$f":"IFERROR(IF((AN93*'Schedule Forecast'!$C$4-$AC$2)>1,(AN93*'Schedule Forecast'!$C$4-$AC$2),1),\"\")","v":""},{"$f":"IFERROR(IF((AO93*'Schedule Forecast'!$C$4-$AC$2)>1,(AO93*'Schedule Forecast'!$C$4-$AC$2),1),\"\")","v":""},{"$f":"IFERROR(IF((AP93*'Schedule Forecast'!$C$4-$AC$2)>1,(AP93*'Schedule Forecast'!$C$4-$AC$2),1),\"\")","v":""},{"$f":"IFERROR(IF((AQ93*'Schedule Forecast'!$C$4-$AC$2)>1,(AQ93*'Schedule Forecast'!$C$4-$AC$2),1),\"\")","v":""},{"$f":"IFERROR(IF((AR93*'Schedule Forecast'!$C$4-$AC$2)>1,(AR93*'Schedule Forecast'!$C$4-$AC$2),1),\"\")","v":""},{"$f":"IFERROR(IF((AS93*'Schedule Forecast'!$C$4-$AC$2)>1,(AS93*'Schedule Forecast'!$C$4-$AC$2),1),\"\")","v":""}]
[null,null,null,null,null,null,"Recommended:",{"$f":"IF(H52>=$EO$88,IF(H52<$EP$88-0.01,ROUND(IF(H94>1,(H94*$B$48)+1,H94)*2,0),\"\"),\"\")","v":""},"","","",2,2,2,2,2,2,2,2,2,2,2,2,2,2,2,2,2,2,2,2,2,2,2,2,2,2,"","","","","","","","",{"$f":"SUM(H95:AS95)/2","v":26}]
[]
[null,"Thursday",null,null,null,null,null,null,null,null,null,null,null,null,null,null,null,null,{"$f":"S51","v":"Today's Date"},{"$f":"T5+2","v":"2019-05-03"},null,null,null,null,null,null,null,null,null,null,null,null,null,null,null,null,null,null,null,null,null,null,null,null,null,null,null,null,null,null,null,null,null,null,null,null,null,null,null,null,null,null,null,null,null,null,null,null,null,null,null,null,null,null,null,null,null,null,null,null,null,null,null,null,null,null,null,null,null,null,null,null,null,null,null,null,null,null,null,null,null,null,null,null,null,null,null,null,null,null,null,null,null,null,null,null,null,null,null,null,null,null,null,null,null,null,"Breakfast",null,"Lunch",null,"Dinner",null,"Total",null,null,"Breakfast",null,"Lunch",null,"Dinner",null,"Total",null,null,"Availability"]
[null,"Employee","Job",null,"Start","End",null,"05:00:00",{"$f":"H98+(0.5/24)","v":"05:30:00"},{"$f":"I98+(0.5/24)","v":"06:00:00"},{"$f":"J98+(0.5/24)","v":"06:30:00"},{"$f":"K98+(0.5/24)","v":"07:00:00"},{"$f":"L98+(0.5/24)","v":"07:30:00"},{"$f":"M98+(0.5/24)","v":"08:00:00"},{"$f":"N98+(0.5/24)","v":"08:30:00"},{"$f":"O98+(0.5/24)","v":"09:00:00"},{"$f":"P98+(0.5/24)","v":"09:30:00"},{"$f":"Q98+(0.5/24)","v":"10:00:00"},{"$f":"R98+(0.5/24)","v":"10:30:00"},{"$f":"S98+(0.5/24)","v":"11:00:00"},{"$f":"T98+(0.5/24)","v":"11:30:00"},{"$f":"U98+(0.5/24)","v":"12:00:00"},{"$f":"V98+(0.5/24)","v":"12:30:00"},{"$f":"W98+(0.5/24)","v":"13:00:00"},{"$f":"X98+(0.5/24)","v":"13:30:00"},{"$f":"Y98+(0.5/24)","v":"14:00:00"},{"$f":"Z98+(0.5/24)","v":"14:30:00"},{"$f":"AA98+(0.5/24)","v":"15:00:00"},{"$f":"AB98+(0.5/24)","v":"15:30:00"},{"$f":"AC98+(0.5/24)","v":"16:00:00"},{"$f":"AD98+(0.5/24)","v":"16:30:00"},{"$f":"AE98+(0.5/24)","v":"17:00:00"},{"$f":"AF98+(0.5/24)","v":"17:30:00"},{"$f":"AG98+(0.5/24)","v":"18:00:00"},{"$f":"AH98+(0.5/24)","v":"18:30:00"},{"$f":"AI98+(0.5/24)","v":"19:00:00"},{"$f":"AJ98+(0.5/24)","v":"19:30:00"},{"$f":"AK98+(0.5/24)","v":"20:00:00"},{"$f":"AL98+(0.5/24)","v":"20:30:00"},{"$f":"AM98+(0.5/24)","v":"21:00:00"},{"$f":"AN98+(0.5/24)","v":"21:30:00"},{"$f":"AO98+(0.5/24)","v":"22:00:00"},{"$f":"AP98+(0.5/24)","v":"22:30:00"},{"$f":"AQ98+(0.5/24)","v":"23:00:00"},{"$f":"AR98+(0.5/24)","v":"23:30:00"},"TOTAL",null,5,null,6,null,7,null,8,null,9,null,10,null,11,null,12,null,1,null,2,null,3,null,4,null,5,null,6,null,7,null,8,null,9,null,10,null,11,null,null,5,null,6,null,7,null,8,null,9,null,10,null,11,null,12,null,1,null,2,null,3,null,4,null,5,null,6,null,7,null,8,null,9,null,10,null,11,null,null,"Rate","Hrs","$","Hrs","$","Hrs","$","Hrs","$",null,"Hrs","$","Hrs","$","Hrs","$","Hrs","$",null,"Start","End","Start-Early","End-Late"]
[1,{"$f":"IF(VLOOKUP($A99,'Schedule Setup'!$A$4:$E$39,2,FALSE)=0,\"\",VLOOKUP($A99,'Schedule Setup'!$A$4:$E$39,2,FALSE))","v":""},{"$f":"IF(VLOOKUP($A99,'Schedule Setup'!$A$4:$E$39,4,FALSE)=0,\"\",VLOOKUP($A99,'Schedule Setup'!$A$4:$E$39,4,FALSE))","v":""},{"$f":"IF(B99<>\"\",IF(OR(C99=\"General Manager (S)\", C99=\"General Manager (H)\"), \"GM\",IF(C99=\"Acting Manager\",\"AM\",IF(C99=\"Shift Manager\",\"SM\",IF(C99=\"Team Lead\",\"TL\",\"TM\")))),\"\")","v":""},null,null,null,{"$f":"AV99","v":"x"},"x","x","x","x","x","x","x","x","x",{"$f":"BF99","v":"x"},"x","x","x","x","x","x","x","x","x",{"$f":"BP99","v":"x"},"x","x","x","x","x","x","x","x","x",{"$f":"BZ99","v":"x"},"x","x","x","x","x","x","x",{"$f":"EC99","v":0},null,{"$f":"IF(AND($EO99<=H$6+0.01,$EP99>H$6+0.01),IF(AND(H$6<$F99-0.01,H$6>=$E99-0.01),$D99,\"\"),\"x\")","v":"x"},{"$f":"IF(AND($EO99<=I$6+0.01,$EP99>I$6+0.01),IF(AND(I$6<$F99-0.01,I$6>=$E99-0.01),$D99,\"\"),\"x\")","v":"x"},{"$f":"IF(AND($EO99<=J$6+0.01,$EP99>J$6+0.01),IF(AND(J$6<$F99-0.01,J$6>=$E99-0.01),$D99,\"\"),\"x\")","v":"x"},{"$f":"IF(AND($EO99<=K$6+0.01,$EP99>K$6+0.01),IF(AND(K$6<$F99-0.01,K$6>=$E99-0.01),$D99,\"\"),\"x\")","v":"x"},{"$f":"IF(AND($EO99<=L$6+0.01,$EP99>L$6+0.01),IF(AND(L$6<$F99-0.01,L$6>=$E99-0.01),$D99,\"\"),\"x\")","v":"x"},{"$f":"IF(AND($EO99<=M$6+0.01,$EP99>M$6+0.01),IF(AND(M$6<$F99-0.01,M$6>=$E99-0.01),$D99,\"\"),\"x\")","v":"x"},{"$f":"IF(AND($EO99<=N$6+0.01,$EP99>N$6+0.01),IF(AND(N$6<$F99-0.01,N$6>=$E99-0.01),$D99,\"\"),\"x\")","v":"x"},{"$f":"IF(AND($EO99<=O$6+0.01,$EP99>O$6+0.01),IF(AND(O$6<$F99-0.01,O$6>=$E99-0.01),$D99,\"\"),\"x\")","v":"x"},{"$f":"IF(AND($EO99<=P$6+0.01,$EP99>P$6+0.01),IF(AND(P$6<$F99-0.01,P$6>=$E99-0.01),$D99,\"\"),\"x\")","v":"x"},{"$f":"IF(AND($EO99<=Q$6+0.01,$EP99>Q$6+0.01),IF(AND(Q$6<$F99-0.01,Q$6>=$E99-0.01),$D99,\"\"),\"x\")","v":"x"},{"$f":"IF(AND($EO99<=R$6+0.01,$EP99>R$6+0.01),IF(AND(R$6<$F99-0.01,R$6>=$E99-0.01),$D99,\"\"),\"x\")","v":"x"},{"$f":"IF(AND($EO99<=S$6+0.01,$EP99>S$6+0.01),IF(AND(S$6<$F99-0.01,S$6>=$E99-0.01),$D99,\"\"),\"x\")","v":"x"},{"$f":"IF(AND($EO99<=T$6+0.01,$EP99>T$6+0.01),IF(AND(T$6<$F99-0.01,T$6>=$E99-0.01),$D99,\"\"),\"x\")","v":"x"},{"$f":"IF(AND($EO99<=U$6+0.01,$EP99>U$6+0.01),IF(AND(U$6<$F99-0.01,U$6>=$E99-0.01),$D99,\"\"),\"x\")","v":"x"},{"$f":"IF(AND($EO99<=V$6+0.01,$EP99>V$6+0.01),IF(AND(V$6<$F99-0.01,V$6>=$E99-0.01),$D99,\"\"),\"x\")","v":"x"},{"$f":"IF(AND($EO99<=W$6+0.01,$EP99>W$6+0.01),IF(AND(W$6<$F99-0.01,W$6>=$E99-0.01),$D99,\"\"),\"x\")","v":"x"},{"$f":"IF(AND($EO99<=X$6+0.01,$EP99>X$6+0.01),IF(AND(X$6<$F99-0.01,X$6>=$E99-0.01),$D99,\"\"),\"x\")","v":"x"},{"$f":"IF(AND($EO99<=Y$6+0.01,$EP99>Y$6+0.01),IF(AND(Y$6<$F99-0.01,Y$6>=$E99-0.01),$D99,\"\"),\"x\")","v":"x"},{"$f":"IF(AND($EO99<=Z$6+0.01,$EP99>Z$6+0.01),IF(AND(Z$6<$F99-0.01,Z$6>=$E99-0.01),$D99,\"\"),\"x\")","v":"x"},{"$f":"IF(AND($EO99<=AA$6+0.01,$EP99>AA$6+0.01),IF(AND(AA$6<$F99-0.01,AA$6>=$E99-0.01),$D99,\"\"),\"x\")","v":"x"},{"$f":"IF(AND($EO99<=AB$6+0.01,$EP99>AB$6+0.01),IF(AND(AB$6<$F99-0.01,AB$6>=$E99-0.01),$D99,\"\"),\"x\")","v":"x"},{"$f":"IF(AND($EO99<=AC$6+0.01,$EP99>AC$6+0.01),IF(AND(AC$6<$F99-0.01,AC$6>=$E99-0.01),$D99,\"\"),\"x\")","v":"x"},{"$f":"IF(AND($EO99<=AD$6+0.01,$EP99>AD$6+0.01),IF(AND(AD$6<$F99-0.01,AD$6>=$E99-0.01),$D99,\"\"),\"x\")","v":"x"},{"$f":"IF(AND($EO99<=AE$6+0.01,$EP99>AE$6+0.01),IF(AND(AE$6<$F99-0.01,AE$6>=$E99-0.01),$D99,\"\"),\"x\")","v":"x"},{"$f":"IF(AND($EO99<=AF$6+0.01,$EP99>AF$6+0.01),IF(AND(AF$6<$F99-0.01,AF$6>=$E99-0.01),$D99,\"\"),\"x\")","v":"x"},{"$f":"IF(AND($EO99<=AG$6+0.01,$EP99>AG$6+0.01),IF(AND(AG$6<$F99-0.01,AG$6>=$E99-0.01),$D99,\"\"),\"x\")","v":"x"},{"$f":"IF(AND($EO99<=AH$6+0.01,$EP99>AH$6+0.01),IF(AND(AH$6<$F99-0.01,AH$6>=$E99-0.01),$D99,\"\"),\"x\")","v":"x"},{"$f":"IF(AND($EO99<=AI$6+0.01,$EP99>AI$6+0.01),IF(AND(AI$6<$F99-0.01,AI$6>=$E99-0.01),$D99,\"\"),\"x\")","v":"x"},{"$f":"IF(AND($EO99<=AJ$6+0.01,$EP99>AJ$6+0.01),IF(AND(AJ$6<$F99-0.01,AJ$6>=$E99-0.01),$D99,\"\"),\"x\")","v":"x"},{"$f":"IF(AND($EO99<=AK$6+0.01,$EP99>AK$6+0.01),IF(AND(AK$6<$F99-0.01,AK$6>=$E99-0.01),$D99,\"\"),\"x\")","v":"x"},{"$f":"IF(AND($EO99<=AL$6+0.01,$EP99>AL$6+0.01),IF(AND(AL$6<$F99-0.01,AL$6>=$E99-0.01),$D99,\"\"),\"x\")","v":"x"},{"$f":"IF(AND($EO99<=AM$6+0.01,$EP99>AM$6+0.01),IF(AND(AM$6<$F99-0.01,AM$6>=$E99-0.01),$D99,\"\"),\"x\")","v":"x"},{"$f":"IF(AND($EO99<=AN$6+0.01,$EP99>AN$6+0.01),IF(AND(AN$6<$F99-0.01,AN$6>=$E99-0.01),$D99,\"\"),\"x\")","v":"x"},{"$f":"IF(AND($EO99<=AO$6+0.01,$EP99>AO$6+0.01),IF(AND(AO$6<$F99-0.01,AO$6>=$E99-0.01),$D99,\"\"),\"x\")","v":"x"},{"$f":"IF(AND($EO99<=AP$6+0.01,$EP99>AP$6+0.01),IF(AND(AP$6<$F99-0.01,AP$6>=$E99-0.01),$D99,\"\"),\"x\")","v":"x"},{"$f":"IF(AND($EO99<=AQ$6+0.01,$EP99>AQ$6+0.01),IF(AND(AQ$6<$F99-0.01,AQ$6>=$E99-0.01),$D99,\"\"),\"x\")","v":"x"},{"$f":"IF(AND($EO99<=AR$6+0.01,$EP99>AR$6+0.01),IF(AND(AR$6<$F99-0.01,AR$6>=$E99-0.01),$D99,\"\"),\"x\")","v":"x"},{"$f":"IF(AND($EO99<=AS$6+0.01,$EP99>AS$6+0.01),IF(AND(AS$6<$F99-0.01,AS$6>=$E99-0.01),$D99,\"\"),\"x\")","v":"x"},null,{"$f":"IF(AND(AV99<>\"\",AV99<>\"x\"),0.5,)","v":0},{"$f":"IF(AND(AW99<>\"\",AW99<>\"x\"),0.5,)","v":0},{"$f":"IF(AND(AX99<>\"\",AX99<>\"x\"),0.5,)","v":0},{"$f":"IF(AND(AY99<>\"\",AY99<>\"x\"),0.5,)","v":0},{"$f":"IF(AND(AZ99<>\"\",AZ99<>\"x\"),0.5,)","v":0},{"$f":"IF(AND(BA99<>\"\",BA99<>\"x\"),0.5,)","v":0},{"$f":"IF(AND(BB99<>\"\",BB99<>\"x\"),0.5,)","v":0},{"$f":"IF(AND(BC99<>\"\",BC99<>\"x\"),0.5,)","v":0},{"$f":"IF(AND(BD99<>\"\",BD99<>\"x\"),0.5,)","v":0},{"$f":"IF(AND(BE99<>\"\",BE99<>\"x\"),0.5,)","v":0},{"$f":"IF(AND(BF99<>\"\",BF99<>\"x\"),0.5,)","v":0},{"$f":"IF(AND(BG99<>\"\",BG99<>\"x\"),0.5,)","v":0},{"$f":"IF(AND(BH99<>\"\",BH99<>\"x\"),0.5,)","v":0},{"$f":"IF(AND(BI99<>\"\",BI99<>\"x\"),0.5,)","v":0},{"$f":"IF(AND(BJ99<>\"\",BJ99<>\"x\"),0.5,)","v":0},{"$f":"IF(AND(BK99<>\"\",BK99<>\"x\"),0.5,)","v":0},{"$f":"IF(AND(BL99<>\"\",BL99<>\"x\"),0.5,)","v":0},{"$f":"IF(AND(BM99<>\"\",BM99<>\"x\"),0.5,)","v":0},{"$f":"IF(AND(BN99<>\"\",BN99<>\"x\"),0.5,)","v":0},{"$f":"IF(AND(BO99<>\"\",BO99<>\"x\"),0.5,)","v":0},{"$f":"IF(AND(BP99<>\"\",BP99<>\"x\"),0.5,)","v":0},{"$f":"IF(AND(BQ99<>\"\",BQ99<>\"x\"),0.5,)","v":0},{"$f":"IF(AND(BR99<>\"\",BR99<>\"x\"),0.5,)","v":0},{"$f":"IF(AND(BS99<>\"\",BS99<>\"x\"),0.5,)","v":0},{"$f":"IF(AND(BT99<>\"\",BT99<>\"x\"),0.5,)","v":0},{"$f":"IF(AND(BU99<>\"\",BU99<>\"x\"),0.5,)","v":0},{"$f":"IF(AND(BV99<>\"\",BV99<>\"x\"),0.5,)","v":0},{"$f":"IF(AND(BW99<>\"\",BW99<>\"x\"),0.5,)","v":0},{"$f":"IF(AND(BX99<>\"\",BX99<>\"x\"),0.5,)","v":0},{"$f":"IF(AND(BY99<>\"\",BY99<>\"x\"),0.5,)","v":0},{"$f":"IF(AND(BZ99<>\"\",BZ99<>\"x\"),0.5,)","v":0},{"$f":"IF(AND(CA99<>\"\",CA99<>\"x\"),0.5,)","v":0},{"$f":"IF(AND(CB99<>\"\",CB99<>\"x\"),0.5,)","v":0},{"$f":"IF(AND(CC99<>\"\",CC99<>\"x\"),0.5,)","v":0},{"$f":"IF(AND(CD99<>\"\",CD99<>\"x\"),0.5,)","v":0},{"$f":"IF(AND(CE99<>\"\",CE99<>\"x\"),0.5,)","v":0},{"$f":"IF(AND(CF99<>\"\",CF99<>\"x\"),0.5,)","v":0},{"$f":"IF(AND(CG99<>\"\",CG99<>\"x\"),0.5,)","v":0},null,{"$f":"IF(VLOOKUP($A99,'Schedule Setup'!$A$4:$E$39,5,FALSE)=0,\"\",VLOOKUP($A99,'Schedule Setup'!$A$4:$E$39,5,FALSE))","v":""},{"$f":"SUM(CI99:CT99)","v":0},{"$f":"IFERROR(DW99*$DV99,\"\")","v":""},{"$f":"SUM(CU99:DF99)","v":0},{"$f":"IFERROR(DY99*$DV99,\"\")","v":""},{"$f":"SUM(DG99:DT99)","v":0},{"$f":"IFERROR(EA99*$DV99,\"\")","v":""},{"$f":"SUM(DW99,DY99,EA99)","v":0},{"$f":"IFERROR(EC99*$DV99,\"\")","v":""},null,{"$f":"IF(DW99>5,(DW99-0.5),DW99)","v":0},{"$f":"IFERROR(EF99*$DV99,\"\")","v":""},{"$f":"IF(DY99>5,(DY99-0.5),DY99)","v":0},{"$f":"IFERROR(EH99*$DV99,\"\")","v":""},{"$f":"IF(EA99>5,(EA99-0.5),EA99)","v":0},{"$f":"IFERROR(EJ99*$DV99,\"\")","v":""},{"$f":"SUM(EF99,EH99,EJ99)","v":0},{"$f":"IFERROR(EL99*$DV99,\"\")","v":""},null,{"$f":"'Schedule Setup'!J5","v":"00:00:00"},{"$f":"'Schedule Setup'!K5","v":"00:00:00"},{"$f":"EO99-(0.5/24)","v":-2.0833333333333332E-2},{"$f":"EP99+(0.5/24)","v":"00:30:00"}]
[{"$f":"A99+1","v":2},{"$f":"IF(VLOOKUP($A100,'Schedule Setup'!$A$4:$E$39,2,FALSE)=0,\"\",VLOOKUP($A100,'Schedule Setup'!$A$4:$E$39,2,FALSE))","v":""},{"$f":"IF(VLOOKUP($A100,'Schedule Setup'!$A$4:$E$39,4,FALSE)=0,\"\",VLOOKUP($A100,'Schedule Setup'!$A$4:$E$39,4,FALSE))","v":""},{"$f":"IF(B100<>\"\",IF(OR(C100=\"General Manager (S)\", C100=\"General Manager (H)\"), \"GM\",IF(C100=\"Acting Manager\",\"AM\",IF(C100=\"Shift Manager\",\"SM\",IF(C100=\"Team Lead\",\"TL\",\"TM\")))),\"\")","v":""},null,null,null,"x","x","x","x","x","x","x","x","x","x","x","x","x","x","x","x","x","x","x","x","x","x","x","x","x","x","x","x","x","x","x","x","x","x","x","x","x","x",{"$f":"EC100","v":0},null,"x","x","x","x","x","x","x","x","x","x","x","x","x","x","x","x","x","x","x","x","x","x","x","x","x","x","x","x","x","x","x","x","x","x","x","x","x","x",null,0,0,0,0,0,0,0,0,0,0,0,0,0,0,0,0,0,0,0,0,0,0,0,0,0,0,0,0,0,0,0,0,0,0,0,0,0,0,null,{"$f":"IF(VLOOKUP($A100,'Schedule Setup'!$A$4:$E$39,5,FALSE)=0,\"\",VLOOKUP($A100,'Schedule Setup'!$A$4:$E$39,5,FALSE))","v":""},0,"",0,"",0,"",{"$f":"SUM(DW100,DY100,EA100)","v":0},"",null,{"$f":"IF(DW100>5,(DW100-0.5),DW100)","v":0},"",{"$f":"IF(DY100>5,(DY100-0.5),DY100)","v":0},"",0,"",{"$f":"SUM(EF100,EH100,EJ100)","v":0},"",null,{"$f":"'Schedule Setup'!J6","v":"00:00:00"},{"$f":"'Schedule Setup'!K6","v":"00:00:00"},{"$f":"EO100-(0.5/24)","v":-2.0833333333333332E-2},{"$f":"EP100+(0.5/24)","v":"00:30:00"}]
[{"$f":"A100+1","v":3},{"$f":"IF(VLOOKUP($A101,'Schedule Setup'!$A$4:$E$39,2,FALSE)=0,\"\",VLOOKUP($A101,'Schedule Setup'!$A$4:$E$39,2,FALSE))","v":""},{"$f":"IF(VLOOKUP($A101,'Schedule Setup'!$A$4:$E$39,4,FALSE)=0,\"\",VLOOKUP($A101,'Schedule Setup'!$A$4:$E$39,4,FALSE))","v":""},"",null,null,null,"x","x","x","x","x","x","x","x","x","x","x","x","x","x","x","x","x","x","x","x","x","x","x","x","x","x","x","x","x","x","x","x","x","x","x","x","x","x",0,null,"x","x","x","x","x","x","x","x","x","x","x","x","x","x","x","x","x","x","x","x","x","x","x","x","x","x","x","x","x","x","x","x","x","x","x","x","x","x",null,0,0,0,0,0,0,0,0,0,0,0,0,0,0,0,0,0,0,0,0,0,0,0,0,0,0,0,0,0,0,0,0,0,0,0,0,0,0,null,{"$f":"IF(VLOOKUP($A101,'Schedule Setup'!$A$4:$E$39,5,FALSE)=0,\"\",VLOOKUP($A101,'Schedule Setup'!$A$4:$E$39,5,FALSE))","v":""},0,"",0,"",0,"",{"$f":"SUM(DW101,DY101,EA101)","v":0},"",null,0,"",0,"",0,"",0,"",null,{"$f":"'Schedule Setup'!J7","v":"00:00:00"},{"$f":"'Schedule Setup'!K7","v":"00:00:00"},-2.0833333333333332E-2,"00:30:00"]
[4,{"$f":"IF(VLOOKUP($A102,'Schedule Setup'!$A$4:$E$39,2,FALSE)=0,\"\",VLOOKUP($A102,'Schedule Setup'!$A$4:$E$39,2,FALSE))","v":""},{"$f":"IF(VLOOKUP($A102,'Schedule Setup'!$A$4:$E$39,4,FALSE)=0,\"\",VLOOKUP($A102,'Schedule Setup'!$A$4:$E$39,4,FALSE))","v":""},"",null,null,null,"x","x","x","x","x","x","x","x","x","x","x","x","x","x","x","x","x","x","x","x","x","x","x","x","x","x","x","x","x","x","x","x","x","x","x","x","x","x",0,null,"x","x","x","x","x","x","x","x","x","x","x","x","x","x","x","x","x","x","x","x","x","x","x","x","x","x","x","x","x","x","x","x","x","x","x","x","x","x",null,0,0,0,0,0,0,0,0,0,0,0,0,0,0,0,0,0,0,0,0,0,0,0,0,0,0,0,0,0,0,0,0,0,0,0,0,0,0,null,{"$f":"IF(VLOOKUP($A102,'Schedule Setup'!$A$4:$E$39,5,FALSE)=0,\"\",VLOOKUP($A102,'Schedule Setup'!$A$4:$E$39,5,FALSE))","v":""},0,"",0,"",0,"",0,"",null,0,"",0,"",0,"",0,"",null,{"$f":"'Schedule Setup'!J8","v":"00:00:00"},{"$f":"'Schedule Setup'!K8","v":"00:00:00"},-2.0833333333333332E-2,"00:30:00"]
[5,{"$f":"IF(VLOOKUP($A103,'Schedule Setup'!$A$4:$E$39,2,FALSE)=0,\"\",VLOOKUP($A103,'Schedule Setup'!$A$4:$E$39,2,FALSE))","v":""},{"$f":"IF(VLOOKUP($A103,'Schedule Setup'!$A$4:$E$39,4,FALSE)=0,\"\",VLOOKUP($A103,'Schedule Setup'!$A$4:$E$39,4,FALSE))","v":""},"",null,null,null,"x","x","x","x","x","x","x","x","x","x","x","x","x","x","x","x","x","x","x","x","x","x","x","x","x","x","x","x","x","x","x","x","x","x","x","x","x","x",0,null,"x","x","x","x","x","x","x","x","x","x","x","x","x","x","x","x","x","x","x","x","x","x","x","x","x","x","x","x","x","x","x","x","x","x","x","x","x","x",null,0,0,0,0,0,0,0,0,0,0,0,0,0,0,0,0,0,0,0,0,0,0,0,0,0,0,0,0,0,0,0,0,0,0,0,0,0,0,null,{"$f":"IF(VLOOKUP($A103,'Schedule Setup'!$A$4:$E$39,5,FALSE)=0,\"\",VLOOKUP($A103,'Schedule Setup'!$A$4:$E$39,5,FALSE))","v":""},0,"",0,"",0,"",0,"",null,0,"",0,"",0,"",0,"",null,{"$f":"'Schedule Setup'!J9","v":"00:00:00"},{"$f":"'Schedule Setup'!K9","v":"00:00:00"},-2.0833333333333332E-2,"00:30:00"]
[6,{"$f":"IF(VLOOKUP($A104,'Schedule Setup'!$A$4:$E$39,2,FALSE)=0,\"\",VLOOKUP($A104,'Schedule Setup'!$A$4:$E$39,2,FALSE))","v":""},{"$f":"IF(VLOOKUP($A104,'Schedule Setup'!$A$4:$E$39,4,FALSE)=0,\"\",VLOOKUP($A104,'Schedule Setup'!$A$4:$E$39,4,FALSE))","v":""},"",null,null,null,"x","x","x","x","x","x","x","x","x","x","x","x","x","x","x","x","x","x","x","x","x","x","x","x","x","x","x","x","x","x","x","x","x","x","x","x","x","x",0,null,"x","x","x","x","x","x","x","x","x","x","x","x","x","x","x","x","x","x","x","x","x","x","x","x","x","x","x","x","x","x","x","x","x","x","x","x","x","x",null,0,0,0,0,0,0,0,0,0,0,0,0,0,0,0,0,0,0,0,0,0,0,0,0,0,0,0,0,0,0,0,0,0,0,0,0,0,0,null,{"$f":"IF(VLOOKUP($A104,'Schedule Setup'!$A$4:$E$39,5,FALSE)=0,\"\",VLOOKUP($A104,'Schedule Setup'!$A$4:$E$39,5,FALSE))","v":""},0,"",0,"",0,"",0,"",null,0,"",0,"",0,"",0,"",null,{"$f":"'Schedule Setup'!J10","v":"00:00:00"},{"$f":"'Schedule Setup'!K10","v":"00:00:00"},-2.0833333333333332E-2,"00:30:00"]
[7,{"$f":"IF(VLOOKUP($A105,'Schedule Setup'!$A$4:$E$39,2,FALSE)=0,\"\",VLOOKUP($A105,'Schedule Setup'!$A$4:$E$39,2,FALSE))","v":""},{"$f":"IF(VLOOKUP($A105,'Schedule Setup'!$A$4:$E$39,4,FALSE)=0,\"\",VLOOKUP($A105,'Schedule Setup'!$A$4:$E$39,4,FALSE))","v":""},"",null,null,null,"x","x","x","x","x","x","x","x","x","x",{"$f":"BF105","v":"x"},"x","x","x","x","x","x","x","x","x","x","x","x","x","x","x","x",{"$f":"BW105","v":"x"},"x","x","x","x","x","x","x","x","x","x",0,null,"x","x","x","x","x","x","x","x","x","x","x","x","x","x","x","x","x","x","x","x","x","x","x","x","x","x","x","x","x","x","x","x","x","x","x","x","x","x",null,0,0,0,0,0,0,0,0,0,0,0,0,0,0,0,0,0,0,0,0,0,0,0,0,0,0,0,0,0,0,0,0,0,0,0,0,0,0,null,{"$f":"IF(VLOOKUP($A105,'Schedule Setup'!$A$4:$E$39,5,FALSE)=0,\"\",VLOOKUP($A105,'Schedule Setup'!$A$4:$E$39,5,FALSE))","v":""},0,"",0,"",0,"",0,"",null,0,"",0,"",0,"",0,"",null,{"$f":"'Schedule Setup'!J11","v":"00:00:00"},{"$f":"'Schedule Setup'!K11","v":"00:00:00"},-2.0833333333333332E-2,"00:30:00"]
[8,{"$f":"IF(VLOOKUP($A106,'Schedule Setup'!$A$4:$E$39,2,FALSE)=0,\"\",VLOOKUP($A106,'Schedule Setup'!$A$4:$E$39,2,FALSE))","v":""},{"$f":"IF(VLOOKUP($A106,'Schedule Setup'!$A$4:$E$39,4,FALSE)=0,\"\",VLOOKUP($A106,'Schedule Setup'!$A$4:$E$39,4,FALSE))","v":""},"",null,null,null,{"$f":"AV106","v":"x"},"x","x","x","x","x","x","x","x","x",{"$f":"BF106","v":"x"},"x","x","x","x","x",{"$f":"BL106","v":"x"},"x","x","x","x","x","x","x","x","x","x","x","x","x","x","x","x","x","x","x","x","x",0,null,"x","x","x","x","x","x","x","x","x","x","x","x","x","x","x","x","x","x","x","x","x","x","x","x","x","x","x","x","x","x","x","x","x","x","x","x","x","x",null,0,0,0,0,0,0,0,0,0,0,0,0,0,0,0,0,0,0,0,0,0,0,0,0,0,0,0,0,0,0,0,0,0,0,0,0,0,0,null,{"$f":"IF(VLOOKUP($A106,'Schedule Setup'!$A$4:$E$39,5,FALSE)=0,\"\",VLOOKUP($A106,'Schedule Setup'!$A$4:$E$39,5,FALSE))","v":""},0,{"$f":"IFERROR(DW106*$DV106,\"\")","v":""},0,"",0,"",0,"",null,0,"",0,"",0,"",0,"",null,{"$f":"'Schedule Setup'!J12","v":"00:00:00"},{"$f":"'Schedule Setup'!K12","v":"00:00:00"},-2.0833333333333332E-2,"00:30:00"]
[9,{"$f":"IF(VLOOKUP($A107,'Schedule Setup'!$A$4:$E$39,2,FALSE)=0,\"\",VLOOKUP($A107,'Schedule Setup'!$A$4:$E$39,2,FALSE))","v":""},{"$f":"IF(VLOOKUP($A107,'Schedule Setup'!$A$4:$E$39,4,FALSE)=0,\"\",VLOOKUP($A107,'Schedule Setup'!$A$4:$E$39,4,FALSE))","v":""},"",null,null,null,"x","x","x","x","x","x","x","x","x","x",{"$f":"BF107","v":"x"},{"$f":"BG107","v":"x"},{"$f":"BH107","v":"x"},{"$f":"BI107","v":"x"},"x","x","x","x","x","x","x","x","x","x","x","x","x","x","x","x","x","x","x","x","x","x","x","x",0,null,"x","x","x","x","x","x","x","x","x","x","x","x","x","x","x","x","x","x","x","x","x","x","x","x","x","x","x","x","x","x","x","x","x","x","x","x","x","x",null,0,0,0,0,0,0,0,0,0,0,0,0,0,0,0,0,0,0,0,0,0,0,0,0,0,0,0,0,0,0,0,0,0,0,0,0,0,0,null,{"$f":"IF(VLOOKUP($A107,'Schedule Setup'!$A$4:$E$39,5,FALSE)=0,\"\",VLOOKUP($A107,'Schedule Setup'!$A$4:$E$39,5,FALSE))","v":""},0,{"$f":"IFERROR(DW107*$DV107,\"\")","v":""},0,"",0,"",0,"",null,0,"",0,"",0,"",0,"",null,{"$f":"'Schedule Setup'!J13","v":"00:00:00"},{"$f":"'Schedule Setup'!K13","v":"00:00:00"},-2.0833333333333332E-2,"00:30:00"]
[10,{"$f":"IF(VLOOKUP($A108,'Schedule Setup'!$A$4:$E$39,2,FALSE)=0,\"\",VLOOKUP($A108,'Schedule Setup'!$A$4:$E$39,2,FALSE))","v":""},{"$f":"IF(VLOOKUP($A108,'Schedule Setup'!$A$4:$E$39,4,FALSE)=0,\"\",VLOOKUP($A108,'Schedule Setup'!$A$4:$E$39,4,FALSE))","v":""},"",null,null,null,"x","x","x","x","x","x","x","x","x","x","x","x","x","x","x","x","x","x","x","x","x","x","x","x","x","x","x","x","x","x","x","x","x","x","x","x","x","x",0,null,"x","x","x","x","x","x","x","x","x","x","x","x","x","x","x","x","x","x","x","x","x","x","x","x","x","x","x","x","x","x","x","x","x","x","x","x","x","x",null,0,0,0,0,0,0,0,0,0,0,0,0,0,0,0,0,0,0,0,0,0,0,0,0,0,0,0,0,0,0,0,0,0,0,0,0,0,0,null,{"$f":"IF(VLOOKUP($A108,'Schedule Setup'!$A$4:$E$39,5,FALSE)=0,\"\",VLOOKUP($A108,'Schedule Setup'!$A$4:$E$39,5,FALSE))","v":""},0,"",0,"",0,"",0,"",null,0,"",0,"",0,"",0,"",null,{"$f":"'Schedule Setup'!J14","v":"00:00:00"},{"$f":"'Schedule Setup'!K14","v":"00:00:00"},-2.0833333333333332E-2,"00:30:00"]
[11,{"$f":"IF(VLOOKUP($A109,'Schedule Setup'!$A$4:$E$39,2,FALSE)=0,\"\",VLOOKUP($A109,'Schedule Setup'!$A$4:$E$39,2,FALSE))","v":""},{"$f":"IF(VLOOKUP($A109,'Schedule Setup'!$A$4:$E$39,4,FALSE)=0,\"\",VLOOKUP($A109,'Schedule Setup'!$A$4:$E$39,4,FALSE))","v":""},"",null,null,null,"x","x","x","x","x","x","x","x","x","x","x","x","x","x","x","x","x","x","x","x","x","x","x","x","x","x","x","x","x","x","x","x","x","x","x","x","x","x",0,null,"x","x","x","x","x","x","x","x","x","x","x","x","x","x","x","x","x","x","x","x","x","x","x","x","x","x","x","x","x","x","x","x","x","x","x","x","x","x",null,0,0,0,0,0,0,0,0,0,0,0,0,0,0,0,0,0,0,0,0,0,0,0,0,0,0,0,0,0,0,0,0,0,0,0,0,0,0,null,{"$f":"IF(VLOOKUP($A109,'Schedule Setup'!$A$4:$E$39,5,FALSE)=0,\"\",VLOOKUP($A109,'Schedule Setup'!$A$4:$E$39,5,FALSE))","v":""},0,"",0,"",0,"",0,"",null,0,"",0,"",0,"",0,"",null,{"$f":"'Schedule Setup'!J15","v":"00:00:00"},{"$f":"'Schedule Setup'!K15","v":"00:00:00"},-2.0833333333333332E-2,"00:30:00"]
[12,{"$f":"IF(VLOOKUP($A110,'Schedule Setup'!$A$4:$E$39,2,FALSE)=0,\"\",VLOOKUP($A110,'Schedule Setup'!$A$4:$E$39,2,FALSE))","v":""},{"$f":"IF(VLOOKUP($A110,'Schedule Setup'!$A$4:$E$39,4,FALSE)=0,\"\",VLOOKUP($A110,'Schedule Setup'!$A$4:$E$39,4,FALSE))","v":""},"",null,null,null,"x","x","x","x","x","x","x","x","x","x","x","x","x","x","x","x","x","x","x","x","x","x","x","x","x","x","x","x","x","x","x","x","x","x","x","x","x","x",0,null,"x","x","x","x","x","x","x","x","x","x","x","x","x","x","x","x","x","x","x","x","x","x","x","x","x","x","x","x","x","x","x","x","x","x","x","x","x","x",null,0,0,0,0,0,0,0,0,0,0,0,0,0,0,0,0,0,0,0,0,0,0,0,0,0,0,0,0,0,0,0,0,0,0,0,0,0,0,null,{"$f":"IF(VLOOKUP($A110,'Schedule Setup'!$A$4:$E$39,5,FALSE)=0,\"\",VLOOKUP($A110,'Schedule Setup'!$A$4:$E$39,5,FALSE))","v":""},0,"",0,"",0,"",0,"",null,0,"",0,"",0,"",0,"",null,{"$f":"'Schedule Setup'!J16","v":"00:00:00"},{"$f":"'Schedule Setup'!K16","v":"00:00:00"},-2.0833333333333332E-2,"00:30:00"]
[13,{"$f":"IF(VLOOKUP($A111,'Schedule Setup'!$A$4:$E$39,2,FALSE)=0,\"\",VLOOKUP($A111,'Schedule Setup'!$A$4:$E$39,2,FALSE))","v":""},{"$f":"IF(VLOOKUP($A111,'Schedule Setup'!$A$4:$E$39,4,FALSE)=0,\"\",VLOOKUP($A111,'Schedule Setup'!$A$4:$E$39,4,FALSE))","v":""},"",null,null,null,"x","x","x","x","x","x","x","x","x","x","x","x","x","x","x","x","x","x","x","x","x","x","x","x","x","x","x","x","x","x","x","x","x","x","x","x","x","x",0,null,"x","x","x","x","x","x","x","x","x","x","x","x","x","x","x","x","x","x","x","x","x","x","x","x","x","x","x","x","x","x","x","x","x","x","x","x","x","x",null,0,0,0,0,0,0,0,0,0,0,0,0,0,0,0,0,0,0,0,0,0,0,0,0,0,0,0,0,0,0,0,0,0,0,0,0,0,0,null,{"$f":"IF(VLOOKUP($A111,'Schedule Setup'!$A$4:$E$39,5,FALSE)=0,\"\",VLOOKUP($A111,'Schedule Setup'!$A$4:$E$39,5,FALSE))","v":""},0,"",0,"",0,"",0,"",null,0,"",0,"",0,"",0,"",null,{"$f":"'Schedule Setup'!J17","v":"00:00:00"},{"$f":"'Schedule Setup'!K17","v":"00:00:00"},-2.0833333333333332E-2,"00:30:00"]
[14,{"$f":"IF(VLOOKUP($A112,'Schedule Setup'!$A$4:$E$39,2,FALSE)=0,\"\",VLOOKUP($A112,'Schedule Setup'!$A$4:$E$39,2,FALSE))","v":""},{"$f":"IF(VLOOKUP($A112,'Schedule Setup'!$A$4:$E$39,4,FALSE)=0,\"\",VLOOKUP($A112,'Schedule Setup'!$A$4:$E$39,4,FALSE))","v":""},"",null,null,null,"x","x","x","x","x","x","x","x","x","x","x","x","x","x","x","x","x","x","x","x","x","x","x","x","x","x","x","x","x","x","x","x","x","x","x","x","x","x",0,null,"x","x","x","x","x","x","x","x","x","x","x","x","x","x","x","x","x","x","x","x","x","x","x","x","x","x","x","x","x","x","x","x","x","x","x","x","x","x",null,0,0,0,0,0,0,0,0,0,0,0,0,0,0,0,0,0,0,0,0,0,0,0,0,0,0,0,0,0,0,0,0,0,0,0,0,0,0,null,{"$f":"IF(VLOOKUP($A112,'Schedule Setup'!$A$4:$E$39,5,FALSE)=0,\"\",VLOOKUP($A112,'Schedule Setup'!$A$4:$E$39,5,FALSE))","v":""},0,"",0,"",0,"",0,"",null,0,"",0,"",0,"",0,"",null,{"$f":"'Schedule Setup'!J18","v":"00:00:00"},{"$f":"'Schedule Setup'!K18","v":"00:00:00"},-2.0833333333333332E-2,"00:30:00"]
[15,{"$f":"IF(VLOOKUP($A113,'Schedule Setup'!$A$4:$E$39,2,FALSE)=0,\"\",VLOOKUP($A113,'Schedule Setup'!$A$4:$E$39,2,FALSE))","v":""},{"$f":"IF(VLOOKUP($A113,'Schedule Setup'!$A$4:$E$39,4,FALSE)=0,\"\",VLOOKUP($A113,'Schedule Setup'!$A$4:$E$39,4,FALSE))","v":""},"",null,null,null,"x","x","x","x","x","x","x","x","x","x","x","x","x","x","x","x","x","x","x","x","x","x","x","x","x","x","x","x","x","x","x","x","x","x","x","x","x","x",0,null,"x","x","x","x","x","x","x","x","x","x","x","x","x","x","x","x","x","x","x","x","x","x","x","x","x","x","x","x","x","x","x","x","x","x","x","x","x","x",null,0,0,0,0,0,0,0,0,0,0,0,0,0,0,0,0,0,0,0,0,0,0,0,0,0,0,0,0,0,0,0,0,0,0,0,0,0,0,null,{"$f":"IF(VLOOKUP($A113,'Schedule Setup'!$A$4:$E$39,5,FALSE)=0,\"\",VLOOKUP($A113,'Schedule Setup'!$A$4:$E$39,5,FALSE))","v":""},0,"",0,"",0,"",0,"",null,0,"",0,"",0,"",0,"",null,{"$f":"'Schedule Setup'!J19","v":"00:00:00"},{"$f":"'Schedule Setup'!K19","v":"00:00:00"},-2.0833333333333332E-2,"00:30:00"]
[16,{"$f":"IF(VLOOKUP($A114,'Schedule Setup'!$A$4:$E$39,2,FALSE)=0,\"\",VLOOKUP($A114,'Schedule Setup'!$A$4:$E$39,2,FALSE))","v":""},{"$f":"IF(VLOOKUP($A114,'Schedule Setup'!$A$4:$E$39,4,FALSE)=0,\"\",VLOOKUP($A114,'Schedule Setup'!$A$4:$E$39,4,FALSE))","v":""},"",null,null,null,"x","x","x","x","x","x","x","x","x","x","x","x","x","x","x","x","x","x","x","x","x","x","x","x","x","x","x","x","x","x","x","x","x","x","x","x","x","x",0,null,"x","x","x","x","x","x","x","x","x","x","x","x","x","x","x","x","x","x","x","x","x","x","x","x","x","x","x","x","x","x","x","x","x","x","x","x","x","x",null,0,0,0,0,0,0,0,0,0,0,0,0,0,0,0,0,0,0,0,0,0,0,0,0,0,0,0,0,0,0,0,0,0,0,0,0,0,0,null,{"$f":"IF(VLOOKUP($A114,'Schedule Setup'!$A$4:$E$39,5,FALSE)=0,\"\",VLOOKUP($A114,'Schedule Setup'!$A$4:$E$39,5,FALSE))","v":""},0,"",0,"",0,"",0,"",null,0,"",0,"",0,"",0,"",null,{"$f":"'Schedule Setup'!J20","v":"00:00:00"},{"$f":"'Schedule Setup'!K20","v":"00:00:00"},-2.0833333333333332E-2,"00:30:00"]
[17,{"$f":"IF(VLOOKUP($A115,'Schedule Setup'!$A$4:$E$39,2,FALSE)=0,\"\",VLOOKUP($A115,'Schedule Setup'!$A$4:$E$39,2,FALSE))","v":""},{"$f":"IF(VLOOKUP($A115,'Schedule Setup'!$A$4:$E$39,4,FALSE)=0,\"\",VLOOKUP($A115,'Schedule Setup'!$A$4:$E$39,4,FALSE))","v":""},"",null,null,null,"x","x","x","x","x","x","x","x","x","x","x","x","x","x","x","x","x","x","x","x","x","x","x","x","x","x","x","x","x","x","x","x","x","x","x","x","x","x",0,null,"x","x","x","x","x","x","x","x","x","x","x","x","x","x","x","x","x","x","x","x","x","x","x","x","x","x","x","x","x","x","x","x","x","x","x","x","x","x",null,0,0,0,0,0,0,0,0,0,0,0,0,0,0,0,0,0,0,0,0,0,0,0,0,0,0,0,0,0,0,0,0,0,0,0,0,0,0,null,{"$f":"IF(VLOOKUP($A115,'Schedule Setup'!$A$4:$E$39,5,FALSE)=0,\"\",VLOOKUP($A115,'Schedule Setup'!$A$4:$E$39,5,FALSE))","v":""},0,"",0,"",0,"",0,"",null,0,"",0,"",0,"",0,"",null,{"$f":"'Schedule Setup'!J21","v":"00:00:00"},{"$f":"'Schedule Setup'!K21","v":"00:00:00"},-2.0833333333333332E-2,"00:30:00"]
[18,{"$f":"IF(VLOOKUP($A116,'Schedule Setup'!$A$4:$E$39,2,FALSE)=0,\"\",VLOOKUP($A116,'Schedule Setup'!$A$4:$E$39,2,FALSE))","v":""},{"$f":"IF(VLOOKUP($A116,'Schedule Setup'!$A$4:$E$39,4,FALSE)=0,\"\",VLOOKUP($A116,'Schedule Setup'!$A$4:$E$39,4,FALSE))","v":""},"",null,null,null,"x","x","x","x","x","x","x","x","x","x","x","x","x","x","x","x","x","x","x","x","x","x","x","x","x","x","x","x","x","x","x","x","x","x","x","x","x","x",0,null,"x","x","x","x","x","x","x","x","x","x","x","x","x","x","x","x","x","x","x","x","x","x","x","x","x","x","x","x","x","x","x","x","x","x","x","x","x","x",null,0,0,0,0,0,0,0,0,0,0,0,0,0,0,0,0,0,0,0,0,0,0,0,0,0,0,0,0,0,0,0,0,0,0,0,0,0,0,null,{"$f":"IF(VLOOKUP($A116,'Schedule Setup'!$A$4:$E$39,5,FALSE)=0,\"\",VLOOKUP($A116,'Schedule Setup'!$A$4:$E$39,5,FALSE))","v":""},0,"",0,"",0,"",0,"",null,0,"",0,"",0,"",0,"",null,{"$f":"'Schedule Setup'!J22","v":"00:00:00"},{"$f":"'Schedule Setup'!K22","v":"00:00:00"},-2.0833333333333332E-2,"00:30:00"]
[19,{"$f":"IF(VLOOKUP($A117,'Schedule Setup'!$A$4:$E$39,2,FALSE)=0,\"\",VLOOKUP($A117,'Schedule Setup'!$A$4:$E$39,2,FALSE))","v":""},{"$f":"IF(VLOOKUP($A117,'Schedule Setup'!$A$4:$E$39,4,FALSE)=0,\"\",VLOOKUP($A117,'Schedule Setup'!$A$4:$E$39,4,FALSE))","v":""},"",null,null,null,"x","x","x","x","x","x","x","x","x","x","x","x","x","x","x","x","x","x","x","x","x","x","x","x","x","x","x","x","x","x","x","x","x","x","x","x","x","x",0,null,"x","x","x","x","x","x","x","x","x","x","x","x","x","x","x","x","x","x","x","x","x","x","x","x","x","x","x","x","x","x","x","x","x","x","x","x","x","x",null,0,0,0,0,0,0,0,0,0,0,0,0,0,0,0,0,0,0,0,0,0,0,0,0,0,0,0,0,0,0,0,0,0,0,0,0,0,0,null,{"$f":"IF(VLOOKUP($A117,'Schedule Setup'!$A$4:$E$39,5,FALSE)=0,\"\",VLOOKUP($A117,'Schedule Setup'!$A$4:$E$39,5,FALSE))","v":""},0,"",0,"",0,"",0,"",null,0,"",0,"",0,"",0,"",null,{"$f":"'Schedule Setup'!J23","v":"00:00:00"},{"$f":"'Schedule Setup'!K23","v":"00:00:00"},-2.0833333333333332E-2,"00:30:00"]
[20,{"$f":"IF(VLOOKUP($A118,'Schedule Setup'!$A$4:$E$39,2,FALSE)=0,\"\",VLOOKUP($A118,'Schedule Setup'!$A$4:$E$39,2,FALSE))","v":""},{"$f":"IF(VLOOKUP($A118,'Schedule Setup'!$A$4:$E$39,4,FALSE)=0,\"\",VLOOKUP($A118,'Schedule Setup'!$A$4:$E$39,4,FALSE))","v":""},"",null,null,null,"x","x","x","x","x","x","x","x","x","x","x","x","x","x","x","x","x","x","x","x","x","x","x","x","x","x","x","x","x","x","x","x","x","x","x","x","x","x",0,null,"x","x","x","x","x","x","x","x","x","x","x","x","x","x","x","x","x","x","x","x","x","x","x","x","x","x","x","x","x","x","x","x","x","x","x","x","x","x",null,0,0,0,0,0,0,0,0,0,0,0,0,0,0,0,0,0,0,0,0,0,0,0,0,0,0,0,0,0,0,0,0,0,0,0,0,0,0,null,{"$f":"IF(VLOOKUP($A118,'Schedule Setup'!$A$4:$E$39,5,FALSE)=0,\"\",VLOOKUP($A118,'Schedule Setup'!$A$4:$E$39,5,FALSE))","v":""},0,"",0,"",0,"",0,"",null,0,"",0,"",0,"",0,"",null,{"$f":"'Schedule Setup'!J24","v":"00:00:00"},{"$f":"'Schedule Setup'!K24","v":"00:00:00"},-2.0833333333333332E-2,"00:30:00"]
[21,{"$f":"IF(VLOOKUP($A119,'Schedule Setup'!$A$4:$E$39,2,FALSE)=0,\"\",VLOOKUP($A119,'Schedule Setup'!$A$4:$E$39,2,FALSE))","v":""},{"$f":"IF(VLOOKUP($A119,'Schedule Setup'!$A$4:$E$39,4,FALSE)=0,\"\",VLOOKUP($A119,'Schedule Setup'!$A$4:$E$39,4,FALSE))","v":""},"",null,null,null,"x","x","x","x","x","x","x","x","x","x","x","x","x","x","x","x","x","x","x","x","x","x","x","x","x","x","x","x","x","x","x","x","x","x","x","x","x","x",0,null,"x","x","x","x","x","x","x","x","x","x","x","x","x","x","x","x","x","x","x","x","x","x","x","x","x","x","x","x","x","x","x","x","x","x","x","x","x","x",null,0,0,0,0,0,0,0,0,0,0,0,0,0,0,0,0,0,0,0,0,0,0,0,0,0,0,0,0,0,0,0,0,0,0,0,0,0,0,null,{"$f":"IF(VLOOKUP($A119,'Schedule Setup'!$A$4:$E$39,5,FALSE)=0,\"\",VLOOKUP($A119,'Schedule Setup'!$A$4:$E$39,5,FALSE))","v":""},0,"",0,"",0,"",0,"",null,0,"",0,"",0,"",0,"",null,{"$f":"'Schedule Setup'!J25","v":"00:00:00"},{"$f":"'Schedule Setup'!K25","v":"00:00:00"},-2.0833333333333332E-2,"00:30:00"]
[22,{"$f":"IF(VLOOKUP($A120,'Schedule Setup'!$A$4:$E$39,2,FALSE)=0,\"\",VLOOKUP($A120,'Schedule Setup'!$A$4:$E$39,2,FALSE))","v":""},{"$f":"IF(VLOOKUP($A120,'Schedule Setup'!$A$4:$E$39,4,FALSE)=0,\"\",VLOOKUP($A120,'Schedule Setup'!$A$4:$E$39,4,FALSE))","v":""},"",null,null,null,"x","x","x","x","x","x","x","x","x","x","x","x","x","x","x","x","x","x","x","x","x","x","x","x","x","x","x","x","x","x","x","x","x","x","x","x","x","x",0,null,"x","x","x","x","x","x","x","x","x","x","x","x","x","x","x","x","x","x","x","x","x","x","x","x","x","x","x","x","x","x","x","x","x","x","x","x","x","x",null,0,0,0,0,0,0,0,0,0,0,0,0,0,0,0,0,0,0,0,0,0,0,0,0,0,0,0,0,0,0,0,0,0,0,0,0,0,0,null,{"$f":"IF(VLOOKUP($A120,'Schedule Setup'!$A$4:$E$39,5,FALSE)=0,\"\",VLOOKUP($A120,'Schedule Setup'!$A$4:$E$39,5,FALSE))","v":""},0,"",0,"",0,"",0,"",null,0,"",0,"",0,"",0,"",null,{"$f":"'Schedule Setup'!J26","v":"00:00:00"},{"$f":"'Schedule Setup'!K26","v":"00:00:00"},{"$f":"EO120-(0.5/24)","v":-2.0833333333333332E-2},{"$f":"EP120+(0.5/24)","v":"00:30:00"}]
[23,{"$f":"IF(VLOOKUP($A121,'Schedule Setup'!$A$4:$E$39,2,FALSE)=0,\"\",VLOOKUP($A121,'Schedule Setup'!$A$4:$E$39,2,FALSE))","v":""},{"$f":"IF(VLOOKUP($A121,'Schedule Setup'!$A$4:$E$39,4,FALSE)=0,\"\",VLOOKUP($A121,'Schedule Setup'!$A$4:$E$39,4,FALSE))","v":""},"",null,null,null,"x","x","x","x","x","x","x","x","x","x","x","x","x","x","x","x","x","x","x","x","x","x","x","x","x","x","x","x","x","x","x","x","x","x","x","x","x","x",0,null,"x","x","x","x","x","x","x","x","x","x","x","x","x","x","x","x","x","x","x","x","x","x","x","x","x","x","x","x","x","x","x","x","x","x","x","x","x","x",null,0,0,0,0,0,0,0,0,0,0,0,0,0,0,0,0,0,0,0,0,0,0,0,0,0,0,0,0,0,0,0,0,0,0,0,0,0,0,null,{"$f":"IF(VLOOKUP($A121,'Schedule Setup'!$A$4:$E$39,5,FALSE)=0,\"\",VLOOKUP($A121,'Schedule Setup'!$A$4:$E$39,5,FALSE))","v":""},0,"",0,"",0,"",0,"",null,0,"",0,"",0,"",0,"",null,{"$f":"'Schedule Setup'!J27","v":"00:00:00"},{"$f":"'Schedule Setup'!K27","v":"00:00:00"},-2.0833333333333332E-2,"00:30:00"]
[24,{"$f":"IF(VLOOKUP($A122,'Schedule Setup'!$A$4:$E$39,2,FALSE)=0,\"\",VLOOKUP($A122,'Schedule Setup'!$A$4:$E$39,2,FALSE))","v":""},{"$f":"IF(VLOOKUP($A122,'Schedule Setup'!$A$4:$E$39,4,FALSE)=0,\"\",VLOOKUP($A122,'Schedule Setup'!$A$4:$E$39,4,FALSE))","v":""},"",null,null,null,"x","x","x","x","x","x","x","x","x","x","x","x","x","x","x",{"$f":"BK122","v":"x"},"x","x","x","x","x","x","x","x","x","x","x","x","x","x","x","x","x","x","x","x","x","x",0,null,"x","x","x","x","x","x","x","x","x","x","x","x","x","x","x","x","x","x","x","x","x","x","x","x","x","x","x","x","x","x","x","x","x","x","x","x","x","x",null,0,0,0,0,0,0,0,0,0,0,0,0,0,0,0,0,0,0,0,0,0,0,0,0,0,0,0,0,0,0,0,0,0,0,0,0,0,0,null,{"$f":"IF(VLOOKUP($A122,'Schedule Setup'!$A$4:$E$39,5,FALSE)=0,\"\",VLOOKUP($A122,'Schedule Setup'!$A$4:$E$39,5,FALSE))","v":""},0,"",0,"",0,"",0,"",null,0,"",0,"",0,"",0,"",null,{"$f":"'Schedule Setup'!J28","v":"00:00:00"},{"$f":"'Schedule Setup'!K28","v":"00:00:00"},-2.0833333333333332E-2,"00:30:00"]
[25,{"$f":"IF(VLOOKUP($A123,'Schedule Setup'!$A$4:$E$39,2,FALSE)=0,\"\",VLOOKUP($A123,'Schedule Setup'!$A$4:$E$39,2,FALSE))","v":""},{"$f":"IF(VLOOKUP($A123,'Schedule Setup'!$A$4:$E$39,4,FALSE)=0,\"\",VLOOKUP($A123,'Schedule Setup'!$A$4:$E$39,4,FALSE))","v":""},{"$f":"IF(B123<>\"\",IF(OR(C123=\"General Manager (S)\", C123=\"General Manager (H)\"), \"GM\",IF(C123=\"Acting Manager\",\"AM\",IF(C123=\"Shift Manager\",\"SM\",IF(C123=\"Team Lead\",\"TL\",\"TM\")))),\"\")","v":""},null,null,null,{"$f":"AV123","v":"x"},{"$f":"AW123","v":"x"},{"$f":"AX123","v":"x"},{"$f":"AY123","v":"x"},{"$f":"AZ123","v":"x"},{"$f":"BA123","v":"x"},{"$f":"BB123","v":"x"},{"$f":"BC123","v":"x"},{"$f":"BD123","v":"x"},{"$f":"BE123","v":"x"},{"$f":"BF123","v":"x"},{"$f":"BG123","v":"x"},{"$f":"BH123","v":"x"},{"$f":"BI123","v":"x"},"x",{"$f":"BK123","v":"x"},{"$f":"BL123","v":"x"},{"$f":"BM123","v":"x"},{"$f":"BN123","v":"x"},{"$f":"BO123","v":"x"},{"$f":"BP123","v":"x"},{"$f":"BQ123","v":"x"},{"$f":"BR123","v":"x"},{"$f":"BS123","v":"x"},{"$f":"BT123","v":"x"},{"$f":"BU123","v":"x"},{"$f":"BV123","v":"x"},{"$f":"BW123","v":"x"},{"$f":"BX123","v":"x"},{"$f":"BY123","v":"x"},{"$f":"BZ123","v":"x"},{"$f":"CA123","v":"x"},{"$f":"CB123","v":"x"},{"$f":"CC123","v":"x"},{"$f":"CD123","v":"x"},{"$f":"CE123","v":"x"},{"$f":"CF123","v":"x"},{"$f":"CG123","v":"x"},{"$f":"EC123","v":0},null,"x","x","x","x","x","x","x","x","x","x","x","x","x","x","x","x","x","x","x","x","x","x","x","x","x","x","x","x","x","x","x","x","x","x","x","x","x","x",null,0,0,0,0,0,0,0,0,0,0,0,0,0,0,0,0,0,0,0,0,0,0,0,0,0,0,0,0,0,0,0,0,0,0,0,0,0,0,null,{"$f":"IF(VLOOKUP($A123,'Schedule Setup'!$A$4:$E$39,5,FALSE)=0,\"\",VLOOKUP($A123,'Schedule Setup'!$A$4:$E$39,5,FALSE))","v":""},0,{"$f":"IFERROR(DW123*$DV123,\"\")","v":""},{"$f":"SUM(CU123:DF123)","v":0},{"$f":"IFERROR(DY123*$DV123,\"\")","v":""},{"$f":"SUM(DG123:DT123)","v":0},{"$f":"IFERROR(EA123*$DV123,\"\")","v":""},{"$f":"SUM(DW123,DY123,EA123)","v":0},{"$f":"IFERROR(EC123*$DV123,\"\")","v":""},null,{"$f":"IF(DW123>5,(DW123-0.5),DW123)","v":0},{"$f":"IFERROR(EF123*$DV123,\"\")","v":""},{"$f":"IF(DY123>5,(DY123-0.5),DY123)","v":0},{"$f":"IFERROR(EH123*$DV123,\"\")","v":""},{"$f":"IF(EA123>5,(EA123-0.5),EA123)","v":0},{"$f":"IFERROR(EJ123*$DV123,\"\")","v":""},{"$f":"SUM(EF123,EH123,EJ123)","v":0},{"$f":"IFERROR(EL123*$DV123,\"\")","v":""},null,{"$f":"'Schedule Setup'!J29","v":"00:00:00"},{"$f":"'Schedule Setup'!K29","v":"00:00:00"},-2.0833333333333332E-2,"00:30:00"]
[26,{"$f":"IF(VLOOKUP($A124,'Schedule Setup'!$A$4:$E$39,2,FALSE)=0,\"\",VLOOKUP($A124,'Schedule Setup'!$A$4:$E$39,2,FALSE))","v":""},{"$f":"IF(VLOOKUP($A124,'Schedule Setup'!$A$4:$E$39,4,FALSE)=0,\"\",VLOOKUP($A124,'Schedule Setup'!$A$4:$E$39,4,FALSE))","v":""},"",null,null,null,"x","x","x","x","x","x","x","x","x","x","x","x","x","x","x","x","x","x","x","x","x","x","x","x","x","x","x","x","x","x","x","x","x","x","x","x","x","x",0,null,"x","x","x","x","x","x","x","x","x","x","x","x","x","x","x","x","x","x","x","x","x","x","x","x","x","x","x","x","x","x","x","x","x","x","x","x","x","x",null,0,0,0,0,0,0,0,0,0,0,0,0,0,0,0,0,0,0,0,0,0,0,0,0,0,0,0,0,0,0,0,0,0,0,0,0,0,0,null,{"$f":"IF(VLOOKUP($A124,'Schedule Setup'!$A$4:$E$39,5,FALSE)=0,\"\",VLOOKUP($A124,'Schedule Setup'!$A$4:$E$39,5,FALSE))","v":""},0,"",0,"",0,"",0,"",null,0,"",0,"",0,"",0,"",null,{"$f":"'Schedule Setup'!J30","v":"00:00:00"},{"$f":"'Schedule Setup'!K30","v":"00:00:00"},-2.0833333333333332E-2,"00:30:00"]
[27,{"$f":"IF(VLOOKUP($A125,'Schedule Setup'!$A$4:$E$39,2,FALSE)=0,\"\",VLOOKUP($A125,'Schedule Setup'!$A$4:$E$39,2,FALSE))","v":""},{"$f":"IF(VLOOKUP($A125,'Schedule Setup'!$A$4:$E$39,4,FALSE)=0,\"\",VLOOKUP($A125,'Schedule Setup'!$A$4:$E$39,4,FALSE))","v":""},"",null,null,null,"x","x","x","x","x","x","x","x","x","x","x","x","x","x","x","x","x","x","x","x","x","x","x","x","x","x","x","x","x","x","x","x","x","x","x","x","x","x",0,null,"x","x","x","x","x","x","x","x","x","x","x","x","x","x","x","x","x","x","x","x","x","x","x","x","x","x","x","x","x","x","x","x","x","x","x","x","x","x",null,0,0,0,0,0,0,0,0,0,0,0,0,0,0,0,0,0,0,0,0,0,0,0,0,0,0,0,0,0,0,0,0,0,0,0,0,0,0,null,{"$f":"IF(VLOOKUP($A125,'Schedule Setup'!$A$4:$E$39,5,FALSE)=0,\"\",VLOOKUP($A125,'Schedule Setup'!$A$4:$E$39,5,FALSE))","v":""},0,"",0,"",0,"",0,"",null,0,"",0,"",0,"",0,"",null,{"$f":"'Schedule Setup'!J31","v":"00:00:00"},{"$f":"'Schedule Setup'!K31","v":"00:00:00"},-2.0833333333333332E-2,"00:30:00"]
[28,{"$f":"IF(VLOOKUP($A126,'Schedule Setup'!$A$4:$E$39,2,FALSE)=0,\"\",VLOOKUP($A126,'Schedule Setup'!$A$4:$E$39,2,FALSE))","v":""},{"$f":"IF(VLOOKUP($A126,'Schedule Setup'!$A$4:$E$39,4,FALSE)=0,\"\",VLOOKUP($A126,'Schedule Setup'!$A$4:$E$39,4,FALSE))","v":""},"",null,null,null,"x","x","x","x","x","x","x","x","x","x","x","x","x","x","x","x","x","x","x","x","x","x","x","x","x","x","x","x","x","x","x","x","x","x","x","x","x","x",0,null,"x","x","x","x","x","x","x","x","x","x","x","x","x","x","x","x","x","x","x","x","x","x","x","x","x","x","x","x","x","x","x","x","x","x","x","x","x","x",null,0,0,0,0,0,0,0,0,0,0,0,0,0,0,0,0,0,0,0,0,0,0,0,0,0,0,0,0,0,0,0,0,0,0,0,0,0,0,null,{"$f":"IF(VLOOKUP($A126,'Schedule Setup'!$A$4:$E$39,5,FALSE)=0,\"\",VLOOKUP($A126,'Schedule Setup'!$A$4:$E$39,5,FALSE))","v":""},0,"",0,"",0,"",0,"",null,0,"",0,"",0,"",0,"",null,{"$f":"'Schedule Setup'!J32","v":"00:00:00"},{"$f":"'Schedule Setup'!K32","v":"00:00:00"},-2.0833333333333332E-2,"00:30:00"]
[29,{"$f":"IF(VLOOKUP($A127,'Schedule Setup'!$A$4:$E$39,2,FALSE)=0,\"\",VLOOKUP($A127,'Schedule Setup'!$A$4:$E$39,2,FALSE))","v":""},{"$f":"IF(VLOOKUP($A127,'Schedule Setup'!$A$4:$E$39,4,FALSE)=0,\"\",VLOOKUP($A127,'Schedule Setup'!$A$4:$E$39,4,FALSE))","v":""},"",null,null,null,"x","x","x","x","x","x","x","x","x","x","x","x","x","x","x","x","x","x","x","x","x","x","x","x","x","x","x","x","x","x","x","x","x","x","x","x","x","x",0,null,"x","x","x","x","x","x","x","x","x","x","x","x","x","x","x","x","x","x","x","x","x","x","x","x","x","x","x","x","x","x","x","x","x","x","x","x","x","x",null,0,0,0,0,0,0,0,0,0,0,0,0,0,0,0,0,0,0,0,0,0,0,0,0,0,0,0,0,0,0,0,0,0,0,0,0,0,0,null,{"$f":"IF(VLOOKUP($A127,'Schedule Setup'!$A$4:$E$39,5,FALSE)=0,\"\",VLOOKUP($A127,'Schedule Setup'!$A$4:$E$39,5,FALSE))","v":""},0,"",0,"",0,"",0,"",null,0,"",0,"",0,"",0,"",null,{"$f":"'Schedule Setup'!J33","v":"00:00:00"},{"$f":"'Schedule Setup'!K33","v":"00:00:00"},-2.0833333333333332E-2,"00:30:00"]
[30,{"$f":"IF(VLOOKUP($A128,'Schedule Setup'!$A$4:$E$39,2,FALSE)=0,\"\",VLOOKUP($A128,'Schedule Setup'!$A$4:$E$39,2,FALSE))","v":""},{"$f":"IF(VLOOKUP($A128,'Schedule Setup'!$A$4:$E$39,4,FALSE)=0,\"\",VLOOKUP($A128,'Schedule Setup'!$A$4:$E$39,4,FALSE))","v":""},"",null,null,null,"x","x","x","x","x","x","x","x","x","x","x","x","x","x","x","x","x","x","x","x","x","x","x","x","x","x","x","x","x","x","x","x","x","x","x","x","x","x",0,null,"x","x","x","x","x","x","x","x","x","x","x","x","x","x","x","x","x","x","x","x","x","x","x","x","x","x","x","x","x","x","x","x","x","x","x","x","x","x",null,0,0,0,0,0,0,0,0,0,0,0,0,0,0,0,0,0,0,0,0,0,0,0,0,0,0,0,0,0,0,0,0,0,0,0,0,0,0,null,{"$f":"IF(VLOOKUP($A128,'Schedule Setup'!$A$4:$E$39,5,FALSE)=0,\"\",VLOOKUP($A128,'Schedule Setup'!$A$4:$E$39,5,FALSE))","v":""},0,"",0,"",0,"",0,"",null,0,"",0,"",0,"",0,"",null,{"$f":"'Schedule Setup'!J34","v":"00:00:00"},{"$f":"'Schedule Setup'!K34","v":"00:00:00"},-2.0833333333333332E-2,"00:30:00"]
[31,{"$f":"IF(VLOOKUP($A129,'Schedule Setup'!$A$4:$E$39,2,FALSE)=0,\"\",VLOOKUP($A129,'Schedule Setup'!$A$4:$E$39,2,FALSE))","v":""},{"$f":"IF(VLOOKUP($A129,'Schedule Setup'!$A$4:$E$39,4,FALSE)=0,\"\",VLOOKUP($A129,'Schedule Setup'!$A$4:$E$39,4,FALSE))","v":""},"",null,null,null,"x","x","x","x","x","x","x","x","x","x","x","x","x","x","x","x","x","x","x","x","x","x","x","x","x","x","x","x","x","x","x","x","x","x","x","x","x","x",0,null,"x","x","x","x","x","x","x","x","x","x","x","x","x","x","x","x","x","x","x","x","x","x","x","x","x","x","x","x","x","x","x","x","x","x","x","x","x","x",null,0,0,0,0,0,0,0,0,0,0,0,0,0,0,0,0,0,0,0,0,0,0,0,0,0,0,0,0,0,0,0,0,0,0,0,0,0,0,null,{"$f":"IF(VLOOKUP($A129,'Schedule Setup'!$A$4:$E$39,5,FALSE)=0,\"\",VLOOKUP($A129,'Schedule Setup'!$A$4:$E$39,5,FALSE))","v":""},0,"",0,"",0,"",0,"",null,0,"",0,"",0,"",0,"",null,{"$f":"'Schedule Setup'!J35","v":"00:00:00"},{"$f":"'Schedule Setup'!K35","v":"00:00:00"},-2.0833333333333332E-2,"00:30:00"]
[32,{"$f":"IF(VLOOKUP($A130,'Schedule Setup'!$A$4:$E$39,2,FALSE)=0,\"\",VLOOKUP($A130,'Schedule Setup'!$A$4:$E$39,2,FALSE))","v":""},{"$f":"IF(VLOOKUP($A130,'Schedule Setup'!$A$4:$E$39,4,FALSE)=0,\"\",VLOOKUP($A130,'Schedule Setup'!$A$4:$E$39,4,FALSE))","v":""},"",null,null,null,"x","x","x","x","x","x","x","x","x","x","x","x","x","x","x","x","x","x","x","x","x","x","x","x","x","x","x","x","x","x","x","x","x","x","x","x","x","x",0,null,"x","x","x","x","x","x","x","x","x","x","x","x","x","x","x","x","x","x","x","x","x","x","x","x","x","x","x","x","x","x","x","x","x","x","x","x","x","x",null,0,0,0,0,0,0,0,0,0,0,0,0,0,0,0,0,0,0,0,0,0,0,0,0,0,0,0,0,0,0,0,0,0,0,0,0,0,0,null,{"$f":"IF(VLOOKUP($A130,'Schedule Setup'!$A$4:$E$39,5,FALSE)=0,\"\",VLOOKUP($A130,'Schedule Setup'!$A$4:$E$39,5,FALSE))","v":""},0,"",0,"",0,"",0,"",null,0,"",0,"",0,"",0,"",null,{"$f":"'Schedule Setup'!J36","v":"00:00:00"},{"$f":"'Schedule Setup'!K36","v":"00:00:00"},-2.0833333333333332E-2,"00:30:00"]
[33,{"$f":"IF(VLOOKUP($A131,'Schedule Setup'!$A$4:$E$39,2,FALSE)=0,\"\",VLOOKUP($A131,'Schedule Setup'!$A$4:$E$39,2,FALSE))","v":""},{"$f":"IF(VLOOKUP($A131,'Schedule Setup'!$A$4:$E$39,4,FALSE)=0,\"\",VLOOKUP($A131,'Schedule Setup'!$A$4:$E$39,4,FALSE))","v":""},"",null,null,null,"x","x","x","x","x","x","x","x","x","x","x","x","x","x","x","x","x","x","x","x","x","x","x","x","x","x","x","x","x","x","x","x","x","x","x","x","x","x",0,null,"x","x","x","x","x","x","x","x","x","x","x","x","x","x","x","x","x","x","x","x","x","x","x","x","x","x","x","x","x","x","x","x","x","x","x","x","x","x",null,0,0,0,0,0,0,0,0,0,0,0,0,0,0,0,0,0,0,0,0,0,0,0,0,0,0,0,0,0,0,0,0,0,0,0,0,0,0,null,{"$f":"IF(VLOOKUP($A131,'Schedule Setup'!$A$4:$E$39,5,FALSE)=0,\"\",VLOOKUP($A131,'Schedule Setup'!$A$4:$E$39,5,FALSE))","v":""},0,"",0,"",0,"",0,"",null,0,"",0,"",0,"",0,"",null,{"$f":"'Schedule Setup'!J37","v":"00:00:00"},{"$f":"'Schedule Setup'!K37","v":"00:00:00"},-2.0833333333333332E-2,"00:30:00"]
[34,{"$f":"IF(VLOOKUP($A132,'Schedule Setup'!$A$4:$E$39,2,FALSE)=0,\"\",VLOOKUP($A132,'Schedule Setup'!$A$4:$E$39,2,FALSE))","v":""},{"$f":"IF(VLOOKUP($A132,'Schedule Setup'!$A$4:$E$39,4,FALSE)=0,\"\",VLOOKUP($A132,'Schedule Setup'!$A$4:$E$39,4,FALSE))","v":""},"",null,null,null,"x","x","x","x","x","x","x","x","x","x","x","x","x","x","x","x","x","x","x","x","x","x","x","x","x","x","x","x","x","x","x","x","x","x","x","x","x","x",0,null,"x","x","x","x","x","x","x","x","x","x","x","x","x","x","x","x","x","x","x","x","x","x","x","x","x","x","x","x","x","x","x","x","x","x","x","x","x","x",null,0,0,0,0,0,0,0,0,0,0,0,0,0,0,0,0,0,0,0,0,0,0,0,0,0,0,0,0,0,0,0,0,0,0,0,0,0,0,null,{"$f":"IF(VLOOKUP($A132,'Schedule Setup'!$A$4:$E$39,5,FALSE)=0,\"\",VLOOKUP($A132,'Schedule Setup'!$A$4:$E$39,5,FALSE))","v":""},0,"",0,"",0,"",0,"",null,0,"",0,"",0,"",0,"",null,{"$f":"'Schedule Setup'!J38","v":"00:00:00"},{"$f":"'Schedule Setup'!K38","v":"00:00:00"},-2.0833333333333332E-2,"00:30:00"]
[35,{"$f":"IF(VLOOKUP($A133,'Schedule Setup'!$A$4:$E$39,2,FALSE)=0,\"\",VLOOKUP($A133,'Schedule Setup'!$A$4:$E$39,2,FALSE))","v":""},{"$f":"IF(VLOOKUP($A133,'Schedule Setup'!$A$4:$E$39,4,FALSE)=0,\"\",VLOOKUP($A133,'Schedule Setup'!$A$4:$E$39,4,FALSE))","v":""},"",null,null,null,"x","x","x","x","x","x","x","x","x","x",{"$f":"BF133","v":"x"},{"$f":"BG133","v":"x"},{"$f":"BH133","v":"x"},{"$f":"BI133","v":"x"},"x","x","x","x","x","x","x","x","x","x","x","x","x","x","x","x","x","x","x","x","x","x","x","x",0,null,"x","x","x","x","x","x","x","x","x","x","x","x","x","x","x","x","x","x","x","x","x","x","x","x","x","x","x","x","x","x","x","x","x","x","x","x","x","x",null,0,0,0,0,0,0,0,0,0,0,0,0,0,0,0,0,0,0,0,0,0,0,0,0,0,0,0,0,0,0,0,0,0,0,0,0,0,0,null,{"$f":"IF(VLOOKUP($A133,'Schedule Setup'!$A$4:$E$39,5,FALSE)=0,\"\",VLOOKUP($A133,'Schedule Setup'!$A$4:$E$39,5,FALSE))","v":""},0,"",0,"",0,"",0,"",null,0,"",0,"",0,"",0,"",null,{"$f":"'Schedule Setup'!J39","v":"00:00:00"},{"$f":"'Schedule Setup'!K39","v":"00:00:00"},-2.0833333333333332E-2,"00:30:00"]
[null,null,null,"Totals/Coverage",{"$f":"MIN(E99:E133)","v":"00:00:00"},{"$f":"MAX(F99:F133)","v":"00:00:00"},null,{"$f":"CI134","v":0},{"$f":"CJ134","v":0},{"$f":"CK134","v":0},{"$f":"CL134","v":0},{"$f":"CM134","v":0},{"$f":"CN134","v":0},{"$f":"CO134","v":0},{"$f":"CP134","v":0},{"$f":"CQ134","v":0},{"$f":"CR134","v":0},{"$f":"CS134","v":0},{"$f":"CT134","v":0},{"$f":"CU134","v":0},{"$f":"CV134","v":0},{"$f":"CW134","v":0},{"$f":"CX134","v":0},{"$f":"CY134","v":0},{"$f":"CZ134","v":0},{"$f":"DA134","v":0},{"$f":"DB134","v":0},{"$f":"DC134","v":0},{"$f":"DD134","v":0},{"$f":"DE134","v":0},{"$f":"DF134","v":0},{"$f":"DG134","v":0},{"$f":"DH134","v":0},{"$f":"DI134","v":0},{"$f":"DJ134","v":0},{"$f":"DK134","v":0},{"$f":"DL134","v":0},{"$f":"DM134","v":0},{"$f":"DN134","v":0},{"$f":"DO134","v":0},{"$f":"DP134","v":0},{"$f":"DQ134","v":0},{"$f":"DR134","v":0},{"$f":"DS134","v":0},{"$f":"DT134","v":0},{"$f":"SUM(AT99:AT133)","v":0},null,null,null,null,null,null,null,null,null,null,null,null,null,null,null,null,null,null,null,null,null,null,null,null,null,null,null,null,null,null,null,null,null,null,null,null,null,null,null,null,{"$f":"COUNTIF(CI99:CI133,0.5)","v":0},{"$f":"COUNTIF(CJ99:CJ133,0.5)","v":0},{"$f":"COUNTIF(CK99:CK133,0.5)","v":0},{"$f":"COUNTIF(CL99:CL133,0.5)","v":0},{"$f":"COUNTIF(CM99:CM133,0.5)","v":0},{"$f":"COUNTIF(CN99:CN133,0.5)","v":0},{"$f":"COUNTIF(CO99:CO133,0.5)","v":0},{"$f":"COUNTIF(CP99:CP133,0.5)","v":0},{"$f":"COUNTIF(CQ99:CQ133,0.5)","v":0},{"$f":"COUNTIF(CR99:CR133,0.5)","v":0},{"$f":"COUNTIF(CS99:CS133,0.5)","v":0},{"$f":"COUNTIF(CT99:CT133,0.5)","v":0},{"$f":"COUNTIF(CU99:CU133,0.5)","v":0},{"$f":"COUNTIF(CV99:CV133,0.5)","v":0},{"$f":"COUNTIF(CW99:CW133,0.5)","v":0},{"$f":"COUNTIF(CX99:CX133,0.5)","v":0},{"$f":"COUNTIF(CY99:CY133,0.5)","v":0},{"$f":"COUNTIF(CZ99:CZ133,0.5)","v":0},{"$f":"COUNTIF(DA99:DA133,0.5)","v":0},{"$f":"COUNTIF(DB99:DB133,0.5)","v":0},{"$f":"COUNTIF(DC99:DC133,0.5)","v":0},{"$f":"COUNTIF(DD99:DD133,0.5)","v":0},{"$f":"COUNTIF(DE99:DE133,0.5)","v":0},{"$f":"COUNTIF(DF99:DF133,0.5)","v":0},{"$f":"COUNTIF(DG99:DG133,0.5)","v":0},{"$f":"COUNTIF(DH99:DH133,0.5)","v":0},{"$f":"COUNTIF(DI99:DI133,0.5)","v":0},{"$f":"COUNTIF(DJ99:DJ133,0.5)","v":0},{"$f":"COUNTIF(DK99:DK133,0.5)","v":0},{"$f":"COUNTIF(DL99:DL133,0.5)","v":0},{"$f":"COUNTIF(DM99:DM133,0.5)","v":0},{"$f":"COUNTIF(DN99:DN133,0.5)","v":0},{"$f":"COUNTIF(DO99:DO133,0.5)","v":0},{"$f":"COUNTIF(DP99:DP133,0.5)","v":0},{"$f":"COUNTIF(DQ99:DQ133,0.5)","v":0},{"$f":"COUNTIF(DR99:DR133,0.5)","v":0},{"$f":"COUNTIF(DS99:DS133,0.5)","v":0},{"$f":"COUNTIF(DT99:DT133,0.5)","v":0},null,null,{"$f":"SUM(DW99:DW133)","v":0},0,0,0,0,0,0,0,null,{"$f":"SUM(EF99:EF133)","v":0},0,0,0,0,0,0,0,null,{"$f":"'Schedule Setup'!J40","v":"07:00:00"},{"$f":"'Schedule Setup'!K40","v":"21:00:00"},"06:30:00","21:30:00"]
[null,null,null,null,null,{"$f":"'Schedule Forecast'!A14","v":"Last Week"},null,{"$f":"IFERROR(INDEX(INDIRECT(\"'\"&$F135&\"'!$E:$E\"),MATCH(H$6,INDIRECT(\"'\"&$F135&\"'!$A$1:$A$250\"),0)+1),0)","v":0},0,0,0,0,0,0,0,0,0,{"$f":"IFERROR(INDEX(INDIRECT(\"'\"&$F135&\"'!$E:$E\"),MATCH(R$6,INDIRECT(\"'\"&$F135&\"'!$A$1:$A$250\"),0)+1),0)","v":0},0,0,0,0,0,0,0,0,0,{"$f":"IFERROR(INDEX(INDIRECT(\"'\"&$F135&\"'!$E:$E\"),MATCH(AB$6,INDIRECT(\"'\"&$F135&\"'!$A$1:$A$250\"),0)+1),0)","v":0},0,0,0,0,0,0,0,0,0,{"$f":"IFERROR(INDEX(INDIRECT(\"'\"&$F135&\"'!$E:$E\"),MATCH(AL$6,INDIRECT(\"'\"&$F135&\"'!$A$1:$A$250\"),0)+1),0)","v":0},0,0,0,0,0,0,0]
[null,null,null,null,null,{"$f":"'Schedule Forecast'!A15","v":"2 Weeks Ago"},null,0,0,0,0,0,0,0,0,0,0,0,0,0,0,0,0,0,0,0,0,0,0,0,0,0,0,0,0,0,0,0,0,0,0,0,0,0,0]
[null,null,null,null,null,{"$f":"'Schedule Forecast'!A16","v":"3 Weeks Ago"},null,0,0,0,0,0,0,0,0,0,0,0,0,0,0,0,0,0,0,0,0,0,0,0,0,0,0,0,0,0,0,0,0,0,0,0,0,0,0]
[null,null,null,null,null,{"$f":"'Schedule Forecast'!A17","v":"4 Weeks Ago"},null,0,0,0,0,0,0,0,0,0,0,0,0,0,0,0,0,0,0,0,0,0,0,0,0,0,0,0,0,0,0,0,0,0,0,0,0,0,0]
[null,null,null,null,null,"AVERAGE",null,{"$f":"IFERROR(IF(AND(H$6>=$EO$134,H$6<$EP$134-0.001),AVERAGE(H135:H138),\"\"),\"\")","v":""},"","","",0,0,0,0,0,0,0,0,0,0,0,0,0,0,0,0,0,0,0,0,0,0,0,0,0,0,0,0,"","","","","",""]
[null,null,null,null,null,null,null,{"$f":"IFERROR(IF((H139*'Schedule Forecast'!$C$4-$AC$2)>1,(H139*'Schedule Forecast'!$C$4-$AC$2),1),\"\")","v":""},{"$f":"IFERROR(IF((I139*'Schedule Forecast'!$C$4-$AC$2)>1,(I139*'Schedule Forecast'!$C$4-$AC$2),1),\"\")","v":""},{"$f":"IFERROR(IF((J139*'Schedule Forecast'!$C$4-$AC$2)>1,(J139*'Schedule Forecast'!$C$4-$AC$2),1),\"\")","v":""},{"$f":"IFERROR(IF((K139*'Schedule Forecast'!$C$4-$AC$2)>1,(K139*'Schedule Forecast'!$C$4-$AC$2),1),\"\")","v":""},{"$f":"IFERROR(IF((L139*'Schedule Forecast'!$C$4-$AC$2)>1,(L139*'Schedule Forecast'!$C$4-$AC$2),1),\"\")","v":1},{"$f":"IFERROR(IF((M139*'Schedule Forecast'!$C$4-$AC$2)>1,(M139*'Schedule Forecast'!$C$4-$AC$2),1),\"\")","v":1},{"$f":"IFERROR(IF((N139*'Schedule Forecast'!$C$4-$AC$2)>1,(N139*'Schedule Forecast'!$C$4-$AC$2),1),\"\")","v":1},{"$f":"IFERROR(IF((O139*'Schedule Forecast'!$C$4-$AC$2)>1,(O139*'Schedule Forecast'!$C$4-$AC$2),1),\"\")","v":1},{"$f":"IFERROR(IF((P139*'Schedule Forecast'!$C$4-$AC$2)>1,(P139*'Schedule Forecast'!$C$4-$AC$2),1),\"\")","v":1},{"$f":"IFERROR(IF((Q139*'Schedule Forecast'!$C$4-$AC$2)>1,(Q139*'Schedule Forecast'!$C$4-$AC$2),1),\"\")","v":1},{"$f":"IFERROR(IF((R139*'Schedule Forecast'!$C$4-$AC$2)>1,(R139*'Schedule Forecast'!$C$4-$AC$2),1),\"\")","v":1},{"$f":"IFERROR(IF((S139*'Schedule Forecast'!$C$4-$AC$2)>1,(S139*'Schedule Forecast'!$C$4-$AC$2),1),\"\")","v":1},{"$f":"IFERROR(IF((T139*'Schedule Forecast'!$C$4-$AC$2)>1,(T139*'Schedule Forecast'!$C$4-$AC$2),1),\"\")","v":1},{"$f":"IFERROR(IF((U139*'Schedule Forecast'!$C$4-$AC$2)>1,(U139*'Schedule Forecast'!$C$4-$AC$2),1),\"\")","v":1},{"$f":"IFERROR(IF((V139*'Schedule Forecast'!$C$4-$AC$2)>1,(V139*'Schedule Forecast'!$C$4-$AC$2),1),\"\")","v":1},{"$f":"IFERROR(IF((W139*'Schedule Forecast'!$C$4-$AC$2)>1,(W139*'Schedule Forecast'!$C$4-$AC$2),1),\"\")","v":1},{"$f":"IFERROR(IF((X139*'Schedule Forecast'!$C$4-$AC$2)>1,(X139*'Schedule Forecast'!$C$4-$AC$2),1),\"\")","v":1},{"$f":"IFERROR(IF((Y139*'Schedule Forecast'!$C$4-$AC$2)>1,(Y139*'Schedule Forecast'!$C$4-$AC$2),1),\"\")","v":1},{"$f":"IFERROR(IF((Z139*'Schedule Forecast'!$C$4-$AC$2)>1,(Z139*'Schedule Forecast'!$C$4-$AC$2),1),\"\")","v":1},{"$f":"IFERROR(IF((AA139*'Schedule Forecast'!$C$4-$AC$2)>1,(AA139*'Schedule Forecast'!$C$4-$AC$2),1),\"\")","v":1},{"$f":"IFERROR(IF((AB139*'Schedule Forecast'!$C$4-$AC$2)>1,(AB139*'Schedule Forecast'!$C$4-$AC$2),1),\"\")","v":1},{"$f":"IFERROR(IF((AC139*'Schedule Forecast'!$C$4-$AC$2)>1,(AC139*'Schedule Forecast'!$C$4-$AC$2),1),\"\")","v":1},{"$f":"IFERROR(IF((AD139*'Schedule Forecast'!$C$4-$AC$2)>1,(AD139*'Schedule Forecast'!$C$4-$AC$2),1),\"\")","v":1},{"$f":"IFERROR(IF((AE139*'Schedule Forecast'!$C$4-$AC$2)>1,(AE139*'Schedule Forecast'!$C$4-$AC$2),1),\"\")","v":1},{"$f":"IFERROR(IF((AF139*'Schedule Forecast'!$C$4-$AC$2)>1,(AF139*'Schedule Forecast'!$C$4-$AC$2),1),\"\")","v":1},{"$f":"IFERROR(IF((AG139*'Schedule Forecast'!$C$4-$AC$2)>1,(AG139*'Schedule Forecast'!$C$4-$AC$2),1),\"\")","v":1},{"$f":"IFERROR(IF((AH139*'Schedule Forecast'!$C$4-$AC$2)>1,(AH139*'Schedule Forecast'!$C$4-$AC$2),1),\"\")","v":1},{"$f":"IFERROR(IF((AI139*'Schedule Forecast'!$C$4-$AC$2)>1,(AI139*'Schedule Forecast'!$C$4-$AC$2),1),\"\")","v":1},{"$f":"IFERROR(IF((AJ139*'Schedule Forecast'!$C$4-$AC$2)>1,(AJ139*'Schedule Forecast'!$C$4-$AC$2),1),\"\")","v":1},{"$f":"IFERROR(IF((AK139*'Schedule Forecast'!$C$4-$AC$2)>1,(AK139*'Schedule Forecast'!$C$4-$AC$2),1),\"\")","v":1},{"$f":"IFERROR(IF((AL139*'Schedule Forecast'!$C$4-$AC$2)>1,(AL139*'Schedule Forecast'!$C$4-$AC$2),1),\"\")","v":1},{"$f":"IFERROR(IF((AM139*'Schedule Forecast'!$C$4-$AC$2)>1,(AM139*'Schedule Forecast'!$C$4-$AC$2),1),\"\")","v":1},{"$f":"IFERROR(IF((AN139*'Schedule Forecast'!$C$4-$AC$2)>1,(AN139*'Schedule Forecast'!$C$4-$AC$2),1),\"\")","v":""},{"$f":"IFERROR(IF((AO139*'Schedule Forecast'!$C$4-$AC$2)>1,(AO139*'Schedule Forecast'!$C$4-$AC$2),1),\"\")","v":""},{"$f":"IFERROR(IF((AP139*'Schedule Forecast'!$C$4-$AC$2)>1,(AP139*'Schedule Forecast'!$C$4-$AC$2),1),\"\")","v":""},{"$f":"IFERROR(IF((AQ139*'Schedule Forecast'!$C$4-$AC$2)>1,(AQ139*'Schedule Forecast'!$C$4-$AC$2),1),\"\")","v":""},{"$f":"IFERROR(IF((AR139*'Schedule Forecast'!$C$4-$AC$2)>1,(AR139*'Schedule Forecast'!$C$4-$AC$2),1),\"\")","v":""},{"$f":"IFERROR(IF((AS139*'Schedule Forecast'!$C$4-$AC$2)>1,(AS139*'Schedule Forecast'!$C$4-$AC$2),1),\"\")","v":""}]
[null,null,null,null,null,null,"Recommended:",{"$f":"IF(H98>=$EO$134,IF(H98<$EP$134-0.01,ROUND(IF(H140>1,(H140*$B$48)+1,H140)*2,0),\"\"),\"\")","v":""},"","","",2,2,2,2,2,2,2,2,2,2,2,2,2,2,2,2,2,2,2,2,2,2,2,2,2,2,2,2,"","","","","","",{"$f":"SUM(H141:AS141)/2","v":28}]
[]
[null,"Friday",null,null,null,null,null,null,null,null,null,null,null,null,null,null,null,null,{"$f":"S97","v":"Today's Date"},{"$f":"T5+3","v":"2019-05-04"},null,null,null,null,null,null,null,null,null,null,null,null,null,null,null,null,null,null,null,null,null,null,null,null,null,null,null,null,null,null,null,null,null,null,null,null,null,null,null,null,null,null,null,null,null,null,null,null,null,null,null,null,null,null,null,null,null,null,null,null,null,null,null,null,null,null,null,null,null,null,null,null,null,null,null,null,null,null,null,null,null,null,null,null,null,null,null,null,null,null,null,null,null,null,null,null,null,null,null,null,null,null,null,null,null,null,"Breakfast",null,"Lunch",null,"Dinner",null,"Total",null,null,"Breakfast",null,"Lunch",null,"Dinner",null,"Total",null,null,"Availability"]
[null,"Employee","Job",null,"Start","End",null,"05:00:00",{"$f":"H144+(0.5/24)","v":"05:30:00"},{"$f":"I144+(0.5/24)","v":"06:00:00"},{"$f":"J144+(0.5/24)","v":"06:30:00"},{"$f":"K144+(0.5/24)","v":"07:00:00"},{"$f":"L144+(0.5/24)","v":"07:30:00"},{"$f":"M144+(0.5/24)","v":"08:00:00"},{"$f":"N144+(0.5/24)","v":"08:30:00"},{"$f":"O144+(0.5/24)","v":"09:00:00"},{"$f":"P144+(0.5/24)","v":"09:30:00"},{"$f":"Q144+(0.5/24)","v":"10:00:00"},{"$f":"R144+(0.5/24)","v":"10:30:00"},{"$f":"S144+(0.5/24)","v":"11:00:00"},{"$f":"T144+(0.5/24)","v":"11:30:00"},{"$f":"U144+(0.5/24)","v":"12:00:00"},{"$f":"V144+(0.5/24)","v":"12:30:00"},{"$f":"W144+(0.5/24)","v":"13:00:00"},{"$f":"X144+(0.5/24)","v":"13:30:00"},{"$f":"Y144+(0.5/24)","v":"14:00:00"},{"$f":"Z144+(0.5/24)","v":"14:30:00"},{"$f":"AA144+(0.5/24)","v":"15:00:00"},{"$f":"AB144+(0.5/24)","v":"15:30:00"},{"$f":"AC144+(0.5/24)","v":"16:00:00"},{"$f":"AD144+(0.5/24)","v":"16:30:00"},{"$f":"AE144+(0.5/24)","v":"17:00:00"},{"$f":"AF144+(0.5/24)","v":"17:30:00"},{"$f":"AG144+(0.5/24)","v":"18:00:00"},{"$f":"AH144+(0.5/24)","v":"18:30:00"},{"$f":"AI144+(0.5/24)","v":"19:00:00"},{"$f":"AJ144+(0.5/24)","v":"19:30:00"},{"$f":"AK144+(0.5/24)","v":"20:00:00"},{"$f":"AL144+(0.5/24)","v":"20:30:00"},{"$f":"AM144+(0.5/24)","v":"21:00:00"},{"$f":"AN144+(0.5/24)","v":"21:30:00"},{"$f":"AO144+(0.5/24)","v":"22:00:00"},{"$f":"AP144+(0.5/24)","v":"22:30:00"},{"$f":"AQ144+(0.5/24)","v":"23:00:00"},{"$f":"AR144+(0.5/24)","v":"23:30:00"},"TOTAL",null,5,null,6,null,7,null,8,null,9,null,10,null,11,null,12,null,1,null,2,null,3,null,4,null,5,null,6,null,7,null,8,null,9,null,10,null,11,null,null,5,null,6,null,7,null,8,null,9,null,10,null,11,null,12,null,1,null,2,null,3,null,4,null,5,null,6,null,7,null,8,null,9,null,10,null,11,null,null,"Rate","Hrs","$","Hrs","$","Hrs","$","Hrs","$",null,"Hrs","$","Hrs","$","Hrs","$","Hrs","$",null,"Start","End","Start-Early","End-Late"]
[1,{"$f":"IF(VLOOKUP($A145,'Schedule Setup'!$A$4:$E$39,2,FALSE)=0,\"\",VLOOKUP($A145,'Schedule Setup'!$A$4:$E$39,2,FALSE))","v":""},{"$f":"IF(VLOOKUP($A145,'Schedule Setup'!$A$4:$E$39,4,FALSE)=0,\"\",VLOOKUP($A145,'Schedule Setup'!$A$4:$E$39,4,FALSE))","v":""},{"$f":"IF(B145<>\"\",IF(OR(C145=\"General Manager (S)\", C145=\"General Manager (H)\"), \"GM\",IF(C145=\"Acting Manager\",\"AM\",IF(C145=\"Shift Manager\",\"SM\",IF(C145=\"Team Lead\",\"TL\",\"TM\")))),\"\")","v":""},null,null,null,{"$f":"AV145","v":"x"},"x","x","x","x","x","x","x","x","x",{"$f":"BF145","v":"x"},"x","x","x","x","x","x","x","x","x",{"$f":"BP145","v":"x"},"x","x","x","x","x","x","x","x","x",{"$f":"BZ145","v":"x"},"x","x","x","x","x","x","x",{"$f":"EC145","v":0},null,{"$f":"IF(AND($EO145<=H$6+0.01,$EP145>H$6+0.01),IF(AND(H$6<$F145-0.01,H$6>=$E145-0.01),$D145,\"\"),\"x\")","v":"x"},{"$f":"IF(AND($EO145<=I$6+0.01,$EP145>I$6+0.01),IF(AND(I$6<$F145-0.01,I$6>=$E145-0.01),$D145,\"\"),\"x\")","v":"x"},{"$f":"IF(AND($EO145<=J$6+0.01,$EP145>J$6+0.01),IF(AND(J$6<$F145-0.01,J$6>=$E145-0.01),$D145,\"\"),\"x\")","v":"x"},{"$f":"IF(AND($EO145<=K$6+0.01,$EP145>K$6+0.01),IF(AND(K$6<$F145-0.01,K$6>=$E145-0.01),$D145,\"\"),\"x\")","v":"x"},{"$f":"IF(AND($EO145<=L$6+0.01,$EP145>L$6+0.01),IF(AND(L$6<$F145-0.01,L$6>=$E145-0.01),$D145,\"\"),\"x\")","v":"x"},{"$f":"IF(AND($EO145<=M$6+0.01,$EP145>M$6+0.01),IF(AND(M$6<$F145-0.01,M$6>=$E145-0.01),$D145,\"\"),\"x\")","v":"x"},{"$f":"IF(AND($EO145<=N$6+0.01,$EP145>N$6+0.01),IF(AND(N$6<$F145-0.01,N$6>=$E145-0.01),$D145,\"\"),\"x\")","v":"x"},{"$f":"IF(AND($EO145<=O$6+0.01,$EP145>O$6+0.01),IF(AND(O$6<$F145-0.01,O$6>=$E145-0.01),$D145,\"\"),\"x\")","v":"x"},{"$f":"IF(AND($EO145<=P$6+0.01,$EP145>P$6+0.01),IF(AND(P$6<$F145-0.01,P$6>=$E145-0.01),$D145,\"\"),\"x\")","v":"x"},{"$f":"IF(AND($EO145<=Q$6+0.01,$EP145>Q$6+0.01),IF(AND(Q$6<$F145-0.01,Q$6>=$E145-0.01),$D145,\"\"),\"x\")","v":"x"},{"$f":"IF(AND($EO145<=R$6+0.01,$EP145>R$6+0.01),IF(AND(R$6<$F145-0.01,R$6>=$E145-0.01),$D145,\"\"),\"x\")","v":"x"},{"$f":"IF(AND($EO145<=S$6+0.01,$EP145>S$6+0.01),IF(AND(S$6<$F145-0.01,S$6>=$E145-0.01),$D145,\"\"),\"x\")","v":"x"},{"$f":"IF(AND($EO145<=T$6+0.01,$EP145>T$6+0.01),IF(AND(T$6<$F145-0.01,T$6>=$E145-0.01),$D145,\"\"),\"x\")","v":"x"},{"$f":"IF(AND($EO145<=U$6+0.01,$EP145>U$6+0.01),IF(AND(U$6<$F145-0.01,U$6>=$E145-0.01),$D145,\"\"),\"x\")","v":"x"},{"$f":"IF(AND($EO145<=V$6+0.01,$EP145>V$6+0.01),IF(AND(V$6<$F145-0.01,V$6>=$E145-0.01),$D145,\"\"),\"x\")","v":"x"},{"$f":"IF(AND($EO145<=W$6+0.01,$EP145>W$6+0.01),IF(AND(W$6<$F145-0.01,W$6>=$E145-0.01),$D145,\"\"),\"x\")","v":"x"},{"$f":"IF(AND($EO145<=X$6+0.01,$EP145>X$6+0.01),IF(AND(X$6<$F145-0.01,X$6>=$E145-0.01),$D145,\"\"),\"x\")","v":"x"},{"$f":"IF(AND($EO145<=Y$6+0.01,$EP145>Y$6+0.01),IF(AND(Y$6<$F145-0.01,Y$6>=$E145-0.01),$D145,\"\"),\"x\")","v":"x"},{"$f":"IF(AND($EO145<=Z$6+0.01,$EP145>Z$6+0.01),IF(AND(Z$6<$F145-0.01,Z$6>=$E145-0.01),$D145,\"\"),\"x\")","v":"x"},{"$f":"IF(AND($EO145<=AA$6+0.01,$EP145>AA$6+0.01),IF(AND(AA$6<$F145-0.01,AA$6>=$E145-0.01),$D145,\"\"),\"x\")","v":"x"},{"$f":"IF(AND($EO145<=AB$6+0.01,$EP145>AB$6+0.01),IF(AND(AB$6<$F145-0.01,AB$6>=$E145-0.01),$D145,\"\"),\"x\")","v":"x"},{"$f":"IF(AND($EO145<=AC$6+0.01,$EP145>AC$6+0.01),IF(AND(AC$6<$F145-0.01,AC$6>=$E145-0.01),$D145,\"\"),\"x\")","v":"x"},{"$f":"IF(AND($EO145<=AD$6+0.01,$EP145>AD$6+0.01),IF(AND(AD$6<$F145-0.01,AD$6>=$E145-0.01),$D145,\"\"),\"x\")","v":"x"},{"$f":"IF(AND($EO145<=AE$6+0.01,$EP145>AE$6+0.01),IF(AND(AE$6<$F145-0.01,AE$6>=$E145-0.01),$D145,\"\"),\"x\")","v":"x"},{"$f":"IF(AND($EO145<=AF$6+0.01,$EP145>AF$6+0.01),IF(AND(AF$6<$F145-0.01,AF$6>=$E145-0.01),$D145,\"\"),\"x\")","v":"x"},{"$f":"IF(AND($EO145<=AG$6+0.01,$EP145>AG$6+0.01),IF(AND(AG$6<$F145-0.01,AG$6>=$E145-0.01),$D145,\"\"),\"x\")","v":"x"},{"$f":"IF(AND($EO145<=AH$6+0.01,$EP145>AH$6+0.01),IF(AND(AH$6<$F145-0.01,AH$6>=$E145-0.01),$D145,\"\"),\"x\")","v":"x"},{"$f":"IF(AND($EO145<=AI$6+0.01,$EP145>AI$6+0.01),IF(AND(AI$6<$F145-0.01,AI$6>=$E145-0.01),$D145,\"\"),\"x\")","v":"x"},{"$f":"IF(AND($EO145<=AJ$6+0.01,$EP145>AJ$6+0.01),IF(AND(AJ$6<$F145-0.01,AJ$6>=$E145-0.01),$D145,\"\"),\"x\")","v":"x"},{"$f":"IF(AND($EO145<=AK$6+0.01,$EP145>AK$6+0.01),IF(AND(AK$6<$F145-0.01,AK$6>=$E145-0.01),$D145,\"\"),\"x\")","v":"x"},{"$f":"IF(AND($EO145<=AL$6+0.01,$EP145>AL$6+0.01),IF(AND(AL$6<$F145-0.01,AL$6>=$E145-0.01),$D145,\"\"),\"x\")","v":"x"},{"$f":"IF(AND($EO145<=AM$6+0.01,$EP145>AM$6+0.01),IF(AND(AM$6<$F145-0.01,AM$6>=$E145-0.01),$D145,\"\"),\"x\")","v":"x"},{"$f":"IF(AND($EO145<=AN$6+0.01,$EP145>AN$6+0.01),IF(AND(AN$6<$F145-0.01,AN$6>=$E145-0.01),$D145,\"\"),\"x\")","v":"x"},{"$f":"IF(AND($EO145<=AO$6+0.01,$EP145>AO$6+0.01),IF(AND(AO$6<$F145-0.01,AO$6>=$E145-0.01),$D145,\"\"),\"x\")","v":"x"},{"$f":"IF(AND($EO145<=AP$6+0.01,$EP145>AP$6+0.01),IF(AND(AP$6<$F145-0.01,AP$6>=$E145-0.01),$D145,\"\"),\"x\")","v":"x"},{"$f":"IF(AND($EO145<=AQ$6+0.01,$EP145>AQ$6+0.01),IF(AND(AQ$6<$F145-0.01,AQ$6>=$E145-0.01),$D145,\"\"),\"x\")","v":"x"},{"$f":"IF(AND($EO145<=AR$6+0.01,$EP145>AR$6+0.01),IF(AND(AR$6<$F145-0.01,AR$6>=$E145-0.01),$D145,\"\"),\"x\")","v":"x"},{"$f":"IF(AND($EO145<=AS$6+0.01,$EP145>AS$6+0.01),IF(AND(AS$6<$F145-0.01,AS$6>=$E145-0.01),$D145,\"\"),\"x\")","v":"x"},null,{"$f":"IF(AND(AV145<>\"\",AV145<>\"x\"),0.5,)","v":0},{"$f":"IF(AND(AW145<>\"\",AW145<>\"x\"),0.5,)","v":0},{"$f":"IF(AND(AX145<>\"\",AX145<>\"x\"),0.5,)","v":0},{"$f":"IF(AND(AY145<>\"\",AY145<>\"x\"),0.5,)","v":0},{"$f":"IF(AND(AZ145<>\"\",AZ145<>\"x\"),0.5,)","v":0},{"$f":"IF(AND(BA145<>\"\",BA145<>\"x\"),0.5,)","v":0},{"$f":"IF(AND(BB145<>\"\",BB145<>\"x\"),0.5,)","v":0},{"$f":"IF(AND(BC145<>\"\",BC145<>\"x\"),0.5,)","v":0},{"$f":"IF(AND(BD145<>\"\",BD145<>\"x\"),0.5,)","v":0},{"$f":"IF(AND(BE145<>\"\",BE145<>\"x\"),0.5,)","v":0},{"$f":"IF(AND(BF145<>\"\",BF145<>\"x\"),0.5,)","v":0},{"$f":"IF(AND(BG145<>\"\",BG145<>\"x\"),0.5,)","v":0},{"$f":"IF(AND(BH145<>\"\",BH145<>\"x\"),0.5,)","v":0},{"$f":"IF(AND(BI145<>\"\",BI145<>\"x\"),0.5,)","v":0},{"$f":"IF(AND(BJ145<>\"\",BJ145<>\"x\"),0.5,)","v":0},{"$f":"IF(AND(BK145<>\"\",BK145<>\"x\"),0.5,)","v":0},{"$f":"IF(AND(BL145<>\"\",BL145<>\"x\"),0.5,)","v":0},{"$f":"IF(AND(BM145<>\"\",BM145<>\"x\"),0.5,)","v":0},{"$f":"IF(AND(BN145<>\"\",BN145<>\"x\"),0.5,)","v":0},{"$f":"IF(AND(BO145<>\"\",BO145<>\"x\"),0.5,)","v":0},{"$f":"IF(AND(BP145<>\"\",BP145<>\"x\"),0.5,)","v":0},{"$f":"IF(AND(BQ145<>\"\",BQ145<>\"x\"),0.5,)","v":0},{"$f":"IF(AND(BR145<>\"\",BR145<>\"x\"),0.5,)","v":0},{"$f":"IF(AND(BS145<>\"\",BS145<>\"x\"),0.5,)","v":0},{"$f":"IF(AND(BT145<>\"\",BT145<>\"x\"),0.5,)","v":0},{"$f":"IF(AND(BU145<>\"\",BU145<>\"x\"),0.5,)","v":0},{"$f":"IF(AND(BV145<>\"\",BV145<>\"x\"),0.5,)","v":0},{"$f":"IF(AND(BW145<>\"\",BW145<>\"x\"),0.5,)","v":0},{"$f":"IF(AND(BX145<>\"\",BX145<>\"x\"),0.5,)","v":0},{"$f":"IF(AND(BY145<>\"\",BY145<>\"x\"),0.5,)","v":0},{"$f":"IF(AND(BZ145<>\"\",BZ145<>\"x\"),0.5,)","v":0},{"$f":"IF(AND(CA145<>\"\",CA145<>\"x\"),0.5,)","v":0},{"$f":"IF(AND(CB145<>\"\",CB145<>\"x\"),0.5,)","v":0},{"$f":"IF(AND(CC145<>\"\",CC145<>\"x\"),0.5,)","v":0},{"$f":"IF(AND(CD145<>\"\",CD145<>\"x\"),0.5,)","v":0},{"$f":"IF(AND(CE145<>\"\",CE145<>\"x\"),0.5,)","v":0},{"$f":"IF(AND(CF145<>\"\",CF145<>\"x\"),0.5,)","v":0},{"$f":"IF(AND(CG145<>\"\",CG145<>\"x\"),0.5,)","v":0},null,{"$f":"IF(VLOOKUP($A145,'Schedule Setup'!$A$4:$E$39,5,FALSE)=0,\"\",VLOOKUP($A145,'Schedule Setup'!$A$4:$E$39,5,FALSE))","v":""},{"$f":"SUM(CI145:CT145)","v":0},{"$f":"IFERROR(DW145*$DV145,\"\")","v":""},{"$f":"SUM(CU145:DF145)","v":0},{"$f":"IFERROR(DY145*$DV145,\"\")","v":""},{"$f":"SUM(DG145:DT145)","v":0},{"$f":"IFERROR(EA145*$DV145,\"\")","v":""},{"$f":"SUM(DW145,DY145,EA145)","v":0},{"$f":"IFERROR(EC145*$DV145,\"\")","v":""},null,{"$f":"IF(DW145>5,(DW145-0.5),DW145)","v":0},{"$f":"IFERROR(EF145*$DV145,\"\")","v":""},{"$f":"IF(DY145>5,(DY145-0.5),DY145)","v":0},{"$f":"IFERROR(EH145*$DV145,\"\")","v":""},{"$f":"IF(EA145>5,(EA145-0.5),EA145)","v":0},{"$f":"IFERROR(EJ145*$DV145,\"\")","v":""},{"$f":"SUM(EF145,EH145,EJ145)","v":0},{"$f":"IFERROR(EL145*$DV145,\"\")","v":""},null,{"$f":"'Schedule Setup'!L5","v":"00:00:00"},{"$f":"'Schedule Setup'!M5","v":"00:00:00"},{"$f":"EO145-(0.5/24)","v":-2.0833333333333332E-2},{"$f":"EP145+(0.5/24)","v":"00:30:00"}]
[{"$f":"A145+1","v":2},{"$f":"IF(VLOOKUP($A146,'Schedule Setup'!$A$4:$E$39,2,FALSE)=0,\"\",VLOOKUP($A146,'Schedule Setup'!$A$4:$E$39,2,FALSE))","v":""},{"$f":"IF(VLOOKUP($A146,'Schedule Setup'!$A$4:$E$39,4,FALSE)=0,\"\",VLOOKUP($A146,'Schedule Setup'!$A$4:$E$39,4,FALSE))","v":""},{"$f":"IF(B146<>\"\",IF(OR(C146=\"General Manager (S)\", C146=\"General Manager (H)\"), \"GM\",IF(C146=\"Acting Manager\",\"AM\",IF(C146=\"Shift Manager\",\"SM\",IF(C146=\"Team Lead\",\"TL\",\"TM\")))),\"\")","v":""},null,null,null,"x","x","x","x","x","x","x","x","x","x","x","x","x","x","x","x","x","x","x","x","x","x","x","x","x","x","x","x","x","x","x","x","x","x","x","x","x","x",{"$f":"EC146","v":0},null,"x","x","x","x","x","x","x","x","x","x","x","x","x","x","x","x","x","x","x","x","x","x","x","x","x","x","x","x","x","x","x","x","x","x","x","x","x","x",null,0,0,0,0,0,0,0,0,0,0,0,0,0,0,0,0,0,0,0,0,0,0,0,0,0,0,0,0,0,0,0,0,0,0,0,0,0,0,null,{"$f":"IF(VLOOKUP($A146,'Schedule Setup'!$A$4:$E$39,5,FALSE)=0,\"\",VLOOKUP($A146,'Schedule Setup'!$A$4:$E$39,5,FALSE))","v":""},0,"",0,"",0,"",{"$f":"SUM(DW146,DY146,EA146)","v":0},"",null,{"$f":"IF(DW146>5,(DW146-0.5),DW146)","v":0},"",{"$f":"IF(DY146>5,(DY146-0.5),DY146)","v":0},"",0,"",{"$f":"SUM(EF146,EH146,EJ146)","v":0},"",null,{"$f":"'Schedule Setup'!L6","v":"00:00:00"},{"$f":"'Schedule Setup'!M6","v":"00:00:00"},{"$f":"EO146-(0.5/24)","v":-2.0833333333333332E-2},{"$f":"EP146+(0.5/24)","v":"00:30:00"}]
[{"$f":"A146+1","v":3},{"$f":"IF(VLOOKUP($A147,'Schedule Setup'!$A$4:$E$39,2,FALSE)=0,\"\",VLOOKUP($A147,'Schedule Setup'!$A$4:$E$39,2,FALSE))","v":""},{"$f":"IF(VLOOKUP($A147,'Schedule Setup'!$A$4:$E$39,4,FALSE)=0,\"\",VLOOKUP($A147,'Schedule Setup'!$A$4:$E$39,4,FALSE))","v":""},"",null,null,null,"x","x","x","x","x","x","x","x","x","x",{"$f":"BF147","v":"x"},"x","x","x","x","x","x","x","x","x",{"$f":"BP147","v":"x"},{"$f":"BQ147","v":"x"},"x","x","x","x","x","x","x","x","x",{"$f":"CA147","v":"x"},"x","x","x","x","x","x",0,null,"x","x","x","x","x","x","x","x","x","x","x","x","x","x","x","x","x","x","x","x","x","x","x","x","x","x","x","x","x","x","x","x","x","x","x","x","x","x",null,0,0,0,0,0,0,0,0,0,0,0,0,0,0,0,0,0,0,0,0,0,0,0,0,0,0,0,0,0,0,0,0,0,0,0,0,0,0,null,{"$f":"IF(VLOOKUP($A147,'Schedule Setup'!$A$4:$E$39,5,FALSE)=0,\"\",VLOOKUP($A147,'Schedule Setup'!$A$4:$E$39,5,FALSE))","v":""},0,"",0,"",0,"",{"$f":"SUM(DW147,DY147,EA147)","v":0},"",null,0,"",0,"",0,"",0,"",null,{"$f":"'Schedule Setup'!L7","v":"00:00:00"},{"$f":"'Schedule Setup'!M7","v":"00:00:00"},-2.0833333333333332E-2,"00:30:00"]
[4,{"$f":"IF(VLOOKUP($A148,'Schedule Setup'!$A$4:$E$39,2,FALSE)=0,\"\",VLOOKUP($A148,'Schedule Setup'!$A$4:$E$39,2,FALSE))","v":""},{"$f":"IF(VLOOKUP($A148,'Schedule Setup'!$A$4:$E$39,4,FALSE)=0,\"\",VLOOKUP($A148,'Schedule Setup'!$A$4:$E$39,4,FALSE))","v":""},"",null,null,null,"x","x","x","x","x","x","x","x","x","x","x","x","x","x","x","x","x","x","x","x",{"$f":"BP148","v":"x"},"x","x","x","x","x","x","x","x","x","x","x","x","x","x","x","x","x",0,null,"x","x","x","x","x","x","x","x","x","x","x","x","x","x","x","x","x","x","x","x","x","x","x","x","x","x","x","x","x","x","x","x","x","x","x","x","x","x",null,0,0,0,0,0,0,0,0,0,0,0,0,0,0,0,0,0,0,0,0,0,0,0,0,0,0,0,0,0,0,0,0,0,0,0,0,0,0,null,{"$f":"IF(VLOOKUP($A148,'Schedule Setup'!$A$4:$E$39,5,FALSE)=0,\"\",VLOOKUP($A148,'Schedule Setup'!$A$4:$E$39,5,FALSE))","v":""},0,"",0,"",0,"",0,"",null,0,"",0,"",0,"",0,"",null,{"$f":"'Schedule Setup'!L8","v":"00:00:00"},{"$f":"'Schedule Setup'!M8","v":"00:00:00"},-2.0833333333333332E-2,"00:30:00"]
[5,{"$f":"IF(VLOOKUP($A149,'Schedule Setup'!$A$4:$E$39,2,FALSE)=0,\"\",VLOOKUP($A149,'Schedule Setup'!$A$4:$E$39,2,FALSE))","v":""},{"$f":"IF(VLOOKUP($A149,'Schedule Setup'!$A$4:$E$39,4,FALSE)=0,\"\",VLOOKUP($A149,'Schedule Setup'!$A$4:$E$39,4,FALSE))","v":""},"",null,null,null,"x","x","x","x","x","x","x","x","x","x","x","x","x","x","x","x","x","x","x","x",{"$f":"BP149","v":"x"},"x","x","x","x","x","x","x","x","x","x","x","x","x","x","x","x","x",0,null,"x","x","x","x","x","x","x","x","x","x","x","x","x","x","x","x","x","x","x","x","x","x","x","x","x","x","x","x","x","x","x","x","x","x","x","x","x","x",null,0,0,0,0,0,0,0,0,0,0,0,0,0,0,0,0,0,0,0,0,0,0,0,0,0,0,0,0,0,0,0,0,0,0,0,0,0,0,null,{"$f":"IF(VLOOKUP($A149,'Schedule Setup'!$A$4:$E$39,5,FALSE)=0,\"\",VLOOKUP($A149,'Schedule Setup'!$A$4:$E$39,5,FALSE))","v":""},0,"",0,"",0,"",0,"",null,0,"",0,"",0,"",0,"",null,{"$f":"'Schedule Setup'!L9","v":"00:00:00"},{"$f":"'Schedule Setup'!M9","v":"00:00:00"},-2.0833333333333332E-2,"00:30:00"]
[6,{"$f":"IF(VLOOKUP($A150,'Schedule Setup'!$A$4:$E$39,2,FALSE)=0,\"\",VLOOKUP($A150,'Schedule Setup'!$A$4:$E$39,2,FALSE))","v":""},{"$f":"IF(VLOOKUP($A150,'Schedule Setup'!$A$4:$E$39,4,FALSE)=0,\"\",VLOOKUP($A150,'Schedule Setup'!$A$4:$E$39,4,FALSE))","v":""},"",null,null,null,"x","x","x","x","x","x","x","x","x","x","x","x","x","x","x","x","x","x","x","x",{"$f":"BP150","v":"x"},"x","x","x","x","x","x","x","x","x","x","x","x","x","x","x","x","x",0,null,"x","x","x","x","x","x","x","x","x","x","x","x","x","x","x","x","x","x","x","x","x","x","x","x","x","x","x","x","x","x","x","x","x","x","x","x","x","x",null,0,0,0,0,0,0,0,0,0,0,0,0,0,0,0,0,0,0,0,0,0,0,0,0,0,0,0,0,0,0,0,0,0,0,0,0,0,0,null,{"$f":"IF(VLOOKUP($A150,'Schedule Setup'!$A$4:$E$39,5,FALSE)=0,\"\",VLOOKUP($A150,'Schedule Setup'!$A$4:$E$39,5,FALSE))","v":""},0,"",0,"",0,"",0,"",null,0,"",0,"",0,"",0,"",null,{"$f":"'Schedule Setup'!L10","v":"00:00:00"},{"$f":"'Schedule Setup'!M10","v":"00:00:00"},-2.0833333333333332E-2,"00:30:00"]
[7,{"$f":"IF(VLOOKUP($A151,'Schedule Setup'!$A$4:$E$39,2,FALSE)=0,\"\",VLOOKUP($A151,'Schedule Setup'!$A$4:$E$39,2,FALSE))","v":""},{"$f":"IF(VLOOKUP($A151,'Schedule Setup'!$A$4:$E$39,4,FALSE)=0,\"\",VLOOKUP($A151,'Schedule Setup'!$A$4:$E$39,4,FALSE))","v":""},"",null,null,null,"x","x","x","x","x","x","x","x","x","x","x","x","x","x","x","x","x","x","x","x",{"$f":"BP151","v":"x"},{"$f":"BQ151","v":"x"},"x","x","x","x","x",{"$f":"BW151","v":"x"},"x","x","x","x","x","x","x","x","x","x",0,null,"x","x","x","x","x","x","x","x","x","x","x","x","x","x","x","x","x","x","x","x","x","x","x","x","x","x","x","x","x","x","x","x","x","x","x","x","x","x",null,0,0,0,0,0,0,0,0,0,0,0,0,0,0,0,0,0,0,0,0,0,0,0,0,0,0,0,0,0,0,0,0,0,0,0,0,0,0,null,{"$f":"IF(VLOOKUP($A151,'Schedule Setup'!$A$4:$E$39,5,FALSE)=0,\"\",VLOOKUP($A151,'Schedule Setup'!$A$4:$E$39,5,FALSE))","v":""},0,"",0,"",0,"",0,"",null,0,"",0,"",0,"",0,"",null,{"$f":"'Schedule Setup'!L11","v":"00:00:00"},{"$f":"'Schedule Setup'!M11","v":"00:00:00"},-2.0833333333333332E-2,"00:30:00"]
[8,{"$f":"IF(VLOOKUP($A152,'Schedule Setup'!$A$4:$E$39,2,FALSE)=0,\"\",VLOOKUP($A152,'Schedule Setup'!$A$4:$E$39,2,FALSE))","v":""},{"$f":"IF(VLOOKUP($A152,'Schedule Setup'!$A$4:$E$39,4,FALSE)=0,\"\",VLOOKUP($A152,'Schedule Setup'!$A$4:$E$39,4,FALSE))","v":""},"",null,null,null,{"$f":"AV152","v":"x"},"x","x","x","x","x","x","x","x","x",{"$f":"BF152","v":"x"},"x","x","x","x","x",{"$f":"BL152","v":"x"},"x","x","x","x","x","x","x","x","x","x","x","x","x","x","x","x","x","x","x","x","x",0,null,"x","x","x","x","x","x","x","x","x","x","x","x","x","x","x","x","x","x","x","x","x","x","x","x","x","x","x","x","x","x","x","x","x","x","x","x","x","x",null,0,0,0,0,0,0,0,0,0,0,0,0,0,0,0,0,0,0,0,0,0,0,0,0,0,0,0,0,0,0,0,0,0,0,0,0,0,0,null,{"$f":"IF(VLOOKUP($A152,'Schedule Setup'!$A$4:$E$39,5,FALSE)=0,\"\",VLOOKUP($A152,'Schedule Setup'!$A$4:$E$39,5,FALSE))","v":""},0,{"$f":"IFERROR(DW152*$DV152,\"\")","v":""},0,"",0,"",0,"",null,0,"",0,"",0,"",0,"",null,{"$f":"'Schedule Setup'!L12","v":"00:00:00"},{"$f":"'Schedule Setup'!M12","v":"00:00:00"},-2.0833333333333332E-2,"00:30:00"]
[9,{"$f":"IF(VLOOKUP($A153,'Schedule Setup'!$A$4:$E$39,2,FALSE)=0,\"\",VLOOKUP($A153,'Schedule Setup'!$A$4:$E$39,2,FALSE))","v":""},{"$f":"IF(VLOOKUP($A153,'Schedule Setup'!$A$4:$E$39,4,FALSE)=0,\"\",VLOOKUP($A153,'Schedule Setup'!$A$4:$E$39,4,FALSE))","v":""},"",null,null,null,"x","x","x","x","x","x","x","x","x","x",{"$f":"BF153","v":"x"},{"$f":"BG153","v":"x"},{"$f":"BH153","v":"x"},{"$f":"BI153","v":"x"},"x","x","x","x","x","x","x","x","x","x","x","x","x","x","x","x","x","x","x","x","x","x","x","x",0,null,"x","x","x","x","x","x","x","x","x","x","x","x","x","x","x","x","x","x","x","x","x","x","x","x","x","x","x","x","x","x","x","x","x","x","x","x","x","x",null,0,0,0,0,0,0,0,0,0,0,0,0,0,0,0,0,0,0,0,0,0,0,0,0,0,0,0,0,0,0,0,0,0,0,0,0,0,0,null,{"$f":"IF(VLOOKUP($A153,'Schedule Setup'!$A$4:$E$39,5,FALSE)=0,\"\",VLOOKUP($A153,'Schedule Setup'!$A$4:$E$39,5,FALSE))","v":""},0,{"$f":"IFERROR(DW153*$DV153,\"\")","v":""},0,"",0,"",0,"",null,0,"",0,"",0,"",0,"",null,{"$f":"'Schedule Setup'!L13","v":"00:00:00"},{"$f":"'Schedule Setup'!M13","v":"00:00:00"},-2.0833333333333332E-2,"00:30:00"]
[10,{"$f":"IF(VLOOKUP($A154,'Schedule Setup'!$A$4:$E$39,2,FALSE)=0,\"\",VLOOKUP($A154,'Schedule Setup'!$A$4:$E$39,2,FALSE))","v":""},{"$f":"IF(VLOOKUP($A154,'Schedule Setup'!$A$4:$E$39,4,FALSE)=0,\"\",VLOOKUP($A154,'Schedule Setup'!$A$4:$E$39,4,FALSE))","v":""},"",null,null,null,"x","x","x","x","x","x","x","x","x","x","x","x","x","x","x","x","x","x","x","x","x","x","x","x","x","x","x","x","x","x","x","x","x","x","x","x","x","x",0,null,"x","x","x","x","x","x","x","x","x","x","x","x","x","x","x","x","x","x","x","x","x","x","x","x","x","x","x","x","x","x","x","x","x","x","x","x","x","x",null,0,0,0,0,0,0,0,0,0,0,0,0,0,0,0,0,0,0,0,0,0,0,0,0,0,0,0,0,0,0,0,0,0,0,0,0,0,0,null,{"$f":"IF(VLOOKUP($A154,'Schedule Setup'!$A$4:$E$39,5,FALSE)=0,\"\",VLOOKUP($A154,'Schedule Setup'!$A$4:$E$39,5,FALSE))","v":""},0,"",0,"",0,"",0,"",null,0,"",0,"",0,"",0,"",null,{"$f":"'Schedule Setup'!L14","v":"00:00:00"},{"$f":"'Schedule Setup'!M14","v":"00:00:00"},-2.0833333333333332E-2,"00:30:00"]
[11,{"$f":"IF(VLOOKUP($A155,'Schedule Setup'!$A$4:$E$39,2,FALSE)=0,\"\",VLOOKUP($A155,'Schedule Setup'!$A$4:$E$39,2,FALSE))","v":""},{"$f":"IF(VLOOKUP($A155,'Schedule Setup'!$A$4:$E$39,4,FALSE)=0,\"\",VLOOKUP($A155,'Schedule Setup'!$A$4:$E$39,4,FALSE))","v":""},"",null,null,null,"x","x","x","x","x","x","x","x","x","x","x","x","x","x","x","x","x","x","x","x","x","x","x","x","x","x","x","x","x","x","x","x","x","x","x","x","x","x",0,null,"x","x","x","x","x","x","x","x","x","x","x","x","x","x","x","x","x","x","x","x","x","x","x","x","x","x","x","x","x","x","x","x","x","x","x","x","x","x",null,0,0,0,0,0,0,0,0,0,0,0,0,0,0,0,0,0,0,0,0,0,0,0,0,0,0,0,0,0,0,0,0,0,0,0,0,0,0,null,{"$f":"IF(VLOOKUP($A155,'Schedule Setup'!$A$4:$E$39,5,FALSE)=0,\"\",VLOOKUP($A155,'Schedule Setup'!$A$4:$E$39,5,FALSE))","v":""},0,"",0,"",0,"",0,"",null,0,"",0,"",0,"",0,"",null,{"$f":"'Schedule Setup'!L15","v":"00:00:00"},{"$f":"'Schedule Setup'!M15","v":"00:00:00"},-2.0833333333333332E-2,"00:30:00"]
[12,{"$f":"IF(VLOOKUP($A156,'Schedule Setup'!$A$4:$E$39,2,FALSE)=0,\"\",VLOOKUP($A156,'Schedule Setup'!$A$4:$E$39,2,FALSE))","v":""},{"$f":"IF(VLOOKUP($A156,'Schedule Setup'!$A$4:$E$39,4,FALSE)=0,\"\",VLOOKUP($A156,'Schedule Setup'!$A$4:$E$39,4,FALSE))","v":""},"",null,null,null,"x","x","x","x","x","x","x","x","x","x","x","x","x","x","x","x","x","x","x","x","x","x","x","x","x","x","x","x","x","x","x","x","x","x","x","x","x","x",0,null,"x","x","x","x","x","x","x","x","x","x","x","x","x","x","x","x","x","x","x","x","x","x","x","x","x","x","x","x","x","x","x","x","x","x","x","x","x","x",null,0,0,0,0,0,0,0,0,0,0,0,0,0,0,0,0,0,0,0,0,0,0,0,0,0,0,0,0,0,0,0,0,0,0,0,0,0,0,null,{"$f":"IF(VLOOKUP($A156,'Schedule Setup'!$A$4:$E$39,5,FALSE)=0,\"\",VLOOKUP($A156,'Schedule Setup'!$A$4:$E$39,5,FALSE))","v":""},0,"",0,"",0,"",0,"",null,0,"",0,"",0,"",0,"",null,{"$f":"'Schedule Setup'!L16","v":"00:00:00"},{"$f":"'Schedule Setup'!M16","v":"00:00:00"},-2.0833333333333332E-2,"00:30:00"]
[13,{"$f":"IF(VLOOKUP($A157,'Schedule Setup'!$A$4:$E$39,2,FALSE)=0,\"\",VLOOKUP($A157,'Schedule Setup'!$A$4:$E$39,2,FALSE))","v":""},{"$f":"IF(VLOOKUP($A157,'Schedule Setup'!$A$4:$E$39,4,FALSE)=0,\"\",VLOOKUP($A157,'Schedule Setup'!$A$4:$E$39,4,FALSE))","v":""},"",null,null,null,"x","x","x","x","x","x","x","x","x","x","x","x","x","x","x","x","x","x","x","x","x","x","x","x","x","x","x","x","x","x","x","x","x","x","x","x","x","x",0,null,"x","x","x","x","x","x","x","x","x","x","x","x","x","x","x","x","x","x","x","x","x","x","x","x","x","x","x","x","x","x","x","x","x","x","x","x","x","x",null,0,0,0,0,0,0,0,0,0,0,0,0,0,0,0,0,0,0,0,0,0,0,0,0,0,0,0,0,0,0,0,0,0,0,0,0,0,0,null,{"$f":"IF(VLOOKUP($A157,'Schedule Setup'!$A$4:$E$39,5,FALSE)=0,\"\",VLOOKUP($A157,'Schedule Setup'!$A$4:$E$39,5,FALSE))","v":""},0,"",0,"",0,"",0,"",null,0,"",0,"",0,"",0,"",null,{"$f":"'Schedule Setup'!L17","v":"00:00:00"},{"$f":"'Schedule Setup'!M17","v":"00:00:00"},-2.0833333333333332E-2,"00:30:00"]
[14,{"$f":"IF(VLOOKUP($A158,'Schedule Setup'!$A$4:$E$39,2,FALSE)=0,\"\",VLOOKUP($A158,'Schedule Setup'!$A$4:$E$39,2,FALSE))","v":""},{"$f":"IF(VLOOKUP($A158,'Schedule Setup'!$A$4:$E$39,4,FALSE)=0,\"\",VLOOKUP($A158,'Schedule Setup'!$A$4:$E$39,4,FALSE))","v":""},"",null,null,null,"x","x","x","x","x","x","x","x","x","x","x","x","x","x","x","x","x","x","x","x","x","x","x","x","x","x","x","x","x","x","x","x","x","x","x","x","x","x",0,null,"x","x","x","x","x","x","x","x","x","x","x","x","x","x","x","x","x","x","x","x","x","x","x","x","x","x","x","x","x","x","x","x","x","x","x","x","x","x",null,0,0,0,0,0,0,0,0,0,0,0,0,0,0,0,0,0,0,0,0,0,0,0,0,0,0,0,0,0,0,0,0,0,0,0,0,0,0,null,{"$f":"IF(VLOOKUP($A158,'Schedule Setup'!$A$4:$E$39,5,FALSE)=0,\"\",VLOOKUP($A158,'Schedule Setup'!$A$4:$E$39,5,FALSE))","v":""},0,"",0,"",0,"",0,"",null,0,"",0,"",0,"",0,"",null,{"$f":"'Schedule Setup'!L18","v":"00:00:00"},{"$f":"'Schedule Setup'!M18","v":"00:00:00"},-2.0833333333333332E-2,"00:30:00"]
[15,{"$f":"IF(VLOOKUP($A159,'Schedule Setup'!$A$4:$E$39,2,FALSE)=0,\"\",VLOOKUP($A159,'Schedule Setup'!$A$4:$E$39,2,FALSE))","v":""},{"$f":"IF(VLOOKUP($A159,'Schedule Setup'!$A$4:$E$39,4,FALSE)=0,\"\",VLOOKUP($A159,'Schedule Setup'!$A$4:$E$39,4,FALSE))","v":""},"",null,null,null,"x","x","x","x","x","x","x","x","x","x","x","x","x","x","x","x","x","x","x","x","x","x","x","x","x","x","x","x","x","x","x","x","x","x","x","x","x","x",0,null,"x","x","x","x","x","x","x","x","x","x","x","x","x","x","x","x","x","x","x","x","x","x","x","x","x","x","x","x","x","x","x","x","x","x","x","x","x","x",null,0,0,0,0,0,0,0,0,0,0,0,0,0,0,0,0,0,0,0,0,0,0,0,0,0,0,0,0,0,0,0,0,0,0,0,0,0,0,null,{"$f":"IF(VLOOKUP($A159,'Schedule Setup'!$A$4:$E$39,5,FALSE)=0,\"\",VLOOKUP($A159,'Schedule Setup'!$A$4:$E$39,5,FALSE))","v":""},0,"",0,"",0,"",0,"",null,0,"",0,"",0,"",0,"",null,{"$f":"'Schedule Setup'!L19","v":"00:00:00"},{"$f":"'Schedule Setup'!M19","v":"00:00:00"},-2.0833333333333332E-2,"00:30:00"]
[16,{"$f":"IF(VLOOKUP($A160,'Schedule Setup'!$A$4:$E$39,2,FALSE)=0,\"\",VLOOKUP($A160,'Schedule Setup'!$A$4:$E$39,2,FALSE))","v":""},{"$f":"IF(VLOOKUP($A160,'Schedule Setup'!$A$4:$E$39,4,FALSE)=0,\"\",VLOOKUP($A160,'Schedule Setup'!$A$4:$E$39,4,FALSE))","v":""},"",null,null,null,"x","x","x","x","x","x","x","x","x","x","x","x","x","x","x","x","x","x","x","x","x","x","x","x","x","x","x","x","x","x","x","x","x","x","x","x","x","x",0,null,"x","x","x","x","x","x","x","x","x","x","x","x","x","x","x","x","x","x","x","x","x","x","x","x","x","x","x","x","x","x","x","x","x","x","x","x","x","x",null,0,0,0,0,0,0,0,0,0,0,0,0,0,0,0,0,0,0,0,0,0,0,0,0,0,0,0,0,0,0,0,0,0,0,0,0,0,0,null,{"$f":"IF(VLOOKUP($A160,'Schedule Setup'!$A$4:$E$39,5,FALSE)=0,\"\",VLOOKUP($A160,'Schedule Setup'!$A$4:$E$39,5,FALSE))","v":""},0,"",0,"",0,"",0,"",null,0,"",0,"",0,"",0,"",null,{"$f":"'Schedule Setup'!L20","v":"00:00:00"},{"$f":"'Schedule Setup'!M20","v":"00:00:00"},-2.0833333333333332E-2,"00:30:00"]
[17,{"$f":"IF(VLOOKUP($A161,'Schedule Setup'!$A$4:$E$39,2,FALSE)=0,\"\",VLOOKUP($A161,'Schedule Setup'!$A$4:$E$39,2,FALSE))","v":""},{"$f":"IF(VLOOKUP($A161,'Schedule Setup'!$A$4:$E$39,4,FALSE)=0,\"\",VLOOKUP($A161,'Schedule Setup'!$A$4:$E$39,4,FALSE))","v":""},"",null,null,null,"x","x","x","x","x","x","x","x","x","x","x","x","x","x","x","x","x","x","x","x","x","x","x","x","x","x","x","x","x","x","x","x","x","x","x","x","x","x",0,null,"x","x","x","x","x","x","x","x","x","x","x","x","x","x","x","x","x","x","x","x","x","x","x","x","x","x","x","x","x","x","x","x","x","x","x","x","x","x",null,0,0,0,0,0,0,0,0,0,0,0,0,0,0,0,0,0,0,0,0,0,0,0,0,0,0,0,0,0,0,0,0,0,0,0,0,0,0,null,{"$f":"IF(VLOOKUP($A161,'Schedule Setup'!$A$4:$E$39,5,FALSE)=0,\"\",VLOOKUP($A161,'Schedule Setup'!$A$4:$E$39,5,FALSE))","v":""},0,"",0,"",0,"",0,"",null,0,"",0,"",0,"",0,"",null,{"$f":"'Schedule Setup'!L21","v":"00:00:00"},{"$f":"'Schedule Setup'!M21","v":"00:00:00"},-2.0833333333333332E-2,"00:30:00"]
[18,{"$f":"IF(VLOOKUP($A162,'Schedule Setup'!$A$4:$E$39,2,FALSE)=0,\"\",VLOOKUP($A162,'Schedule Setup'!$A$4:$E$39,2,FALSE))","v":""},{"$f":"IF(VLOOKUP($A162,'Schedule Setup'!$A$4:$E$39,4,FALSE)=0,\"\",VLOOKUP($A162,'Schedule Setup'!$A$4:$E$39,4,FALSE))","v":""},"",null,null,null,"x","x","x","x","x","x","x","x","x","x","x","x","x","x","x","x","x","x","x","x","x","x","x","x","x","x","x","x","x","x","x","x","x","x","x","x","x","x",0,null,"x","x","x","x","x","x","x","x","x","x","x","x","x","x","x","x","x","x","x","x","x","x","x","x","x","x","x","x","x","x","x","x","x","x","x","x","x","x",null,0,0,0,0,0,0,0,0,0,0,0,0,0,0,0,0,0,0,0,0,0,0,0,0,0,0,0,0,0,0,0,0,0,0,0,0,0,0,null,{"$f":"IF(VLOOKUP($A162,'Schedule Setup'!$A$4:$E$39,5,FALSE)=0,\"\",VLOOKUP($A162,'Schedule Setup'!$A$4:$E$39,5,FALSE))","v":""},0,"",0,"",0,"",0,"",null,0,"",0,"",0,"",0,"",null,{"$f":"'Schedule Setup'!L22","v":"00:00:00"},{"$f":"'Schedule Setup'!M22","v":"00:00:00"},-2.0833333333333332E-2,"00:30:00"]
[19,{"$f":"IF(VLOOKUP($A163,'Schedule Setup'!$A$4:$E$39,2,FALSE)=0,\"\",VLOOKUP($A163,'Schedule Setup'!$A$4:$E$39,2,FALSE))","v":""},{"$f":"IF(VLOOKUP($A163,'Schedule Setup'!$A$4:$E$39,4,FALSE)=0,\"\",VLOOKUP($A163,'Schedule Setup'!$A$4:$E$39,4,FALSE))","v":""},"",null,null,null,"x","x","x","x","x","x","x","x","x","x","x","x","x","x","x","x","x","x","x","x","x","x","x","x","x","x","x","x","x","x","x","x","x","x","x","x","x","x",0,null,"x","x","x","x","x","x","x","x","x","x","x","x","x","x","x","x","x","x","x","x","x","x","x","x","x","x","x","x","x","x","x","x","x","x","x","x","x","x",null,0,0,0,0,0,0,0,0,0,0,0,0,0,0,0,0,0,0,0,0,0,0,0,0,0,0,0,0,0,0,0,0,0,0,0,0,0,0,null,{"$f":"IF(VLOOKUP($A163,'Schedule Setup'!$A$4:$E$39,5,FALSE)=0,\"\",VLOOKUP($A163,'Schedule Setup'!$A$4:$E$39,5,FALSE))","v":""},0,"",0,"",0,"",0,"",null,0,"",0,"",0,"",0,"",null,{"$f":"'Schedule Setup'!L23","v":"00:00:00"},{"$f":"'Schedule Setup'!M23","v":"00:00:00"},-2.0833333333333332E-2,"00:30:00"]
[20,{"$f":"IF(VLOOKUP($A164,'Schedule Setup'!$A$4:$E$39,2,FALSE)=0,\"\",VLOOKUP($A164,'Schedule Setup'!$A$4:$E$39,2,FALSE))","v":""},{"$f":"IF(VLOOKUP($A164,'Schedule Setup'!$A$4:$E$39,4,FALSE)=0,\"\",VLOOKUP($A164,'Schedule Setup'!$A$4:$E$39,4,FALSE))","v":""},"",null,null,null,"x","x","x","x","x","x","x","x","x","x","x","x","x","x","x","x","x","x","x","x","x","x","x","x","x","x","x","x","x","x","x","x","x","x","x","x","x","x",0,null,"x","x","x","x","x","x","x","x","x","x","x","x","x","x","x","x","x","x","x","x","x","x","x","x","x","x","x","x","x","x","x","x","x","x","x","x","x","x",null,0,0,0,0,0,0,0,0,0,0,0,0,0,0,0,0,0,0,0,0,0,0,0,0,0,0,0,0,0,0,0,0,0,0,0,0,0,0,null,{"$f":"IF(VLOOKUP($A164,'Schedule Setup'!$A$4:$E$39,5,FALSE)=0,\"\",VLOOKUP($A164,'Schedule Setup'!$A$4:$E$39,5,FALSE))","v":""},0,"",0,"",0,"",0,"",null,0,"",0,"",0,"",0,"",null,{"$f":"'Schedule Setup'!L24","v":"00:00:00"},{"$f":"'Schedule Setup'!M24","v":"00:00:00"},-2.0833333333333332E-2,"00:30:00"]
[21,{"$f":"IF(VLOOKUP($A165,'Schedule Setup'!$A$4:$E$39,2,FALSE)=0,\"\",VLOOKUP($A165,'Schedule Setup'!$A$4:$E$39,2,FALSE))","v":""},{"$f":"IF(VLOOKUP($A165,'Schedule Setup'!$A$4:$E$39,4,FALSE)=0,\"\",VLOOKUP($A165,'Schedule Setup'!$A$4:$E$39,4,FALSE))","v":""},"",null,null,null,"x","x","x","x","x","x","x","x","x","x","x","x","x","x","x","x","x","x","x","x","x","x","x","x","x","x","x","x","x","x","x","x","x","x","x","x","x","x",0,null,"x","x","x","x","x","x","x","x","x","x","x","x","x","x","x","x","x","x","x","x","x","x","x","x","x","x","x","x","x","x","x","x","x","x","x","x","x","x",null,0,0,0,0,0,0,0,0,0,0,0,0,0,0,0,0,0,0,0,0,0,0,0,0,0,0,0,0,0,0,0,0,0,0,0,0,0,0,null,{"$f":"IF(VLOOKUP($A165,'Schedule Setup'!$A$4:$E$39,5,FALSE)=0,\"\",VLOOKUP($A165,'Schedule Setup'!$A$4:$E$39,5,FALSE))","v":""},0,"",0,"",0,"",0,"",null,0,"",0,"",0,"",0,"",null,{"$f":"'Schedule Setup'!L25","v":"00:00:00"},{"$f":"'Schedule Setup'!M25","v":"00:00:00"},-2.0833333333333332E-2,"00:30:00"]
[22,{"$f":"IF(VLOOKUP($A166,'Schedule Setup'!$A$4:$E$39,2,FALSE)=0,\"\",VLOOKUP($A166,'Schedule Setup'!$A$4:$E$39,2,FALSE))","v":""},{"$f":"IF(VLOOKUP($A166,'Schedule Setup'!$A$4:$E$39,4,FALSE)=0,\"\",VLOOKUP($A166,'Schedule Setup'!$A$4:$E$39,4,FALSE))","v":""},"",null,null,null,"x","x","x","x","x","x","x","x","x","x","x","x","x","x","x","x","x","x","x","x","x","x","x","x","x","x","x","x","x","x","x","x","x","x","x","x","x","x",0,null,"x","x","x","x","x","x","x","x","x","x","x","x","x","x","x","x","x","x","x","x","x","x","x","x","x","x","x","x","x","x","x","x","x","x","x","x","x","x",null,0,0,0,0,0,0,0,0,0,0,0,0,0,0,0,0,0,0,0,0,0,0,0,0,0,0,0,0,0,0,0,0,0,0,0,0,0,0,null,{"$f":"IF(VLOOKUP($A166,'Schedule Setup'!$A$4:$E$39,5,FALSE)=0,\"\",VLOOKUP($A166,'Schedule Setup'!$A$4:$E$39,5,FALSE))","v":""},0,"",0,"",0,"",0,"",null,0,"",0,"",0,"",0,"",null,{"$f":"'Schedule Setup'!L26","v":"00:00:00"},{"$f":"'Schedule Setup'!M26","v":"00:00:00"},{"$f":"EO166-(0.5/24)","v":-2.0833333333333332E-2},{"$f":"EP166+(0.5/24)","v":"00:30:00"}]
[23,{"$f":"IF(VLOOKUP($A167,'Schedule Setup'!$A$4:$E$39,2,FALSE)=0,\"\",VLOOKUP($A167,'Schedule Setup'!$A$4:$E$39,2,FALSE))","v":""},{"$f":"IF(VLOOKUP($A167,'Schedule Setup'!$A$4:$E$39,4,FALSE)=0,\"\",VLOOKUP($A167,'Schedule Setup'!$A$4:$E$39,4,FALSE))","v":""},"",null,null,null,"x","x","x","x","x","x","x","x","x","x","x","x","x","x","x","x","x","x","x","x","x","x","x","x","x","x","x","x","x","x","x","x","x","x","x","x","x","x",0,null,"x","x","x","x","x","x","x","x","x","x","x","x","x","x","x","x","x","x","x","x","x","x","x","x","x","x","x","x","x","x","x","x","x","x","x","x","x","x",null,0,0,0,0,0,0,0,0,0,0,0,0,0,0,0,0,0,0,0,0,0,0,0,0,0,0,0,0,0,0,0,0,0,0,0,0,0,0,null,{"$f":"IF(VLOOKUP($A167,'Schedule Setup'!$A$4:$E$39,5,FALSE)=0,\"\",VLOOKUP($A167,'Schedule Setup'!$A$4:$E$39,5,FALSE))","v":""},0,"",0,"",0,"",0,"",null,0,"",0,"",0,"",0,"",null,{"$f":"'Schedule Setup'!L27","v":"00:00:00"},{"$f":"'Schedule Setup'!M27","v":"00:00:00"},-2.0833333333333332E-2,"00:30:00"]
[24,{"$f":"IF(VLOOKUP($A168,'Schedule Setup'!$A$4:$E$39,2,FALSE)=0,\"\",VLOOKUP($A168,'Schedule Setup'!$A$4:$E$39,2,FALSE))","v":""},{"$f":"IF(VLOOKUP($A168,'Schedule Setup'!$A$4:$E$39,4,FALSE)=0,\"\",VLOOKUP($A168,'Schedule Setup'!$A$4:$E$39,4,FALSE))","v":""},{"$f":"IF(B168<>\"\",IF(OR(C168=\"General Manager (S)\", C168=\"General Manager (H)\"), \"GM\",IF(C168=\"Acting Manager\",\"AM\",IF(C168=\"Shift Manager\",\"SM\",IF(C168=\"Team Lead\",\"TL\",\"TM\")))),\"\")","v":""},null,null,null,{"$f":"AV168","v":"x"},{"$f":"AW168","v":"x"},{"$f":"AX168","v":"x"},{"$f":"AY168","v":"x"},{"$f":"AZ168","v":"x"},{"$f":"BA168","v":"x"},{"$f":"BB168","v":"x"},{"$f":"BC168","v":"x"},{"$f":"BD168","v":"x"},{"$f":"BE168","v":"x"},{"$f":"BF168","v":"x"},{"$f":"BG168","v":"x"},{"$f":"BH168","v":"x"},{"$f":"BI168","v":"x"},"x","x","x","x","x","x","x","x","x","x","x","x","x","x","x",{"$f":"BY168","v":"x"},{"$f":"BZ168","v":"x"},{"$f":"CA168","v":"x"},{"$f":"CB168","v":"x"},{"$f":"CC168","v":"x"},{"$f":"CD168","v":"x"},{"$f":"CE168","v":"x"},{"$f":"CF168","v":"x"},{"$f":"CG168","v":"x"},{"$f":"EC168","v":0},null,"x","x","x","x","x","x","x","x","x","x","x","x","x","x","x","x","x","x","x","x","x","x","x","x","x","x","x","x","x","x","x","x","x","x","x","x","x","x",null,0,0,0,0,0,0,0,0,0,0,0,0,0,0,0,0,0,0,0,0,0,0,0,0,0,0,0,0,0,0,0,0,0,0,0,0,0,0,null,{"$f":"IF(VLOOKUP($A168,'Schedule Setup'!$A$4:$E$39,5,FALSE)=0,\"\",VLOOKUP($A168,'Schedule Setup'!$A$4:$E$39,5,FALSE))","v":""},0,{"$f":"IFERROR(DW168*$DV168,\"\")","v":""},{"$f":"SUM(CU168:DF168)","v":0},{"$f":"IFERROR(DY168*$DV168,\"\")","v":""},{"$f":"SUM(DG168:DT168)","v":0},{"$f":"IFERROR(EA168*$DV168,\"\")","v":""},{"$f":"SUM(DW168,DY168,EA168)","v":0},{"$f":"IFERROR(EC168*$DV168,\"\")","v":""},null,{"$f":"IF(DW168>5,(DW168-0.5),DW168)","v":0},{"$f":"IFERROR(EF168*$DV168,\"\")","v":""},{"$f":"IF(DY168>5,(DY168-0.5),DY168)","v":0},{"$f":"IFERROR(EH168*$DV168,\"\")","v":""},{"$f":"IF(EA168>5,(EA168-0.5),EA168)","v":0},{"$f":"IFERROR(EJ168*$DV168,\"\")","v":""},{"$f":"SUM(EF168,EH168,EJ168)","v":0},{"$f":"IFERROR(EL168*$DV168,\"\")","v":""},null,{"$f":"'Schedule Setup'!L28","v":"00:00:00"},{"$f":"'Schedule Setup'!M28","v":"00:00:00"},-2.0833333333333332E-2,"00:30:00"]
[25,{"$f":"IF(VLOOKUP($A169,'Schedule Setup'!$A$4:$E$39,2,FALSE)=0,\"\",VLOOKUP($A169,'Schedule Setup'!$A$4:$E$39,2,FALSE))","v":""},{"$f":"IF(VLOOKUP($A169,'Schedule Setup'!$A$4:$E$39,4,FALSE)=0,\"\",VLOOKUP($A169,'Schedule Setup'!$A$4:$E$39,4,FALSE))","v":""},"",null,null,null,"x","x","x","x","x","x","x","x","x","x","x","x","x","x","x","x","x","x","x","x","x","x","x","x","x","x","x","x","x","x","x","x","x","x","x","x","x","x",0,null,"x","x","x","x","x","x","x","x","x","x","x","x","x","x","x","x","x","x","x","x","x","x","x","x","x","x","x","x","x","x","x","x","x","x","x","x","x","x",null,0,0,0,0,0,0,0,0,0,0,0,0,0,0,0,0,0,0,0,0,0,0,0,0,0,0,0,0,0,0,0,0,0,0,0,0,0,0,null,{"$f":"IF(VLOOKUP($A169,'Schedule Setup'!$A$4:$E$39,5,FALSE)=0,\"\",VLOOKUP($A169,'Schedule Setup'!$A$4:$E$39,5,FALSE))","v":""},0,"",0,"",0,"",0,"",null,0,"",0,"",0,"",0,"",null,{"$f":"'Schedule Setup'!L29","v":"00:00:00"},{"$f":"'Schedule Setup'!M29","v":"00:00:00"},-2.0833333333333332E-2,"00:30:00"]
[26,{"$f":"IF(VLOOKUP($A170,'Schedule Setup'!$A$4:$E$39,2,FALSE)=0,\"\",VLOOKUP($A170,'Schedule Setup'!$A$4:$E$39,2,FALSE))","v":""},{"$f":"IF(VLOOKUP($A170,'Schedule Setup'!$A$4:$E$39,4,FALSE)=0,\"\",VLOOKUP($A170,'Schedule Setup'!$A$4:$E$39,4,FALSE))","v":""},"",null,null,null,"x","x","x","x","x","x","x","x","x","x","x","x","x","x","x","x","x","x","x","x","x","x","x","x","x","x","x","x","x","x","x","x","x","x","x","x","x","x",0,null,"x","x","x","x","x","x","x","x","x","x","x","x","x","x","x","x","x","x","x","x","x","x","x","x","x","x","x","x","x","x","x","x","x","x","x","x","x","x",null,0,0,0,0,0,0,0,0,0,0,0,0,0,0,0,0,0,0,0,0,0,0,0,0,0,0,0,0,0,0,0,0,0,0,0,0,0,0,null,{"$f":"IF(VLOOKUP($A170,'Schedule Setup'!$A$4:$E$39,5,FALSE)=0,\"\",VLOOKUP($A170,'Schedule Setup'!$A$4:$E$39,5,FALSE))","v":""},0,"",0,"",0,"",0,"",null,0,"",0,"",0,"",0,"",null,{"$f":"'Schedule Setup'!L30","v":"00:00:00"},{"$f":"'Schedule Setup'!M30","v":"00:00:00"},-2.0833333333333332E-2,"00:30:00"]
[27,{"$f":"IF(VLOOKUP($A171,'Schedule Setup'!$A$4:$E$39,2,FALSE)=0,\"\",VLOOKUP($A171,'Schedule Setup'!$A$4:$E$39,2,FALSE))","v":""},{"$f":"IF(VLOOKUP($A171,'Schedule Setup'!$A$4:$E$39,4,FALSE)=0,\"\",VLOOKUP($A171,'Schedule Setup'!$A$4:$E$39,4,FALSE))","v":""},"",null,null,null,"x","x","x","x","x","x","x","x","x","x","x","x","x","x","x","x","x","x","x","x","x","x","x","x","x","x","x","x","x","x","x","x","x","x","x","x","x","x",0,null,"x","x","x","x","x","x","x","x","x","x","x","x","x","x","x","x","x","x","x","x","x","x","x","x","x","x","x","x","x","x","x","x","x","x","x","x","x","x",null,0,0,0,0,0,0,0,0,0,0,0,0,0,0,0,0,0,0,0,0,0,0,0,0,0,0,0,0,0,0,0,0,0,0,0,0,0,0,null,{"$f":"IF(VLOOKUP($A171,'Schedule Setup'!$A$4:$E$39,5,FALSE)=0,\"\",VLOOKUP($A171,'Schedule Setup'!$A$4:$E$39,5,FALSE))","v":""},0,"",0,"",0,"",0,"",null,0,"",0,"",0,"",0,"",null,{"$f":"'Schedule Setup'!L31","v":"00:00:00"},{"$f":"'Schedule Setup'!M31","v":"00:00:00"},-2.0833333333333332E-2,"00:30:00"]
[28,{"$f":"IF(VLOOKUP($A172,'Schedule Setup'!$A$4:$E$39,2,FALSE)=0,\"\",VLOOKUP($A172,'Schedule Setup'!$A$4:$E$39,2,FALSE))","v":""},{"$f":"IF(VLOOKUP($A172,'Schedule Setup'!$A$4:$E$39,4,FALSE)=0,\"\",VLOOKUP($A172,'Schedule Setup'!$A$4:$E$39,4,FALSE))","v":""},"",null,null,null,"x","x","x","x","x","x","x","x","x","x","x","x","x","x","x","x","x","x","x","x","x","x","x","x","x","x","x","x","x","x","x","x","x","x","x","x","x","x",0,null,"x","x","x","x","x","x","x","x","x","x","x","x","x","x","x","x","x","x","x","x","x","x","x","x","x","x","x","x","x","x","x","x","x","x","x","x","x","x",null,0,0,0,0,0,0,0,0,0,0,0,0,0,0,0,0,0,0,0,0,0,0,0,0,0,0,0,0,0,0,0,0,0,0,0,0,0,0,null,{"$f":"IF(VLOOKUP($A172,'Schedule Setup'!$A$4:$E$39,5,FALSE)=0,\"\",VLOOKUP($A172,'Schedule Setup'!$A$4:$E$39,5,FALSE))","v":""},0,"",0,"",0,"",0,"",null,0,"",0,"",0,"",0,"",null,{"$f":"'Schedule Setup'!L32","v":"00:00:00"},{"$f":"'Schedule Setup'!M32","v":"00:00:00"},-2.0833333333333332E-2,"00:30:00"]
[29,{"$f":"IF(VLOOKUP($A173,'Schedule Setup'!$A$4:$E$39,2,FALSE)=0,\"\",VLOOKUP($A173,'Schedule Setup'!$A$4:$E$39,2,FALSE))","v":""},{"$f":"IF(VLOOKUP($A173,'Schedule Setup'!$A$4:$E$39,4,FALSE)=0,\"\",VLOOKUP($A173,'Schedule Setup'!$A$4:$E$39,4,FALSE))","v":""},"",null,null,null,"x","x","x","x","x","x","x","x","x","x","x","x","x","x","x","x","x","x","x","x","x","x","x","x","x","x","x","x","x","x","x","x","x","x","x","x","x","x",0,null,"x","x","x","x","x","x","x","x","x","x","x","x","x","x","x","x","x","x","x","x","x","x","x","x","x","x","x","x","x","x","x","x","x","x","x","x","x","x",null,0,0,0,0,0,0,0,0,0,0,0,0,0,0,0,0,0,0,0,0,0,0,0,0,0,0,0,0,0,0,0,0,0,0,0,0,0,0,null,{"$f":"IF(VLOOKUP($A173,'Schedule Setup'!$A$4:$E$39,5,FALSE)=0,\"\",VLOOKUP($A173,'Schedule Setup'!$A$4:$E$39,5,FALSE))","v":""},0,"",0,"",0,"",0,"",null,0,"",0,"",0,"",0,"",null,{"$f":"'Schedule Setup'!L33","v":"00:00:00"},{"$f":"'Schedule Setup'!M33","v":"00:00:00"},-2.0833333333333332E-2,"00:30:00"]
[30,{"$f":"IF(VLOOKUP($A174,'Schedule Setup'!$A$4:$E$39,2,FALSE)=0,\"\",VLOOKUP($A174,'Schedule Setup'!$A$4:$E$39,2,FALSE))","v":""},{"$f":"IF(VLOOKUP($A174,'Schedule Setup'!$A$4:$E$39,4,FALSE)=0,\"\",VLOOKUP($A174,'Schedule Setup'!$A$4:$E$39,4,FALSE))","v":""},"",null,null,null,"x","x","x","x","x","x","x","x","x","x","x","x","x","x","x","x","x","x","x","x","x","x","x","x","x","x","x","x","x","x","x","x","x","x","x","x","x","x",0,null,"x","x","x","x","x","x","x","x","x","x","x","x","x","x","x","x","x","x","x","x","x","x","x","x","x","x","x","x","x","x","x","x","x","x","x","x","x","x",null,0,0,0,0,0,0,0,0,0,0,0,0,0,0,0,0,0,0,0,0,0,0,0,0,0,0,0,0,0,0,0,0,0,0,0,0,0,0,null,{"$f":"IF(VLOOKUP($A174,'Schedule Setup'!$A$4:$E$39,5,FALSE)=0,\"\",VLOOKUP($A174,'Schedule Setup'!$A$4:$E$39,5,FALSE))","v":""},0,"",0,"",0,"",0,"",null,0,"",0,"",0,"",0,"",null,{"$f":"'Schedule Setup'!L34","v":"00:00:00"},{"$f":"'Schedule Setup'!M34","v":"00:00:00"},-2.0833333333333332E-2,"00:30:00"]
[31,{"$f":"IF(VLOOKUP($A175,'Schedule Setup'!$A$4:$E$39,2,FALSE)=0,\"\",VLOOKUP($A175,'Schedule Setup'!$A$4:$E$39,2,FALSE))","v":""},{"$f":"IF(VLOOKUP($A175,'Schedule Setup'!$A$4:$E$39,4,FALSE)=0,\"\",VLOOKUP($A175,'Schedule Setup'!$A$4:$E$39,4,FALSE))","v":""},"",null,null,null,"x","x","x","x","x","x","x","x","x","x","x","x","x","x","x","x","x","x","x","x","x","x","x","x","x","x","x","x","x","x","x","x","x","x","x","x","x","x",0,null,"x","x","x","x","x","x","x","x","x","x","x","x","x","x","x","x","x","x","x","x","x","x","x","x","x","x","x","x","x","x","x","x","x","x","x","x","x","x",null,0,0,0,0,0,0,0,0,0,0,0,0,0,0,0,0,0,0,0,0,0,0,0,0,0,0,0,0,0,0,0,0,0,0,0,0,0,0,null,{"$f":"IF(VLOOKUP($A175,'Schedule Setup'!$A$4:$E$39,5,FALSE)=0,\"\",VLOOKUP($A175,'Schedule Setup'!$A$4:$E$39,5,FALSE))","v":""},0,"",0,"",0,"",0,"",null,0,"",0,"",0,"",0,"",null,{"$f":"'Schedule Setup'!L35","v":"00:00:00"},{"$f":"'Schedule Setup'!M35","v":"00:00:00"},-2.0833333333333332E-2,"00:30:00"]
[32,{"$f":"IF(VLOOKUP($A176,'Schedule Setup'!$A$4:$E$39,2,FALSE)=0,\"\",VLOOKUP($A176,'Schedule Setup'!$A$4:$E$39,2,FALSE))","v":""},{"$f":"IF(VLOOKUP($A176,'Schedule Setup'!$A$4:$E$39,4,FALSE)=0,\"\",VLOOKUP($A176,'Schedule Setup'!$A$4:$E$39,4,FALSE))","v":""},"",null,null,null,"x","x","x","x","x","x","x","x","x","x","x","x","x","x","x","x","x","x","x","x","x","x","x","x","x","x","x","x","x","x","x","x","x","x","x","x","x","x",0,null,"x","x","x","x","x","x","x","x","x","x","x","x","x","x","x","x","x","x","x","x","x","x","x","x","x","x","x","x","x","x","x","x","x","x","x","x","x","x",null,0,0,0,0,0,0,0,0,0,0,0,0,0,0,0,0,0,0,0,0,0,0,0,0,0,0,0,0,0,0,0,0,0,0,0,0,0,0,null,{"$f":"IF(VLOOKUP($A176,'Schedule Setup'!$A$4:$E$39,5,FALSE)=0,\"\",VLOOKUP($A176,'Schedule Setup'!$A$4:$E$39,5,FALSE))","v":""},0,"",0,"",0,"",0,"",null,0,"",0,"",0,"",0,"",null,{"$f":"'Schedule Setup'!L36","v":"00:00:00"},{"$f":"'Schedule Setup'!M36","v":"00:00:00"},-2.0833333333333332E-2,"00:30:00"]
[33,{"$f":"IF(VLOOKUP($A177,'Schedule Setup'!$A$4:$E$39,2,FALSE)=0,\"\",VLOOKUP($A177,'Schedule Setup'!$A$4:$E$39,2,FALSE))","v":""},{"$f":"IF(VLOOKUP($A177,'Schedule Setup'!$A$4:$E$39,4,FALSE)=0,\"\",VLOOKUP($A177,'Schedule Setup'!$A$4:$E$39,4,FALSE))","v":""},"",null,null,null,"x","x","x","x","x","x","x","x","x","x","x","x","x","x","x","x","x","x","x","x","x","x","x","x","x","x","x","x","x","x","x","x","x","x","x","x","x","x",0,null,"x","x","x","x","x","x","x","x","x","x","x","x","x","x","x","x","x","x","x","x","x","x","x","x","x","x","x","x","x","x","x","x","x","x","x","x","x","x",null,0,0,0,0,0,0,0,0,0,0,0,0,0,0,0,0,0,0,0,0,0,0,0,0,0,0,0,0,0,0,0,0,0,0,0,0,0,0,null,{"$f":"IF(VLOOKUP($A177,'Schedule Setup'!$A$4:$E$39,5,FALSE)=0,\"\",VLOOKUP($A177,'Schedule Setup'!$A$4:$E$39,5,FALSE))","v":""},0,"",0,"",0,"",0,"",null,0,"",0,"",0,"",0,"",null,{"$f":"'Schedule Setup'!L37","v":"00:00:00"},{"$f":"'Schedule Setup'!M37","v":"00:00:00"},-2.0833333333333332E-2,"00:30:00"]
[34,{"$f":"IF(VLOOKUP($A178,'Schedule Setup'!$A$4:$E$39,2,FALSE)=0,\"\",VLOOKUP($A178,'Schedule Setup'!$A$4:$E$39,2,FALSE))","v":""},{"$f":"IF(VLOOKUP($A178,'Schedule Setup'!$A$4:$E$39,4,FALSE)=0,\"\",VLOOKUP($A178,'Schedule Setup'!$A$4:$E$39,4,FALSE))","v":""},"",null,null,null,"x","x","x","x","x","x","x","x","x","x",{"$f":"BF178","v":"x"},"x","x","x","x",{"$f":"BK178","v":"x"},"x","x","x","x","x","x","x","x","x","x","x","x","x","x","x","x","x","x","x","x","x","x",0,null,"x","x","x","x","x","x","x","x","x","x","x","x","x","x","x","x","x","x","x","x","x","x","x","x","x","x","x","x","x","x","x","x","x","x","x","x","x","x",null,0,0,0,0,0,0,0,0,0,0,0,0,0,0,0,0,0,0,0,0,0,0,0,0,0,0,0,0,0,0,0,0,0,0,0,0,0,0,null,{"$f":"IF(VLOOKUP($A178,'Schedule Setup'!$A$4:$E$39,5,FALSE)=0,\"\",VLOOKUP($A178,'Schedule Setup'!$A$4:$E$39,5,FALSE))","v":""},0,"",0,"",0,"",0,"",null,0,"",0,"",0,"",0,"",null,{"$f":"'Schedule Setup'!L28","v":"00:00:00"},{"$f":"'Schedule Setup'!M28","v":"00:00:00"},-2.0833333333333332E-2,"00:30:00"]
[35,{"$f":"IF(VLOOKUP($A179,'Schedule Setup'!$A$4:$E$39,2,FALSE)=0,\"\",VLOOKUP($A179,'Schedule Setup'!$A$4:$E$39,2,FALSE))","v":""},{"$f":"IF(VLOOKUP($A179,'Schedule Setup'!$A$4:$E$39,4,FALSE)=0,\"\",VLOOKUP($A179,'Schedule Setup'!$A$4:$E$39,4,FALSE))","v":""},"",null,null,null,"x","x","x","x","x","x","x","x","x","x","x","x","x","x","x","x","x","x","x","x","x","x","x","x","x","x","x","x","x","x","x","x","x","x","x","x","x","x",0,null,"x","x","x","x","x","x","x","x","x","x","x","x","x","x","x","x","x","x","x","x","x","x","x","x","x","x","x","x","x","x","x","x","x","x","x","x","x","x",null,0,0,0,0,0,0,0,0,0,0,0,0,0,0,0,0,0,0,0,0,0,0,0,0,0,0,0,0,0,0,0,0,0,0,0,0,0,0,null,{"$f":"IF(VLOOKUP($A179,'Schedule Setup'!$A$4:$E$39,5,FALSE)=0,\"\",VLOOKUP($A179,'Schedule Setup'!$A$4:$E$39,5,FALSE))","v":""},0,"",0,"",0,"",0,"",null,0,"",0,"",0,"",0,"",null,{"$f":"'Schedule Setup'!L39","v":"00:00:00"},{"$f":"'Schedule Setup'!M39","v":"00:00:00"},-2.0833333333333332E-2,"00:30:00"]
[null,null,null,"Totals/Coverage",{"$f":"MIN(E145:E179)","v":"00:00:00"},{"$f":"MAX(F145:F179)","v":"00:00:00"},null,{"$f":"CI180","v":0},{"$f":"CJ180","v":0},{"$f":"CK180","v":0},{"$f":"CL180","v":0},{"$f":"CM180","v":0},{"$f":"CN180","v":0},{"$f":"CO180","v":0},{"$f":"CP180","v":0},{"$f":"CQ180","v":0},{"$f":"CR180","v":0},{"$f":"CS180","v":0},{"$f":"CT180","v":0},{"$f":"CU180","v":0},{"$f":"CV180","v":0},{"$f":"CW180","v":0},{"$f":"CX180","v":0},{"$f":"CY180","v":0},{"$f":"CZ180","v":0},{"$f":"DA180","v":0},{"$f":"DB180","v":0},{"$f":"DC180","v":0},{"$f":"DD180","v":0},{"$f":"DE180","v":0},{"$f":"DF180","v":0},{"$f":"DG180","v":0},{"$f":"DH180","v":0},{"$f":"DI180","v":0},{"$f":"DJ180","v":0},{"$f":"DK180","v":0},{"$f":"DL180","v":0},{"$f":"DM180","v":0},{"$f":"DN180","v":0},{"$f":"DO180","v":0},{"$f":"DP180","v":0},{"$f":"DQ180","v":0},{"$f":"DR180","v":0},{"$f":"DS180","v":0},{"$f":"DT180","v":0},{"$f":"SUM(AT145:AT179)","v":0},null,null,null,null,null,null,null,null,null,null,null,null,null,null,null,null,null,null,null,null,null,null,null,null,null,null,null,null,null,null,null,null,null,null,null,null,null,null,null,null,{"$f":"COUNTIF(CI145:CI179,0.5)","v":0},{"$f":"COUNTIF(CJ145:CJ179,0.5)","v":0},{"$f":"COUNTIF(CK145:CK179,0.5)","v":0},{"$f":"COUNTIF(CL145:CL179,0.5)","v":0},{"$f":"COUNTIF(CM145:CM179,0.5)","v":0},{"$f":"COUNTIF(CN145:CN179,0.5)","v":0},{"$f":"COUNTIF(CO145:CO179,0.5)","v":0},{"$f":"COUNTIF(CP145:CP179,0.5)","v":0},{"$f":"COUNTIF(CQ145:CQ179,0.5)","v":0},{"$f":"COUNTIF(CR145:CR179,0.5)","v":0},{"$f":"COUNTIF(CS145:CS179,0.5)","v":0},{"$f":"COUNTIF(CT145:CT179,0.5)","v":0},{"$f":"COUNTIF(CU145:CU179,0.5)","v":0},{"$f":"COUNTIF(CV145:CV179,0.5)","v":0},{"$f":"COUNTIF(CW145:CW179,0.5)","v":0},{"$f":"COUNTIF(CX145:CX179,0.5)","v":0},{"$f":"COUNTIF(CY145:CY179,0.5)","v":0},{"$f":"COUNTIF(CZ145:CZ179,0.5)","v":0},{"$f":"COUNTIF(DA145:DA179,0.5)","v":0},{"$f":"COUNTIF(DB145:DB179,0.5)","v":0},{"$f":"COUNTIF(DC145:DC179,0.5)","v":0},{"$f":"COUNTIF(DD145:DD179,0.5)","v":0},{"$f":"COUNTIF(DE145:DE179,0.5)","v":0},{"$f":"COUNTIF(DF145:DF179,0.5)","v":0},{"$f":"COUNTIF(DG145:DG179,0.5)","v":0},{"$f":"COUNTIF(DH145:DH179,0.5)","v":0},{"$f":"COUNTIF(DI145:DI179,0.5)","v":0},{"$f":"COUNTIF(DJ145:DJ179,0.5)","v":0},{"$f":"COUNTIF(DK145:DK179,0.5)","v":0},{"$f":"COUNTIF(DL145:DL179,0.5)","v":0},{"$f":"COUNTIF(DM145:DM179,0.5)","v":0},{"$f":"COUNTIF(DN145:DN179,0.5)","v":0},{"$f":"COUNTIF(DO145:DO179,0.5)","v":0},{"$f":"COUNTIF(DP145:DP179,0.5)","v":0},{"$f":"COUNTIF(DQ145:DQ179,0.5)","v":0},{"$f":"COUNTIF(DR145:DR179,0.5)","v":0},{"$f":"COUNTIF(DS145:DS179,0.5)","v":0},{"$f":"COUNTIF(DT145:DT179,0.5)","v":0},null,null,{"$f":"SUM(DW145:DW179)","v":0},0,0,0,0,0,0,0,null,{"$f":"SUM(EF145:EF179)","v":0},0,0,0,0,0,0,0,null,{"$f":"'Schedule Setup'!L40","v":"07:30:00"},{"$f":"'Schedule Setup'!M40","v":"21:00:00"},"07:00:00","21:30:00"]
[null,null,null,null,null,{"$f":"'Schedule Forecast'!A14","v":"Last Week"},null,{"$f":"IFERROR(INDEX(INDIRECT(\"'\"&$F181&\"'!$F:$F\"),MATCH(H$6,INDIRECT(\"'\"&$F181&\"'!$A$1:$A$250\"),0)+1),0)","v":0},0,0,0,0,0,0,0,0,0,{"$f":"IFERROR(INDEX(INDIRECT(\"'\"&$F181&\"'!$F:$F\"),MATCH(R$6,INDIRECT(\"'\"&$F181&\"'!$A$1:$A$250\"),0)+1),0)","v":0},0,0,0,0,0,0,0,0,0,{"$f":"IFERROR(INDEX(INDIRECT(\"'\"&$F181&\"'!$F:$F\"),MATCH(AB$6,INDIRECT(\"'\"&$F181&\"'!$A$1:$A$250\"),0)+1),0)","v":0},0,0,0,0,0,0,0,0,0,{"$f":"IFERROR(INDEX(INDIRECT(\"'\"&$F181&\"'!$F:$F\"),MATCH(AL$6,INDIRECT(\"'\"&$F181&\"'!$A$1:$A$250\"),0)+1),0)","v":0},0,0,0,0,0,0,0]
[null,null,null,null,null,{"$f":"'Schedule Forecast'!A15","v":"2 Weeks Ago"},null,0,0,0,0,0,0,0,0,0,0,0,0,0,0,0,0,0,0,0,0,0,0,0,0,0,0,0,0,0,0,0,0,0,0,0,0,0,0]
[null,null,null,null,null,{"$f":"'Schedule Forecast'!A16","v":"3 Weeks Ago"},null,0,0,0,0,0,0,0,0,0,0,0,0,0,0,0,0,0,0,0,0,0,0,0,0,0,0,0,0,0,0,0,0,0,0,0,0,0,0]
[null,null,null,null,null,{"$f":"'Schedule Forecast'!A17","v":"4 Weeks Ago"},null,0,0,0,0,0,0,0,0,0,0,0,0,0,0,0,0,0,0,0,0,0,0,0,0,0,0,0,0,0,0,0,0,0,0,0,0,0,0]
[null,null,null,null,null,"AVERAGE",null,{"$f":"IFERROR(IF(AND(H$6>=$EO$180,H$6<$EP$180-0.001),AVERAGE(H181:H184),\"\"),\"\")","v":""},"","","","",0,0,0,0,0,0,0,0,0,0,0,0,0,0,0,0,0,0,0,0,0,0,0,0,0,0,0,"","","","","",""]
[null,null,null,null,null,null,null,{"$f":"IFERROR(IF((H185*'Schedule Forecast'!$C$4-$AC$2)>1,(H185*'Schedule Forecast'!$C$4-$AC$2),1),\"\")","v":""},{"$f":"IFERROR(IF((I185*'Schedule Forecast'!$C$4-$AC$2)>1,(I185*'Schedule Forecast'!$C$4-$AC$2),1),\"\")","v":""},{"$f":"IFERROR(IF((J185*'Schedule Forecast'!$C$4-$AC$2)>1,(J185*'Schedule Forecast'!$C$4-$AC$2),1),\"\")","v":""},{"$f":"IFERROR(IF((K185*'Schedule Forecast'!$C$4-$AC$2)>1,(K185*'Schedule Forecast'!$C$4-$AC$2),1),\"\")","v":""},{"$f":"IFERROR(IF((L185*'Schedule Forecast'!$C$4-$AC$2)>1,(L185*'Schedule Forecast'!$C$4-$AC$2),1),\"\")","v":""},{"$f":"IFERROR(IF((M185*'Schedule Forecast'!$C$4-$AC$2)>1,(M185*'Schedule Forecast'!$C$4-$AC$2),1),\"\")","v":1},{"$f":"IFERROR(IF((N185*'Schedule Forecast'!$C$4-$AC$2)>1,(N185*'Schedule Forecast'!$C$4-$AC$2),1),\"\")","v":1},{"$f":"IFERROR(IF((O185*'Schedule Forecast'!$C$4-$AC$2)>1,(O185*'Schedule Forecast'!$C$4-$AC$2),1),\"\")","v":1},{"$f":"IFERROR(IF((P185*'Schedule Forecast'!$C$4-$AC$2)>1,(P185*'Schedule Forecast'!$C$4-$AC$2),1),\"\")","v":1},{"$f":"IFERROR(IF((Q185*'Schedule Forecast'!$C$4-$AC$2)>1,(Q185*'Schedule Forecast'!$C$4-$AC$2),1),\"\")","v":1},{"$f":"IFERROR(IF((R185*'Schedule Forecast'!$C$4-$AC$2)>1,(R185*'Schedule Forecast'!$C$4-$AC$2),1),\"\")","v":1},{"$f":"IFERROR(IF((S185*'Schedule Forecast'!$C$4-$AC$2)>1,(S185*'Schedule Forecast'!$C$4-$AC$2),1),\"\")","v":1},{"$f":"IFERROR(IF((T185*'Schedule Forecast'!$C$4-$AC$2)>1,(T185*'Schedule Forecast'!$C$4-$AC$2),1),\"\")","v":1},{"$f":"IFERROR(IF((U185*'Schedule Forecast'!$C$4-$AC$2)>1,(U185*'Schedule Forecast'!$C$4-$AC$2),1),\"\")","v":1},{"$f":"IFERROR(IF((V185*'Schedule Forecast'!$C$4-$AC$2)>1,(V185*'Schedule Forecast'!$C$4-$AC$2),1),\"\")","v":1},{"$f":"IFERROR(IF((W185*'Schedule Forecast'!$C$4-$AC$2)>1,(W185*'Schedule Forecast'!$C$4-$AC$2),1),\"\")","v":1},{"$f":"IFERROR(IF((X185*'Schedule Forecast'!$C$4-$AC$2)>1,(X185*'Schedule Forecast'!$C$4-$AC$2),1),\"\")","v":1},{"$f":"IFERROR(IF((Y185*'Schedule Forecast'!$C$4-$AC$2)>1,(Y185*'Schedule Forecast'!$C$4-$AC$2),1),\"\")","v":1},{"$f":"IFERROR(IF((Z185*'Schedule Forecast'!$C$4-$AC$2)>1,(Z185*'Schedule Forecast'!$C$4-$AC$2),1),\"\")","v":1},{"$f":"IFERROR(IF((AA185*'Schedule Forecast'!$C$4-$AC$2)>1,(AA185*'Schedule Forecast'!$C$4-$AC$2),1),\"\")","v":1},{"$f":"IFERROR(IF((AB185*'Schedule Forecast'!$C$4-$AC$2)>1,(AB185*'Schedule Forecast'!$C$4-$AC$2),1),\"\")","v":1},{"$f":"IFERROR(IF((AC185*'Schedule Forecast'!$C$4-$AC$2)>1,(AC185*'Schedule Forecast'!$C$4-$AC$2),1),\"\")","v":1},{"$f":"IFERROR(IF((AD185*'Schedule Forecast'!$C$4-$AC$2)>1,(AD185*'Schedule Forecast'!$C$4-$AC$2),1),\"\")","v":1},{"$f":"IFERROR(IF((AE185*'Schedule Forecast'!$C$4-$AC$2)>1,(AE185*'Schedule Forecast'!$C$4-$AC$2),1),\"\")","v":1},{"$f":"IFERROR(IF((AF185*'Schedule Forecast'!$C$4-$AC$2)>1,(AF185*'Schedule Forecast'!$C$4-$AC$2),1),\"\")","v":1},{"$f":"IFERROR(IF((AG185*'Schedule Forecast'!$C$4-$AC$2)>1,(AG185*'Schedule Forecast'!$C$4-$AC$2),1),\"\")","v":1},{"$f":"IFERROR(IF((AH185*'Schedule Forecast'!$C$4-$AC$2)>1,(AH185*'Schedule Forecast'!$C$4-$AC$2),1),\"\")","v":1},{"$f":"IFERROR(IF((AI185*'Schedule Forecast'!$C$4-$AC$2)>1,(AI185*'Schedule Forecast'!$C$4-$AC$2),1),\"\")","v":1},{"$f":"IFERROR(IF((AJ185*'Schedule Forecast'!$C$4-$AC$2)>1,(AJ185*'Schedule Forecast'!$C$4-$AC$2),1),\"\")","v":1},{"$f":"IFERROR(IF((AK185*'Schedule Forecast'!$C$4-$AC$2)>1,(AK185*'Schedule Forecast'!$C$4-$AC$2),1),\"\")","v":1},{"$f":"IFERROR(IF((AL185*'Schedule Forecast'!$C$4-$AC$2)>1,(AL185*'Schedule Forecast'!$C$4-$AC$2),1),\"\")","v":1},{"$f":"IFERROR(IF((AM185*'Schedule Forecast'!$C$4-$AC$2)>1,(AM185*'Schedule Forecast'!$C$4-$AC$2),1),\"\")","v":1},{"$f":"IFERROR(IF((AN185*'Schedule Forecast'!$C$4-$AC$2)>1,(AN185*'Schedule Forecast'!$C$4-$AC$2),1),\"\")","v":""},{"$f":"IFERROR(IF((AO185*'Schedule Forecast'!$C$4-$AC$2)>1,(AO185*'Schedule Forecast'!$C$4-$AC$2),1),\"\")","v":""},{"$f":"IFERROR(IF((AP185*'Schedule Forecast'!$C$4-$AC$2)>1,(AP185*'Schedule Forecast'!$C$4-$AC$2),1),\"\")","v":""},{"$f":"IFERROR(IF((AQ185*'Schedule Forecast'!$C$4-$AC$2)>1,(AQ185*'Schedule Forecast'!$C$4-$AC$2),1),\"\")","v":""},{"$f":"IFERROR(IF((AR185*'Schedule Forecast'!$C$4-$AC$2)>1,(AR185*'Schedule Forecast'!$C$4-$AC$2),1),\"\")","v":""},{"$f":"IFERROR(IF((AS185*'Schedule Forecast'!$C$4-$AC$2)>1,(AS185*'Schedule Forecast'!$C$4-$AC$2),1),\"\")","v":""}]
[null,null,null,null,null,null,"Recommended:",{"$f":"IF(H144>=$EO$180,IF(H144<$EP$180-0.01,ROUND(IF(H186>1,(H186*$B$48)+1,H186)*2,0),\"\"),\"\")","v":""},"","","","",2,2,2,2,2,2,2,2,2,2,2,2,2,2,2,2,2,2,2,2,2,2,2,2,2,2,2,"","","","","","",{"$f":"SUM(H187:AS187)/2","v":27}]
[]
[null,"Saturday",null,null,null,null,null,null,null,null,null,null,null,null,null,null,null,null,{"$f":"S143","v":"Today's Date"},{"$f":"T5+4","v":"2019-05-05"},null,null,null,null,null,null,null,null,null,null,null,null,null,null,null,null,null,null,null,null,null,null,null,null,null,null,null,null,null,null,null,null,null,null,null,null,null,null,null,null,null,null,null,null,null,null,null,null,null,null,null,null,null,null,null,null,null,null,null,null,null,null,null,null,null,null,null,null,null,null,null,null,null,null,null,null,null,null,null,null,null,null,null,null,null,null,null,null,null,null,null,null,null,null,null,null,null,null,null,null,null,null,null,null,null,null,"Breakfast",null,"Lunch",null,"Dinner",null,"Total",null,null,"Breakfast",null,"Lunch",null,"Dinner",null,"Total",null,null,"Availability"]
[null,"Employee","Job",null,"Start","End",null,"05:00:00",{"$f":"H190+(0.5/24)","v":"05:30:00"},{"$f":"I190+(0.5/24)","v":"06:00:00"},{"$f":"J190+(0.5/24)","v":"06:30:00"},{"$f":"K190+(0.5/24)","v":"07:00:00"},{"$f":"L190+(0.5/24)","v":"07:30:00"},{"$f":"M190+(0.5/24)","v":"08:00:00"},{"$f":"N190+(0.5/24)","v":"08:30:00"},{"$f":"O190+(0.5/24)","v":"09:00:00"},{"$f":"P190+(0.5/24)","v":"09:30:00"},{"$f":"Q190+(0.5/24)","v":"10:00:00"},{"$f":"R190+(0.5/24)","v":"10:30:00"},{"$f":"S190+(0.5/24)","v":"11:00:00"},{"$f":"T190+(0.5/24)","v":"11:30:00"},{"$f":"U190+(0.5/24)","v":"12:00:00"},{"$f":"V190+(0.5/24)","v":"12:30:00"},{"$f":"W190+(0.5/24)","v":"13:00:00"},{"$f":"X190+(0.5/24)","v":"13:30:00"},{"$f":"Y190+(0.5/24)","v":"14:00:00"},{"$f":"Z190+(0.5/24)","v":"14:30:00"},{"$f":"AA190+(0.5/24)","v":"15:00:00"},{"$f":"AB190+(0.5/24)","v":"15:30:00"},{"$f":"AC190+(0.5/24)","v":"16:00:00"},{"$f":"AD190+(0.5/24)","v":"16:30:00"},{"$f":"AE190+(0.5/24)","v":"17:00:00"},{"$f":"AF190+(0.5/24)","v":"17:30:00"},{"$f":"AG190+(0.5/24)","v":"18:00:00"},{"$f":"AH190+(0.5/24)","v":"18:30:00"},{"$f":"AI190+(0.5/24)","v":"19:00:00"},{"$f":"AJ190+(0.5/24)","v":"19:30:00"},{"$f":"AK190+(0.5/24)","v":"20:00:00"},{"$f":"AL190+(0.5/24)","v":"20:30:00"},{"$f":"AM190+(0.5/24)","v":"21:00:00"},{"$f":"AN190+(0.5/24)","v":"21:30:00"},{"$f":"AO190+(0.5/24)","v":"22:00:00"},{"$f":"AP190+(0.5/24)","v":"22:30:00"},{"$f":"AQ190+(0.5/24)","v":"23:00:00"},{"$f":"AR190+(0.5/24)","v":"23:30:00"},"TOTAL",null,5,null,6,null,7,null,8,null,9,null,10,null,11,null,12,null,1,null,2,null,3,null,4,null,5,null,6,null,7,null,8,null,9,null,10,null,11,null,null,5,null,6,null,7,null,8,null,9,null,10,null,11,null,12,null,1,null,2,null,3,null,4,null,5,null,6,null,7,null,8,null,9,null,10,null,11,null,null,"Rate","Hrs","$","Hrs","$","Hrs","$","Hrs","$",null,"Hrs","$","Hrs","$","Hrs","$","Hrs","$",null,"Start","End","Start-Early","End-Late"]
[1,{"$f":"IF(VLOOKUP($A191,'Schedule Setup'!$A$4:$E$39,2,FALSE)=0,\"\",VLOOKUP($A191,'Schedule Setup'!$A$4:$E$39,2,FALSE))","v":""},{"$f":"IF(VLOOKUP($A191,'Schedule Setup'!$A$4:$E$39,4,FALSE)=0,\"\",VLOOKUP($A191,'Schedule Setup'!$A$4:$E$39,4,FALSE))","v":""},{"$f":"IF(B191<>\"\",IF(OR(C191=\"General Manager (S)\", C191=\"General Manager (H)\"), \"GM\",IF(C191=\"Acting Manager\",\"AM\",IF(C191=\"Shift Manager\",\"SM\",IF(C191=\"Team Lead\",\"TL\",\"TM\")))),\"\")","v":""},null,null,null,{"$f":"AV191","v":"x"},"x","x","x","x","x","x","x","x","x",{"$f":"BF191","v":"x"},"x","x","x","x","x","x","x","x","x",{"$f":"BP191","v":"x"},"x","x","x","x","x","x","x","x","x",{"$f":"BZ191","v":"x"},"x","x","x","x","x","x","x",{"$f":"EC191","v":0},null,{"$f":"IF(AND($EO191<=H$6+0.01,$EP191>H$6+0.01),IF(AND(H$6<$F191-0.01,H$6>=$E191-0.01),$D191,\"\"),\"x\")","v":"x"},{"$f":"IF(AND($EO191<=I$6+0.01,$EP191>I$6+0.01),IF(AND(I$6<$F191-0.01,I$6>=$E191-0.01),$D191,\"\"),\"x\")","v":"x"},{"$f":"IF(AND($EO191<=J$6+0.01,$EP191>J$6+0.01),IF(AND(J$6<$F191-0.01,J$6>=$E191-0.01),$D191,\"\"),\"x\")","v":"x"},{"$f":"IF(AND($EO191<=K$6+0.01,$EP191>K$6+0.01),IF(AND(K$6<$F191-0.01,K$6>=$E191-0.01),$D191,\"\"),\"x\")","v":"x"},{"$f":"IF(AND($EO191<=L$6+0.01,$EP191>L$6+0.01),IF(AND(L$6<$F191-0.01,L$6>=$E191-0.01),$D191,\"\"),\"x\")","v":"x"},{"$f":"IF(AND($EO191<=M$6+0.01,$EP191>M$6+0.01),IF(AND(M$6<$F191-0.01,M$6>=$E191-0.01),$D191,\"\"),\"x\")","v":"x"},{"$f":"IF(AND($EO191<=N$6+0.01,$EP191>N$6+0.01),IF(AND(N$6<$F191-0.01,N$6>=$E191-0.01),$D191,\"\"),\"x\")","v":"x"},{"$f":"IF(AND($EO191<=O$6+0.01,$EP191>O$6+0.01),IF(AND(O$6<$F191-0.01,O$6>=$E191-0.01),$D191,\"\"),\"x\")","v":"x"},{"$f":"IF(AND($EO191<=P$6+0.01,$EP191>P$6+0.01),IF(AND(P$6<$F191-0.01,P$6>=$E191-0.01),$D191,\"\"),\"x\")","v":"x"},{"$f":"IF(AND($EO191<=Q$6+0.01,$EP191>Q$6+0.01),IF(AND(Q$6<$F191-0.01,Q$6>=$E191-0.01),$D191,\"\"),\"x\")","v":"x"},{"$f":"IF(AND($EO191<=R$6+0.01,$EP191>R$6+0.01),IF(AND(R$6<$F191-0.01,R$6>=$E191-0.01),$D191,\"\"),\"x\")","v":"x"},{"$f":"IF(AND($EO191<=S$6+0.01,$EP191>S$6+0.01),IF(AND(S$6<$F191-0.01,S$6>=$E191-0.01),$D191,\"\"),\"x\")","v":"x"},{"$f":"IF(AND($EO191<=T$6+0.01,$EP191>T$6+0.01),IF(AND(T$6<$F191-0.01,T$6>=$E191-0.01),$D191,\"\"),\"x\")","v":"x"},{"$f":"IF(AND($EO191<=U$6+0.01,$EP191>U$6+0.01),IF(AND(U$6<$F191-0.01,U$6>=$E191-0.01),$D191,\"\"),\"x\")","v":"x"},{"$f":"IF(AND($EO191<=V$6+0.01,$EP191>V$6+0.01),IF(AND(V$6<$F191-0.01,V$6>=$E191-0.01),$D191,\"\"),\"x\")","v":"x"},{"$f":"IF(AND($EO191<=W$6+0.01,$EP191>W$6+0.01),IF(AND(W$6<$F191-0.01,W$6>=$E191-0.01),$D191,\"\"),\"x\")","v":"x"},{"$f":"IF(AND($EO191<=X$6+0.01,$EP191>X$6+0.01),IF(AND(X$6<$F191-0.01,X$6>=$E191-0.01),$D191,\"\"),\"x\")","v":"x"},{"$f":"IF(AND($EO191<=Y$6+0.01,$EP191>Y$6+0.01),IF(AND(Y$6<$F191-0.01,Y$6>=$E191-0.01),$D191,\"\"),\"x\")","v":"x"},{"$f":"IF(AND($EO191<=Z$6+0.01,$EP191>Z$6+0.01),IF(AND(Z$6<$F191-0.01,Z$6>=$E191-0.01),$D191,\"\"),\"x\")","v":"x"},{"$f":"IF(AND($EO191<=AA$6+0.01,$EP191>AA$6+0.01),IF(AND(AA$6<$F191-0.01,AA$6>=$E191-0.01),$D191,\"\"),\"x\")","v":"x"},{"$f":"IF(AND($EO191<=AB$6+0.01,$EP191>AB$6+0.01),IF(AND(AB$6<$F191-0.01,AB$6>=$E191-0.01),$D191,\"\"),\"x\")","v":"x"},{"$f":"IF(AND($EO191<=AC$6+0.01,$EP191>AC$6+0.01),IF(AND(AC$6<$F191-0.01,AC$6>=$E191-0.01),$D191,\"\"),\"x\")","v":"x"},{"$f":"IF(AND($EO191<=AD$6+0.01,$EP191>AD$6+0.01),IF(AND(AD$6<$F191-0.01,AD$6>=$E191-0.01),$D191,\"\"),\"x\")","v":"x"},{"$f":"IF(AND($EO191<=AE$6+0.01,$EP191>AE$6+0.01),IF(AND(AE$6<$F191-0.01,AE$6>=$E191-0.01),$D191,\"\"),\"x\")","v":"x"},{"$f":"IF(AND($EO191<=AF$6+0.01,$EP191>AF$6+0.01),IF(AND(AF$6<$F191-0.01,AF$6>=$E191-0.01),$D191,\"\"),\"x\")","v":"x"},{"$f":"IF(AND($EO191<=AG$6+0.01,$EP191>AG$6+0.01),IF(AND(AG$6<$F191-0.01,AG$6>=$E191-0.01),$D191,\"\"),\"x\")","v":"x"},{"$f":"IF(AND($EO191<=AH$6+0.01,$EP191>AH$6+0.01),IF(AND(AH$6<$F191-0.01,AH$6>=$E191-0.01),$D191,\"\"),\"x\")","v":"x"},{"$f":"IF(AND($EO191<=AI$6+0.01,$EP191>AI$6+0.01),IF(AND(AI$6<$F191-0.01,AI$6>=$E191-0.01),$D191,\"\"),\"x\")","v":"x"},{"$f":"IF(AND($EO191<=AJ$6+0.01,$EP191>AJ$6+0.01),IF(AND(AJ$6<$F191-0.01,AJ$6>=$E191-0.01),$D191,\"\"),\"x\")","v":"x"},{"$f":"IF(AND($EO191<=AK$6+0.01,$EP191>AK$6+0.01),IF(AND(AK$6<$F191-0.01,AK$6>=$E191-0.01),$D191,\"\"),\"x\")","v":"x"},{"$f":"IF(AND($EO191<=AL$6+0.01,$EP191>AL$6+0.01),IF(AND(AL$6<$F191-0.01,AL$6>=$E191-0.01),$D191,\"\"),\"x\")","v":"x"},{"$f":"IF(AND($EO191<=AM$6+0.01,$EP191>AM$6+0.01),IF(AND(AM$6<$F191-0.01,AM$6>=$E191-0.01),$D191,\"\"),\"x\")","v":"x"},{"$f":"IF(AND($EO191<=AN$6+0.01,$EP191>AN$6+0.01),IF(AND(AN$6<$F191-0.01,AN$6>=$E191-0.01),$D191,\"\"),\"x\")","v":"x"},{"$f":"IF(AND($EO191<=AO$6+0.01,$EP191>AO$6+0.01),IF(AND(AO$6<$F191-0.01,AO$6>=$E191-0.01),$D191,\"\"),\"x\")","v":"x"},{"$f":"IF(AND($EO191<=AP$6+0.01,$EP191>AP$6+0.01),IF(AND(AP$6<$F191-0.01,AP$6>=$E191-0.01),$D191,\"\"),\"x\")","v":"x"},{"$f":"IF(AND($EO191<=AQ$6+0.01,$EP191>AQ$6+0.01),IF(AND(AQ$6<$F191-0.01,AQ$6>=$E191-0.01),$D191,\"\"),\"x\")","v":"x"},{"$f":"IF(AND($EO191<=AR$6+0.01,$EP191>AR$6+0.01),IF(AND(AR$6<$F191-0.01,AR$6>=$E191-0.01),$D191,\"\"),\"x\")","v":"x"},{"$f":"IF(AND($EO191<=AS$6+0.01,$EP191>AS$6+0.01),IF(AND(AS$6<$F191-0.01,AS$6>=$E191-0.01),$D191,\"\"),\"x\")","v":"x"},null,{"$f":"IF(AND(AV191<>\"\",AV191<>\"x\"),0.5,)","v":0},{"$f":"IF(AND(AW191<>\"\",AW191<>\"x\"),0.5,)","v":0},{"$f":"IF(AND(AX191<>\"\",AX191<>\"x\"),0.5,)","v":0},{"$f":"IF(AND(AY191<>\"\",AY191<>\"x\"),0.5,)","v":0},{"$f":"IF(AND(AZ191<>\"\",AZ191<>\"x\"),0.5,)","v":0},{"$f":"IF(AND(BA191<>\"\",BA191<>\"x\"),0.5,)","v":0},{"$f":"IF(AND(BB191<>\"\",BB191<>\"x\"),0.5,)","v":0},{"$f":"IF(AND(BC191<>\"\",BC191<>\"x\"),0.5,)","v":0},{"$f":"IF(AND(BD191<>\"\",BD191<>\"x\"),0.5,)","v":0},{"$f":"IF(AND(BE191<>\"\",BE191<>\"x\"),0.5,)","v":0},{"$f":"IF(AND(BF191<>\"\",BF191<>\"x\"),0.5,)","v":0},{"$f":"IF(AND(BG191<>\"\",BG191<>\"x\"),0.5,)","v":0},{"$f":"IF(AND(BH191<>\"\",BH191<>\"x\"),0.5,)","v":0},{"$f":"IF(AND(BI191<>\"\",BI191<>\"x\"),0.5,)","v":0},{"$f":"IF(AND(BJ191<>\"\",BJ191<>\"x\"),0.5,)","v":0},{"$f":"IF(AND(BK191<>\"\",BK191<>\"x\"),0.5,)","v":0},{"$f":"IF(AND(BL191<>\"\",BL191<>\"x\"),0.5,)","v":0},{"$f":"IF(AND(BM191<>\"\",BM191<>\"x\"),0.5,)","v":0},{"$f":"IF(AND(BN191<>\"\",BN191<>\"x\"),0.5,)","v":0},{"$f":"IF(AND(BO191<>\"\",BO191<>\"x\"),0.5,)","v":0},{"$f":"IF(AND(BP191<>\"\",BP191<>\"x\"),0.5,)","v":0},{"$f":"IF(AND(BQ191<>\"\",BQ191<>\"x\"),0.5,)","v":0},{"$f":"IF(AND(BR191<>\"\",BR191<>\"x\"),0.5,)","v":0},{"$f":"IF(AND(BS191<>\"\",BS191<>\"x\"),0.5,)","v":0},{"$f":"IF(AND(BT191<>\"\",BT191<>\"x\"),0.5,)","v":0},{"$f":"IF(AND(BU191<>\"\",BU191<>\"x\"),0.5,)","v":0},{"$f":"IF(AND(BV191<>\"\",BV191<>\"x\"),0.5,)","v":0},{"$f":"IF(AND(BW191<>\"\",BW191<>\"x\"),0.5,)","v":0},{"$f":"IF(AND(BX191<>\"\",BX191<>\"x\"),0.5,)","v":0},{"$f":"IF(AND(BY191<>\"\",BY191<>\"x\"),0.5,)","v":0},{"$f":"IF(AND(BZ191<>\"\",BZ191<>\"x\"),0.5,)","v":0},{"$f":"IF(AND(CA191<>\"\",CA191<>\"x\"),0.5,)","v":0},{"$f":"IF(AND(CB191<>\"\",CB191<>\"x\"),0.5,)","v":0},{"$f":"IF(AND(CC191<>\"\",CC191<>\"x\"),0.5,)","v":0},{"$f":"IF(AND(CD191<>\"\",CD191<>\"x\"),0.5,)","v":0},{"$f":"IF(AND(CE191<>\"\",CE191<>\"x\"),0.5,)","v":0},{"$f":"IF(AND(CF191<>\"\",CF191<>\"x\"),0.5,)","v":0},{"$f":"IF(AND(CG191<>\"\",CG191<>\"x\"),0.5,)","v":0},null,{"$f":"IF(VLOOKUP($A191,'Schedule Setup'!$A$4:$E$39,5,FALSE)=0,\"\",VLOOKUP($A191,'Schedule Setup'!$A$4:$E$39,5,FALSE))","v":""},{"$f":"SUM(CI191:CT191)","v":0},{"$f":"IFERROR(DW191*$DV191,\"\")","v":""},{"$f":"SUM(CU191:DF191)","v":0},{"$f":"IFERROR(DY191*$DV191,\"\")","v":""},{"$f":"SUM(DG191:DT191)","v":0},{"$f":"IFERROR(EA191*$DV191,\"\")","v":""},{"$f":"SUM(DW191,DY191,EA191)","v":0},{"$f":"IFERROR(EC191*$DV191,\"\")","v":""},null,{"$f":"IF(DW191>5,(DW191-0.5),DW191)","v":0},{"$f":"IFERROR(EF191*$DV191,\"\")","v":""},{"$f":"IF(DY191>5,(DY191-0.5),DY191)","v":0},{"$f":"IFERROR(EH191*$DV191,\"\")","v":""},{"$f":"IF(EA191>5,(EA191-0.5),EA191)","v":0},{"$f":"IFERROR(EJ191*$DV191,\"\")","v":""},{"$f":"SUM(EF191,EH191,EJ191)","v":0},{"$f":"IFERROR(EL191*$DV191,\"\")","v":""},null,{"$f":"'Schedule Setup'!N5","v":"00:00:00"},{"$f":"'Schedule Setup'!O5","v":"00:00:00"},{"$f":"EO191-(0.5/24)","v":-2.0833333333333332E-2},{"$f":"EP191+(0.5/24)","v":"00:30:00"}]
[{"$f":"A191+1","v":2},{"$f":"IF(VLOOKUP($A192,'Schedule Setup'!$A$4:$E$39,2,FALSE)=0,\"\",VLOOKUP($A192,'Schedule Setup'!$A$4:$E$39,2,FALSE))","v":""},{"$f":"IF(VLOOKUP($A192,'Schedule Setup'!$A$4:$E$39,4,FALSE)=0,\"\",VLOOKUP($A192,'Schedule Setup'!$A$4:$E$39,4,FALSE))","v":""},{"$f":"IF(B192<>\"\",IF(OR(C192=\"General Manager (S)\", C192=\"General Manager (H)\"), \"GM\",IF(C192=\"Acting Manager\",\"AM\",IF(C192=\"Shift Manager\",\"SM\",IF(C192=\"Team Lead\",\"TL\",\"TM\")))),\"\")","v":""},null,null,null,"x","x","x","x","x","x","x","x","x","x","x","x","x","x","x","x","x","x","x","x","x","x","x","x","x","x","x","x","x","x","x","x","x","x","x","x","x","x",{"$f":"EC192","v":0},null,"x","x","x","x","x","x","x","x","x","x","x","x","x","x","x","x","x","x","x","x","x","x","x","x","x","x","x","x","x","x","x","x","x","x","x","x","x","x",null,0,0,0,0,0,0,0,0,0,0,0,0,0,0,0,0,0,0,0,0,0,0,0,0,0,0,0,0,0,0,0,0,0,0,0,0,0,0,null,{"$f":"IF(VLOOKUP($A192,'Schedule Setup'!$A$4:$E$39,5,FALSE)=0,\"\",VLOOKUP($A192,'Schedule Setup'!$A$4:$E$39,5,FALSE))","v":""},0,"",0,"",0,"",{"$f":"SUM(DW192,DY192,EA192)","v":0},"",null,{"$f":"IF(DW192>5,(DW192-0.5),DW192)","v":0},"",{"$f":"IF(DY192>5,(DY192-0.5),DY192)","v":0},"",0,"",{"$f":"SUM(EF192,EH192,EJ192)","v":0},"",null,{"$f":"'Schedule Setup'!N6","v":"00:00:00"},{"$f":"'Schedule Setup'!O6","v":"00:00:00"},{"$f":"EO192-(0.5/24)","v":-2.0833333333333332E-2},{"$f":"EP192+(0.5/24)","v":"00:30:00"}]
[{"$f":"A192+1","v":3},{"$f":"IF(VLOOKUP($A193,'Schedule Setup'!$A$4:$E$39,2,FALSE)=0,\"\",VLOOKUP($A193,'Schedule Setup'!$A$4:$E$39,2,FALSE))","v":""},{"$f":"IF(VLOOKUP($A193,'Schedule Setup'!$A$4:$E$39,4,FALSE)=0,\"\",VLOOKUP($A193,'Schedule Setup'!$A$4:$E$39,4,FALSE))","v":""},"",null,null,null,"x","x","x","x","x","x","x","x","x","x","x","x","x","x","x","x","x","x","x","x","x","x","x","x","x","x","x","x","x","x","x","x","x","x","x","x","x","x",0,null,"x","x","x","x","x","x","x","x","x","x","x","x","x","x","x","x","x","x","x","x","x","x","x","x","x","x","x","x","x","x","x","x","x","x","x","x","x","x",null,0,0,0,0,0,0,0,0,0,0,0,0,0,0,0,0,0,0,0,0,0,0,0,0,0,0,0,0,0,0,0,0,0,0,0,0,0,0,null,{"$f":"IF(VLOOKUP($A193,'Schedule Setup'!$A$4:$E$39,5,FALSE)=0,\"\",VLOOKUP($A193,'Schedule Setup'!$A$4:$E$39,5,FALSE))","v":""},0,"",0,"",0,"",{"$f":"SUM(DW193,DY193,EA193)","v":0},"",null,0,"",0,"",0,"",0,"",null,{"$f":"'Schedule Setup'!N7","v":"00:00:00"},{"$f":"'Schedule Setup'!O7","v":"00:00:00"},-2.0833333333333332E-2,"00:30:00"]
[4,{"$f":"IF(VLOOKUP($A194,'Schedule Setup'!$A$4:$E$39,2,FALSE)=0,\"\",VLOOKUP($A194,'Schedule Setup'!$A$4:$E$39,2,FALSE))","v":""},{"$f":"IF(VLOOKUP($A194,'Schedule Setup'!$A$4:$E$39,4,FALSE)=0,\"\",VLOOKUP($A194,'Schedule Setup'!$A$4:$E$39,4,FALSE))","v":""},"",null,null,null,"x","x","x","x","x","x","x","x","x","x","x","x","x","x","x","x","x","x","x","x","x","x","x","x","x","x","x","x","x","x","x","x","x","x","x","x","x","x",0,null,"x","x","x","x","x","x","x","x","x","x","x","x","x","x","x","x","x","x","x","x","x","x","x","x","x","x","x","x","x","x","x","x","x","x","x","x","x","x",null,0,0,0,0,0,0,0,0,0,0,0,0,0,0,0,0,0,0,0,0,0,0,0,0,0,0,0,0,0,0,0,0,0,0,0,0,0,0,null,{"$f":"IF(VLOOKUP($A194,'Schedule Setup'!$A$4:$E$39,5,FALSE)=0,\"\",VLOOKUP($A194,'Schedule Setup'!$A$4:$E$39,5,FALSE))","v":""},0,"",0,"",0,"",0,"",null,0,"",0,"",0,"",0,"",null,{"$f":"'Schedule Setup'!N8","v":"00:00:00"},{"$f":"'Schedule Setup'!O8","v":"00:00:00"},-2.0833333333333332E-2,"00:30:00"]
[5,{"$f":"IF(VLOOKUP($A195,'Schedule Setup'!$A$4:$E$39,2,FALSE)=0,\"\",VLOOKUP($A195,'Schedule Setup'!$A$4:$E$39,2,FALSE))","v":""},{"$f":"IF(VLOOKUP($A195,'Schedule Setup'!$A$4:$E$39,4,FALSE)=0,\"\",VLOOKUP($A195,'Schedule Setup'!$A$4:$E$39,4,FALSE))","v":""},"",null,null,null,"x","x","x","x","x","x","x","x","x","x","x","x","x","x","x","x","x","x","x","x","x","x","x","x","x","x","x","x","x","x","x","x","x","x","x","x","x","x",0,null,"x","x","x","x","x","x","x","x","x","x","x","x","x","x","x","x","x","x","x","x","x","x","x","x","x","x","x","x","x","x","x","x","x","x","x","x","x","x",null,0,0,0,0,0,0,0,0,0,0,0,0,0,0,0,0,0,0,0,0,0,0,0,0,0,0,0,0,0,0,0,0,0,0,0,0,0,0,null,{"$f":"IF(VLOOKUP($A195,'Schedule Setup'!$A$4:$E$39,5,FALSE)=0,\"\",VLOOKUP($A195,'Schedule Setup'!$A$4:$E$39,5,FALSE))","v":""},0,"",0,"",0,"",0,"",null,0,"",0,"",0,"",0,"",null,{"$f":"'Schedule Setup'!N9","v":"00:00:00"},{"$f":"'Schedule Setup'!O9","v":"00:00:00"},-2.0833333333333332E-2,"00:30:00"]
[6,{"$f":"IF(VLOOKUP($A196,'Schedule Setup'!$A$4:$E$39,2,FALSE)=0,\"\",VLOOKUP($A196,'Schedule Setup'!$A$4:$E$39,2,FALSE))","v":""},{"$f":"IF(VLOOKUP($A196,'Schedule Setup'!$A$4:$E$39,4,FALSE)=0,\"\",VLOOKUP($A196,'Schedule Setup'!$A$4:$E$39,4,FALSE))","v":""},"",null,null,null,"x","x","x","x","x","x","x","x","x","x","x","x","x","x","x","x","x","x","x","x","x","x","x","x","x","x","x","x","x","x","x","x","x","x","x","x","x","x",0,null,"x","x","x","x","x","x","x","x","x","x","x","x","x","x","x","x","x","x","x","x","x","x","x","x","x","x","x","x","x","x","x","x","x","x","x","x","x","x",null,0,0,0,0,0,0,0,0,0,0,0,0,0,0,0,0,0,0,0,0,0,0,0,0,0,0,0,0,0,0,0,0,0,0,0,0,0,0,null,{"$f":"IF(VLOOKUP($A196,'Schedule Setup'!$A$4:$E$39,5,FALSE)=0,\"\",VLOOKUP($A196,'Schedule Setup'!$A$4:$E$39,5,FALSE))","v":""},0,"",0,"",0,"",0,"",null,0,"",0,"",0,"",0,"",null,{"$f":"'Schedule Setup'!N10","v":"00:00:00"},{"$f":"'Schedule Setup'!O10","v":"00:00:00"},-2.0833333333333332E-2,"00:30:00"]
[7,{"$f":"IF(VLOOKUP($A197,'Schedule Setup'!$A$4:$E$39,2,FALSE)=0,\"\",VLOOKUP($A197,'Schedule Setup'!$A$4:$E$39,2,FALSE))","v":""},{"$f":"IF(VLOOKUP($A197,'Schedule Setup'!$A$4:$E$39,4,FALSE)=0,\"\",VLOOKUP($A197,'Schedule Setup'!$A$4:$E$39,4,FALSE))","v":""},"",null,null,null,"x","x","x","x","x","x","x","x","x","x",{"$f":"BF197","v":"x"},"x","x","x","x","x","x","x","x","x","x","x","x","x","x","x","x",{"$f":"BW197","v":"x"},"x","x","x","x","x","x","x","x","x","x",0,null,"x","x","x","x","x","x","x","x","x","x","x","x","x","x","x","x","x","x","x","x","x","x","x","x","x","x","x","x","x","x","x","x","x","x","x","x","x","x",null,0,0,0,0,0,0,0,0,0,0,0,0,0,0,0,0,0,0,0,0,0,0,0,0,0,0,0,0,0,0,0,0,0,0,0,0,0,0,null,{"$f":"IF(VLOOKUP($A197,'Schedule Setup'!$A$4:$E$39,5,FALSE)=0,\"\",VLOOKUP($A197,'Schedule Setup'!$A$4:$E$39,5,FALSE))","v":""},0,"",0,"",0,"",0,"",null,0,"",0,"",0,"",0,"",null,{"$f":"'Schedule Setup'!N11","v":"00:00:00"},{"$f":"'Schedule Setup'!O11","v":"00:00:00"},-2.0833333333333332E-2,"00:30:00"]
[8,{"$f":"IF(VLOOKUP($A198,'Schedule Setup'!$A$4:$E$39,2,FALSE)=0,\"\",VLOOKUP($A198,'Schedule Setup'!$A$4:$E$39,2,FALSE))","v":""},{"$f":"IF(VLOOKUP($A198,'Schedule Setup'!$A$4:$E$39,4,FALSE)=0,\"\",VLOOKUP($A198,'Schedule Setup'!$A$4:$E$39,4,FALSE))","v":""},"",null,null,null,{"$f":"AV198","v":"x"},"x","x","x","x","x","x","x","x","x",{"$f":"BF198","v":"x"},"x","x","x","x","x",{"$f":"BL198","v":"x"},"x","x","x","x","x","x","x","x","x","x","x","x","x","x","x","x","x","x","x","x","x",0,null,"x","x","x","x","x","x","x","x","x","x","x","x","x","x","x","x","x","x","x","x","x","x","x","x","x","x","x","x","x","x","x","x","x","x","x","x","x","x",null,0,0,0,0,0,0,0,0,0,0,0,0,0,0,0,0,0,0,0,0,0,0,0,0,0,0,0,0,0,0,0,0,0,0,0,0,0,0,null,{"$f":"IF(VLOOKUP($A198,'Schedule Setup'!$A$4:$E$39,5,FALSE)=0,\"\",VLOOKUP($A198,'Schedule Setup'!$A$4:$E$39,5,FALSE))","v":""},0,{"$f":"IFERROR(DW198*$DV198,\"\")","v":""},0,"",0,"",0,"",null,0,"",0,"",0,"",0,"",null,{"$f":"'Schedule Setup'!N12","v":"00:00:00"},{"$f":"'Schedule Setup'!O12","v":"00:00:00"},-2.0833333333333332E-2,"00:30:00"]
[9,{"$f":"IF(VLOOKUP($A199,'Schedule Setup'!$A$4:$E$39,2,FALSE)=0,\"\",VLOOKUP($A199,'Schedule Setup'!$A$4:$E$39,2,FALSE))","v":""},{"$f":"IF(VLOOKUP($A199,'Schedule Setup'!$A$4:$E$39,4,FALSE)=0,\"\",VLOOKUP($A199,'Schedule Setup'!$A$4:$E$39,4,FALSE))","v":""},"",null,null,null,"x","x","x","x","x","x","x","x","x","x",{"$f":"BF199","v":"x"},{"$f":"BG199","v":"x"},{"$f":"BH199","v":"x"},{"$f":"BI199","v":"x"},"x","x","x","x","x","x","x","x","x","x","x","x","x","x","x","x","x","x","x","x","x","x","x","x",0,null,"x","x","x","x","x","x","x","x","x","x","x","x","x","x","x","x","x","x","x","x","x","x","x","x","x","x","x","x","x","x","x","x","x","x","x","x","x","x",null,0,0,0,0,0,0,0,0,0,0,0,0,0,0,0,0,0,0,0,0,0,0,0,0,0,0,0,0,0,0,0,0,0,0,0,0,0,0,null,{"$f":"IF(VLOOKUP($A199,'Schedule Setup'!$A$4:$E$39,5,FALSE)=0,\"\",VLOOKUP($A199,'Schedule Setup'!$A$4:$E$39,5,FALSE))","v":""},0,{"$f":"IFERROR(DW199*$DV199,\"\")","v":""},0,"",0,"",0,"",null,0,"",0,"",0,"",0,"",null,{"$f":"'Schedule Setup'!N13","v":"00:00:00"},{"$f":"'Schedule Setup'!O13","v":"00:00:00"},-2.0833333333333332E-2,"00:30:00"]
[10,{"$f":"IF(VLOOKUP($A200,'Schedule Setup'!$A$4:$E$39,2,FALSE)=0,\"\",VLOOKUP($A200,'Schedule Setup'!$A$4:$E$39,2,FALSE))","v":""},{"$f":"IF(VLOOKUP($A200,'Schedule Setup'!$A$4:$E$39,4,FALSE)=0,\"\",VLOOKUP($A200,'Schedule Setup'!$A$4:$E$39,4,FALSE))","v":""},"",null,null,null,"x","x","x","x","x","x","x","x","x","x","x","x","x","x","x","x","x","x","x","x","x","x","x","x","x","x","x","x","x","x","x","x","x","x","x","x","x","x",0,null,"x","x","x","x","x","x","x","x","x","x","x","x","x","x","x","x","x","x","x","x","x","x","x","x","x","x","x","x","x","x","x","x","x","x","x","x","x","x",null,0,0,0,0,0,0,0,0,0,0,0,0,0,0,0,0,0,0,0,0,0,0,0,0,0,0,0,0,0,0,0,0,0,0,0,0,0,0,null,{"$f":"IF(VLOOKUP($A200,'Schedule Setup'!$A$4:$E$39,5,FALSE)=0,\"\",VLOOKUP($A200,'Schedule Setup'!$A$4:$E$39,5,FALSE))","v":""},0,"",0,"",0,"",0,"",null,0,"",0,"",0,"",0,"",null,{"$f":"'Schedule Setup'!N14","v":"00:00:00"},{"$f":"'Schedule Setup'!O14","v":"00:00:00"},-2.0833333333333332E-2,"00:30:00"]
[11,{"$f":"IF(VLOOKUP($A201,'Schedule Setup'!$A$4:$E$39,2,FALSE)=0,\"\",VLOOKUP($A201,'Schedule Setup'!$A$4:$E$39,2,FALSE))","v":""},{"$f":"IF(VLOOKUP($A201,'Schedule Setup'!$A$4:$E$39,4,FALSE)=0,\"\",VLOOKUP($A201,'Schedule Setup'!$A$4:$E$39,4,FALSE))","v":""},"",null,null,null,"x","x","x","x","x","x","x","x","x","x","x","x","x","x","x","x","x","x","x","x","x","x","x","x","x","x","x","x","x","x","x","x","x","x","x","x","x","x",0,null,"x","x","x","x","x","x","x","x","x","x","x","x","x","x","x","x","x","x","x","x","x","x","x","x","x","x","x","x","x","x","x","x","x","x","x","x","x","x",null,0,0,0,0,0,0,0,0,0,0,0,0,0,0,0,0,0,0,0,0,0,0,0,0,0,0,0,0,0,0,0,0,0,0,0,0,0,0,null,{"$f":"IF(VLOOKUP($A201,'Schedule Setup'!$A$4:$E$39,5,FALSE)=0,\"\",VLOOKUP($A201,'Schedule Setup'!$A$4:$E$39,5,FALSE))","v":""},0,"",0,"",0,"",0,"",null,0,"",0,"",0,"",0,"",null,{"$f":"'Schedule Setup'!N15","v":"00:00:00"},{"$f":"'Schedule Setup'!O15","v":"00:00:00"},-2.0833333333333332E-2,"00:30:00"]
[12,{"$f":"IF(VLOOKUP($A202,'Schedule Setup'!$A$4:$E$39,2,FALSE)=0,\"\",VLOOKUP($A202,'Schedule Setup'!$A$4:$E$39,2,FALSE))","v":""},{"$f":"IF(VLOOKUP($A202,'Schedule Setup'!$A$4:$E$39,4,FALSE)=0,\"\",VLOOKUP($A202,'Schedule Setup'!$A$4:$E$39,4,FALSE))","v":""},"",null,null,null,"x","x","x","x","x","x","x","x","x","x","x","x","x","x","x","x","x","x","x","x","x","x","x","x","x","x","x","x","x","x","x","x","x","x","x","x","x","x",0,null,"x","x","x","x","x","x","x","x","x","x","x","x","x","x","x","x","x","x","x","x","x","x","x","x","x","x","x","x","x","x","x","x","x","x","x","x","x","x",null,0,0,0,0,0,0,0,0,0,0,0,0,0,0,0,0,0,0,0,0,0,0,0,0,0,0,0,0,0,0,0,0,0,0,0,0,0,0,null,{"$f":"IF(VLOOKUP($A202,'Schedule Setup'!$A$4:$E$39,5,FALSE)=0,\"\",VLOOKUP($A202,'Schedule Setup'!$A$4:$E$39,5,FALSE))","v":""},0,"",0,"",0,"",0,"",null,0,"",0,"",0,"",0,"",null,{"$f":"'Schedule Setup'!N16","v":"00:00:00"},{"$f":"'Schedule Setup'!O16","v":"00:00:00"},-2.0833333333333332E-2,"00:30:00"]
[13,{"$f":"IF(VLOOKUP($A203,'Schedule Setup'!$A$4:$E$39,2,FALSE)=0,\"\",VLOOKUP($A203,'Schedule Setup'!$A$4:$E$39,2,FALSE))","v":""},{"$f":"IF(VLOOKUP($A203,'Schedule Setup'!$A$4:$E$39,4,FALSE)=0,\"\",VLOOKUP($A203,'Schedule Setup'!$A$4:$E$39,4,FALSE))","v":""},"",null,null,null,"x","x","x","x","x","x","x","x","x","x","x","x","x","x","x","x","x","x","x","x","x","x","x","x","x","x","x","x","x","x","x","x","x","x","x","x","x","x",0,null,"x","x","x","x","x","x","x","x","x","x","x","x","x","x","x","x","x","x","x","x","x","x","x","x","x","x","x","x","x","x","x","x","x","x","x","x","x","x",null,0,0,0,0,0,0,0,0,0,0,0,0,0,0,0,0,0,0,0,0,0,0,0,0,0,0,0,0,0,0,0,0,0,0,0,0,0,0,null,{"$f":"IF(VLOOKUP($A203,'Schedule Setup'!$A$4:$E$39,5,FALSE)=0,\"\",VLOOKUP($A203,'Schedule Setup'!$A$4:$E$39,5,FALSE))","v":""},0,"",0,"",0,"",0,"",null,0,"",0,"",0,"",0,"",null,{"$f":"'Schedule Setup'!N17","v":"00:00:00"},{"$f":"'Schedule Setup'!O17","v":"00:00:00"},-2.0833333333333332E-2,"00:30:00"]
[14,{"$f":"IF(VLOOKUP($A204,'Schedule Setup'!$A$4:$E$39,2,FALSE)=0,\"\",VLOOKUP($A204,'Schedule Setup'!$A$4:$E$39,2,FALSE))","v":""},{"$f":"IF(VLOOKUP($A204,'Schedule Setup'!$A$4:$E$39,4,FALSE)=0,\"\",VLOOKUP($A204,'Schedule Setup'!$A$4:$E$39,4,FALSE))","v":""},"",null,null,null,"x","x","x","x","x","x","x","x","x","x","x","x","x","x","x","x","x","x","x","x","x","x","x","x","x","x","x","x","x","x","x","x","x","x","x","x","x","x",0,null,"x","x","x","x","x","x","x","x","x","x","x","x","x","x","x","x","x","x","x","x","x","x","x","x","x","x","x","x","x","x","x","x","x","x","x","x","x","x",null,0,0,0,0,0,0,0,0,0,0,0,0,0,0,0,0,0,0,0,0,0,0,0,0,0,0,0,0,0,0,0,0,0,0,0,0,0,0,null,{"$f":"IF(VLOOKUP($A204,'Schedule Setup'!$A$4:$E$39,5,FALSE)=0,\"\",VLOOKUP($A204,'Schedule Setup'!$A$4:$E$39,5,FALSE))","v":""},0,"",0,"",0,"",0,"",null,0,"",0,"",0,"",0,"",null,{"$f":"'Schedule Setup'!N18","v":"00:00:00"},{"$f":"'Schedule Setup'!O18","v":"00:00:00"},-2.0833333333333332E-2,"00:30:00"]
[15,{"$f":"IF(VLOOKUP($A205,'Schedule Setup'!$A$4:$E$39,2,FALSE)=0,\"\",VLOOKUP($A205,'Schedule Setup'!$A$4:$E$39,2,FALSE))","v":""},{"$f":"IF(VLOOKUP($A205,'Schedule Setup'!$A$4:$E$39,4,FALSE)=0,\"\",VLOOKUP($A205,'Schedule Setup'!$A$4:$E$39,4,FALSE))","v":""},"",null,null,null,"x","x","x","x","x","x","x","x","x","x","x","x","x","x","x","x","x","x","x","x","x","x","x","x","x","x","x","x","x","x","x","x","x","x","x","x","x","x",0,null,"x","x","x","x","x","x","x","x","x","x","x","x","x","x","x","x","x","x","x","x","x","x","x","x","x","x","x","x","x","x","x","x","x","x","x","x","x","x",null,0,0,0,0,0,0,0,0,0,0,0,0,0,0,0,0,0,0,0,0,0,0,0,0,0,0,0,0,0,0,0,0,0,0,0,0,0,0,null,{"$f":"IF(VLOOKUP($A205,'Schedule Setup'!$A$4:$E$39,5,FALSE)=0,\"\",VLOOKUP($A205,'Schedule Setup'!$A$4:$E$39,5,FALSE))","v":""},0,"",0,"",0,"",0,"",null,0,"",0,"",0,"",0,"",null,{"$f":"'Schedule Setup'!N19","v":"00:00:00"},{"$f":"'Schedule Setup'!O19","v":"00:00:00"},-2.0833333333333332E-2,"00:30:00"]
[16,{"$f":"IF(VLOOKUP($A206,'Schedule Setup'!$A$4:$E$39,2,FALSE)=0,\"\",VLOOKUP($A206,'Schedule Setup'!$A$4:$E$39,2,FALSE))","v":""},{"$f":"IF(VLOOKUP($A206,'Schedule Setup'!$A$4:$E$39,4,FALSE)=0,\"\",VLOOKUP($A206,'Schedule Setup'!$A$4:$E$39,4,FALSE))","v":""},"",null,null,null,"x","x","x","x","x","x","x","x","x","x","x","x","x","x","x","x","x","x","x","x","x","x","x","x","x","x","x","x","x","x","x","x","x","x","x","x","x","x",0,null,"x","x","x","x","x","x","x","x","x","x","x","x","x","x","x","x","x","x","x","x","x","x","x","x","x","x","x","x","x","x","x","x","x","x","x","x","x","x",null,0,0,0,0,0,0,0,0,0,0,0,0,0,0,0,0,0,0,0,0,0,0,0,0,0,0,0,0,0,0,0,0,0,0,0,0,0,0,null,{"$f":"IF(VLOOKUP($A206,'Schedule Setup'!$A$4:$E$39,5,FALSE)=0,\"\",VLOOKUP($A206,'Schedule Setup'!$A$4:$E$39,5,FALSE))","v":""},0,"",0,"",0,"",0,"",null,0,"",0,"",0,"",0,"",null,{"$f":"'Schedule Setup'!N20","v":"00:00:00"},{"$f":"'Schedule Setup'!O20","v":"00:00:00"},-2.0833333333333332E-2,"00:30:00"]
[17,{"$f":"IF(VLOOKUP($A207,'Schedule Setup'!$A$4:$E$39,2,FALSE)=0,\"\",VLOOKUP($A207,'Schedule Setup'!$A$4:$E$39,2,FALSE))","v":""},{"$f":"IF(VLOOKUP($A207,'Schedule Setup'!$A$4:$E$39,4,FALSE)=0,\"\",VLOOKUP($A207,'Schedule Setup'!$A$4:$E$39,4,FALSE))","v":""},"",null,null,null,"x","x","x","x","x","x","x","x","x","x","x","x","x","x","x","x","x","x","x","x","x","x","x","x","x","x","x","x","x","x","x","x","x","x","x","x","x","x",0,null,"x","x","x","x","x","x","x","x","x","x","x","x","x","x","x","x","x","x","x","x","x","x","x","x","x","x","x","x","x","x","x","x","x","x","x","x","x","x",null,0,0,0,0,0,0,0,0,0,0,0,0,0,0,0,0,0,0,0,0,0,0,0,0,0,0,0,0,0,0,0,0,0,0,0,0,0,0,null,{"$f":"IF(VLOOKUP($A207,'Schedule Setup'!$A$4:$E$39,5,FALSE)=0,\"\",VLOOKUP($A207,'Schedule Setup'!$A$4:$E$39,5,FALSE))","v":""},0,"",0,"",0,"",0,"",null,0,"",0,"",0,"",0,"",null,{"$f":"'Schedule Setup'!N21","v":"00:00:00"},{"$f":"'Schedule Setup'!O21","v":"00:00:00"},-2.0833333333333332E-2,"00:30:00"]
[18,{"$f":"IF(VLOOKUP($A208,'Schedule Setup'!$A$4:$E$39,2,FALSE)=0,\"\",VLOOKUP($A208,'Schedule Setup'!$A$4:$E$39,2,FALSE))","v":""},{"$f":"IF(VLOOKUP($A208,'Schedule Setup'!$A$4:$E$39,4,FALSE)=0,\"\",VLOOKUP($A208,'Schedule Setup'!$A$4:$E$39,4,FALSE))","v":""},"",null,null,null,"x","x","x","x","x","x","x","x","x","x","x","x","x","x","x","x","x","x","x","x","x","x","x","x","x","x","x","x","x","x","x","x","x","x","x","x","x","x",0,null,"x","x","x","x","x","x","x","x","x","x","x","x","x","x","x","x","x","x","x","x","x","x","x","x","x","x","x","x","x","x","x","x","x","x","x","x","x","x",null,0,0,0,0,0,0,0,0,0,0,0,0,0,0,0,0,0,0,0,0,0,0,0,0,0,0,0,0,0,0,0,0,0,0,0,0,0,0,null,{"$f":"IF(VLOOKUP($A208,'Schedule Setup'!$A$4:$E$39,5,FALSE)=0,\"\",VLOOKUP($A208,'Schedule Setup'!$A$4:$E$39,5,FALSE))","v":""},0,"",0,"",0,"",0,"",null,0,"",0,"",0,"",0,"",null,{"$f":"'Schedule Setup'!N22","v":"00:00:00"},{"$f":"'Schedule Setup'!O22","v":"00:00:00"},-2.0833333333333332E-2,"00:30:00"]
[19,{"$f":"IF(VLOOKUP($A209,'Schedule Setup'!$A$4:$E$39,2,FALSE)=0,\"\",VLOOKUP($A209,'Schedule Setup'!$A$4:$E$39,2,FALSE))","v":""},{"$f":"IF(VLOOKUP($A209,'Schedule Setup'!$A$4:$E$39,4,FALSE)=0,\"\",VLOOKUP($A209,'Schedule Setup'!$A$4:$E$39,4,FALSE))","v":""},"",null,null,null,"x","x","x","x","x","x","x","x","x","x","x","x","x","x","x","x","x","x","x","x","x","x","x","x","x","x","x","x","x","x","x","x","x","x","x","x","x","x",0,null,"x","x","x","x","x","x","x","x","x","x","x","x","x","x","x","x","x","x","x","x","x","x","x","x","x","x","x","x","x","x","x","x","x","x","x","x","x","x",null,0,0,0,0,0,0,0,0,0,0,0,0,0,0,0,0,0,0,0,0,0,0,0,0,0,0,0,0,0,0,0,0,0,0,0,0,0,0,null,{"$f":"IF(VLOOKUP($A209,'Schedule Setup'!$A$4:$E$39,5,FALSE)=0,\"\",VLOOKUP($A209,'Schedule Setup'!$A$4:$E$39,5,FALSE))","v":""},0,"",0,"",0,"",0,"",null,0,"",0,"",0,"",0,"",null,{"$f":"'Schedule Setup'!N23","v":"00:00:00"},{"$f":"'Schedule Setup'!O23","v":"00:00:00"},-2.0833333333333332E-2,"00:30:00"]
[20,{"$f":"IF(VLOOKUP($A210,'Schedule Setup'!$A$4:$E$39,2,FALSE)=0,\"\",VLOOKUP($A210,'Schedule Setup'!$A$4:$E$39,2,FALSE))","v":""},{"$f":"IF(VLOOKUP($A210,'Schedule Setup'!$A$4:$E$39,4,FALSE)=0,\"\",VLOOKUP($A210,'Schedule Setup'!$A$4:$E$39,4,FALSE))","v":""},"",null,null,null,"x","x","x","x","x","x","x","x","x","x","x","x","x","x","x","x","x","x","x","x","x","x","x","x","x","x","x","x","x","x","x","x","x","x","x","x","x","x",0,null,"x","x","x","x","x","x","x","x","x","x","x","x","x","x","x","x","x","x","x","x","x","x","x","x","x","x","x","x","x","x","x","x","x","x","x","x","x","x",null,0,0,0,0,0,0,0,0,0,0,0,0,0,0,0,0,0,0,0,0,0,0,0,0,0,0,0,0,0,0,0,0,0,0,0,0,0,0,null,{"$f":"IF(VLOOKUP($A210,'Schedule Setup'!$A$4:$E$39,5,FALSE)=0,\"\",VLOOKUP($A210,'Schedule Setup'!$A$4:$E$39,5,FALSE))","v":""},0,"",0,"",0,"",0,"",null,0,"",0,"",0,"",0,"",null,{"$f":"'Schedule Setup'!N24","v":"00:00:00"},{"$f":"'Schedule Setup'!O24","v":"00:00:00"},-2.0833333333333332E-2,"00:30:00"]
[21,{"$f":"IF(VLOOKUP($A211,'Schedule Setup'!$A$4:$E$39,2,FALSE)=0,\"\",VLOOKUP($A211,'Schedule Setup'!$A$4:$E$39,2,FALSE))","v":""},{"$f":"IF(VLOOKUP($A211,'Schedule Setup'!$A$4:$E$39,4,FALSE)=0,\"\",VLOOKUP($A211,'Schedule Setup'!$A$4:$E$39,4,FALSE))","v":""},"",null,null,null,"x","x","x","x","x","x","x","x","x","x","x","x","x","x","x","x","x","x","x","x","x","x","x","x","x","x","x","x","x","x","x","x","x","x","x","x","x","x",0,null,"x","x","x","x","x","x","x","x","x","x","x","x","x","x","x","x","x","x","x","x","x","x","x","x","x","x","x","x","x","x","x","x","x","x","x","x","x","x",null,0,0,0,0,0,0,0,0,0,0,0,0,0,0,0,0,0,0,0,0,0,0,0,0,0,0,0,0,0,0,0,0,0,0,0,0,0,0,null,{"$f":"IF(VLOOKUP($A211,'Schedule Setup'!$A$4:$E$39,5,FALSE)=0,\"\",VLOOKUP($A211,'Schedule Setup'!$A$4:$E$39,5,FALSE))","v":""},0,"",0,"",0,"",0,"",null,0,"",0,"",0,"",0,"",null,{"$f":"'Schedule Setup'!N25","v":"00:00:00"},{"$f":"'Schedule Setup'!O25","v":"00:00:00"},-2.0833333333333332E-2,"00:30:00"]
[22,{"$f":"IF(VLOOKUP($A212,'Schedule Setup'!$A$4:$E$39,2,FALSE)=0,\"\",VLOOKUP($A212,'Schedule Setup'!$A$4:$E$39,2,FALSE))","v":""},{"$f":"IF(VLOOKUP($A212,'Schedule Setup'!$A$4:$E$39,4,FALSE)=0,\"\",VLOOKUP($A212,'Schedule Setup'!$A$4:$E$39,4,FALSE))","v":""},"",null,null,null,"x","x","x","x","x","x","x","x","x","x","x","x","x","x","x","x","x","x","x","x","x","x","x","x","x","x","x","x","x","x","x","x","x","x","x","x","x","x",0,null,"x","x","x","x","x","x","x","x","x","x","x","x","x","x","x","x","x","x","x","x","x","x","x","x","x","x","x","x","x","x","x","x","x","x","x","x","x","x",null,0,0,0,0,0,0,0,0,0,0,0,0,0,0,0,0,0,0,0,0,0,0,0,0,0,0,0,0,0,0,0,0,0,0,0,0,0,0,null,{"$f":"IF(VLOOKUP($A212,'Schedule Setup'!$A$4:$E$39,5,FALSE)=0,\"\",VLOOKUP($A212,'Schedule Setup'!$A$4:$E$39,5,FALSE))","v":""},0,"",0,"",0,"",0,"",null,0,"",0,"",0,"",0,"",null,{"$f":"'Schedule Setup'!N26","v":"00:00:00"},{"$f":"'Schedule Setup'!O26","v":"00:00:00"},-2.0833333333333332E-2,"00:30:00"]
[23,{"$f":"IF(VLOOKUP($A213,'Schedule Setup'!$A$4:$E$39,2,FALSE)=0,\"\",VLOOKUP($A213,'Schedule Setup'!$A$4:$E$39,2,FALSE))","v":""},{"$f":"IF(VLOOKUP($A213,'Schedule Setup'!$A$4:$E$39,4,FALSE)=0,\"\",VLOOKUP($A213,'Schedule Setup'!$A$4:$E$39,4,FALSE))","v":""},"",null,null,null,"x","x","x","x","x","x","x","x","x","x","x","x","x","x","x","x","x","x","x","x","x","x","x","x","x","x","x","x","x","x","x","x","x","x","x","x","x","x",0,null,"x","x","x","x","x","x","x","x","x","x","x","x","x","x","x","x","x","x","x","x","x","x","x","x","x","x","x","x","x","x","x","x","x","x","x","x","x","x",null,0,0,0,0,0,0,0,0,0,0,0,0,0,0,0,0,0,0,0,0,0,0,0,0,0,0,0,0,0,0,0,0,0,0,0,0,0,0,null,{"$f":"IF(VLOOKUP($A213,'Schedule Setup'!$A$4:$E$39,5,FALSE)=0,\"\",VLOOKUP($A213,'Schedule Setup'!$A$4:$E$39,5,FALSE))","v":""},0,"",0,"",0,"",0,"",null,0,"",0,"",0,"",0,"",null,{"$f":"'Schedule Setup'!N27","v":"00:00:00"},{"$f":"'Schedule Setup'!O27","v":"00:00:00"},-2.0833333333333332E-2,"00:30:00"]
[24,{"$f":"IF(VLOOKUP($A214,'Schedule Setup'!$A$4:$E$39,2,FALSE)=0,\"\",VLOOKUP($A214,'Schedule Setup'!$A$4:$E$39,2,FALSE))","v":""},{"$f":"IF(VLOOKUP($A214,'Schedule Setup'!$A$4:$E$39,4,FALSE)=0,\"\",VLOOKUP($A214,'Schedule Setup'!$A$4:$E$39,4,FALSE))","v":""},{"$f":"IF(B214<>\"\",IF(OR(C214=\"General Manager (S)\", C214=\"General Manager (H)\"), \"GM\",IF(C214=\"Acting Manager\",\"AM\",IF(C214=\"Shift Manager\",\"SM\",IF(C214=\"Team Lead\",\"TL\",\"TM\")))),\"\")","v":""},null,null,null,{"$f":"AV214","v":"x"},{"$f":"AW214","v":"x"},{"$f":"AX214","v":"x"},{"$f":"AY214","v":"x"},{"$f":"AZ214","v":"x"},{"$f":"BA214","v":"x"},{"$f":"BB214","v":"x"},{"$f":"BC214","v":"x"},{"$f":"BD214","v":"x"},{"$f":"BE214","v":"x"},{"$f":"BF214","v":"x"},{"$f":"BG214","v":"x"},{"$f":"BH214","v":"x"},{"$f":"BI214","v":"x"},"x","x","x","x","x","x","x","x","x","x","x","x","x","x","x",{"$f":"BY214","v":"x"},{"$f":"BZ214","v":"x"},{"$f":"CA214","v":"x"},{"$f":"CB214","v":"x"},{"$f":"CC214","v":"x"},{"$f":"CD214","v":"x"},{"$f":"CE214","v":"x"},{"$f":"CF214","v":"x"},{"$f":"CG214","v":"x"},{"$f":"EC214","v":0},null,"x","x","x","x","x","x","x","x","x","x","x","x","x","x","x","x","x","x","x","x","x","x","x","x","x","x","x","x","x","x","x","x","x","x","x","x","x","x",null,0,0,0,0,0,0,0,0,0,0,0,0,0,0,0,0,0,0,0,0,0,0,0,0,0,0,0,0,0,0,0,0,0,0,0,0,0,0,null,{"$f":"IF(VLOOKUP($A214,'Schedule Setup'!$A$4:$E$39,5,FALSE)=0,\"\",VLOOKUP($A214,'Schedule Setup'!$A$4:$E$39,5,FALSE))","v":""},0,{"$f":"IFERROR(DW214*$DV214,\"\")","v":""},{"$f":"SUM(CU214:DF214)","v":0},{"$f":"IFERROR(DY214*$DV214,\"\")","v":""},{"$f":"SUM(DG214:DT214)","v":0},{"$f":"IFERROR(EA214*$DV214,\"\")","v":""},{"$f":"SUM(DW214,DY214,EA214)","v":0},{"$f":"IFERROR(EC214*$DV214,\"\")","v":""},null,{"$f":"IF(DW214>5,(DW214-0.5),DW214)","v":0},{"$f":"IFERROR(EF214*$DV214,\"\")","v":""},{"$f":"IF(DY214>5,(DY214-0.5),DY214)","v":0},{"$f":"IFERROR(EH214*$DV214,\"\")","v":""},{"$f":"IF(EA214>5,(EA214-0.5),EA214)","v":0},{"$f":"IFERROR(EJ214*$DV214,\"\")","v":""},{"$f":"SUM(EF214,EH214,EJ214)","v":0},{"$f":"IFERROR(EL214*$DV214,\"\")","v":""},null,{"$f":"'Schedule Setup'!N28","v":"00:00:00"},{"$f":"'Schedule Setup'!O28","v":"00:00:00"},{"$f":"EO214-(0.5/24)","v":-2.0833333333333332E-2},{"$f":"EP214+(0.5/24)","v":"00:30:00"}]
[25,{"$f":"IF(VLOOKUP($A215,'Schedule Setup'!$A$4:$E$39,2,FALSE)=0,\"\",VLOOKUP($A215,'Schedule Setup'!$A$4:$E$39,2,FALSE))","v":""},{"$f":"IF(VLOOKUP($A215,'Schedule Setup'!$A$4:$E$39,4,FALSE)=0,\"\",VLOOKUP($A215,'Schedule Setup'!$A$4:$E$39,4,FALSE))","v":""},"",null,null,null,"x","x","x","x","x","x","x","x","x","x","x","x","x","x","x","x","x","x","x","x","x","x","x","x","x","x","x","x","x","x","x","x","x","x","x","x","x","x",0,null,"x","x","x","x","x","x","x","x","x","x","x","x","x","x","x","x","x","x","x","x","x","x","x","x","x","x","x","x","x","x","x","x","x","x","x","x","x","x",null,0,0,0,0,0,0,0,0,0,0,0,0,0,0,0,0,0,0,0,0,0,0,0,0,0,0,0,0,0,0,0,0,0,0,0,0,0,0,null,{"$f":"IF(VLOOKUP($A215,'Schedule Setup'!$A$4:$E$39,5,FALSE)=0,\"\",VLOOKUP($A215,'Schedule Setup'!$A$4:$E$39,5,FALSE))","v":""},0,"",0,"",0,"",0,"",null,0,"",0,"",0,"",0,"",null,{"$f":"'Schedule Setup'!N29","v":"00:00:00"},{"$f":"'Schedule Setup'!O29","v":"00:00:00"},-2.0833333333333332E-2,"00:30:00"]
[26,{"$f":"IF(VLOOKUP($A216,'Schedule Setup'!$A$4:$E$39,2,FALSE)=0,\"\",VLOOKUP($A216,'Schedule Setup'!$A$4:$E$39,2,FALSE))","v":""},{"$f":"IF(VLOOKUP($A216,'Schedule Setup'!$A$4:$E$39,4,FALSE)=0,\"\",VLOOKUP($A216,'Schedule Setup'!$A$4:$E$39,4,FALSE))","v":""},"",null,null,null,"x","x","x","x","x","x","x","x","x","x","x","x","x","x","x","x","x","x","x","x","x","x","x","x","x","x","x","x","x","x","x","x","x","x","x","x","x","x",0,null,"x","x","x","x","x","x","x","x","x","x","x","x","x","x","x","x","x","x","x","x","x","x","x","x","x","x","x","x","x","x","x","x","x","x","x","x","x","x",null,0,0,0,0,0,0,0,0,0,0,0,0,0,0,0,0,0,0,0,0,0,0,0,0,0,0,0,0,0,0,0,0,0,0,0,0,0,0,null,{"$f":"IF(VLOOKUP($A216,'Schedule Setup'!$A$4:$E$39,5,FALSE)=0,\"\",VLOOKUP($A216,'Schedule Setup'!$A$4:$E$39,5,FALSE))","v":""},0,"",0,"",0,"",0,"",null,0,"",0,"",0,"",0,"",null,{"$f":"'Schedule Setup'!N30","v":"00:00:00"},{"$f":"'Schedule Setup'!O30","v":"00:00:00"},-2.0833333333333332E-2,"00:30:00"]
[27,{"$f":"IF(VLOOKUP($A217,'Schedule Setup'!$A$4:$E$39,2,FALSE)=0,\"\",VLOOKUP($A217,'Schedule Setup'!$A$4:$E$39,2,FALSE))","v":""},{"$f":"IF(VLOOKUP($A217,'Schedule Setup'!$A$4:$E$39,4,FALSE)=0,\"\",VLOOKUP($A217,'Schedule Setup'!$A$4:$E$39,4,FALSE))","v":""},"",null,null,null,"x","x","x","x","x","x","x","x","x","x","x","x","x","x","x","x","x","x","x","x","x","x","x","x","x","x","x","x","x","x","x","x","x","x","x","x","x","x",0,null,"x","x","x","x","x","x","x","x","x","x","x","x","x","x","x","x","x","x","x","x","x","x","x","x","x","x","x","x","x","x","x","x","x","x","x","x","x","x",null,0,0,0,0,0,0,0,0,0,0,0,0,0,0,0,0,0,0,0,0,0,0,0,0,0,0,0,0,0,0,0,0,0,0,0,0,0,0,null,{"$f":"IF(VLOOKUP($A217,'Schedule Setup'!$A$4:$E$39,5,FALSE)=0,\"\",VLOOKUP($A217,'Schedule Setup'!$A$4:$E$39,5,FALSE))","v":""},0,"",0,"",0,"",0,"",null,0,"",0,"",0,"",0,"",null,{"$f":"'Schedule Setup'!N31","v":"00:00:00"},{"$f":"'Schedule Setup'!O31","v":"00:00:00"},-2.0833333333333332E-2,"00:30:00"]
[28,{"$f":"IF(VLOOKUP($A218,'Schedule Setup'!$A$4:$E$39,2,FALSE)=0,\"\",VLOOKUP($A218,'Schedule Setup'!$A$4:$E$39,2,FALSE))","v":""},{"$f":"IF(VLOOKUP($A218,'Schedule Setup'!$A$4:$E$39,4,FALSE)=0,\"\",VLOOKUP($A218,'Schedule Setup'!$A$4:$E$39,4,FALSE))","v":""},"",null,null,null,"x","x","x","x","x","x","x","x","x","x","x","x","x","x","x","x","x","x","x","x","x","x","x","x","x","x","x","x","x","x","x","x","x","x","x","x","x","x",0,null,"x","x","x","x","x","x","x","x","x","x","x","x","x","x","x","x","x","x","x","x","x","x","x","x","x","x","x","x","x","x","x","x","x","x","x","x","x","x",null,0,0,0,0,0,0,0,0,0,0,0,0,0,0,0,0,0,0,0,0,0,0,0,0,0,0,0,0,0,0,0,0,0,0,0,0,0,0,null,{"$f":"IF(VLOOKUP($A218,'Schedule Setup'!$A$4:$E$39,5,FALSE)=0,\"\",VLOOKUP($A218,'Schedule Setup'!$A$4:$E$39,5,FALSE))","v":""},0,"",0,"",0,"",0,"",null,0,"",0,"",0,"",0,"",null,{"$f":"'Schedule Setup'!N32","v":"00:00:00"},{"$f":"'Schedule Setup'!O32","v":"00:00:00"},-2.0833333333333332E-2,"00:30:00"]
[29,{"$f":"IF(VLOOKUP($A219,'Schedule Setup'!$A$4:$E$39,2,FALSE)=0,\"\",VLOOKUP($A219,'Schedule Setup'!$A$4:$E$39,2,FALSE))","v":""},{"$f":"IF(VLOOKUP($A219,'Schedule Setup'!$A$4:$E$39,4,FALSE)=0,\"\",VLOOKUP($A219,'Schedule Setup'!$A$4:$E$39,4,FALSE))","v":""},"",null,null,null,"x","x","x","x","x","x","x","x","x","x","x","x","x","x","x","x","x","x","x","x","x","x","x","x","x","x","x","x","x","x","x","x","x","x","x","x","x","x",0,null,"x","x","x","x","x","x","x","x","x","x","x","x","x","x","x","x","x","x","x","x","x","x","x","x","x","x","x","x","x","x","x","x","x","x","x","x","x","x",null,0,0,0,0,0,0,0,0,0,0,0,0,0,0,0,0,0,0,0,0,0,0,0,0,0,0,0,0,0,0,0,0,0,0,0,0,0,0,null,{"$f":"IF(VLOOKUP($A219,'Schedule Setup'!$A$4:$E$39,5,FALSE)=0,\"\",VLOOKUP($A219,'Schedule Setup'!$A$4:$E$39,5,FALSE))","v":""},0,"",0,"",0,"",0,"",null,0,"",0,"",0,"",0,"",null,{"$f":"'Schedule Setup'!N33","v":"00:00:00"},{"$f":"'Schedule Setup'!O33","v":"00:00:00"},-2.0833333333333332E-2,"00:30:00"]
[30,{"$f":"IF(VLOOKUP($A220,'Schedule Setup'!$A$4:$E$39,2,FALSE)=0,\"\",VLOOKUP($A220,'Schedule Setup'!$A$4:$E$39,2,FALSE))","v":""},{"$f":"IF(VLOOKUP($A220,'Schedule Setup'!$A$4:$E$39,4,FALSE)=0,\"\",VLOOKUP($A220,'Schedule Setup'!$A$4:$E$39,4,FALSE))","v":""},"",null,null,null,"x","x","x","x","x","x","x","x","x","x","x","x","x","x","x","x","x","x","x","x","x","x","x","x","x","x","x","x","x","x","x","x","x","x","x","x","x","x",0,null,"x","x","x","x","x","x","x","x","x","x","x","x","x","x","x","x","x","x","x","x","x","x","x","x","x","x","x","x","x","x","x","x","x","x","x","x","x","x",null,0,0,0,0,0,0,0,0,0,0,0,0,0,0,0,0,0,0,0,0,0,0,0,0,0,0,0,0,0,0,0,0,0,0,0,0,0,0,null,{"$f":"IF(VLOOKUP($A220,'Schedule Setup'!$A$4:$E$39,5,FALSE)=0,\"\",VLOOKUP($A220,'Schedule Setup'!$A$4:$E$39,5,FALSE))","v":""},0,"",0,"",0,"",0,"",null,0,"",0,"",0,"",0,"",null,{"$f":"'Schedule Setup'!N34","v":"00:00:00"},{"$f":"'Schedule Setup'!O34","v":"00:00:00"},-2.0833333333333332E-2,"00:30:00"]
[31,{"$f":"IF(VLOOKUP($A221,'Schedule Setup'!$A$4:$E$39,2,FALSE)=0,\"\",VLOOKUP($A221,'Schedule Setup'!$A$4:$E$39,2,FALSE))","v":""},{"$f":"IF(VLOOKUP($A221,'Schedule Setup'!$A$4:$E$39,4,FALSE)=0,\"\",VLOOKUP($A221,'Schedule Setup'!$A$4:$E$39,4,FALSE))","v":""},"",null,null,null,"x","x","x","x","x","x","x","x","x","x","x","x","x","x","x","x","x","x","x","x","x","x","x","x","x","x","x","x","x","x","x","x","x","x","x","x","x","x",0,null,"x","x","x","x","x","x","x","x","x","x","x","x","x","x","x","x","x","x","x","x","x","x","x","x","x","x","x","x","x","x","x","x","x","x","x","x","x","x",null,0,0,0,0,0,0,0,0,0,0,0,0,0,0,0,0,0,0,0,0,0,0,0,0,0,0,0,0,0,0,0,0,0,0,0,0,0,0,null,{"$f":"IF(VLOOKUP($A221,'Schedule Setup'!$A$4:$E$39,5,FALSE)=0,\"\",VLOOKUP($A221,'Schedule Setup'!$A$4:$E$39,5,FALSE))","v":""},0,"",0,"",0,"",0,"",null,0,"",0,"",0,"",0,"",null,{"$f":"'Schedule Setup'!N35","v":"00:00:00"},{"$f":"'Schedule Setup'!O35","v":"00:00:00"},-2.0833333333333332E-2,"00:30:00"]
[32,{"$f":"IF(VLOOKUP($A222,'Schedule Setup'!$A$4:$E$39,2,FALSE)=0,\"\",VLOOKUP($A222,'Schedule Setup'!$A$4:$E$39,2,FALSE))","v":""},{"$f":"IF(VLOOKUP($A222,'Schedule Setup'!$A$4:$E$39,4,FALSE)=0,\"\",VLOOKUP($A222,'Schedule Setup'!$A$4:$E$39,4,FALSE))","v":""},"",null,null,null,"x","x","x","x","x","x","x","x","x","x","x","x","x","x","x","x","x","x","x","x","x","x","x","x","x","x","x","x","x","x","x","x","x","x","x","x","x","x",0,null,"x","x","x","x","x","x","x","x","x","x","x","x","x","x","x","x","x","x","x","x","x","x","x","x","x","x","x","x","x","x","x","x","x","x","x","x","x","x",null,0,0,0,0,0,0,0,0,0,0,0,0,0,0,0,0,0,0,0,0,0,0,0,0,0,0,0,0,0,0,0,0,0,0,0,0,0,0,null,{"$f":"IF(VLOOKUP($A222,'Schedule Setup'!$A$4:$E$39,5,FALSE)=0,\"\",VLOOKUP($A222,'Schedule Setup'!$A$4:$E$39,5,FALSE))","v":""},0,"",0,"",0,"",0,"",null,0,"",0,"",0,"",0,"",null,{"$f":"'Schedule Setup'!N36","v":"00:00:00"},{"$f":"'Schedule Setup'!O36","v":"00:00:00"},-2.0833333333333332E-2,"00:30:00"]
[33,{"$f":"IF(VLOOKUP($A223,'Schedule Setup'!$A$4:$E$39,2,FALSE)=0,\"\",VLOOKUP($A223,'Schedule Setup'!$A$4:$E$39,2,FALSE))","v":""},{"$f":"IF(VLOOKUP($A223,'Schedule Setup'!$A$4:$E$39,4,FALSE)=0,\"\",VLOOKUP($A223,'Schedule Setup'!$A$4:$E$39,4,FALSE))","v":""},"",null,null,null,"x","x","x","x","x","x","x","x","x","x","x","x","x","x","x","x","x","x","x","x","x","x","x","x","x","x","x","x","x","x","x","x","x","x","x","x","x","x",0,null,"x","x","x","x","x","x","x","x","x","x","x","x","x","x","x","x","x","x","x","x","x","x","x","x","x","x","x","x","x","x","x","x","x","x","x","x","x","x",null,0,0,0,0,0,0,0,0,0,0,0,0,0,0,0,0,0,0,0,0,0,0,0,0,0,0,0,0,0,0,0,0,0,0,0,0,0,0,null,{"$f":"IF(VLOOKUP($A223,'Schedule Setup'!$A$4:$E$39,5,FALSE)=0,\"\",VLOOKUP($A223,'Schedule Setup'!$A$4:$E$39,5,FALSE))","v":""},0,"",0,"",0,"",0,"",null,0,"",0,"",0,"",0,"",null,{"$f":"'Schedule Setup'!N37","v":"00:00:00"},{"$f":"'Schedule Setup'!O37","v":"00:00:00"},-2.0833333333333332E-2,"00:30:00"]
[34,{"$f":"IF(VLOOKUP($A224,'Schedule Setup'!$A$4:$E$39,2,FALSE)=0,\"\",VLOOKUP($A224,'Schedule Setup'!$A$4:$E$39,2,FALSE))","v":""},{"$f":"IF(VLOOKUP($A224,'Schedule Setup'!$A$4:$E$39,4,FALSE)=0,\"\",VLOOKUP($A224,'Schedule Setup'!$A$4:$E$39,4,FALSE))","v":""},"",null,null,null,"x","x","x","x","x","x","x","x","x","x",{"$f":"BF224","v":"x"},"x","x","x","x",{"$f":"BK224","v":"x"},"x","x","x","x","x","x","x","x","x","x","x","x","x","x","x","x","x","x","x","x","x","x",0,null,"x","x","x","x","x","x","x","x","x","x","x","x","x","x","x","x","x","x","x","x","x","x","x","x","x","x","x","x","x","x","x","x","x","x","x","x","x","x",null,0,0,0,0,0,0,0,0,0,0,0,0,0,0,0,0,0,0,0,0,0,0,0,0,0,0,0,0,0,0,0,0,0,0,0,0,0,0,null,{"$f":"IF(VLOOKUP($A224,'Schedule Setup'!$A$4:$E$39,5,FALSE)=0,\"\",VLOOKUP($A224,'Schedule Setup'!$A$4:$E$39,5,FALSE))","v":""},0,"",0,"",0,"",0,"",null,0,"",0,"",0,"",0,"",null,{"$f":"'Schedule Setup'!N28","v":"00:00:00"},{"$f":"'Schedule Setup'!O28","v":"00:00:00"},-2.0833333333333332E-2,"00:30:00"]
[35,{"$f":"IF(VLOOKUP($A225,'Schedule Setup'!$A$4:$E$39,2,FALSE)=0,\"\",VLOOKUP($A225,'Schedule Setup'!$A$4:$E$39,2,FALSE))","v":""},{"$f":"IF(VLOOKUP($A225,'Schedule Setup'!$A$4:$E$39,4,FALSE)=0,\"\",VLOOKUP($A225,'Schedule Setup'!$A$4:$E$39,4,FALSE))","v":""},"",null,null,null,"x","x","x","x","x","x","x","x","x","x","x","x","x","x","x","x","x","x","x","x","x","x","x","x","x","x","x","x","x","x","x","x","x","x","x","x","x","x",0,null,"x","x","x","x","x","x","x","x","x","x","x","x","x","x","x","x","x","x","x","x","x","x","x","x","x","x","x","x","x","x","x","x","x","x","x","x","x","x",null,0,0,0,0,0,0,0,0,0,0,0,0,0,0,0,0,0,0,0,0,0,0,0,0,0,0,0,0,0,0,0,0,0,0,0,0,0,0,null,{"$f":"IF(VLOOKUP($A225,'Schedule Setup'!$A$4:$E$39,5,FALSE)=0,\"\",VLOOKUP($A225,'Schedule Setup'!$A$4:$E$39,5,FALSE))","v":""},0,"",0,"",0,"",0,"",null,0,"",0,"",0,"",0,"",null,{"$f":"'Schedule Setup'!N39","v":"00:00:00"},{"$f":"'Schedule Setup'!O39","v":"00:00:00"},-2.0833333333333332E-2,"00:30:00"]
[null,null,null,"Totals/Coverage",{"$f":"MIN(E191:E225)","v":"00:00:00"},{"$f":"MAX(F191:F225)","v":"00:00:00"},null,{"$f":"CI226","v":0},{"$f":"CJ226","v":0},{"$f":"CK226","v":0},{"$f":"CL226","v":0},{"$f":"CM226","v":0},{"$f":"CN226","v":0},{"$f":"CO226","v":0},{"$f":"CP226","v":0},{"$f":"CQ226","v":0},{"$f":"CR226","v":0},{"$f":"CS226","v":0},{"$f":"CT226","v":0},{"$f":"CU226","v":0},{"$f":"CV226","v":0},{"$f":"CW226","v":0},{"$f":"CX226","v":0},{"$f":"CY226","v":0},{"$f":"CZ226","v":0},{"$f":"DA226","v":0},{"$f":"DB226","v":0},{"$f":"DC226","v":0},{"$f":"DD226","v":0},{"$f":"DE226","v":0},{"$f":"DF226","v":0},{"$f":"DG226","v":0},{"$f":"DH226","v":0},{"$f":"DI226","v":0},{"$f":"DJ226","v":0},{"$f":"DK226","v":0},{"$f":"DL226","v":0},{"$f":"DM226","v":0},{"$f":"DN226","v":0},{"$f":"DO226","v":0},{"$f":"DP226","v":0},{"$f":"DQ226","v":0},{"$f":"DR226","v":0},{"$f":"DS226","v":0},{"$f":"DT226","v":0},{"$f":"SUM(AT191:AT225)","v":0},null,null,null,null,null,null,null,null,null,null,null,null,null,null,null,null,null,null,null,null,null,null,null,null,null,null,null,null,null,null,null,null,null,null,null,null,null,null,null,null,{"$f":"COUNTIF(CI191:CI225,0.5)","v":0},0,0,0,0,0,0,0,0,0,0,0,0,0,0,0,0,0,0,0,0,0,0,0,0,0,0,0,0,0,0,0,0,0,0,0,0,0,null,null,{"$f":"SUM(DW191:DW225)","v":0},0,0,0,0,0,0,0,null,{"$f":"SUM(EF191:EF225)","v":0},0,0,0,0,0,0,0,null,{"$f":"'Schedule Setup'!N40","v":"08:00:00"},{"$f":"'Schedule Setup'!O40","v":"19:00:00"},"07:30:00","19:30:00"]
[null,null,null,null,null,{"$f":"'Schedule Forecast'!A14","v":"Last Week"},null,{"$f":"IFERROR(INDEX(INDIRECT(\"'\"&$F227&\"'!$G:$G\"),MATCH(H$6,INDIRECT(\"'\"&$F227&\"'!$A$1:$A$250\"),0)+1),0)","v":0},0,0,0,0,0,0,0,0,0,{"$f":"IFERROR(INDEX(INDIRECT(\"'\"&$F227&\"'!$G:$G\"),MATCH(R$6,INDIRECT(\"'\"&$F227&\"'!$A$1:$A$250\"),0)+1),0)","v":0},0,0,0,0,0,0,0,0,0,{"$f":"IFERROR(INDEX(INDIRECT(\"'\"&$F227&\"'!$G:$G\"),MATCH(AB$6,INDIRECT(\"'\"&$F227&\"'!$A$1:$A$250\"),0)+1),0)","v":0},0,0,0,0,0,0,0,0,0,{"$f":"IFERROR(INDEX(INDIRECT(\"'\"&$F227&\"'!$G:$G\"),MATCH(AL$6,INDIRECT(\"'\"&$F227&\"'!$A$1:$A$250\"),0)+1),0)","v":0},0,0,0,0,0,0,0]
[null,null,null,null,null,{"$f":"'Schedule Forecast'!A15","v":"2 Weeks Ago"},null,0,0,0,0,0,0,0,0,0,0,0,0,0,0,0,0,0,0,0,0,0,0,0,0,0,0,0,0,0,0,0,0,0,0,0,0,0,0]
[null,null,null,null,null,{"$f":"'Schedule Forecast'!A16","v":"3 Weeks Ago"},null,0,0,0,0,0,0,0,0,0,0,0,0,0,0,0,0,0,0,0,0,0,0,0,0,0,0,0,0,0,0,0,0,0,0,0,0,0,0]
[null,null,null,null,null,{"$f":"'Schedule Forecast'!A17","v":"4 Weeks Ago"},null,0,0,0,0,0,0,0,0,0,0,0,0,0,0,0,0,0,0,0,0,0,0,0,0,0,0,0,0,0,0,0,0,0,0,0,0,0,0]
[null,null,null,null,null,"AVERAGE",null,{"$f":"IFERROR(IF(AND(H$6>=$EO$226,H$6<$EP$226-0.001),AVERAGE(H227:H230),\"\"),\"\")","v":""},"","","","","",0,0,0,0,0,0,0,0,0,0,0,0,0,0,0,0,0,0,0,0,0,0,"","","","","","","","","",""]
[null,null,null,null,null,null,null,{"$f":"IFERROR(IF((H231*'Schedule Forecast'!$C$4-$AC$2)>1,(H231*'Schedule Forecast'!$C$4-$AC$2),1),\"\")","v":""},{"$f":"IFERROR(IF((I231*'Schedule Forecast'!$C$4-$AC$2)>1,(I231*'Schedule Forecast'!$C$4-$AC$2),1),\"\")","v":""},{"$f":"IFERROR(IF((J231*'Schedule Forecast'!$C$4-$AC$2)>1,(J231*'Schedule Forecast'!$C$4-$AC$2),1),\"\")","v":""},{"$f":"IFERROR(IF((K231*'Schedule Forecast'!$C$4-$AC$2)>1,(K231*'Schedule Forecast'!$C$4-$AC$2),1),\"\")","v":""},{"$f":"IFERROR(IF((L231*'Schedule Forecast'!$C$4-$AC$2)>1,(L231*'Schedule Forecast'!$C$4-$AC$2),1),\"\")","v":""},{"$f":"IFERROR(IF((M231*'Schedule Forecast'!$C$4-$AC$2)>1,(M231*'Schedule Forecast'!$C$4-$AC$2),1),\"\")","v":""},{"$f":"IFERROR(IF((N231*'Schedule Forecast'!$C$4-$AC$2)>1,(N231*'Schedule Forecast'!$C$4-$AC$2),1),\"\")","v":1},{"$f":"IFERROR(IF((O231*'Schedule Forecast'!$C$4-$AC$2)>1,(O231*'Schedule Forecast'!$C$4-$AC$2),1),\"\")","v":1},{"$f":"IFERROR(IF((P231*'Schedule Forecast'!$C$4-$AC$2)>1,(P231*'Schedule Forecast'!$C$4-$AC$2),1),\"\")","v":1},{"$f":"IFERROR(IF((Q231*'Schedule Forecast'!$C$4-$AC$2)>1,(Q231*'Schedule Forecast'!$C$4-$AC$2),1),\"\")","v":1},{"$f":"IFERROR(IF((R231*'Schedule Forecast'!$C$4-$AC$2)>1,(R231*'Schedule Forecast'!$C$4-$AC$2),1),\"\")","v":1},{"$f":"IFERROR(IF((S231*'Schedule Forecast'!$C$4-$AC$2)>1,(S231*'Schedule Forecast'!$C$4-$AC$2),1),\"\")","v":1},{"$f":"IFERROR(IF((T231*'Schedule Forecast'!$C$4-$AC$2)>1,(T231*'Schedule Forecast'!$C$4-$AC$2),1),\"\")","v":1},{"$f":"IFERROR(IF((U231*'Schedule Forecast'!$C$4-$AC$2)>1,(U231*'Schedule Forecast'!$C$4-$AC$2),1),\"\")","v":1},{"$f":"IFERROR(IF((V231*'Schedule Forecast'!$C$4-$AC$2)>1,(V231*'Schedule Forecast'!$C$4-$AC$2),1),\"\")","v":1},{"$f":"IFERROR(IF((W231*'Schedule Forecast'!$C$4-$AC$2)>1,(W231*'Schedule Forecast'!$C$4-$AC$2),1),\"\")","v":1},{"$f":"IFERROR(IF((X231*'Schedule Forecast'!$C$4-$AC$2)>1,(X231*'Schedule Forecast'!$C$4-$AC$2),1),\"\")","v":1},{"$f":"IFERROR(IF((Y231*'Schedule Forecast'!$C$4-$AC$2)>1,(Y231*'Schedule Forecast'!$C$4-$AC$2),1),\"\")","v":1},{"$f":"IFERROR(IF((Z231*'Schedule Forecast'!$C$4-$AC$2)>1,(Z231*'Schedule Forecast'!$C$4-$AC$2),1),\"\")","v":1},{"$f":"IFERROR(IF((AA231*'Schedule Forecast'!$C$4-$AC$2)>1,(AA231*'Schedule Forecast'!$C$4-$AC$2),1),\"\")","v":1},{"$f":"IFERROR(IF((AB231*'Schedule Forecast'!$C$4-$AC$2)>1,(AB231*'Schedule Forecast'!$C$4-$AC$2),1),\"\")","v":1},{"$f":"IFERROR(IF((AC231*'Schedule Forecast'!$C$4-$AC$2)>1,(AC231*'Schedule Forecast'!$C$4-$AC$2),1),\"\")","v":1},{"$f":"IFERROR(IF((AD231*'Schedule Forecast'!$C$4-$AC$2)>1,(AD231*'Schedule Forecast'!$C$4-$AC$2),1),\"\")","v":1},{"$f":"IFERROR(IF((AE231*'Schedule Forecast'!$C$4-$AC$2)>1,(AE231*'Schedule Forecast'!$C$4-$AC$2),1),\"\")","v":1},{"$f":"IFERROR(IF((AF231*'Schedule Forecast'!$C$4-$AC$2)>1,(AF231*'Schedule Forecast'!$C$4-$AC$2),1),\"\")","v":1},{"$f":"IFERROR(IF((AG231*'Schedule Forecast'!$C$4-$AC$2)>1,(AG231*'Schedule Forecast'!$C$4-$AC$2),1),\"\")","v":1},{"$f":"IFERROR(IF((AH231*'Schedule Forecast'!$C$4-$AC$2)>1,(AH231*'Schedule Forecast'!$C$4-$AC$2),1),\"\")","v":1},{"$f":"IFERROR(IF((AI231*'Schedule Forecast'!$C$4-$AC$2)>1,(AI231*'Schedule Forecast'!$C$4-$AC$2),1),\"\")","v":1},{"$f":"IFERROR(IF((AJ231*'Schedule Forecast'!$C$4-$AC$2)>1,(AJ231*'Schedule Forecast'!$C$4-$AC$2),1),\"\")","v":""},{"$f":"IFERROR(IF((AK231*'Schedule Forecast'!$C$4-$AC$2)>1,(AK231*'Schedule Forecast'!$C$4-$AC$2),1),\"\")","v":""},{"$f":"IFERROR(IF((AL231*'Schedule Forecast'!$C$4-$AC$2)>1,(AL231*'Schedule Forecast'!$C$4-$AC$2),1),\"\")","v":""},{"$f":"IFERROR(IF((AM231*'Schedule Forecast'!$C$4-$AC$2)>1,(AM231*'Schedule Forecast'!$C$4-$AC$2),1),\"\")","v":""},{"$f":"IFERROR(IF((AN231*'Schedule Forecast'!$C$4-$AC$2)>1,(AN231*'Schedule Forecast'!$C$4-$AC$2),1),\"\")","v":""},{"$f":"IFERROR(IF((AO231*'Schedule Forecast'!$C$4-$AC$2)>1,(AO231*'Schedule Forecast'!$C$4-$AC$2),1),\"\")","v":""},{"$f":"IFERROR(IF((AP231*'Schedule Forecast'!$C$4-$AC$2)>1,(AP231*'Schedule Forecast'!$C$4-$AC$2),1),\"\")","v":""},{"$f":"IFERROR(IF((AQ231*'Schedule Forecast'!$C$4-$AC$2)>1,(AQ231*'Schedule Forecast'!$C$4-$AC$2),1),\"\")","v":""},{"$f":"IFERROR(IF((AR231*'Schedule Forecast'!$C$4-$AC$2)>1,(AR231*'Schedule Forecast'!$C$4-$AC$2),1),\"\")","v":""},{"$f":"IFERROR(IF((AS231*'Schedule Forecast'!$C$4-$AC$2)>1,(AS231*'Schedule Forecast'!$C$4-$AC$2),1),\"\")","v":""}]
[null,null,null,null,null,null,"Recommended:",{"$f":"IF(H190>=$EO$226,IF(H190<$EP$226-0.01,ROUND(IF(H232>1,(H232*$B$48)+1,H232)*2,0),\"\"),\"\")","v":""},"","","","","",2,2,2,2,2,2,2,2,2,2,2,2,2,2,2,2,2,2,2,2,2,2,"","","","","","","","","","",{"$f":"SUM(H233:AS233)/2","v":22}]
[]
[null,"Sunday",null,null,null,null,null,null,null,null,null,null,null,null,null,null,null,null,{"$f":"S189","v":"Today's Date"},{"$f":"T5+5","v":"2019-05-06"},null,null,null,null,null,null,null,null,null,null,null,null,null,null,null,null,null,null,null,null,null,null,null,null,null,null,null,null,null,null,null,null,null,null,null,null,null,null,null,null,null,null,null,null,null,null,null,null,null,null,null,null,null,null,null,null,null,null,null,null,null,null,null,null,null,null,null,null,null,null,null,null,null,null,null,null,null,null,null,null,null,null,null,null,null,null,null,null,null,null,null,null,null,null,null,null,null,null,null,null,null,null,null,null,null,null,"Breakfast",null,"Lunch",null,"Dinner",null,"Total",null,null,"Breakfast",null,"Lunch",null,"Dinner",null,"Total",null,null,"Availability"]
[null,"Employee","Job",null,"Start","End",null,"05:00:00",{"$f":"H236+(0.5/24)","v":"05:30:00"},{"$f":"I236+(0.5/24)","v":"06:00:00"},{"$f":"J236+(0.5/24)","v":"06:30:00"},{"$f":"K236+(0.5/24)","v":"07:00:00"},{"$f":"L236+(0.5/24)","v":"07:30:00"},{"$f":"M236+(0.5/24)","v":"08:00:00"},{"$f":"N236+(0.5/24)","v":"08:30:00"},{"$f":"O236+(0.5/24)","v":"09:00:00"},{"$f":"P236+(0.5/24)","v":"09:30:00"},{"$f":"Q236+(0.5/24)","v":"10:00:00"},{"$f":"R236+(0.5/24)","v":"10:30:00"},{"$f":"S236+(0.5/24)","v":"11:00:00"},{"$f":"T236+(0.5/24)","v":"11:30:00"},{"$f":"U236+(0.5/24)","v":"12:00:00"},{"$f":"V236+(0.5/24)","v":"12:30:00"},{"$f":"W236+(0.5/24)","v":"13:00:00"},{"$f":"X236+(0.5/24)","v":"13:30:00"},{"$f":"Y236+(0.5/24)","v":"14:00:00"},{"$f":"Z236+(0.5/24)","v":"14:30:00"},{"$f":"AA236+(0.5/24)","v":"15:00:00"},{"$f":"AB236+(0.5/24)","v":"15:30:00"},{"$f":"AC236+(0.5/24)","v":"16:00:00"},{"$f":"AD236+(0.5/24)","v":"16:30:00"},{"$f":"AE236+(0.5/24)","v":"17:00:00"},{"$f":"AF236+(0.5/24)","v":"17:30:00"},{"$f":"AG236+(0.5/24)","v":"18:00:00"},{"$f":"AH236+(0.5/24)","v":"18:30:00"},{"$f":"AI236+(0.5/24)","v":"19:00:00"},{"$f":"AJ236+(0.5/24)","v":"19:30:00"},{"$f":"AK236+(0.5/24)","v":"20:00:00"},{"$f":"AL236+(0.5/24)","v":"20:30:00"},{"$f":"AM236+(0.5/24)","v":"21:00:00"},{"$f":"AN236+(0.5/24)","v":"21:30:00"},{"$f":"AO236+(0.5/24)","v":"22:00:00"},{"$f":"AP236+(0.5/24)","v":"22:30:00"},{"$f":"AQ236+(0.5/24)","v":"23:00:00"},{"$f":"AR236+(0.5/24)","v":"23:30:00"},"TOTAL",null,5,null,6,null,7,null,8,null,9,null,10,null,11,null,12,null,1,null,2,null,3,null,4,null,5,null,6,null,7,null,8,null,9,null,10,null,11,null,null,5,null,6,null,7,null,8,null,9,null,10,null,11,null,12,null,1,null,2,null,3,null,4,null,5,null,6,null,7,null,8,null,9,null,10,null,11,null,null,"Rate","Hrs","$","Hrs","$","Hrs","$","Hrs","$",null,"Hrs","$","Hrs","$","Hrs","$","Hrs","$",null,"Start","End","Start-Early","End-Late"]
[1,{"$f":"IF(VLOOKUP($A237,'Schedule Setup'!$A$4:$E$39,2,FALSE)=0,\"\",VLOOKUP($A237,'Schedule Setup'!$A$4:$E$39,2,FALSE))","v":""},{"$f":"IF(VLOOKUP($A237,'Schedule Setup'!$A$4:$E$39,4,FALSE)=0,\"\",VLOOKUP($A237,'Schedule Setup'!$A$4:$E$39,4,FALSE))","v":""},{"$f":"IF(B237<>\"\",IF(OR(C237=\"General Manager (S)\", C237=\"General Manager (H)\"), \"GM\",IF(C237=\"Acting Manager\",\"AM\",IF(C237=\"Shift Manager\",\"SM\",IF(C237=\"Team Lead\",\"TL\",\"TM\")))),\"\")","v":""},null,null,null,{"$f":"AV237","v":"x"},"x","x","x","x","x","x","x","x","x",{"$f":"BF237","v":"x"},"x","x","x","x","x","x","x","x","x",{"$f":"BP237","v":"x"},"x","x","x","x","x","x","x","x","x",{"$f":"BZ237","v":"x"},"x","x","x","x","x","x","x",{"$f":"EC237","v":0},null,{"$f":"IF(AND($EO237<=H$6+0.01,$EP237>H$6+0.01),IF(AND(H$6<$F237-0.01,H$6>=$E237-0.01),$D237,\"\"),\"x\")","v":"x"},{"$f":"IF(AND($EO237<=I$6+0.01,$EP237>I$6+0.01),IF(AND(I$6<$F237-0.01,I$6>=$E237-0.01),$D237,\"\"),\"x\")","v":"x"},{"$f":"IF(AND($EO237<=J$6+0.01,$EP237>J$6+0.01),IF(AND(J$6<$F237-0.01,J$6>=$E237-0.01),$D237,\"\"),\"x\")","v":"x"},{"$f":"IF(AND($EO237<=K$6+0.01,$EP237>K$6+0.01),IF(AND(K$6<$F237-0.01,K$6>=$E237-0.01),$D237,\"\"),\"x\")","v":"x"},{"$f":"IF(AND($EO237<=L$6+0.01,$EP237>L$6+0.01),IF(AND(L$6<$F237-0.01,L$6>=$E237-0.01),$D237,\"\"),\"x\")","v":"x"},{"$f":"IF(AND($EO237<=M$6+0.01,$EP237>M$6+0.01),IF(AND(M$6<$F237-0.01,M$6>=$E237-0.01),$D237,\"\"),\"x\")","v":"x"},{"$f":"IF(AND($EO237<=N$6+0.01,$EP237>N$6+0.01),IF(AND(N$6<$F237-0.01,N$6>=$E237-0.01),$D237,\"\"),\"x\")","v":"x"},{"$f":"IF(AND($EO237<=O$6+0.01,$EP237>O$6+0.01),IF(AND(O$6<$F237-0.01,O$6>=$E237-0.01),$D237,\"\"),\"x\")","v":"x"},{"$f":"IF(AND($EO237<=P$6+0.01,$EP237>P$6+0.01),IF(AND(P$6<$F237-0.01,P$6>=$E237-0.01),$D237,\"\"),\"x\")","v":"x"},{"$f":"IF(AND($EO237<=Q$6+0.01,$EP237>Q$6+0.01),IF(AND(Q$6<$F237-0.01,Q$6>=$E237-0.01),$D237,\"\"),\"x\")","v":"x"},{"$f":"IF(AND($EO237<=R$6+0.01,$EP237>R$6+0.01),IF(AND(R$6<$F237-0.01,R$6>=$E237-0.01),$D237,\"\"),\"x\")","v":"x"},{"$f":"IF(AND($EO237<=S$6+0.01,$EP237>S$6+0.01),IF(AND(S$6<$F237-0.01,S$6>=$E237-0.01),$D237,\"\"),\"x\")","v":"x"},{"$f":"IF(AND($EO237<=T$6+0.01,$EP237>T$6+0.01),IF(AND(T$6<$F237-0.01,T$6>=$E237-0.01),$D237,\"\"),\"x\")","v":"x"},{"$f":"IF(AND($EO237<=U$6+0.01,$EP237>U$6+0.01),IF(AND(U$6<$F237-0.01,U$6>=$E237-0.01),$D237,\"\"),\"x\")","v":"x"},{"$f":"IF(AND($EO237<=V$6+0.01,$EP237>V$6+0.01),IF(AND(V$6<$F237-0.01,V$6>=$E237-0.01),$D237,\"\"),\"x\")","v":"x"},{"$f":"IF(AND($EO237<=W$6+0.01,$EP237>W$6+0.01),IF(AND(W$6<$F237-0.01,W$6>=$E237-0.01),$D237,\"\"),\"x\")","v":"x"},{"$f":"IF(AND($EO237<=X$6+0.01,$EP237>X$6+0.01),IF(AND(X$6<$F237-0.01,X$6>=$E237-0.01),$D237,\"\"),\"x\")","v":"x"},{"$f":"IF(AND($EO237<=Y$6+0.01,$EP237>Y$6+0.01),IF(AND(Y$6<$F237-0.01,Y$6>=$E237-0.01),$D237,\"\"),\"x\")","v":"x"},{"$f":"IF(AND($EO237<=Z$6+0.01,$EP237>Z$6+0.01),IF(AND(Z$6<$F237-0.01,Z$6>=$E237-0.01),$D237,\"\"),\"x\")","v":"x"},{"$f":"IF(AND($EO237<=AA$6+0.01,$EP237>AA$6+0.01),IF(AND(AA$6<$F237-0.01,AA$6>=$E237-0.01),$D237,\"\"),\"x\")","v":"x"},{"$f":"IF(AND($EO237<=AB$6+0.01,$EP237>AB$6+0.01),IF(AND(AB$6<$F237-0.01,AB$6>=$E237-0.01),$D237,\"\"),\"x\")","v":"x"},{"$f":"IF(AND($EO237<=AC$6+0.01,$EP237>AC$6+0.01),IF(AND(AC$6<$F237-0.01,AC$6>=$E237-0.01),$D237,\"\"),\"x\")","v":"x"},{"$f":"IF(AND($EO237<=AD$6+0.01,$EP237>AD$6+0.01),IF(AND(AD$6<$F237-0.01,AD$6>=$E237-0.01),$D237,\"\"),\"x\")","v":"x"},{"$f":"IF(AND($EO237<=AE$6+0.01,$EP237>AE$6+0.01),IF(AND(AE$6<$F237-0.01,AE$6>=$E237-0.01),$D237,\"\"),\"x\")","v":"x"},{"$f":"IF(AND($EO237<=AF$6+0.01,$EP237>AF$6+0.01),IF(AND(AF$6<$F237-0.01,AF$6>=$E237-0.01),$D237,\"\"),\"x\")","v":"x"},{"$f":"IF(AND($EO237<=AG$6+0.01,$EP237>AG$6+0.01),IF(AND(AG$6<$F237-0.01,AG$6>=$E237-0.01),$D237,\"\"),\"x\")","v":"x"},{"$f":"IF(AND($EO237<=AH$6+0.01,$EP237>AH$6+0.01),IF(AND(AH$6<$F237-0.01,AH$6>=$E237-0.01),$D237,\"\"),\"x\")","v":"x"},{"$f":"IF(AND($EO237<=AI$6+0.01,$EP237>AI$6+0.01),IF(AND(AI$6<$F237-0.01,AI$6>=$E237-0.01),$D237,\"\"),\"x\")","v":"x"},{"$f":"IF(AND($EO237<=AJ$6+0.01,$EP237>AJ$6+0.01),IF(AND(AJ$6<$F237-0.01,AJ$6>=$E237-0.01),$D237,\"\"),\"x\")","v":"x"},{"$f":"IF(AND($EO237<=AK$6+0.01,$EP237>AK$6+0.01),IF(AND(AK$6<$F237-0.01,AK$6>=$E237-0.01),$D237,\"\"),\"x\")","v":"x"},{"$f":"IF(AND($EO237<=AL$6+0.01,$EP237>AL$6+0.01),IF(AND(AL$6<$F237-0.01,AL$6>=$E237-0.01),$D237,\"\"),\"x\")","v":"x"},{"$f":"IF(AND($EO237<=AM$6+0.01,$EP237>AM$6+0.01),IF(AND(AM$6<$F237-0.01,AM$6>=$E237-0.01),$D237,\"\"),\"x\")","v":"x"},{"$f":"IF(AND($EO237<=AN$6+0.01,$EP237>AN$6+0.01),IF(AND(AN$6<$F237-0.01,AN$6>=$E237-0.01),$D237,\"\"),\"x\")","v":"x"},{"$f":"IF(AND($EO237<=AO$6+0.01,$EP237>AO$6+0.01),IF(AND(AO$6<$F237-0.01,AO$6>=$E237-0.01),$D237,\"\"),\"x\")","v":"x"},{"$f":"IF(AND($EO237<=AP$6+0.01,$EP237>AP$6+0.01),IF(AND(AP$6<$F237-0.01,AP$6>=$E237-0.01),$D237,\"\"),\"x\")","v":"x"},{"$f":"IF(AND($EO237<=AQ$6+0.01,$EP237>AQ$6+0.01),IF(AND(AQ$6<$F237-0.01,AQ$6>=$E237-0.01),$D237,\"\"),\"x\")","v":"x"},{"$f":"IF(AND($EO237<=AR$6+0.01,$EP237>AR$6+0.01),IF(AND(AR$6<$F237-0.01,AR$6>=$E237-0.01),$D237,\"\"),\"x\")","v":"x"},{"$f":"IF(AND($EO237<=AS$6+0.01,$EP237>AS$6+0.01),IF(AND(AS$6<$F237-0.01,AS$6>=$E237-0.01),$D237,\"\"),\"x\")","v":"x"},null,{"$f":"IF(AND(AV237<>\"\",AV237<>\"x\"),0.5,)","v":0},{"$f":"IF(AND(AW237<>\"\",AW237<>\"x\"),0.5,)","v":0},{"$f":"IF(AND(AX237<>\"\",AX237<>\"x\"),0.5,)","v":0},{"$f":"IF(AND(AY237<>\"\",AY237<>\"x\"),0.5,)","v":0},{"$f":"IF(AND(AZ237<>\"\",AZ237<>\"x\"),0.5,)","v":0},{"$f":"IF(AND(BA237<>\"\",BA237<>\"x\"),0.5,)","v":0},{"$f":"IF(AND(BB237<>\"\",BB237<>\"x\"),0.5,)","v":0},{"$f":"IF(AND(BC237<>\"\",BC237<>\"x\"),0.5,)","v":0},{"$f":"IF(AND(BD237<>\"\",BD237<>\"x\"),0.5,)","v":0},{"$f":"IF(AND(BE237<>\"\",BE237<>\"x\"),0.5,)","v":0},{"$f":"IF(AND(BF237<>\"\",BF237<>\"x\"),0.5,)","v":0},{"$f":"IF(AND(BG237<>\"\",BG237<>\"x\"),0.5,)","v":0},{"$f":"IF(AND(BH237<>\"\",BH237<>\"x\"),0.5,)","v":0},{"$f":"IF(AND(BI237<>\"\",BI237<>\"x\"),0.5,)","v":0},{"$f":"IF(AND(BJ237<>\"\",BJ237<>\"x\"),0.5,)","v":0},{"$f":"IF(AND(BK237<>\"\",BK237<>\"x\"),0.5,)","v":0},{"$f":"IF(AND(BL237<>\"\",BL237<>\"x\"),0.5,)","v":0},{"$f":"IF(AND(BM237<>\"\",BM237<>\"x\"),0.5,)","v":0},{"$f":"IF(AND(BN237<>\"\",BN237<>\"x\"),0.5,)","v":0},{"$f":"IF(AND(BO237<>\"\",BO237<>\"x\"),0.5,)","v":0},{"$f":"IF(AND(BP237<>\"\",BP237<>\"x\"),0.5,)","v":0},{"$f":"IF(AND(BQ237<>\"\",BQ237<>\"x\"),0.5,)","v":0},{"$f":"IF(AND(BR237<>\"\",BR237<>\"x\"),0.5,)","v":0},{"$f":"IF(AND(BS237<>\"\",BS237<>\"x\"),0.5,)","v":0},{"$f":"IF(AND(BT237<>\"\",BT237<>\"x\"),0.5,)","v":0},{"$f":"IF(AND(BU237<>\"\",BU237<>\"x\"),0.5,)","v":0},{"$f":"IF(AND(BV237<>\"\",BV237<>\"x\"),0.5,)","v":0},{"$f":"IF(AND(BW237<>\"\",BW237<>\"x\"),0.5,)","v":0},{"$f":"IF(AND(BX237<>\"\",BX237<>\"x\"),0.5,)","v":0},{"$f":"IF(AND(BY237<>\"\",BY237<>\"x\"),0.5,)","v":0},{"$f":"IF(AND(BZ237<>\"\",BZ237<>\"x\"),0.5,)","v":0},{"$f":"IF(AND(CA237<>\"\",CA237<>\"x\"),0.5,)","v":0},{"$f":"IF(AND(CB237<>\"\",CB237<>\"x\"),0.5,)","v":0},{"$f":"IF(AND(CC237<>\"\",CC237<>\"x\"),0.5,)","v":0},{"$f":"IF(AND(CD237<>\"\",CD237<>\"x\"),0.5,)","v":0},{"$f":"IF(AND(CE237<>\"\",CE237<>\"x\"),0.5,)","v":0},{"$f":"IF(AND(CF237<>\"\",CF237<>\"x\"),0.5,)","v":0},{"$f":"IF(AND(CG237<>\"\",CG237<>\"x\"),0.5,)","v":0},null,{"$f":"IF(VLOOKUP($A237,'Schedule Setup'!$A$4:$E$39,5,FALSE)=0,\"\",VLOOKUP($A237,'Schedule Setup'!$A$4:$E$39,5,FALSE))","v":""},{"$f":"SUM(CI237:CT237)","v":0},{"$f":"IFERROR(DW237*$DV237,\"\")","v":""},{"$f":"SUM(CU237:DF237)","v":0},{"$f":"IFERROR(DY237*$DV237,\"\")","v":""},{"$f":"SUM(DG237:DT237)","v":0},{"$f":"IFERROR(EA237*$DV237,\"\")","v":""},{"$f":"SUM(DW237,DY237,EA237)","v":0},{"$f":"IFERROR(EC237*$DV237,\"\")","v":""},null,{"$f":"IF(DW237>5,(DW237-0.5),DW237)","v":0},{"$f":"IFERROR(EF237*$DV237,\"\")","v":""},{"$f":"IF(DY237>5,(DY237-0.5),DY237)","v":0},{"$f":"IFERROR(EH237*$DV237,\"\")","v":""},{"$f":"IF(EA237>5,(EA237-0.5),EA237)","v":0},{"$f":"IFERROR(EJ237*$DV237,\"\")","v":""},{"$f":"SUM(EF237,EH237,EJ237)","v":0},{"$f":"IFERROR(EL237*$DV237,\"\")","v":""},null,{"$f":"'Schedule Setup'!P5","v":"00:00:00"},{"$f":"'Schedule Setup'!Q5","v":"00:00:00"},{"$f":"EO237-(0.5/24)","v":-2.0833333333333332E-2},{"$f":"EP237+(0.5/24)","v":"00:30:00"}]
[{"$f":"A237+1","v":2},{"$f":"IF(VLOOKUP($A238,'Schedule Setup'!$A$4:$E$39,2,FALSE)=0,\"\",VLOOKUP($A238,'Schedule Setup'!$A$4:$E$39,2,FALSE))","v":""},{"$f":"IF(VLOOKUP($A238,'Schedule Setup'!$A$4:$E$39,4,FALSE)=0,\"\",VLOOKUP($A238,'Schedule Setup'!$A$4:$E$39,4,FALSE))","v":""},{"$f":"IF(B238<>\"\",IF(OR(C238=\"General Manager (S)\", C238=\"General Manager (H)\"), \"GM\",IF(C238=\"Acting Manager\",\"AM\",IF(C238=\"Shift Manager\",\"SM\",IF(C238=\"Team Lead\",\"TL\",\"TM\")))),\"\")","v":""},null,null,null,"x","x","x","x","x","x","x","x","x","x","x","x","x","x","x","x","x","x","x","x","x","x","x","x","x","x","x","x","x","x","x","x","x","x","x","x","x","x",{"$f":"EC238","v":0},null,"x","x","x","x","x","x","x","x","x","x","x","x","x","x","x","x","x","x","x","x","x","x","x","x","x","x","x","x","x","x","x","x","x","x","x","x","x","x",null,0,0,0,0,0,0,0,0,0,0,0,0,0,0,0,0,0,0,0,0,0,0,0,0,0,0,0,0,0,0,0,0,0,0,0,0,0,0,null,{"$f":"IF(VLOOKUP($A238,'Schedule Setup'!$A$4:$E$39,5,FALSE)=0,\"\",VLOOKUP($A238,'Schedule Setup'!$A$4:$E$39,5,FALSE))","v":""},0,"",0,"",0,"",{"$f":"SUM(DW238,DY238,EA238)","v":0},"",null,{"$f":"IF(DW238>5,(DW238-0.5),DW238)","v":0},"",{"$f":"IF(DY238>5,(DY238-0.5),DY238)","v":0},"",0,"",{"$f":"SUM(EF238,EH238,EJ238)","v":0},"",null,{"$f":"'Schedule Setup'!P6","v":"00:00:00"},{"$f":"'Schedule Setup'!Q6","v":"00:00:00"},{"$f":"EO238-(0.5/24)","v":-2.0833333333333332E-2},{"$f":"EP238+(0.5/24)","v":"00:30:00"}]
[{"$f":"A238+1","v":3},{"$f":"IF(VLOOKUP($A239,'Schedule Setup'!$A$4:$E$39,2,FALSE)=0,\"\",VLOOKUP($A239,'Schedule Setup'!$A$4:$E$39,2,FALSE))","v":""},{"$f":"IF(VLOOKUP($A239,'Schedule Setup'!$A$4:$E$39,4,FALSE)=0,\"\",VLOOKUP($A239,'Schedule Setup'!$A$4:$E$39,4,FALSE))","v":""},"",null,null,null,"x","x","x","x","x","x","x","x","x","x","x","x","x","x","x","x","x","x","x","x","x","x","x","x","x","x","x","x","x","x","x","x","x","x","x","x","x","x",0,null,"x","x","x","x","x","x","x","x","x","x","x","x","x","x","x","x","x","x","x","x","x","x","x","x","x","x","x","x","x","x","x","x","x","x","x","x","x","x",null,0,0,0,0,0,0,0,0,0,0,0,0,0,0,0,0,0,0,0,0,0,0,0,0,0,0,0,0,0,0,0,0,0,0,0,0,0,0,null,{"$f":"IF(VLOOKUP($A239,'Schedule Setup'!$A$4:$E$39,5,FALSE)=0,\"\",VLOOKUP($A239,'Schedule Setup'!$A$4:$E$39,5,FALSE))","v":""},0,"",0,"",0,"",{"$f":"SUM(DW239,DY239,EA239)","v":0},"",null,0,"",0,"",0,"",0,"",null,{"$f":"'Schedule Setup'!P7","v":"00:00:00"},{"$f":"'Schedule Setup'!Q7","v":"00:00:00"},-2.0833333333333332E-2,"00:30:00"]
[4,{"$f":"IF(VLOOKUP($A240,'Schedule Setup'!$A$4:$E$39,2,FALSE)=0,\"\",VLOOKUP($A240,'Schedule Setup'!$A$4:$E$39,2,FALSE))","v":""},{"$f":"IF(VLOOKUP($A240,'Schedule Setup'!$A$4:$E$39,4,FALSE)=0,\"\",VLOOKUP($A240,'Schedule Setup'!$A$4:$E$39,4,FALSE))","v":""},"",null,null,null,"x","x","x","x","x","x","x","x","x","x","x","x","x","x","x","x","x","x","x","x","x","x","x","x","x","x","x","x","x","x","x","x","x","x","x","x","x","x",0,null,"x","x","x","x","x","x","x","x","x","x","x","x","x","x","x","x","x","x","x","x","x","x","x","x","x","x","x","x","x","x","x","x","x","x","x","x","x","x",null,0,0,0,0,0,0,0,0,0,0,0,0,0,0,0,0,0,0,0,0,0,0,0,0,0,0,0,0,0,0,0,0,0,0,0,0,0,0,null,{"$f":"IF(VLOOKUP($A240,'Schedule Setup'!$A$4:$E$39,5,FALSE)=0,\"\",VLOOKUP($A240,'Schedule Setup'!$A$4:$E$39,5,FALSE))","v":""},0,"",0,"",0,"",0,"",null,0,"",0,"",0,"",0,"",null,{"$f":"'Schedule Setup'!P8","v":"00:00:00"},{"$f":"'Schedule Setup'!Q8","v":"00:00:00"},-2.0833333333333332E-2,"00:30:00"]
[5,{"$f":"IF(VLOOKUP($A241,'Schedule Setup'!$A$4:$E$39,2,FALSE)=0,\"\",VLOOKUP($A241,'Schedule Setup'!$A$4:$E$39,2,FALSE))","v":""},{"$f":"IF(VLOOKUP($A241,'Schedule Setup'!$A$4:$E$39,4,FALSE)=0,\"\",VLOOKUP($A241,'Schedule Setup'!$A$4:$E$39,4,FALSE))","v":""},"",null,null,null,"x","x","x","x","x","x","x","x","x","x","x","x","x","x","x","x","x","x","x","x","x","x","x","x","x","x","x","x","x","x","x","x","x","x","x","x","x","x",0,null,"x","x","x","x","x","x","x","x","x","x","x","x","x","x","x","x","x","x","x","x","x","x","x","x","x","x","x","x","x","x","x","x","x","x","x","x","x","x",null,0,0,0,0,0,0,0,0,0,0,0,0,0,0,0,0,0,0,0,0,0,0,0,0,0,0,0,0,0,0,0,0,0,0,0,0,0,0,null,{"$f":"IF(VLOOKUP($A241,'Schedule Setup'!$A$4:$E$39,5,FALSE)=0,\"\",VLOOKUP($A241,'Schedule Setup'!$A$4:$E$39,5,FALSE))","v":""},0,"",0,"",0,"",0,"",null,0,"",0,"",0,"",0,"",null,{"$f":"'Schedule Setup'!P9","v":"00:00:00"},{"$f":"'Schedule Setup'!Q9","v":"00:00:00"},-2.0833333333333332E-2,"00:30:00"]
[6,{"$f":"IF(VLOOKUP($A242,'Schedule Setup'!$A$4:$E$39,2,FALSE)=0,\"\",VLOOKUP($A242,'Schedule Setup'!$A$4:$E$39,2,FALSE))","v":""},{"$f":"IF(VLOOKUP($A242,'Schedule Setup'!$A$4:$E$39,4,FALSE)=0,\"\",VLOOKUP($A242,'Schedule Setup'!$A$4:$E$39,4,FALSE))","v":""},"",null,null,null,"x","x","x","x","x","x","x","x","x","x","x","x","x","x","x","x","x","x","x","x","x","x","x","x","x","x","x","x","x","x","x","x","x","x","x","x","x","x",0,null,"x","x","x","x","x","x","x","x","x","x","x","x","x","x","x","x","x","x","x","x","x","x","x","x","x","x","x","x","x","x","x","x","x","x","x","x","x","x",null,0,0,0,0,0,0,0,0,0,0,0,0,0,0,0,0,0,0,0,0,0,0,0,0,0,0,0,0,0,0,0,0,0,0,0,0,0,0,null,{"$f":"IF(VLOOKUP($A242,'Schedule Setup'!$A$4:$E$39,5,FALSE)=0,\"\",VLOOKUP($A242,'Schedule Setup'!$A$4:$E$39,5,FALSE))","v":""},0,"",0,"",0,"",0,"",null,0,"",0,"",0,"",0,"",null,{"$f":"'Schedule Setup'!P10","v":"00:00:00"},{"$f":"'Schedule Setup'!Q10","v":"00:00:00"},-2.0833333333333332E-2,"00:30:00"]
[7,{"$f":"IF(VLOOKUP($A243,'Schedule Setup'!$A$4:$E$39,2,FALSE)=0,\"\",VLOOKUP($A243,'Schedule Setup'!$A$4:$E$39,2,FALSE))","v":""},{"$f":"IF(VLOOKUP($A243,'Schedule Setup'!$A$4:$E$39,4,FALSE)=0,\"\",VLOOKUP($A243,'Schedule Setup'!$A$4:$E$39,4,FALSE))","v":""},"",null,null,null,"x","x","x","x","x","x","x","x","x","x",{"$f":"BF243","v":"x"},"x","x","x","x","x","x","x","x","x","x","x","x","x","x","x","x",{"$f":"BW243","v":"x"},"x","x","x","x","x","x","x","x","x","x",0,null,"x","x","x","x","x","x","x","x","x","x","x","x","x","x","x","x","x","x","x","x","x","x","x","x","x","x","x","x","x","x","x","x","x","x","x","x","x","x",null,0,0,0,0,0,0,0,0,0,0,0,0,0,0,0,0,0,0,0,0,0,0,0,0,0,0,0,0,0,0,0,0,0,0,0,0,0,0,null,{"$f":"IF(VLOOKUP($A243,'Schedule Setup'!$A$4:$E$39,5,FALSE)=0,\"\",VLOOKUP($A243,'Schedule Setup'!$A$4:$E$39,5,FALSE))","v":""},0,"",0,"",0,"",0,"",null,0,"",0,"",0,"",0,"",null,{"$f":"'Schedule Setup'!P11","v":"00:00:00"},{"$f":"'Schedule Setup'!Q11","v":"00:00:00"},-2.0833333333333332E-2,"00:30:00"]
[8,{"$f":"IF(VLOOKUP($A244,'Schedule Setup'!$A$4:$E$39,2,FALSE)=0,\"\",VLOOKUP($A244,'Schedule Setup'!$A$4:$E$39,2,FALSE))","v":""},{"$f":"IF(VLOOKUP($A244,'Schedule Setup'!$A$4:$E$39,4,FALSE)=0,\"\",VLOOKUP($A244,'Schedule Setup'!$A$4:$E$39,4,FALSE))","v":""},"",null,null,null,{"$f":"AV244","v":"x"},"x","x","x","x","x","x","x","x","x",{"$f":"BF244","v":"x"},"x","x","x","x","x",{"$f":"BL244","v":"x"},"x","x","x","x","x","x","x","x","x","x","x","x","x","x","x","x","x","x","x","x","x",0,null,"x","x","x","x","x","x","x","x","x","x","x","x","x","x","x","x","x","x","x","x","x","x","x","x","x","x","x","x","x","x","x","x","x","x","x","x","x","x",null,0,0,0,0,0,0,0,0,0,0,0,0,0,0,0,0,0,0,0,0,0,0,0,0,0,0,0,0,0,0,0,0,0,0,0,0,0,0,null,{"$f":"IF(VLOOKUP($A244,'Schedule Setup'!$A$4:$E$39,5,FALSE)=0,\"\",VLOOKUP($A244,'Schedule Setup'!$A$4:$E$39,5,FALSE))","v":""},0,{"$f":"IFERROR(DW244*$DV244,\"\")","v":""},0,"",0,"",0,"",null,0,"",0,"",0,"",0,"",null,{"$f":"'Schedule Setup'!P12","v":"00:00:00"},{"$f":"'Schedule Setup'!Q12","v":"00:00:00"},-2.0833333333333332E-2,"00:30:00"]
[9,{"$f":"IF(VLOOKUP($A245,'Schedule Setup'!$A$4:$E$39,2,FALSE)=0,\"\",VLOOKUP($A245,'Schedule Setup'!$A$4:$E$39,2,FALSE))","v":""},{"$f":"IF(VLOOKUP($A245,'Schedule Setup'!$A$4:$E$39,4,FALSE)=0,\"\",VLOOKUP($A245,'Schedule Setup'!$A$4:$E$39,4,FALSE))","v":""},"",null,null,null,"x","x","x","x","x","x","x","x","x","x","x","x","x","x","x","x","x","x","x","x","x","x","x","x","x","x","x","x","x","x","x","x","x","x","x","x","x","x",0,null,"x","x","x","x","x","x","x","x","x","x","x","x","x","x","x","x","x","x","x","x","x","x","x","x","x","x","x","x","x","x","x","x","x","x","x","x","x","x",null,0,0,0,0,0,0,0,0,0,0,0,0,0,0,0,0,0,0,0,0,0,0,0,0,0,0,0,0,0,0,0,0,0,0,0,0,0,0,null,{"$f":"IF(VLOOKUP($A245,'Schedule Setup'!$A$4:$E$39,5,FALSE)=0,\"\",VLOOKUP($A245,'Schedule Setup'!$A$4:$E$39,5,FALSE))","v":""},0,{"$f":"IFERROR(DW245*$DV245,\"\")","v":""},0,"",0,"",0,"",null,0,"",0,"",0,"",0,"",null,{"$f":"'Schedule Setup'!P13","v":"00:00:00"},{"$f":"'Schedule Setup'!Q13","v":"00:00:00"},-2.0833333333333332E-2,"00:30:00"]
[10,{"$f":"IF(VLOOKUP($A246,'Schedule Setup'!$A$4:$E$39,2,FALSE)=0,\"\",VLOOKUP($A246,'Schedule Setup'!$A$4:$E$39,2,FALSE))","v":""},{"$f":"IF(VLOOKUP($A246,'Schedule Setup'!$A$4:$E$39,4,FALSE)=0,\"\",VLOOKUP($A246,'Schedule Setup'!$A$4:$E$39,4,FALSE))","v":""},"",null,null,null,"x","x","x","x","x","x","x","x","x","x","x","x","x","x","x","x","x","x","x","x","x","x","x","x","x","x","x","x","x","x","x","x","x","x","x","x","x","x",0,null,"x","x","x","x","x","x","x","x","x","x","x","x","x","x","x","x","x","x","x","x","x","x","x","x","x","x","x","x","x","x","x","x","x","x","x","x","x","x",null,0,0,0,0,0,0,0,0,0,0,0,0,0,0,0,0,0,0,0,0,0,0,0,0,0,0,0,0,0,0,0,0,0,0,0,0,0,0,null,{"$f":"IF(VLOOKUP($A246,'Schedule Setup'!$A$4:$E$39,5,FALSE)=0,\"\",VLOOKUP($A246,'Schedule Setup'!$A$4:$E$39,5,FALSE))","v":""},0,"",0,"",0,"",0,"",null,0,"",0,"",0,"",0,"",null,{"$f":"'Schedule Setup'!P14","v":"00:00:00"},{"$f":"'Schedule Setup'!Q14","v":"00:00:00"},-2.0833333333333332E-2,"00:30:00"]
[11,{"$f":"IF(VLOOKUP($A247,'Schedule Setup'!$A$4:$E$39,2,FALSE)=0,\"\",VLOOKUP($A247,'Schedule Setup'!$A$4:$E$39,2,FALSE))","v":""},{"$f":"IF(VLOOKUP($A247,'Schedule Setup'!$A$4:$E$39,4,FALSE)=0,\"\",VLOOKUP($A247,'Schedule Setup'!$A$4:$E$39,4,FALSE))","v":""},"",null,null,null,"x","x","x","x","x","x","x","x","x","x","x","x","x","x","x","x","x","x","x","x","x","x","x","x","x","x","x","x","x","x","x","x","x","x","x","x","x","x",0,null,"x","x","x","x","x","x","x","x","x","x","x","x","x","x","x","x","x","x","x","x","x","x","x","x","x","x","x","x","x","x","x","x","x","x","x","x","x","x",null,0,0,0,0,0,0,0,0,0,0,0,0,0,0,0,0,0,0,0,0,0,0,0,0,0,0,0,0,0,0,0,0,0,0,0,0,0,0,null,{"$f":"IF(VLOOKUP($A247,'Schedule Setup'!$A$4:$E$39,5,FALSE)=0,\"\",VLOOKUP($A247,'Schedule Setup'!$A$4:$E$39,5,FALSE))","v":""},0,"",0,"",0,"",0,"",null,0,"",0,"",0,"",0,"",null,{"$f":"'Schedule Setup'!P15","v":"00:00:00"},{"$f":"'Schedule Setup'!Q15","v":"00:00:00"},-2.0833333333333332E-2,"00:30:00"]
[12,{"$f":"IF(VLOOKUP($A248,'Schedule Setup'!$A$4:$E$39,2,FALSE)=0,\"\",VLOOKUP($A248,'Schedule Setup'!$A$4:$E$39,2,FALSE))","v":""},{"$f":"IF(VLOOKUP($A248,'Schedule Setup'!$A$4:$E$39,4,FALSE)=0,\"\",VLOOKUP($A248,'Schedule Setup'!$A$4:$E$39,4,FALSE))","v":""},"",null,null,null,"x","x","x","x","x","x","x","x","x","x","x","x","x","x","x","x","x","x","x","x","x","x","x","x","x","x","x","x","x","x","x","x","x","x","x","x","x","x",0,null,"x","x","x","x","x","x","x","x","x","x","x","x","x","x","x","x","x","x","x","x","x","x","x","x","x","x","x","x","x","x","x","x","x","x","x","x","x","x",null,0,0,0,0,0,0,0,0,0,0,0,0,0,0,0,0,0,0,0,0,0,0,0,0,0,0,0,0,0,0,0,0,0,0,0,0,0,0,null,{"$f":"IF(VLOOKUP($A248,'Schedule Setup'!$A$4:$E$39,5,FALSE)=0,\"\",VLOOKUP($A248,'Schedule Setup'!$A$4:$E$39,5,FALSE))","v":""},0,"",0,"",0,"",0,"",null,0,"",0,"",0,"",0,"",null,{"$f":"'Schedule Setup'!P16","v":"00:00:00"},{"$f":"'Schedule Setup'!Q16","v":"00:00:00"},-2.0833333333333332E-2,"00:30:00"]
[13,{"$f":"IF(VLOOKUP($A249,'Schedule Setup'!$A$4:$E$39,2,FALSE)=0,\"\",VLOOKUP($A249,'Schedule Setup'!$A$4:$E$39,2,FALSE))","v":""},{"$f":"IF(VLOOKUP($A249,'Schedule Setup'!$A$4:$E$39,4,FALSE)=0,\"\",VLOOKUP($A249,'Schedule Setup'!$A$4:$E$39,4,FALSE))","v":""},"",null,null,null,"x","x","x","x","x","x","x","x","x","x","x","x","x","x","x","x","x","x","x","x","x","x","x","x","x","x","x","x","x","x","x","x","x","x","x","x","x","x",0,null,"x","x","x","x","x","x","x","x","x","x","x","x","x","x","x","x","x","x","x","x","x","x","x","x","x","x","x","x","x","x","x","x","x","x","x","x","x","x",null,0,0,0,0,0,0,0,0,0,0,0,0,0,0,0,0,0,0,0,0,0,0,0,0,0,0,0,0,0,0,0,0,0,0,0,0,0,0,null,{"$f":"IF(VLOOKUP($A249,'Schedule Setup'!$A$4:$E$39,5,FALSE)=0,\"\",VLOOKUP($A249,'Schedule Setup'!$A$4:$E$39,5,FALSE))","v":""},0,"",0,"",0,"",0,"",null,0,"",0,"",0,"",0,"",null,{"$f":"'Schedule Setup'!P17","v":"00:00:00"},{"$f":"'Schedule Setup'!Q17","v":"00:00:00"},-2.0833333333333332E-2,"00:30:00"]
[14,{"$f":"IF(VLOOKUP($A250,'Schedule Setup'!$A$4:$E$39,2,FALSE)=0,\"\",VLOOKUP($A250,'Schedule Setup'!$A$4:$E$39,2,FALSE))","v":""},{"$f":"IF(VLOOKUP($A250,'Schedule Setup'!$A$4:$E$39,4,FALSE)=0,\"\",VLOOKUP($A250,'Schedule Setup'!$A$4:$E$39,4,FALSE))","v":""},"",null,null,null,"x","x","x","x","x","x","x","x","x","x",{"$f":"BF250","v":"x"},{"$f":"BG250","v":"x"},{"$f":"BH250","v":"x"},{"$f":"BI250","v":"x"},"x","x","x","x","x","x","x","x","x","x","x","x","x","x","x","x","x","x","x","x","x","x","x","x",0,null,"x","x","x","x","x","x","x","x","x","x","x","x","x","x","x","x","x","x","x","x","x","x","x","x","x","x","x","x","x","x","x","x","x","x","x","x","x","x",null,0,0,0,0,0,0,0,0,0,0,0,0,0,0,0,0,0,0,0,0,0,0,0,0,0,0,0,0,0,0,0,0,0,0,0,0,0,0,null,{"$f":"IF(VLOOKUP($A250,'Schedule Setup'!$A$4:$E$39,5,FALSE)=0,\"\",VLOOKUP($A250,'Schedule Setup'!$A$4:$E$39,5,FALSE))","v":""},0,"",0,"",0,"",0,"",null,0,"",0,"",0,"",0,"",null,{"$f":"'Schedule Setup'!P18","v":"00:00:00"},{"$f":"'Schedule Setup'!Q18","v":"00:00:00"},-2.0833333333333332E-2,"00:30:00"]
[15,{"$f":"IF(VLOOKUP($A251,'Schedule Setup'!$A$4:$E$39,2,FALSE)=0,\"\",VLOOKUP($A251,'Schedule Setup'!$A$4:$E$39,2,FALSE))","v":""},{"$f":"IF(VLOOKUP($A251,'Schedule Setup'!$A$4:$E$39,4,FALSE)=0,\"\",VLOOKUP($A251,'Schedule Setup'!$A$4:$E$39,4,FALSE))","v":""},"",null,null,null,"x","x","x","x","x","x","x","x","x","x","x","x","x","x","x","x","x","x","x","x","x","x","x","x","x","x","x","x","x","x","x","x","x","x","x","x","x","x",0,null,"x","x","x","x","x","x","x","x","x","x","x","x","x","x","x","x","x","x","x","x","x","x","x","x","x","x","x","x","x","x","x","x","x","x","x","x","x","x",null,0,0,0,0,0,0,0,0,0,0,0,0,0,0,0,0,0,0,0,0,0,0,0,0,0,0,0,0,0,0,0,0,0,0,0,0,0,0,null,{"$f":"IF(VLOOKUP($A251,'Schedule Setup'!$A$4:$E$39,5,FALSE)=0,\"\",VLOOKUP($A251,'Schedule Setup'!$A$4:$E$39,5,FALSE))","v":""},0,"",0,"",0,"",0,"",null,0,"",0,"",0,"",0,"",null,{"$f":"'Schedule Setup'!P19","v":"00:00:00"},{"$f":"'Schedule Setup'!Q19","v":"00:00:00"},-2.0833333333333332E-2,"00:30:00"]
[16,{"$f":"IF(VLOOKUP($A252,'Schedule Setup'!$A$4:$E$39,2,FALSE)=0,\"\",VLOOKUP($A252,'Schedule Setup'!$A$4:$E$39,2,FALSE))","v":""},{"$f":"IF(VLOOKUP($A252,'Schedule Setup'!$A$4:$E$39,4,FALSE)=0,\"\",VLOOKUP($A252,'Schedule Setup'!$A$4:$E$39,4,FALSE))","v":""},"",null,null,null,"x","x","x","x","x","x","x","x","x","x","x","x","x","x","x","x","x","x","x","x","x","x","x","x","x","x","x","x","x","x","x","x","x","x","x","x","x","x",0,null,"x","x","x","x","x","x","x","x","x","x","x","x","x","x","x","x","x","x","x","x","x","x","x","x","x","x","x","x","x","x","x","x","x","x","x","x","x","x",null,0,0,0,0,0,0,0,0,0,0,0,0,0,0,0,0,0,0,0,0,0,0,0,0,0,0,0,0,0,0,0,0,0,0,0,0,0,0,null,{"$f":"IF(VLOOKUP($A252,'Schedule Setup'!$A$4:$E$39,5,FALSE)=0,\"\",VLOOKUP($A252,'Schedule Setup'!$A$4:$E$39,5,FALSE))","v":""},0,"",0,"",0,"",0,"",null,0,"",0,"",0,"",0,"",null,{"$f":"'Schedule Setup'!P20","v":"00:00:00"},{"$f":"'Schedule Setup'!Q20","v":"00:00:00"},-2.0833333333333332E-2,"00:30:00"]
[17,{"$f":"IF(VLOOKUP($A253,'Schedule Setup'!$A$4:$E$39,2,FALSE)=0,\"\",VLOOKUP($A253,'Schedule Setup'!$A$4:$E$39,2,FALSE))","v":""},{"$f":"IF(VLOOKUP($A253,'Schedule Setup'!$A$4:$E$39,4,FALSE)=0,\"\",VLOOKUP($A253,'Schedule Setup'!$A$4:$E$39,4,FALSE))","v":""},"",null,null,null,"x","x","x","x","x","x","x","x","x","x","x","x","x","x","x","x","x","x","x","x","x","x","x","x","x","x","x","x","x","x","x","x","x","x","x","x","x","x",0,null,"x","x","x","x","x","x","x","x","x","x","x","x","x","x","x","x","x","x","x","x","x","x","x","x","x","x","x","x","x","x","x","x","x","x","x","x","x","x",null,0,0,0,0,0,0,0,0,0,0,0,0,0,0,0,0,0,0,0,0,0,0,0,0,0,0,0,0,0,0,0,0,0,0,0,0,0,0,null,{"$f":"IF(VLOOKUP($A253,'Schedule Setup'!$A$4:$E$39,5,FALSE)=0,\"\",VLOOKUP($A253,'Schedule Setup'!$A$4:$E$39,5,FALSE))","v":""},0,"",0,"",0,"",0,"",null,0,"",0,"",0,"",0,"",null,{"$f":"'Schedule Setup'!P21","v":"00:00:00"},{"$f":"'Schedule Setup'!Q21","v":"00:00:00"},-2.0833333333333332E-2,"00:30:00"]
[18,{"$f":"IF(VLOOKUP($A254,'Schedule Setup'!$A$4:$E$39,2,FALSE)=0,\"\",VLOOKUP($A254,'Schedule Setup'!$A$4:$E$39,2,FALSE))","v":""},{"$f":"IF(VLOOKUP($A254,'Schedule Setup'!$A$4:$E$39,4,FALSE)=0,\"\",VLOOKUP($A254,'Schedule Setup'!$A$4:$E$39,4,FALSE))","v":""},"",null,null,null,"x","x","x","x","x","x","x","x","x","x","x","x","x","x","x","x","x","x","x","x","x","x","x","x","x","x","x","x","x","x","x","x","x","x","x","x","x","x",0,null,"x","x","x","x","x","x","x","x","x","x","x","x","x","x","x","x","x","x","x","x","x","x","x","x","x","x","x","x","x","x","x","x","x","x","x","x","x","x",null,0,0,0,0,0,0,0,0,0,0,0,0,0,0,0,0,0,0,0,0,0,0,0,0,0,0,0,0,0,0,0,0,0,0,0,0,0,0,null,{"$f":"IF(VLOOKUP($A254,'Schedule Setup'!$A$4:$E$39,5,FALSE)=0,\"\",VLOOKUP($A254,'Schedule Setup'!$A$4:$E$39,5,FALSE))","v":""},0,"",0,"",0,"",0,"",null,0,"",0,"",0,"",0,"",null,{"$f":"'Schedule Setup'!P22","v":"00:00:00"},{"$f":"'Schedule Setup'!Q22","v":"00:00:00"},-2.0833333333333332E-2,"00:30:00"]
[19,{"$f":"IF(VLOOKUP($A255,'Schedule Setup'!$A$4:$E$39,2,FALSE)=0,\"\",VLOOKUP($A255,'Schedule Setup'!$A$4:$E$39,2,FALSE))","v":""},{"$f":"IF(VLOOKUP($A255,'Schedule Setup'!$A$4:$E$39,4,FALSE)=0,\"\",VLOOKUP($A255,'Schedule Setup'!$A$4:$E$39,4,FALSE))","v":""},"",null,null,null,"x","x","x","x","x","x","x","x","x","x","x","x","x","x","x","x","x","x","x","x","x","x","x","x","x","x","x","x","x","x","x","x","x","x","x","x","x","x",0,null,"x","x","x","x","x","x","x","x","x","x","x","x","x","x","x","x","x","x","x","x","x","x","x","x","x","x","x","x","x","x","x","x","x","x","x","x","x","x",null,0,0,0,0,0,0,0,0,0,0,0,0,0,0,0,0,0,0,0,0,0,0,0,0,0,0,0,0,0,0,0,0,0,0,0,0,0,0,null,{"$f":"IF(VLOOKUP($A255,'Schedule Setup'!$A$4:$E$39,5,FALSE)=0,\"\",VLOOKUP($A255,'Schedule Setup'!$A$4:$E$39,5,FALSE))","v":""},0,"",0,"",0,"",0,"",null,0,"",0,"",0,"",0,"",null,{"$f":"'Schedule Setup'!P23","v":"00:00:00"},{"$f":"'Schedule Setup'!Q23","v":"00:00:00"},-2.0833333333333332E-2,"00:30:00"]
[20,{"$f":"IF(VLOOKUP($A256,'Schedule Setup'!$A$4:$E$39,2,FALSE)=0,\"\",VLOOKUP($A256,'Schedule Setup'!$A$4:$E$39,2,FALSE))","v":""},{"$f":"IF(VLOOKUP($A256,'Schedule Setup'!$A$4:$E$39,4,FALSE)=0,\"\",VLOOKUP($A256,'Schedule Setup'!$A$4:$E$39,4,FALSE))","v":""},"",null,null,null,"x","x","x","x","x","x","x","x","x","x","x","x","x","x","x","x","x","x","x","x","x","x","x","x","x","x","x","x","x","x","x","x","x","x","x","x","x","x",0,null,"x","x","x","x","x","x","x","x","x","x","x","x","x","x","x","x","x","x","x","x","x","x","x","x","x","x","x","x","x","x","x","x","x","x","x","x","x","x",null,0,0,0,0,0,0,0,0,0,0,0,0,0,0,0,0,0,0,0,0,0,0,0,0,0,0,0,0,0,0,0,0,0,0,0,0,0,0,null,{"$f":"IF(VLOOKUP($A256,'Schedule Setup'!$A$4:$E$39,5,FALSE)=0,\"\",VLOOKUP($A256,'Schedule Setup'!$A$4:$E$39,5,FALSE))","v":""},0,"",0,"",0,"",0,"",null,0,"",0,"",0,"",0,"",null,{"$f":"'Schedule Setup'!P24","v":"00:00:00"},{"$f":"'Schedule Setup'!Q24","v":"00:00:00"},-2.0833333333333332E-2,"00:30:00"]
[21,{"$f":"IF(VLOOKUP($A257,'Schedule Setup'!$A$4:$E$39,2,FALSE)=0,\"\",VLOOKUP($A257,'Schedule Setup'!$A$4:$E$39,2,FALSE))","v":""},{"$f":"IF(VLOOKUP($A257,'Schedule Setup'!$A$4:$E$39,4,FALSE)=0,\"\",VLOOKUP($A257,'Schedule Setup'!$A$4:$E$39,4,FALSE))","v":""},"",null,null,null,"x","x","x","x","x","x","x","x","x","x","x","x","x","x","x","x","x","x","x","x","x","x","x","x","x","x","x","x","x","x","x","x","x","x","x","x","x","x",0,null,"x","x","x","x","x","x","x","x","x","x","x","x","x","x","x","x","x","x","x","x","x","x","x","x","x","x","x","x","x","x","x","x","x","x","x","x","x","x",null,0,0,0,0,0,0,0,0,0,0,0,0,0,0,0,0,0,0,0,0,0,0,0,0,0,0,0,0,0,0,0,0,0,0,0,0,0,0,null,{"$f":"IF(VLOOKUP($A257,'Schedule Setup'!$A$4:$E$39,5,FALSE)=0,\"\",VLOOKUP($A257,'Schedule Setup'!$A$4:$E$39,5,FALSE))","v":""},0,"",0,"",0,"",0,"",null,0,"",0,"",0,"",0,"",null,{"$f":"'Schedule Setup'!P25","v":"00:00:00"},{"$f":"'Schedule Setup'!Q25","v":"00:00:00"},-2.0833333333333332E-2,"00:30:00"]
[22,{"$f":"IF(VLOOKUP($A258,'Schedule Setup'!$A$4:$E$39,2,FALSE)=0,\"\",VLOOKUP($A258,'Schedule Setup'!$A$4:$E$39,2,FALSE))","v":""},{"$f":"IF(VLOOKUP($A258,'Schedule Setup'!$A$4:$E$39,4,FALSE)=0,\"\",VLOOKUP($A258,'Schedule Setup'!$A$4:$E$39,4,FALSE))","v":""},"",null,null,null,"x","x","x","x","x","x","x","x","x","x","x","x","x","x","x","x","x","x","x","x","x","x","x","x","x","x","x","x","x","x","x","x","x","x","x","x","x","x",0,null,"x","x","x","x","x","x","x","x","x","x","x","x","x","x","x","x","x","x","x","x","x","x","x","x","x","x","x","x","x","x","x","x","x","x","x","x","x","x",null,0,0,0,0,0,0,0,0,0,0,0,0,0,0,0,0,0,0,0,0,0,0,0,0,0,0,0,0,0,0,0,0,0,0,0,0,0,0,null,{"$f":"IF(VLOOKUP($A258,'Schedule Setup'!$A$4:$E$39,5,FALSE)=0,\"\",VLOOKUP($A258,'Schedule Setup'!$A$4:$E$39,5,FALSE))","v":""},0,"",0,"",0,"",0,"",null,0,"",0,"",0,"",0,"",null,{"$f":"'Schedule Setup'!P26","v":"00:00:00"},{"$f":"'Schedule Setup'!Q26","v":"00:00:00"},-2.0833333333333332E-2,"00:30:00"]
[23,{"$f":"IF(VLOOKUP($A259,'Schedule Setup'!$A$4:$E$39,2,FALSE)=0,\"\",VLOOKUP($A259,'Schedule Setup'!$A$4:$E$39,2,FALSE))","v":""},{"$f":"IF(VLOOKUP($A259,'Schedule Setup'!$A$4:$E$39,4,FALSE)=0,\"\",VLOOKUP($A259,'Schedule Setup'!$A$4:$E$39,4,FALSE))","v":""},"",null,null,null,"x","x","x","x","x","x","x","x","x","x","x","x","x","x","x","x","x","x","x","x","x","x","x","x","x","x","x","x","x","x","x","x","x","x","x","x","x","x",0,null,"x","x","x","x","x","x","x","x","x","x","x","x","x","x","x","x","x","x","x","x","x","x","x","x","x","x","x","x","x","x","x","x","x","x","x","x","x","x",null,0,0,0,0,0,0,0,0,0,0,0,0,0,0,0,0,0,0,0,0,0,0,0,0,0,0,0,0,0,0,0,0,0,0,0,0,0,0,null,{"$f":"IF(VLOOKUP($A259,'Schedule Setup'!$A$4:$E$39,5,FALSE)=0,\"\",VLOOKUP($A259,'Schedule Setup'!$A$4:$E$39,5,FALSE))","v":""},0,"",0,"",0,"",0,"",null,0,"",0,"",0,"",0,"",null,{"$f":"'Schedule Setup'!P27","v":"00:00:00"},{"$f":"'Schedule Setup'!Q27","v":"00:00:00"},-2.0833333333333332E-2,"00:30:00"]
[24,{"$f":"IF(VLOOKUP($A260,'Schedule Setup'!$A$4:$E$39,2,FALSE)=0,\"\",VLOOKUP($A260,'Schedule Setup'!$A$4:$E$39,2,FALSE))","v":""},{"$f":"IF(VLOOKUP($A260,'Schedule Setup'!$A$4:$E$39,4,FALSE)=0,\"\",VLOOKUP($A260,'Schedule Setup'!$A$4:$E$39,4,FALSE))","v":""},{"$f":"IF(B260<>\"\",IF(OR(C260=\"General Manager (S)\", C260=\"General Manager (H)\"), \"GM\",IF(C260=\"Acting Manager\",\"AM\",IF(C260=\"Shift Manager\",\"SM\",IF(C260=\"Team Lead\",\"TL\",\"TM\")))),\"\")","v":""},null,null,null,{"$f":"AV260","v":"x"},"x","x","x","x","x","x","x","x","x","x","x","x","x",{"$f":"BJ260","v":"x"},{"$f":"BK260","v":"x"},{"$f":"BL260","v":"x"},"x","x","x","x","x","x","x","x","x","x","x","x","x",{"$f":"BZ260","v":"x"},{"$f":"CA260","v":"x"},{"$f":"CB260","v":"x"},{"$f":"CC260","v":"x"},{"$f":"CD260","v":"x"},{"$f":"CE260","v":"x"},{"$f":"CF260","v":"x"},{"$f":"CG260","v":"x"},{"$f":"EC260","v":0},null,"x","x","x","x","x","x","x","x","x","x","x","x","x","x","x","x","x","x","x","x","x","x","x","x","x","x","x","x","x","x","x","x","x","x","x","x","x","x",null,0,0,0,0,0,0,0,0,0,0,0,0,0,0,0,0,0,0,0,0,0,0,0,0,0,0,0,0,0,0,0,0,0,0,0,0,0,0,null,{"$f":"IF(VLOOKUP($A260,'Schedule Setup'!$A$4:$E$39,5,FALSE)=0,\"\",VLOOKUP($A260,'Schedule Setup'!$A$4:$E$39,5,FALSE))","v":""},0,{"$f":"IFERROR(DW260*$DV260,\"\")","v":""},{"$f":"SUM(CU260:DF260)","v":0},{"$f":"IFERROR(DY260*$DV260,\"\")","v":""},{"$f":"SUM(DG260:DT260)","v":0},{"$f":"IFERROR(EA260*$DV260,\"\")","v":""},{"$f":"SUM(DW260,DY260,EA260)","v":0},{"$f":"IFERROR(EC260*$DV260,\"\")","v":""},null,{"$f":"IF(DW260>5,(DW260-0.5),DW260)","v":0},{"$f":"IFERROR(EF260*$DV260,\"\")","v":""},{"$f":"IF(DY260>5,(DY260-0.5),DY260)","v":0},{"$f":"IFERROR(EH260*$DV260,\"\")","v":""},{"$f":"IF(EA260>5,(EA260-0.5),EA260)","v":0},{"$f":"IFERROR(EJ260*$DV260,\"\")","v":""},{"$f":"SUM(EF260,EH260,EJ260)","v":0},{"$f":"IFERROR(EL260*$DV260,\"\")","v":""},null,{"$f":"'Schedule Setup'!P28","v":"00:00:00"},{"$f":"'Schedule Setup'!Q28","v":"00:00:00"},{"$f":"EO260-(0.5/24)","v":-2.0833333333333332E-2},{"$f":"EP260+(0.5/24)","v":"00:30:00"}]
[25,{"$f":"IF(VLOOKUP($A261,'Schedule Setup'!$A$4:$E$39,2,FALSE)=0,\"\",VLOOKUP($A261,'Schedule Setup'!$A$4:$E$39,2,FALSE))","v":""},{"$f":"IF(VLOOKUP($A261,'Schedule Setup'!$A$4:$E$39,4,FALSE)=0,\"\",VLOOKUP($A261,'Schedule Setup'!$A$4:$E$39,4,FALSE))","v":""},"",null,null,null,"x","x","x","x","x","x","x","x","x","x","x","x","x","x","x","x","x","x","x","x","x","x","x","x","x","x","x","x","x","x","x","x","x","x","x","x","x","x",0,null,"x","x","x","x","x","x","x","x","x","x","x","x","x","x","x","x","x","x","x","x","x","x","x","x","x","x","x","x","x","x","x","x","x","x","x","x","x","x",null,0,0,0,0,0,0,0,0,0,0,0,0,0,0,0,0,0,0,0,0,0,0,0,0,0,0,0,0,0,0,0,0,0,0,0,0,0,0,null,{"$f":"IF(VLOOKUP($A261,'Schedule Setup'!$A$4:$E$39,5,FALSE)=0,\"\",VLOOKUP($A261,'Schedule Setup'!$A$4:$E$39,5,FALSE))","v":""},0,"",0,"",0,"",0,"",null,0,"",0,"",0,"",0,"",null,{"$f":"'Schedule Setup'!P29","v":"00:00:00"},{"$f":"'Schedule Setup'!Q29","v":"00:00:00"},-2.0833333333333332E-2,"00:30:00"]
[26,{"$f":"IF(VLOOKUP($A262,'Schedule Setup'!$A$4:$E$39,2,FALSE)=0,\"\",VLOOKUP($A262,'Schedule Setup'!$A$4:$E$39,2,FALSE))","v":""},{"$f":"IF(VLOOKUP($A262,'Schedule Setup'!$A$4:$E$39,4,FALSE)=0,\"\",VLOOKUP($A262,'Schedule Setup'!$A$4:$E$39,4,FALSE))","v":""},"",null,null,null,"x","x","x","x","x","x","x","x","x","x","x","x","x","x","x","x","x","x","x","x","x","x","x","x","x","x","x","x","x","x","x","x","x","x","x","x","x","x",0,null,"x","x","x","x","x","x","x","x","x","x","x","x","x","x","x","x","x","x","x","x","x","x","x","x","x","x","x","x","x","x","x","x","x","x","x","x","x","x",null,0,0,0,0,0,0,0,0,0,0,0,0,0,0,0,0,0,0,0,0,0,0,0,0,0,0,0,0,0,0,0,0,0,0,0,0,0,0,null,{"$f":"IF(VLOOKUP($A262,'Schedule Setup'!$A$4:$E$39,5,FALSE)=0,\"\",VLOOKUP($A262,'Schedule Setup'!$A$4:$E$39,5,FALSE))","v":""},0,"",0,"",0,"",0,"",null,0,"",0,"",0,"",0,"",null,{"$f":"'Schedule Setup'!P30","v":"00:00:00"},{"$f":"'Schedule Setup'!Q30","v":"00:00:00"},-2.0833333333333332E-2,"00:30:00"]
[27,{"$f":"IF(VLOOKUP($A263,'Schedule Setup'!$A$4:$E$39,2,FALSE)=0,\"\",VLOOKUP($A263,'Schedule Setup'!$A$4:$E$39,2,FALSE))","v":""},{"$f":"IF(VLOOKUP($A263,'Schedule Setup'!$A$4:$E$39,4,FALSE)=0,\"\",VLOOKUP($A263,'Schedule Setup'!$A$4:$E$39,4,FALSE))","v":""},"",null,null,null,"x","x","x","x","x","x","x","x","x","x","x","x","x","x","x","x","x","x","x","x","x","x","x","x","x","x","x","x","x","x","x","x","x","x","x","x","x","x",0,null,"x","x","x","x","x","x","x","x","x","x","x","x","x","x","x","x","x","x","x","x","x","x","x","x","x","x","x","x","x","x","x","x","x","x","x","x","x","x",null,0,0,0,0,0,0,0,0,0,0,0,0,0,0,0,0,0,0,0,0,0,0,0,0,0,0,0,0,0,0,0,0,0,0,0,0,0,0,null,{"$f":"IF(VLOOKUP($A263,'Schedule Setup'!$A$4:$E$39,5,FALSE)=0,\"\",VLOOKUP($A263,'Schedule Setup'!$A$4:$E$39,5,FALSE))","v":""},0,"",0,"",0,"",0,"",null,0,"",0,"",0,"",0,"",null,{"$f":"'Schedule Setup'!P31","v":"00:00:00"},{"$f":"'Schedule Setup'!Q31","v":"00:00:00"},-2.0833333333333332E-2,"00:30:00"]
[28,{"$f":"IF(VLOOKUP($A264,'Schedule Setup'!$A$4:$E$39,2,FALSE)=0,\"\",VLOOKUP($A264,'Schedule Setup'!$A$4:$E$39,2,FALSE))","v":""},{"$f":"IF(VLOOKUP($A264,'Schedule Setup'!$A$4:$E$39,4,FALSE)=0,\"\",VLOOKUP($A264,'Schedule Setup'!$A$4:$E$39,4,FALSE))","v":""},"",null,null,null,"x","x","x","x","x","x","x","x","x","x","x","x","x","x","x","x","x","x","x","x","x","x","x","x","x","x","x","x","x","x","x","x","x","x","x","x","x","x",0,null,"x","x","x","x","x","x","x","x","x","x","x","x","x","x","x","x","x","x","x","x","x","x","x","x","x","x","x","x","x","x","x","x","x","x","x","x","x","x",null,0,0,0,0,0,0,0,0,0,0,0,0,0,0,0,0,0,0,0,0,0,0,0,0,0,0,0,0,0,0,0,0,0,0,0,0,0,0,null,{"$f":"IF(VLOOKUP($A264,'Schedule Setup'!$A$4:$E$39,5,FALSE)=0,\"\",VLOOKUP($A264,'Schedule Setup'!$A$4:$E$39,5,FALSE))","v":""},0,"",0,"",0,"",0,"",null,0,"",0,"",0,"",0,"",null,{"$f":"'Schedule Setup'!P32","v":"00:00:00"},{"$f":"'Schedule Setup'!Q32","v":"00:00:00"},-2.0833333333333332E-2,"00:30:00"]
[29,{"$f":"IF(VLOOKUP($A265,'Schedule Setup'!$A$4:$E$39,2,FALSE)=0,\"\",VLOOKUP($A265,'Schedule Setup'!$A$4:$E$39,2,FALSE))","v":""},{"$f":"IF(VLOOKUP($A265,'Schedule Setup'!$A$4:$E$39,4,FALSE)=0,\"\",VLOOKUP($A265,'Schedule Setup'!$A$4:$E$39,4,FALSE))","v":""},"",null,null,null,"x","x","x","x","x","x","x","x","x","x","x","x","x","x","x","x","x","x","x","x","x","x","x","x","x","x","x","x","x","x","x","x","x","x","x","x","x","x",0,null,"x","x","x","x","x","x","x","x","x","x","x","x","x","x","x","x","x","x","x","x","x","x","x","x","x","x","x","x","x","x","x","x","x","x","x","x","x","x",null,0,0,0,0,0,0,0,0,0,0,0,0,0,0,0,0,0,0,0,0,0,0,0,0,0,0,0,0,0,0,0,0,0,0,0,0,0,0,null,{"$f":"IF(VLOOKUP($A265,'Schedule Setup'!$A$4:$E$39,5,FALSE)=0,\"\",VLOOKUP($A265,'Schedule Setup'!$A$4:$E$39,5,FALSE))","v":""},0,"",0,"",0,"",0,"",null,0,"",0,"",0,"",0,"",null,{"$f":"'Schedule Setup'!P33","v":"00:00:00"},{"$f":"'Schedule Setup'!Q33","v":"00:00:00"},-2.0833333333333332E-2,"00:30:00"]
[30,{"$f":"IF(VLOOKUP($A266,'Schedule Setup'!$A$4:$E$39,2,FALSE)=0,\"\",VLOOKUP($A266,'Schedule Setup'!$A$4:$E$39,2,FALSE))","v":""},{"$f":"IF(VLOOKUP($A266,'Schedule Setup'!$A$4:$E$39,4,FALSE)=0,\"\",VLOOKUP($A266,'Schedule Setup'!$A$4:$E$39,4,FALSE))","v":""},"",null,null,null,"x","x","x","x","x","x","x","x","x","x","x","x","x","x","x","x","x","x","x","x","x","x","x","x","x","x","x","x","x","x","x","x","x","x","x","x","x","x",0,null,"x","x","x","x","x","x","x","x","x","x","x","x","x","x","x","x","x","x","x","x","x","x","x","x","x","x","x","x","x","x","x","x","x","x","x","x","x","x",null,0,0,0,0,0,0,0,0,0,0,0,0,0,0,0,0,0,0,0,0,0,0,0,0,0,0,0,0,0,0,0,0,0,0,0,0,0,0,null,{"$f":"IF(VLOOKUP($A266,'Schedule Setup'!$A$4:$E$39,5,FALSE)=0,\"\",VLOOKUP($A266,'Schedule Setup'!$A$4:$E$39,5,FALSE))","v":""},0,"",0,"",0,"",0,"",null,0,"",0,"",0,"",0,"",null,{"$f":"'Schedule Setup'!P34","v":"00:00:00"},{"$f":"'Schedule Setup'!Q34","v":"00:00:00"},-2.0833333333333332E-2,"00:30:00"]
[31,{"$f":"IF(VLOOKUP($A267,'Schedule Setup'!$A$4:$E$39,2,FALSE)=0,\"\",VLOOKUP($A267,'Schedule Setup'!$A$4:$E$39,2,FALSE))","v":""},{"$f":"IF(VLOOKUP($A267,'Schedule Setup'!$A$4:$E$39,4,FALSE)=0,\"\",VLOOKUP($A267,'Schedule Setup'!$A$4:$E$39,4,FALSE))","v":""},"",null,null,null,"x","x","x","x","x","x","x","x","x","x","x","x","x","x","x","x","x","x","x","x","x","x","x","x","x","x","x","x","x","x","x","x","x","x","x","x","x","x",0,null,"x","x","x","x","x","x","x","x","x","x","x","x","x","x","x","x","x","x","x","x","x","x","x","x","x","x","x","x","x","x","x","x","x","x","x","x","x","x",null,0,0,0,0,0,0,0,0,0,0,0,0,0,0,0,0,0,0,0,0,0,0,0,0,0,0,0,0,0,0,0,0,0,0,0,0,0,0,null,{"$f":"IF(VLOOKUP($A267,'Schedule Setup'!$A$4:$E$39,5,FALSE)=0,\"\",VLOOKUP($A267,'Schedule Setup'!$A$4:$E$39,5,FALSE))","v":""},0,"",0,"",0,"",0,"",null,0,"",0,"",0,"",0,"",null,{"$f":"'Schedule Setup'!P35","v":"00:00:00"},{"$f":"'Schedule Setup'!Q35","v":"00:00:00"},-2.0833333333333332E-2,"00:30:00"]
[32,{"$f":"IF(VLOOKUP($A268,'Schedule Setup'!$A$4:$E$39,2,FALSE)=0,\"\",VLOOKUP($A268,'Schedule Setup'!$A$4:$E$39,2,FALSE))","v":""},{"$f":"IF(VLOOKUP($A268,'Schedule Setup'!$A$4:$E$39,4,FALSE)=0,\"\",VLOOKUP($A268,'Schedule Setup'!$A$4:$E$39,4,FALSE))","v":""},"",null,null,null,"x","x","x","x","x","x","x","x","x","x","x","x","x","x","x","x","x","x","x","x","x","x","x","x","x","x","x","x","x","x","x","x","x","x","x","x","x","x",0,null,"x","x","x","x","x","x","x","x","x","x","x","x","x","x","x","x","x","x","x","x","x","x","x","x","x","x","x","x","x","x","x","x","x","x","x","x","x","x",null,0,0,0,0,0,0,0,0,0,0,0,0,0,0,0,0,0,0,0,0,0,0,0,0,0,0,0,0,0,0,0,0,0,0,0,0,0,0,null,{"$f":"IF(VLOOKUP($A268,'Schedule Setup'!$A$4:$E$39,5,FALSE)=0,\"\",VLOOKUP($A268,'Schedule Setup'!$A$4:$E$39,5,FALSE))","v":""},0,"",0,"",0,"",0,"",null,0,"",0,"",0,"",0,"",null,{"$f":"'Schedule Setup'!P36","v":"00:00:00"},{"$f":"'Schedule Setup'!Q36","v":"00:00:00"},-2.0833333333333332E-2,"00:30:00"]
[33,{"$f":"IF(VLOOKUP($A269,'Schedule Setup'!$A$4:$E$39,2,FALSE)=0,\"\",VLOOKUP($A269,'Schedule Setup'!$A$4:$E$39,2,FALSE))","v":""},{"$f":"IF(VLOOKUP($A269,'Schedule Setup'!$A$4:$E$39,4,FALSE)=0,\"\",VLOOKUP($A269,'Schedule Setup'!$A$4:$E$39,4,FALSE))","v":""},"",null,null,null,"x","x","x","x","x","x","x","x","x","x","x","x","x","x","x","x","x","x","x","x","x","x","x","x","x","x","x","x","x","x","x","x","x","x","x","x","x","x",0,null,"x","x","x","x","x","x","x","x","x","x","x","x","x","x","x","x","x","x","x","x","x","x","x","x","x","x","x","x","x","x","x","x","x","x","x","x","x","x",null,0,0,0,0,0,0,0,0,0,0,0,0,0,0,0,0,0,0,0,0,0,0,0,0,0,0,0,0,0,0,0,0,0,0,0,0,0,0,null,{"$f":"IF(VLOOKUP($A269,'Schedule Setup'!$A$4:$E$39,5,FALSE)=0,\"\",VLOOKUP($A269,'Schedule Setup'!$A$4:$E$39,5,FALSE))","v":""},0,"",0,"",0,"",0,"",null,0,"",0,"",0,"",0,"",null,{"$f":"'Schedule Setup'!P37","v":"00:00:00"},{"$f":"'Schedule Setup'!Q37","v":"00:00:00"},-2.0833333333333332E-2,"00:30:00"]
[34,{"$f":"IF(VLOOKUP($A270,'Schedule Setup'!$A$4:$E$39,2,FALSE)=0,\"\",VLOOKUP($A270,'Schedule Setup'!$A$4:$E$39,2,FALSE))","v":""},{"$f":"IF(VLOOKUP($A270,'Schedule Setup'!$A$4:$E$39,4,FALSE)=0,\"\",VLOOKUP($A270,'Schedule Setup'!$A$4:$E$39,4,FALSE))","v":""},"",null,null,null,"x","x","x","x","x","x","x","x","x","x","x","x","x","x","x","x","x","x","x","x","x","x","x","x","x","x","x","x","x","x","x","x","x","x","x","x","x","x",0,null,"x","x","x","x","x","x","x","x","x","x","x","x","x","x","x","x","x","x","x","x","x","x","x","x","x","x","x","x","x","x","x","x","x","x","x","x","x","x",null,0,0,0,0,0,0,0,0,0,0,0,0,0,0,0,0,0,0,0,0,0,0,0,0,0,0,0,0,0,0,0,0,0,0,0,0,0,0,null,{"$f":"IF(VLOOKUP($A270,'Schedule Setup'!$A$4:$E$39,5,FALSE)=0,\"\",VLOOKUP($A270,'Schedule Setup'!$A$4:$E$39,5,FALSE))","v":""},0,"",0,"",0,"",0,"",null,0,"",0,"",0,"",0,"",null,{"$f":"'Schedule Setup'!P38","v":"00:00:00"},{"$f":"'Schedule Setup'!Q38","v":"00:00:00"},-2.0833333333333332E-2,"00:30:00"]
[35,{"$f":"IF(VLOOKUP($A271,'Schedule Setup'!$A$4:$E$39,2,FALSE)=0,\"\",VLOOKUP($A271,'Schedule Setup'!$A$4:$E$39,2,FALSE))","v":""},{"$f":"IF(VLOOKUP($A271,'Schedule Setup'!$A$4:$E$39,4,FALSE)=0,\"\",VLOOKUP($A271,'Schedule Setup'!$A$4:$E$39,4,FALSE))","v":""},"",null,null,null,"x","x","x","x","x",{"$f":"BA271","v":"x"},"x","x","x","x","x","x","x","x",{"$f":"BJ271","v":"x"},"x","x","x","x","x","x","x","x","x","x","x","x","x","x","x","x","x","x","x","x","x","x","x",0,null,"x","x","x","x","x","x","x","x","x","x","x","x","x","x","x","x","x","x","x","x","x","x","x","x","x","x","x","x","x","x","x","x","x","x","x","x","x","x",null,0,0,0,0,0,0,0,0,0,0,0,0,0,0,0,0,0,0,0,0,0,0,0,0,0,0,0,0,0,0,0,0,0,0,0,0,0,0,null,{"$f":"IF(VLOOKUP($A271,'Schedule Setup'!$A$4:$E$39,5,FALSE)=0,\"\",VLOOKUP($A271,'Schedule Setup'!$A$4:$E$39,5,FALSE))","v":""},0,"",0,"",0,"",0,"",null,0,"",0,"",0,"",0,"",null,{"$f":"'Schedule Setup'!P39","v":"00:00:00"},{"$f":"'Schedule Setup'!Q39","v":"00:00:00"},-2.0833333333333332E-2,"00:30:00"]
[null,null,null,"Totals/Coverage",{"$f":"MIN(E237:E271)","v":"00:00:00"},{"$f":"MAX(F237:F271)","v":"00:00:00"},null,{"$f":"CI272","v":0},{"$f":"CJ272","v":0},{"$f":"CK272","v":0},{"$f":"CL272","v":0},{"$f":"CM272","v":0},{"$f":"CN272","v":0},{"$f":"CO272","v":0},{"$f":"CP272","v":0},{"$f":"CQ272","v":0},{"$f":"CR272","v":0},{"$f":"CS272","v":0},{"$f":"CT272","v":0},{"$f":"CU272","v":0},{"$f":"CV272","v":0},{"$f":"CW272","v":0},{"$f":"CX272","v":0},{"$f":"CY272","v":0},{"$f":"CZ272","v":0},{"$f":"DA272","v":0},{"$f":"DB272","v":0},{"$f":"DC272","v":0},{"$f":"DD272","v":0},{"$f":"DE272","v":0},{"$f":"DF272","v":0},{"$f":"DG272","v":0},{"$f":"DH272","v":0},{"$f":"DI272","v":0},{"$f":"DJ272","v":0},{"$f":"DK272","v":0},{"$f":"DL272","v":0},{"$f":"DM272","v":0},{"$f":"DN272","v":0},{"$f":"DO272","v":0},{"$f":"DP272","v":0},{"$f":"DQ272","v":0},{"$f":"DR272","v":0},{"$f":"DS272","v":0},{"$f":"DT272","v":0},{"$f":"SUM(AT237:AT271)","v":0},null,null,null,null,null,null,null,null,null,null,null,null,null,null,null,null,null,null,null,null,null,null,null,null,null,null,null,null,null,null,null,null,null,null,null,null,null,null,null,null,{"$f":"COUNTIF(CI237:CI271,0.5)","v":0},{"$f":"COUNTIF(CJ237:CJ271,0.5)","v":0},{"$f":"COUNTIF(CK237:CK271,0.5)","v":0},{"$f":"COUNTIF(CL237:CL271,0.5)","v":0},{"$f":"COUNTIF(CM237:CM271,0.5)","v":0},{"$f":"COUNTIF(CN237:CN271,0.5)","v":0},{"$f":"COUNTIF(CO237:CO271,0.5)","v":0},{"$f":"COUNTIF(CP237:CP271,0.5)","v":0},{"$f":"COUNTIF(CQ237:CQ271,0.5)","v":0},{"$f":"COUNTIF(CR237:CR271,0.5)","v":0},{"$f":"COUNTIF(CS237:CS271,0.5)","v":0},{"$f":"COUNTIF(CT237:CT271,0.5)","v":0},{"$f":"COUNTIF(CU237:CU271,0.5)","v":0},{"$f":"COUNTIF(CV237:CV271,0.5)","v":0},{"$f":"COUNTIF(CW237:CW271,0.5)","v":0},{"$f":"COUNTIF(CX237:CX271,0.5)","v":0},{"$f":"COUNTIF(CY237:CY271,0.5)","v":0},{"$f":"COUNTIF(CZ237:CZ271,0.5)","v":0},{"$f":"COUNTIF(DA237:DA271,0.5)","v":0},{"$f":"COUNTIF(DB237:DB271,0.5)","v":0},{"$f":"COUNTIF(DC237:DC271,0.5)","v":0},{"$f":"COUNTIF(DD237:DD271,0.5)","v":0},{"$f":"COUNTIF(DE237:DE271,0.5)","v":0},{"$f":"COUNTIF(DF237:DF271,0.5)","v":0},{"$f":"COUNTIF(DG237:DG271,0.5)","v":0},{"$f":"COUNTIF(DH237:DH271,0.5)","v":0},{"$f":"COUNTIF(DI237:DI271,0.5)","v":0},{"$f":"COUNTIF(DJ237:DJ271,0.5)","v":0},{"$f":"COUNTIF(DK237:DK271,0.5)","v":0},{"$f":"COUNTIF(DL237:DL271,0.5)","v":0},{"$f":"COUNTIF(DM237:DM271,0.5)","v":0},{"$f":"COUNTIF(DN237:DN271,0.5)","v":0},{"$f":"COUNTIF(DO237:DO271,0.5)","v":0},{"$f":"COUNTIF(DP237:DP271,0.5)","v":0},{"$f":"COUNTIF(DQ237:DQ271,0.5)","v":0},{"$f":"COUNTIF(DR237:DR271,0.5)","v":0},{"$f":"COUNTIF(DS237:DS271,0.5)","v":0},{"$f":"COUNTIF(DT237:DT271,0.5)","v":0},null,null,{"$f":"SUM(DW237:DW271)","v":0},0,0,0,0,0,0,0,null,{"$f":"SUM(EF237:EF271)","v":0},0,0,0,0,0,0,0,null,{"$f":"'Schedule Setup'!P40","v":"07:00:00"},{"$f":"'Schedule Setup'!Q40","v":"20:00:00"},"06:30:00","20:30:00"]
[null,null,null,null,null,{"$f":"'Schedule Forecast'!A14","v":"Last Week"},null,{"$f":"IFERROR(INDEX(INDIRECT(\"'\"&$F273&\"'!$H:$H\"),MATCH(H$6,INDIRECT(\"'\"&$F273&\"'!$A$1:$A$250\"),0)+1),0)","v":0},0,0,0,0,0,0,0,0,0,{"$f":"IFERROR(INDEX(INDIRECT(\"'\"&$F273&\"'!$H:$H\"),MATCH(R$6,INDIRECT(\"'\"&$F273&\"'!$A$1:$A$250\"),0)+1),0)","v":0},0,0,0,0,0,0,0,0,0,{"$f":"IFERROR(INDEX(INDIRECT(\"'\"&$F273&\"'!$H:$H\"),MATCH(AB$6,INDIRECT(\"'\"&$F273&\"'!$A$1:$A$250\"),0)+1),0)","v":0},0,0,0,0,0,0,0,0,0,{"$f":"IFERROR(INDEX(INDIRECT(\"'\"&$F273&\"'!$H:$H\"),MATCH(AL$6,INDIRECT(\"'\"&$F273&\"'!$A$1:$A$250\"),0)+1),0)","v":0},0,0,0,0,0,0,0]
[null,null,null,null,null,{"$f":"'Schedule Forecast'!A15","v":"2 Weeks Ago"},null,0,0,0,0,0,0,0,0,0,0,0,0,0,0,0,0,0,0,0,0,0,0,0,0,0,0,0,0,0,0,0,0,0,0,0,0,0,0]
[null,null,null,null,null,{"$f":"'Schedule Forecast'!A16","v":"3 Weeks Ago"},null,0,0,0,0,0,0,0,0,0,0,0,0,0,0,0,0,0,0,0,0,0,0,0,0,0,0,0,0,0,0,0,0,0,0,0,0,0,0]
[null,null,null,null,null,{"$f":"'Schedule Forecast'!A17","v":"4 Weeks Ago"},null,0,0,0,0,0,0,0,0,0,0,0,0,0,0,0,0,0,0,0,0,0,0,0,0,0,0,0,0,0,0,0,0,0,0,0,0,0,0]
[null,null,null,null,null,"AVERAGE",null,{"$f":"IFERROR(IF(AND(H$6>=$EO$272,H$6<$EP$272-0.001),AVERAGE(H273:H276),\"\"),\"\")","v":""},"","","",0,0,0,0,0,0,0,0,0,0,0,0,0,0,0,0,0,0,0,0,0,0,0,0,0,0,"","","","","","","",""]
[null,null,null,null,null,null,null,{"$f":"IFERROR(IF((H277*'Schedule Forecast'!$C$4-$AC$2)>1,(H277*'Schedule Forecast'!$C$4-$AC$2),1),\"\")","v":""},{"$f":"IFERROR(IF((I277*'Schedule Forecast'!$C$4-$AC$2)>1,(I277*'Schedule Forecast'!$C$4-$AC$2),1),\"\")","v":""},{"$f":"IFERROR(IF((J277*'Schedule Forecast'!$C$4-$AC$2)>1,(J277*'Schedule Forecast'!$C$4-$AC$2),1),\"\")","v":""},{"$f":"IFERROR(IF((K277*'Schedule Forecast'!$C$4-$AC$2)>1,(K277*'Schedule Forecast'!$C$4-$AC$2),1),\"\")","v":""},{"$f":"IFERROR(IF((L277*'Schedule Forecast'!$C$4-$AC$2)>1,(L277*'Schedule Forecast'!$C$4-$AC$2),1),\"\")","v":1},{"$f":"IFERROR(IF((M277*'Schedule Forecast'!$C$4-$AC$2)>1,(M277*'Schedule Forecast'!$C$4-$AC$2),1),\"\")","v":1},{"$f":"IFERROR(IF((N277*'Schedule Forecast'!$C$4-$AC$2)>1,(N277*'Schedule Forecast'!$C$4-$AC$2),1),\"\")","v":1},{"$f":"IFERROR(IF((O277*'Schedule Forecast'!$C$4-$AC$2)>1,(O277*'Schedule Forecast'!$C$4-$AC$2),1),\"\")","v":1},{"$f":"IFERROR(IF((P277*'Schedule Forecast'!$C$4-$AC$2)>1,(P277*'Schedule Forecast'!$C$4-$AC$2),1),\"\")","v":1},{"$f":"IFERROR(IF((Q277*'Schedule Forecast'!$C$4-$AC$2)>1,(Q277*'Schedule Forecast'!$C$4-$AC$2),1),\"\")","v":1},{"$f":"IFERROR(IF((R277*'Schedule Forecast'!$C$4-$AC$2)>1,(R277*'Schedule Forecast'!$C$4-$AC$2),1),\"\")","v":1},{"$f":"IFERROR(IF((S277*'Schedule Forecast'!$C$4-$AC$2)>1,(S277*'Schedule Forecast'!$C$4-$AC$2),1),\"\")","v":1},{"$f":"IFERROR(IF((T277*'Schedule Forecast'!$C$4-$AC$2)>1,(T277*'Schedule Forecast'!$C$4-$AC$2),1),\"\")","v":1},{"$f":"IFERROR(IF((U277*'Schedule Forecast'!$C$4-$AC$2)>1,(U277*'Schedule Forecast'!$C$4-$AC$2),1),\"\")","v":1},{"$f":"IFERROR(IF((V277*'Schedule Forecast'!$C$4-$AC$2)>1,(V277*'Schedule Forecast'!$C$4-$AC$2),1),\"\")","v":1},{"$f":"IFERROR(IF((W277*'Schedule Forecast'!$C$4-$AC$2)>1,(W277*'Schedule Forecast'!$C$4-$AC$2),1),\"\")","v":1},{"$f":"IFERROR(IF((X277*'Schedule Forecast'!$C$4-$AC$2)>1,(X277*'Schedule Forecast'!$C$4-$AC$2),1),\"\")","v":1},{"$f":"IFERROR(IF((Y277*'Schedule Forecast'!$C$4-$AC$2)>1,(Y277*'Schedule Forecast'!$C$4-$AC$2),1),\"\")","v":1},{"$f":"IFERROR(IF((Z277*'Schedule Forecast'!$C$4-$AC$2)>1,(Z277*'Schedule Forecast'!$C$4-$AC$2),1),\"\")","v":1},{"$f":"IFERROR(IF((AA277*'Schedule Forecast'!$C$4-$AC$2)>1,(AA277*'Schedule Forecast'!$C$4-$AC$2),1),\"\")","v":1},{"$f":"IFERROR(IF((AB277*'Schedule Forecast'!$C$4-$AC$2)>1,(AB277*'Schedule Forecast'!$C$4-$AC$2),1),\"\")","v":1},{"$f":"IFERROR(IF((AC277*'Schedule Forecast'!$C$4-$AC$2)>1,(AC277*'Schedule Forecast'!$C$4-$AC$2),1),\"\")","v":1},{"$f":"IFERROR(IF((AD277*'Schedule Forecast'!$C$4-$AC$2)>1,(AD277*'Schedule Forecast'!$C$4-$AC$2),1),\"\")","v":1},{"$f":"IFERROR(IF((AE277*'Schedule Forecast'!$C$4-$AC$2)>1,(AE277*'Schedule Forecast'!$C$4-$AC$2),1),\"\")","v":1},{"$f":"IFERROR(IF((AF277*'Schedule Forecast'!$C$4-$AC$2)>1,(AF277*'Schedule Forecast'!$C$4-$AC$2),1),\"\")","v":1},{"$f":"IFERROR(IF((AG277*'Schedule Forecast'!$C$4-$AC$2)>1,(AG277*'Schedule Forecast'!$C$4-$AC$2),1),\"\")","v":1},{"$f":"IFERROR(IF((AH277*'Schedule Forecast'!$C$4-$AC$2)>1,(AH277*'Schedule Forecast'!$C$4-$AC$2),1),\"\")","v":1},{"$f":"IFERROR(IF((AI277*'Schedule Forecast'!$C$4-$AC$2)>1,(AI277*'Schedule Forecast'!$C$4-$AC$2),1),\"\")","v":1},{"$f":"IFERROR(IF((AJ277*'Schedule Forecast'!$C$4-$AC$2)>1,(AJ277*'Schedule Forecast'!$C$4-$AC$2),1),\"\")","v":1},{"$f":"IFERROR(IF((AK277*'Schedule Forecast'!$C$4-$AC$2)>1,(AK277*'Schedule Forecast'!$C$4-$AC$2),1),\"\")","v":1},{"$f":"IFERROR(IF((AL277*'Schedule Forecast'!$C$4-$AC$2)>1,(AL277*'Schedule Forecast'!$C$4-$AC$2),1),\"\")","v":""},{"$f":"IFERROR(IF((AM277*'Schedule Forecast'!$C$4-$AC$2)>1,(AM277*'Schedule Forecast'!$C$4-$AC$2),1),\"\")","v":""},{"$f":"IFERROR(IF((AN277*'Schedule Forecast'!$C$4-$AC$2)>1,(AN277*'Schedule Forecast'!$C$4-$AC$2),1),\"\")","v":""},{"$f":"IFERROR(IF((AO277*'Schedule Forecast'!$C$4-$AC$2)>1,(AO277*'Schedule Forecast'!$C$4-$AC$2),1),\"\")","v":""},{"$f":"IFERROR(IF((AP277*'Schedule Forecast'!$C$4-$AC$2)>1,(AP277*'Schedule Forecast'!$C$4-$AC$2),1),\"\")","v":""},{"$f":"IFERROR(IF((AQ277*'Schedule Forecast'!$C$4-$AC$2)>1,(AQ277*'Schedule Forecast'!$C$4-$AC$2),1),\"\")","v":""},{"$f":"IFERROR(IF((AR277*'Schedule Forecast'!$C$4-$AC$2)>1,(AR277*'Schedule Forecast'!$C$4-$AC$2),1),\"\")","v":""},{"$f":"IFERROR(IF((AS277*'Schedule Forecast'!$C$4-$AC$2)>1,(AS277*'Schedule Forecast'!$C$4-$AC$2),1),\"\")","v":""}]
[null,null,null,null,null,null,"Recommended:",{"$f":"IF(H236>=$EO$272,IF(H236<$EP$272-0.01,ROUND(IF(H278>1,(H278*$B$48)+1,H278)*2,0),\"\"),\"\")","v":""},"","","",2,2,2,2,2,2,2,2,2,2,2,2,2,2,2,2,2,2,2,2,2,2,2,2,2,2,"","","","","","","","",{"$f":"SUM(H279:AS279)/2","v":26}]
[]
[null,"Monday",null,null,null,null,null,null,null,null,null,null,null,null,null,null,null,null,{"$f":"S235","v":"Today's Date"},{"$f":"T5+6","v":"2019-05-07"},null,null,null,null,null,null,null,null,null,null,null,null,null,null,null,null,null,null,null,null,null,null,null,null,null,null,null,null,null,null,null,null,null,null,null,null,null,null,null,null,null,null,null,null,null,null,null,null,null,null,null,null,null,null,null,null,null,null,null,null,null,null,null,null,null,null,null,null,null,null,null,null,null,null,null,null,null,null,null,null,null,null,null,null,null,null,null,null,null,null,null,null,null,null,null,null,null,null,null,null,null,null,null,null,null,null,"Breakfast",null,"Lunch",null,"Dinner",null,"Total",null,null,"Breakfast",null,"Lunch",null,"Dinner",null,"Total",null,null,"Availability"]
[null,"Employee","Job",null,"Start","End",null,"05:00:00",{"$f":"H282+(0.5/24)","v":"05:30:00"},{"$f":"I282+(0.5/24)","v":"06:00:00"},{"$f":"J282+(0.5/24)","v":"06:30:00"},{"$f":"K282+(0.5/24)","v":"07:00:00"},{"$f":"L282+(0.5/24)","v":"07:30:00"},{"$f":"M282+(0.5/24)","v":"08:00:00"},{"$f":"N282+(0.5/24)","v":"08:30:00"},{"$f":"O282+(0.5/24)","v":"09:00:00"},{"$f":"P282+(0.5/24)","v":"09:30:00"},{"$f":"Q282+(0.5/24)","v":"10:00:00"},{"$f":"R282+(0.5/24)","v":"10:30:00"},{"$f":"S282+(0.5/24)","v":"11:00:00"},{"$f":"T282+(0.5/24)","v":"11:30:00"},{"$f":"U282+(0.5/24)","v":"12:00:00"},{"$f":"V282+(0.5/24)","v":"12:30:00"},{"$f":"W282+(0.5/24)","v":"13:00:00"},{"$f":"X282+(0.5/24)","v":"13:30:00"},{"$f":"Y282+(0.5/24)","v":"14:00:00"},{"$f":"Z282+(0.5/24)","v":"14:30:00"},{"$f":"AA282+(0.5/24)","v":"15:00:00"},{"$f":"AB282+(0.5/24)","v":"15:30:00"},{"$f":"AC282+(0.5/24)","v":"16:00:00"},{"$f":"AD282+(0.5/24)","v":"16:30:00"},{"$f":"AE282+(0.5/24)","v":"17:00:00"},{"$f":"AF282+(0.5/24)","v":"17:30:00"},{"$f":"AG282+(0.5/24)","v":"18:00:00"},{"$f":"AH282+(0.5/24)","v":"18:30:00"},{"$f":"AI282+(0.5/24)","v":"19:00:00"},{"$f":"AJ282+(0.5/24)","v":"19:30:00"},{"$f":"AK282+(0.5/24)","v":"20:00:00"},{"$f":"AL282+(0.5/24)","v":"20:30:00"},{"$f":"AM282+(0.5/24)","v":"21:00:00"},{"$f":"AN282+(0.5/24)","v":"21:30:00"},{"$f":"AO282+(0.5/24)","v":"22:00:00"},{"$f":"AP282+(0.5/24)","v":"22:30:00"},{"$f":"AQ282+(0.5/24)","v":"23:00:00"},{"$f":"AR282+(0.5/24)","v":"23:30:00"},"TOTAL",null,5,null,6,null,7,null,8,null,9,null,10,null,11,null,12,null,1,null,2,null,3,null,4,null,5,null,6,null,7,null,8,null,9,null,10,null,11,null,null,5,null,6,null,7,null,8,null,9,null,10,null,11,null,12,null,1,null,2,null,3,null,4,null,5,null,6,null,7,null,8,null,9,null,10,null,11,null,null,"Rate","Hrs","$","Hrs","$","Hrs","$","Hrs","$",null,"Hrs","$","Hrs","$","Hrs","$","Hrs","$",null,"Start","End","Start-Early","End-Late"]
[1,{"$f":"IF(VLOOKUP($A283,'Schedule Setup'!$A$4:$E$39,2,FALSE)=0,\"\",VLOOKUP($A283,'Schedule Setup'!$A$4:$E$39,2,FALSE))","v":""},{"$f":"IF(VLOOKUP($A283,'Schedule Setup'!$A$4:$E$39,4,FALSE)=0,\"\",VLOOKUP($A283,'Schedule Setup'!$A$4:$E$39,4,FALSE))","v":""},{"$f":"IF(B283<>\"\",IF(OR(C283=\"General Manager (S)\", C283=\"General Manager (H)\"), \"GM\",IF(C283=\"Acting Manager\",\"AM\",IF(C283=\"Shift Manager\",\"SM\",IF(C283=\"Team Lead\",\"TL\",\"TM\")))),\"\")","v":""},null,null,null,{"$f":"AV283","v":"x"},"x","x","x","x","x","x","x","x","x",{"$f":"BF283","v":"x"},"x","x","x","x","x","x","x","x","x",{"$f":"BP283","v":"x"},"x","x","x","x","x","x","x","x","x",{"$f":"BZ283","v":"x"},"x","x","x","x","x","x","x",{"$f":"EC283","v":0},null,{"$f":"IF(AND($EO283<=H$6+0.01,$EP283>H$6+0.01),IF(AND(H$6<$F283-0.01,H$6>=$E283-0.01),$D283,\"\"),\"x\")","v":"x"},{"$f":"IF(AND($EO283<=I$6+0.01,$EP283>I$6+0.01),IF(AND(I$6<$F283-0.01,I$6>=$E283-0.01),$D283,\"\"),\"x\")","v":"x"},{"$f":"IF(AND($EO283<=J$6+0.01,$EP283>J$6+0.01),IF(AND(J$6<$F283-0.01,J$6>=$E283-0.01),$D283,\"\"),\"x\")","v":"x"},{"$f":"IF(AND($EO283<=K$6+0.01,$EP283>K$6+0.01),IF(AND(K$6<$F283-0.01,K$6>=$E283-0.01),$D283,\"\"),\"x\")","v":"x"},{"$f":"IF(AND($EO283<=L$6+0.01,$EP283>L$6+0.01),IF(AND(L$6<$F283-0.01,L$6>=$E283-0.01),$D283,\"\"),\"x\")","v":"x"},{"$f":"IF(AND($EO283<=M$6+0.01,$EP283>M$6+0.01),IF(AND(M$6<$F283-0.01,M$6>=$E283-0.01),$D283,\"\"),\"x\")","v":"x"},{"$f":"IF(AND($EO283<=N$6+0.01,$EP283>N$6+0.01),IF(AND(N$6<$F283-0.01,N$6>=$E283-0.01),$D283,\"\"),\"x\")","v":"x"},{"$f":"IF(AND($EO283<=O$6+0.01,$EP283>O$6+0.01),IF(AND(O$6<$F283-0.01,O$6>=$E283-0.01),$D283,\"\"),\"x\")","v":"x"},{"$f":"IF(AND($EO283<=P$6+0.01,$EP283>P$6+0.01),IF(AND(P$6<$F283-0.01,P$6>=$E283-0.01),$D283,\"\"),\"x\")","v":"x"},{"$f":"IF(AND($EO283<=Q$6+0.01,$EP283>Q$6+0.01),IF(AND(Q$6<$F283-0.01,Q$6>=$E283-0.01),$D283,\"\"),\"x\")","v":"x"},{"$f":"IF(AND($EO283<=R$6+0.01,$EP283>R$6+0.01),IF(AND(R$6<$F283-0.01,R$6>=$E283-0.01),$D283,\"\"),\"x\")","v":"x"},{"$f":"IF(AND($EO283<=S$6+0.01,$EP283>S$6+0.01),IF(AND(S$6<$F283-0.01,S$6>=$E283-0.01),$D283,\"\"),\"x\")","v":"x"},{"$f":"IF(AND($EO283<=T$6+0.01,$EP283>T$6+0.01),IF(AND(T$6<$F283-0.01,T$6>=$E283-0.01),$D283,\"\"),\"x\")","v":"x"},{"$f":"IF(AND($EO283<=U$6+0.01,$EP283>U$6+0.01),IF(AND(U$6<$F283-0.01,U$6>=$E283-0.01),$D283,\"\"),\"x\")","v":"x"},{"$f":"IF(AND($EO283<=V$6+0.01,$EP283>V$6+0.01),IF(AND(V$6<$F283-0.01,V$6>=$E283-0.01),$D283,\"\"),\"x\")","v":"x"},{"$f":"IF(AND($EO283<=W$6+0.01,$EP283>W$6+0.01),IF(AND(W$6<$F283-0.01,W$6>=$E283-0.01),$D283,\"\"),\"x\")","v":"x"},{"$f":"IF(AND($EO283<=X$6+0.01,$EP283>X$6+0.01),IF(AND(X$6<$F283-0.01,X$6>=$E283-0.01),$D283,\"\"),\"x\")","v":"x"},{"$f":"IF(AND($EO283<=Y$6+0.01,$EP283>Y$6+0.01),IF(AND(Y$6<$F283-0.01,Y$6>=$E283-0.01),$D283,\"\"),\"x\")","v":"x"},{"$f":"IF(AND($EO283<=Z$6+0.01,$EP283>Z$6+0.01),IF(AND(Z$6<$F283-0.01,Z$6>=$E283-0.01),$D283,\"\"),\"x\")","v":"x"},{"$f":"IF(AND($EO283<=AA$6+0.01,$EP283>AA$6+0.01),IF(AND(AA$6<$F283-0.01,AA$6>=$E283-0.01),$D283,\"\"),\"x\")","v":"x"},{"$f":"IF(AND($EO283<=AB$6+0.01,$EP283>AB$6+0.01),IF(AND(AB$6<$F283-0.01,AB$6>=$E283-0.01),$D283,\"\"),\"x\")","v":"x"},{"$f":"IF(AND($EO283<=AC$6+0.01,$EP283>AC$6+0.01),IF(AND(AC$6<$F283-0.01,AC$6>=$E283-0.01),$D283,\"\"),\"x\")","v":"x"},{"$f":"IF(AND($EO283<=AD$6+0.01,$EP283>AD$6+0.01),IF(AND(AD$6<$F283-0.01,AD$6>=$E283-0.01),$D283,\"\"),\"x\")","v":"x"},{"$f":"IF(AND($EO283<=AE$6+0.01,$EP283>AE$6+0.01),IF(AND(AE$6<$F283-0.01,AE$6>=$E283-0.01),$D283,\"\"),\"x\")","v":"x"},{"$f":"IF(AND($EO283<=AF$6+0.01,$EP283>AF$6+0.01),IF(AND(AF$6<$F283-0.01,AF$6>=$E283-0.01),$D283,\"\"),\"x\")","v":"x"},{"$f":"IF(AND($EO283<=AG$6+0.01,$EP283>AG$6+0.01),IF(AND(AG$6<$F283-0.01,AG$6>=$E283-0.01),$D283,\"\"),\"x\")","v":"x"},{"$f":"IF(AND($EO283<=AH$6+0.01,$EP283>AH$6+0.01),IF(AND(AH$6<$F283-0.01,AH$6>=$E283-0.01),$D283,\"\"),\"x\")","v":"x"},{"$f":"IF(AND($EO283<=AI$6+0.01,$EP283>AI$6+0.01),IF(AND(AI$6<$F283-0.01,AI$6>=$E283-0.01),$D283,\"\"),\"x\")","v":"x"},{"$f":"IF(AND($EO283<=AJ$6+0.01,$EP283>AJ$6+0.01),IF(AND(AJ$6<$F283-0.01,AJ$6>=$E283-0.01),$D283,\"\"),\"x\")","v":"x"},{"$f":"IF(AND($EO283<=AK$6+0.01,$EP283>AK$6+0.01),IF(AND(AK$6<$F283-0.01,AK$6>=$E283-0.01),$D283,\"\"),\"x\")","v":"x"},{"$f":"IF(AND($EO283<=AL$6+0.01,$EP283>AL$6+0.01),IF(AND(AL$6<$F283-0.01,AL$6>=$E283-0.01),$D283,\"\"),\"x\")","v":"x"},{"$f":"IF(AND($EO283<=AM$6+0.01,$EP283>AM$6+0.01),IF(AND(AM$6<$F283-0.01,AM$6>=$E283-0.01),$D283,\"\"),\"x\")","v":"x"},{"$f":"IF(AND($EO283<=AN$6+0.01,$EP283>AN$6+0.01),IF(AND(AN$6<$F283-0.01,AN$6>=$E283-0.01),$D283,\"\"),\"x\")","v":"x"},{"$f":"IF(AND($EO283<=AO$6+0.01,$EP283>AO$6+0.01),IF(AND(AO$6<$F283-0.01,AO$6>=$E283-0.01),$D283,\"\"),\"x\")","v":"x"},{"$f":"IF(AND($EO283<=AP$6+0.01,$EP283>AP$6+0.01),IF(AND(AP$6<$F283-0.01,AP$6>=$E283-0.01),$D283,\"\"),\"x\")","v":"x"},{"$f":"IF(AND($EO283<=AQ$6+0.01,$EP283>AQ$6+0.01),IF(AND(AQ$6<$F283-0.01,AQ$6>=$E283-0.01),$D283,\"\"),\"x\")","v":"x"},{"$f":"IF(AND($EO283<=AR$6+0.01,$EP283>AR$6+0.01),IF(AND(AR$6<$F283-0.01,AR$6>=$E283-0.01),$D283,\"\"),\"x\")","v":"x"},{"$f":"IF(AND($EO283<=AS$6+0.01,$EP283>AS$6+0.01),IF(AND(AS$6<$F283-0.01,AS$6>=$E283-0.01),$D283,\"\"),\"x\")","v":"x"},null,{"$f":"IF(AND(AV283<>\"\",AV283<>\"x\"),0.5,)","v":0},{"$f":"IF(AND(AW283<>\"\",AW283<>\"x\"),0.5,)","v":0},{"$f":"IF(AND(AX283<>\"\",AX283<>\"x\"),0.5,)","v":0},{"$f":"IF(AND(AY283<>\"\",AY283<>\"x\"),0.5,)","v":0},{"$f":"IF(AND(AZ283<>\"\",AZ283<>\"x\"),0.5,)","v":0},{"$f":"IF(AND(BA283<>\"\",BA283<>\"x\"),0.5,)","v":0},{"$f":"IF(AND(BB283<>\"\",BB283<>\"x\"),0.5,)","v":0},{"$f":"IF(AND(BC283<>\"\",BC283<>\"x\"),0.5,)","v":0},{"$f":"IF(AND(BD283<>\"\",BD283<>\"x\"),0.5,)","v":0},{"$f":"IF(AND(BE283<>\"\",BE283<>\"x\"),0.5,)","v":0},{"$f":"IF(AND(BF283<>\"\",BF283<>\"x\"),0.5,)","v":0},{"$f":"IF(AND(BG283<>\"\",BG283<>\"x\"),0.5,)","v":0},{"$f":"IF(AND(BH283<>\"\",BH283<>\"x\"),0.5,)","v":0},{"$f":"IF(AND(BI283<>\"\",BI283<>\"x\"),0.5,)","v":0},{"$f":"IF(AND(BJ283<>\"\",BJ283<>\"x\"),0.5,)","v":0},{"$f":"IF(AND(BK283<>\"\",BK283<>\"x\"),0.5,)","v":0},{"$f":"IF(AND(BL283<>\"\",BL283<>\"x\"),0.5,)","v":0},{"$f":"IF(AND(BM283<>\"\",BM283<>\"x\"),0.5,)","v":0},{"$f":"IF(AND(BN283<>\"\",BN283<>\"x\"),0.5,)","v":0},{"$f":"IF(AND(BO283<>\"\",BO283<>\"x\"),0.5,)","v":0},{"$f":"IF(AND(BP283<>\"\",BP283<>\"x\"),0.5,)","v":0},{"$f":"IF(AND(BQ283<>\"\",BQ283<>\"x\"),0.5,)","v":0},{"$f":"IF(AND(BR283<>\"\",BR283<>\"x\"),0.5,)","v":0},{"$f":"IF(AND(BS283<>\"\",BS283<>\"x\"),0.5,)","v":0},{"$f":"IF(AND(BT283<>\"\",BT283<>\"x\"),0.5,)","v":0},{"$f":"IF(AND(BU283<>\"\",BU283<>\"x\"),0.5,)","v":0},{"$f":"IF(AND(BV283<>\"\",BV283<>\"x\"),0.5,)","v":0},{"$f":"IF(AND(BW283<>\"\",BW283<>\"x\"),0.5,)","v":0},{"$f":"IF(AND(BX283<>\"\",BX283<>\"x\"),0.5,)","v":0},{"$f":"IF(AND(BY283<>\"\",BY283<>\"x\"),0.5,)","v":0},{"$f":"IF(AND(BZ283<>\"\",BZ283<>\"x\"),0.5,)","v":0},{"$f":"IF(AND(CA283<>\"\",CA283<>\"x\"),0.5,)","v":0},{"$f":"IF(AND(CB283<>\"\",CB283<>\"x\"),0.5,)","v":0},{"$f":"IF(AND(CC283<>\"\",CC283<>\"x\"),0.5,)","v":0},{"$f":"IF(AND(CD283<>\"\",CD283<>\"x\"),0.5,)","v":0},{"$f":"IF(AND(CE283<>\"\",CE283<>\"x\"),0.5,)","v":0},{"$f":"IF(AND(CF283<>\"\",CF283<>\"x\"),0.5,)","v":0},{"$f":"IF(AND(CG283<>\"\",CG283<>\"x\"),0.5,)","v":0},null,{"$f":"IF(VLOOKUP($A283,'Schedule Setup'!$A$4:$E$39,5,FALSE)=0,\"\",VLOOKUP($A283,'Schedule Setup'!$A$4:$E$39,5,FALSE))","v":""},{"$f":"SUM(CI283:CT283)","v":0},{"$f":"IFERROR(DW283*$DV283,\"\")","v":""},{"$f":"SUM(CU283:DF283)","v":0},{"$f":"IFERROR(DY283*$DV283,\"\")","v":""},{"$f":"SUM(DG283:DT283)","v":0},{"$f":"IFERROR(EA283*$DV283,\"\")","v":""},{"$f":"SUM(DW283,DY283,EA283)","v":0},{"$f":"IFERROR(EC283*$DV283,\"\")","v":""},null,{"$f":"IF(DW283>5,(DW283-0.5),DW283)","v":0},{"$f":"IFERROR(EF283*$DV283,\"\")","v":""},{"$f":"IF(DY283>5,(DY283-0.5),DY283)","v":0},{"$f":"IFERROR(EH283*$DV283,\"\")","v":""},{"$f":"IF(EA283>5,(EA283-0.5),EA283)","v":0},{"$f":"IFERROR(EJ283*$DV283,\"\")","v":""},{"$f":"SUM(EF283,EH283,EJ283)","v":0},{"$f":"IFERROR(EL283*$DV283,\"\")","v":""},null,{"$f":"'Schedule Setup'!R5","v":"00:00:00"},{"$f":"'Schedule Setup'!S5","v":"00:00:00"},{"$f":"EO283-(0.5/24)","v":-2.0833333333333332E-2},{"$f":"EP283+(0.5/24)","v":"00:30:00"}]
[{"$f":"A283+1","v":2},{"$f":"IF(VLOOKUP($A284,'Schedule Setup'!$A$4:$E$39,2,FALSE)=0,\"\",VLOOKUP($A284,'Schedule Setup'!$A$4:$E$39,2,FALSE))","v":""},{"$f":"IF(VLOOKUP($A284,'Schedule Setup'!$A$4:$E$39,4,FALSE)=0,\"\",VLOOKUP($A284,'Schedule Setup'!$A$4:$E$39,4,FALSE))","v":""},{"$f":"IF(B284<>\"\",IF(OR(C284=\"General Manager (S)\", C284=\"General Manager (H)\"), \"GM\",IF(C284=\"Acting Manager\",\"AM\",IF(C284=\"Shift Manager\",\"SM\",IF(C284=\"Team Lead\",\"TL\",\"TM\")))),\"\")","v":""},null,null,null,"x","x","x","x","x","x","x","x","x","x","x","x","x","x","x","x","x","x","x","x","x","x","x","x","x","x","x","x","x","x","x","x","x","x","x","x","x","x",{"$f":"EC284","v":0},null,"x","x","x","x","x","x","x","x","x","x","x","x","x","x","x","x","x","x","x","x","x","x","x","x","x","x","x","x","x","x","x","x","x","x","x","x","x","x",null,0,0,0,0,0,0,0,0,0,0,0,0,0,0,0,0,0,0,0,0,0,0,0,0,0,0,0,0,0,0,0,0,0,0,0,0,0,0,null,{"$f":"IF(VLOOKUP($A284,'Schedule Setup'!$A$4:$E$39,5,FALSE)=0,\"\",VLOOKUP($A284,'Schedule Setup'!$A$4:$E$39,5,FALSE))","v":""},0,"",0,"",0,"",{"$f":"SUM(DW284,DY284,EA284)","v":0},"",null,{"$f":"IF(DW284>5,(DW284-0.5),DW284)","v":0},"",{"$f":"IF(DY284>5,(DY284-0.5),DY284)","v":0},"",0,"",{"$f":"SUM(EF284,EH284,EJ284)","v":0},"",null,{"$f":"'Schedule Setup'!R6","v":"00:00:00"},{"$f":"'Schedule Setup'!S6","v":"00:00:00"},{"$f":"EO284-(0.5/24)","v":-2.0833333333333332E-2},{"$f":"EP284+(0.5/24)","v":"00:30:00"}]
[{"$f":"A284+1","v":3},{"$f":"IF(VLOOKUP($A285,'Schedule Setup'!$A$4:$E$39,2,FALSE)=0,\"\",VLOOKUP($A285,'Schedule Setup'!$A$4:$E$39,2,FALSE))","v":""},{"$f":"IF(VLOOKUP($A285,'Schedule Setup'!$A$4:$E$39,4,FALSE)=0,\"\",VLOOKUP($A285,'Schedule Setup'!$A$4:$E$39,4,FALSE))","v":""},"",null,null,null,"x","x","x","x","x","x","x","x","x","x","x","x","x","x","x","x","x","x","x","x","x","x","x","x","x","x","x","x","x","x","x","x","x","x","x","x","x","x",0,null,"x","x","x","x","x","x","x","x","x","x","x","x","x","x","x","x","x","x","x","x","x","x","x","x","x","x","x","x","x","x","x","x","x","x","x","x","x","x",null,0,0,0,0,0,0,0,0,0,0,0,0,0,0,0,0,0,0,0,0,0,0,0,0,0,0,0,0,0,0,0,0,0,0,0,0,0,0,null,{"$f":"IF(VLOOKUP($A285,'Schedule Setup'!$A$4:$E$39,5,FALSE)=0,\"\",VLOOKUP($A285,'Schedule Setup'!$A$4:$E$39,5,FALSE))","v":""},0,"",0,"",0,"",{"$f":"SUM(DW285,DY285,EA285)","v":0},"",null,0,"",0,"",0,"",0,"",null,{"$f":"'Schedule Setup'!R7","v":"00:00:00"},{"$f":"'Schedule Setup'!S7","v":"00:00:00"},-2.0833333333333332E-2,"00:30:00"]
[4,{"$f":"IF(VLOOKUP($A286,'Schedule Setup'!$A$4:$E$39,2,FALSE)=0,\"\",VLOOKUP($A286,'Schedule Setup'!$A$4:$E$39,2,FALSE))","v":""},{"$f":"IF(VLOOKUP($A286,'Schedule Setup'!$A$4:$E$39,4,FALSE)=0,\"\",VLOOKUP($A286,'Schedule Setup'!$A$4:$E$39,4,FALSE))","v":""},"",null,null,null,"x","x","x","x","x","x","x","x","x","x","x","x","x","x","x","x","x","x","x","x","x","x","x","x","x","x","x","x","x","x","x","x","x","x","x","x","x","x",0,null,"x","x","x","x","x","x","x","x","x","x","x","x","x","x","x","x","x","x","x","x","x","x","x","x","x","x","x","x","x","x","x","x","x","x","x","x","x","x",null,0,0,0,0,0,0,0,0,0,0,0,0,0,0,0,0,0,0,0,0,0,0,0,0,0,0,0,0,0,0,0,0,0,0,0,0,0,0,null,{"$f":"IF(VLOOKUP($A286,'Schedule Setup'!$A$4:$E$39,5,FALSE)=0,\"\",VLOOKUP($A286,'Schedule Setup'!$A$4:$E$39,5,FALSE))","v":""},0,"",0,"",0,"",0,"",null,0,"",0,"",0,"",0,"",null,{"$f":"'Schedule Setup'!R8","v":"00:00:00"},{"$f":"'Schedule Setup'!S8","v":"00:00:00"},-2.0833333333333332E-2,"00:30:00"]
[5,{"$f":"IF(VLOOKUP($A287,'Schedule Setup'!$A$4:$E$39,2,FALSE)=0,\"\",VLOOKUP($A287,'Schedule Setup'!$A$4:$E$39,2,FALSE))","v":""},{"$f":"IF(VLOOKUP($A287,'Schedule Setup'!$A$4:$E$39,4,FALSE)=0,\"\",VLOOKUP($A287,'Schedule Setup'!$A$4:$E$39,4,FALSE))","v":""},"",null,null,null,"x","x","x","x","x","x","x","x","x","x","x","x","x","x","x","x","x","x","x","x","x","x","x","x","x","x","x","x","x","x","x","x","x","x","x","x","x","x",0,null,"x","x","x","x","x","x","x","x","x","x","x","x","x","x","x","x","x","x","x","x","x","x","x","x","x","x","x","x","x","x","x","x","x","x","x","x","x","x",null,0,0,0,0,0,0,0,0,0,0,0,0,0,0,0,0,0,0,0,0,0,0,0,0,0,0,0,0,0,0,0,0,0,0,0,0,0,0,null,{"$f":"IF(VLOOKUP($A287,'Schedule Setup'!$A$4:$E$39,5,FALSE)=0,\"\",VLOOKUP($A287,'Schedule Setup'!$A$4:$E$39,5,FALSE))","v":""},0,"",0,"",0,"",0,"",null,0,"",0,"",0,"",0,"",null,{"$f":"'Schedule Setup'!R9","v":"00:00:00"},{"$f":"'Schedule Setup'!S9","v":"00:00:00"},-2.0833333333333332E-2,"00:30:00"]
[6,{"$f":"IF(VLOOKUP($A288,'Schedule Setup'!$A$4:$E$39,2,FALSE)=0,\"\",VLOOKUP($A288,'Schedule Setup'!$A$4:$E$39,2,FALSE))","v":""},{"$f":"IF(VLOOKUP($A288,'Schedule Setup'!$A$4:$E$39,4,FALSE)=0,\"\",VLOOKUP($A288,'Schedule Setup'!$A$4:$E$39,4,FALSE))","v":""},"",null,null,null,"x","x","x","x","x","x","x","x","x","x","x","x","x","x","x","x","x","x","x","x","x","x","x","x","x","x","x","x","x","x","x","x","x","x","x","x","x","x",0,null,"x","x","x","x","x","x","x","x","x","x","x","x","x","x","x","x","x","x","x","x","x","x","x","x","x","x","x","x","x","x","x","x","x","x","x","x","x","x",null,0,0,0,0,0,0,0,0,0,0,0,0,0,0,0,0,0,0,0,0,0,0,0,0,0,0,0,0,0,0,0,0,0,0,0,0,0,0,null,{"$f":"IF(VLOOKUP($A288,'Schedule Setup'!$A$4:$E$39,5,FALSE)=0,\"\",VLOOKUP($A288,'Schedule Setup'!$A$4:$E$39,5,FALSE))","v":""},0,"",0,"",0,"",0,"",null,0,"",0,"",0,"",0,"",null,{"$f":"'Schedule Setup'!R10","v":"00:00:00"},{"$f":"'Schedule Setup'!S10","v":"00:00:00"},-2.0833333333333332E-2,"00:30:00"]
[7,{"$f":"IF(VLOOKUP($A289,'Schedule Setup'!$A$4:$E$39,2,FALSE)=0,\"\",VLOOKUP($A289,'Schedule Setup'!$A$4:$E$39,2,FALSE))","v":""},{"$f":"IF(VLOOKUP($A289,'Schedule Setup'!$A$4:$E$39,4,FALSE)=0,\"\",VLOOKUP($A289,'Schedule Setup'!$A$4:$E$39,4,FALSE))","v":""},"",null,null,null,"x","x","x","x","x","x","x","x","x","x",{"$f":"BF289","v":"x"},"x","x","x","x","x","x","x","x","x","x","x","x","x","x","x","x",{"$f":"BW289","v":"x"},"x","x","x","x","x","x","x","x","x","x",0,null,"x","x","x","x","x","x","x","x","x","x","x","x","x","x","x","x","x","x","x","x","x","x","x","x","x","x","x","x","x","x","x","x","x","x","x","x","x","x",null,0,0,0,0,0,0,0,0,0,0,0,0,0,0,0,0,0,0,0,0,0,0,0,0,0,0,0,0,0,0,0,0,0,0,0,0,0,0,null,{"$f":"IF(VLOOKUP($A289,'Schedule Setup'!$A$4:$E$39,5,FALSE)=0,\"\",VLOOKUP($A289,'Schedule Setup'!$A$4:$E$39,5,FALSE))","v":""},0,"",0,"",0,"",0,"",null,0,"",0,"",0,"",0,"",null,{"$f":"'Schedule Setup'!R11","v":"00:00:00"},{"$f":"'Schedule Setup'!S11","v":"00:00:00"},-2.0833333333333332E-2,"00:30:00"]
[8,{"$f":"IF(VLOOKUP($A290,'Schedule Setup'!$A$4:$E$39,2,FALSE)=0,\"\",VLOOKUP($A290,'Schedule Setup'!$A$4:$E$39,2,FALSE))","v":""},{"$f":"IF(VLOOKUP($A290,'Schedule Setup'!$A$4:$E$39,4,FALSE)=0,\"\",VLOOKUP($A290,'Schedule Setup'!$A$4:$E$39,4,FALSE))","v":""},"",null,null,null,{"$f":"AV290","v":"x"},"x","x","x","x","x","x","x","x","x",{"$f":"BF290","v":"x"},"x","x","x","x","x",{"$f":"BL290","v":"x"},"x","x","x","x","x","x","x","x","x","x","x","x","x","x","x","x","x","x","x","x","x",0,null,"x","x","x","x","x","x","x","x","x","x","x","x","x","x","x","x","x","x","x","x","x","x","x","x","x","x","x","x","x","x","x","x","x","x","x","x","x","x",null,0,0,0,0,0,0,0,0,0,0,0,0,0,0,0,0,0,0,0,0,0,0,0,0,0,0,0,0,0,0,0,0,0,0,0,0,0,0,null,{"$f":"IF(VLOOKUP($A290,'Schedule Setup'!$A$4:$E$39,5,FALSE)=0,\"\",VLOOKUP($A290,'Schedule Setup'!$A$4:$E$39,5,FALSE))","v":""},0,"",0,"",0,"",0,"",null,0,"",0,"",0,"",0,"",null,{"$f":"'Schedule Setup'!R12","v":"00:00:00"},{"$f":"'Schedule Setup'!S12","v":"00:00:00"},-2.0833333333333332E-2,"00:30:00"]
[9,{"$f":"IF(VLOOKUP($A291,'Schedule Setup'!$A$4:$E$39,2,FALSE)=0,\"\",VLOOKUP($A291,'Schedule Setup'!$A$4:$E$39,2,FALSE))","v":""},{"$f":"IF(VLOOKUP($A291,'Schedule Setup'!$A$4:$E$39,4,FALSE)=0,\"\",VLOOKUP($A291,'Schedule Setup'!$A$4:$E$39,4,FALSE))","v":""},"",null,null,null,"x","x","x","x","x","x","x","x","x","x",{"$f":"BF291","v":"x"},{"$f":"BG291","v":"x"},{"$f":"BH291","v":"x"},{"$f":"BI291","v":"x"},"x","x","x","x","x","x","x","x","x","x","x","x","x","x","x","x","x","x","x","x","x","x","x","x",0,null,"x","x","x","x","x","x","x","x","x","x","x","x","x","x","x","x","x","x","x","x","x","x","x","x","x","x","x","x","x","x","x","x","x","x","x","x","x","x",null,0,0,0,0,0,0,0,0,0,0,0,0,0,0,0,0,0,0,0,0,0,0,0,0,0,0,0,0,0,0,0,0,0,0,0,0,0,0,null,{"$f":"IF(VLOOKUP($A291,'Schedule Setup'!$A$4:$E$39,5,FALSE)=0,\"\",VLOOKUP($A291,'Schedule Setup'!$A$4:$E$39,5,FALSE))","v":""},0,{"$f":"IFERROR(DW291*$DV291,\"\")","v":""},0,"",0,"",0,"",null,0,"",0,"",0,"",0,"",null,{"$f":"'Schedule Setup'!R13","v":"00:00:00"},{"$f":"'Schedule Setup'!S13","v":"00:00:00"},-2.0833333333333332E-2,"00:30:00"]
[10,{"$f":"IF(VLOOKUP($A292,'Schedule Setup'!$A$4:$E$39,2,FALSE)=0,\"\",VLOOKUP($A292,'Schedule Setup'!$A$4:$E$39,2,FALSE))","v":""},{"$f":"IF(VLOOKUP($A292,'Schedule Setup'!$A$4:$E$39,4,FALSE)=0,\"\",VLOOKUP($A292,'Schedule Setup'!$A$4:$E$39,4,FALSE))","v":""},"",null,null,null,"x","x","x","x","x","x","x","x","x","x","x","x","x","x","x","x","x","x","x","x","x","x","x","x","x","x","x","x","x","x","x","x","x","x","x","x","x","x",0,null,"x","x","x","x","x","x","x","x","x","x","x","x","x","x","x","x","x","x","x","x","x","x","x","x","x","x","x","x","x","x","x","x","x","x","x","x","x","x",null,0,0,0,0,0,0,0,0,0,0,0,0,0,0,0,0,0,0,0,0,0,0,0,0,0,0,0,0,0,0,0,0,0,0,0,0,0,0,null,{"$f":"IF(VLOOKUP($A292,'Schedule Setup'!$A$4:$E$39,5,FALSE)=0,\"\",VLOOKUP($A292,'Schedule Setup'!$A$4:$E$39,5,FALSE))","v":""},0,"",0,"",0,"",0,"",null,0,"",0,"",0,"",0,"",null,{"$f":"'Schedule Setup'!R14","v":"00:00:00"},{"$f":"'Schedule Setup'!S14","v":"00:00:00"},-2.0833333333333332E-2,"00:30:00"]
[11,{"$f":"IF(VLOOKUP($A293,'Schedule Setup'!$A$4:$E$39,2,FALSE)=0,\"\",VLOOKUP($A293,'Schedule Setup'!$A$4:$E$39,2,FALSE))","v":""},{"$f":"IF(VLOOKUP($A293,'Schedule Setup'!$A$4:$E$39,4,FALSE)=0,\"\",VLOOKUP($A293,'Schedule Setup'!$A$4:$E$39,4,FALSE))","v":""},"",null,null,null,"x","x","x","x","x","x","x","x","x","x","x","x","x","x","x","x","x","x","x","x","x","x","x","x","x","x","x","x","x","x","x","x","x","x","x","x","x","x",0,null,"x","x","x","x","x","x","x","x","x","x","x","x","x","x","x","x","x","x","x","x","x","x","x","x","x","x","x","x","x","x","x","x","x","x","x","x","x","x",null,0,0,0,0,0,0,0,0,0,0,0,0,0,0,0,0,0,0,0,0,0,0,0,0,0,0,0,0,0,0,0,0,0,0,0,0,0,0,null,{"$f":"IF(VLOOKUP($A293,'Schedule Setup'!$A$4:$E$39,5,FALSE)=0,\"\",VLOOKUP($A293,'Schedule Setup'!$A$4:$E$39,5,FALSE))","v":""},0,"",0,"",0,"",0,"",null,0,"",0,"",0,"",0,"",null,{"$f":"'Schedule Setup'!R15","v":"00:00:00"},{"$f":"'Schedule Setup'!S15","v":"00:00:00"},-2.0833333333333332E-2,"00:30:00"]
[12,{"$f":"IF(VLOOKUP($A294,'Schedule Setup'!$A$4:$E$39,2,FALSE)=0,\"\",VLOOKUP($A294,'Schedule Setup'!$A$4:$E$39,2,FALSE))","v":""},{"$f":"IF(VLOOKUP($A294,'Schedule Setup'!$A$4:$E$39,4,FALSE)=0,\"\",VLOOKUP($A294,'Schedule Setup'!$A$4:$E$39,4,FALSE))","v":""},"",null,null,null,"x","x","x","x","x","x","x","x","x","x","x","x","x","x","x","x","x","x","x","x","x","x","x","x","x","x","x","x","x","x","x","x","x","x","x","x","x","x",0,null,"x","x","x","x","x","x","x","x","x","x","x","x","x","x","x","x","x","x","x","x","x","x","x","x","x","x","x","x","x","x","x","x","x","x","x","x","x","x",null,0,0,0,0,0,0,0,0,0,0,0,0,0,0,0,0,0,0,0,0,0,0,0,0,0,0,0,0,0,0,0,0,0,0,0,0,0,0,null,{"$f":"IF(VLOOKUP($A294,'Schedule Setup'!$A$4:$E$39,5,FALSE)=0,\"\",VLOOKUP($A294,'Schedule Setup'!$A$4:$E$39,5,FALSE))","v":""},0,"",0,"",0,"",0,"",null,0,"",0,"",0,"",0,"",null,{"$f":"'Schedule Setup'!R16","v":"00:00:00"},{"$f":"'Schedule Setup'!S16","v":"00:00:00"},-2.0833333333333332E-2,"00:30:00"]
[13,{"$f":"IF(VLOOKUP($A295,'Schedule Setup'!$A$4:$E$39,2,FALSE)=0,\"\",VLOOKUP($A295,'Schedule Setup'!$A$4:$E$39,2,FALSE))","v":""},{"$f":"IF(VLOOKUP($A295,'Schedule Setup'!$A$4:$E$39,4,FALSE)=0,\"\",VLOOKUP($A295,'Schedule Setup'!$A$4:$E$39,4,FALSE))","v":""},"",null,null,null,"x","x","x","x","x","x","x","x","x","x","x","x","x","x","x","x","x","x","x","x","x","x","x","x","x","x","x","x","x","x","x","x","x","x","x","x","x","x",0,null,"x","x","x","x","x","x","x","x","x","x","x","x","x","x","x","x","x","x","x","x","x","x","x","x","x","x","x","x","x","x","x","x","x","x","x","x","x","x",null,0,0,0,0,0,0,0,0,0,0,0,0,0,0,0,0,0,0,0,0,0,0,0,0,0,0,0,0,0,0,0,0,0,0,0,0,0,0,null,{"$f":"IF(VLOOKUP($A295,'Schedule Setup'!$A$4:$E$39,5,FALSE)=0,\"\",VLOOKUP($A295,'Schedule Setup'!$A$4:$E$39,5,FALSE))","v":""},0,"",0,"",0,"",0,"",null,0,"",0,"",0,"",0,"",null,{"$f":"'Schedule Setup'!R17","v":"00:00:00"},{"$f":"'Schedule Setup'!S17","v":"00:00:00"},-2.0833333333333332E-2,"00:30:00"]
[14,{"$f":"IF(VLOOKUP($A296,'Schedule Setup'!$A$4:$E$39,2,FALSE)=0,\"\",VLOOKUP($A296,'Schedule Setup'!$A$4:$E$39,2,FALSE))","v":""},{"$f":"IF(VLOOKUP($A296,'Schedule Setup'!$A$4:$E$39,4,FALSE)=0,\"\",VLOOKUP($A296,'Schedule Setup'!$A$4:$E$39,4,FALSE))","v":""},"",null,null,null,"x","x","x","x","x","x","x","x","x","x","x","x","x","x","x","x","x","x","x","x","x","x","x","x","x","x","x","x","x","x","x","x","x","x","x","x","x","x",0,null,"x","x","x","x","x","x","x","x","x","x","x","x","x","x","x","x","x","x","x","x","x","x","x","x","x","x","x","x","x","x","x","x","x","x","x","x","x","x",null,0,0,0,0,0,0,0,0,0,0,0,0,0,0,0,0,0,0,0,0,0,0,0,0,0,0,0,0,0,0,0,0,0,0,0,0,0,0,null,{"$f":"IF(VLOOKUP($A296,'Schedule Setup'!$A$4:$E$39,5,FALSE)=0,\"\",VLOOKUP($A296,'Schedule Setup'!$A$4:$E$39,5,FALSE))","v":""},0,"",0,"",0,"",0,"",null,0,"",0,"",0,"",0,"",null,{"$f":"'Schedule Setup'!R18","v":"00:00:00"},{"$f":"'Schedule Setup'!S18","v":"00:00:00"},-2.0833333333333332E-2,"00:30:00"]
[15,{"$f":"IF(VLOOKUP($A297,'Schedule Setup'!$A$4:$E$39,2,FALSE)=0,\"\",VLOOKUP($A297,'Schedule Setup'!$A$4:$E$39,2,FALSE))","v":""},{"$f":"IF(VLOOKUP($A297,'Schedule Setup'!$A$4:$E$39,4,FALSE)=0,\"\",VLOOKUP($A297,'Schedule Setup'!$A$4:$E$39,4,FALSE))","v":""},"",null,null,null,"x","x","x","x","x","x","x","x","x","x","x","x","x","x","x","x","x","x","x","x","x","x","x","x","x","x","x","x","x","x","x","x","x","x","x","x","x","x",0,null,"x","x","x","x","x","x","x","x","x","x","x","x","x","x","x","x","x","x","x","x","x","x","x","x","x","x","x","x","x","x","x","x","x","x","x","x","x","x",null,0,0,0,0,0,0,0,0,0,0,0,0,0,0,0,0,0,0,0,0,0,0,0,0,0,0,0,0,0,0,0,0,0,0,0,0,0,0,null,{"$f":"IF(VLOOKUP($A297,'Schedule Setup'!$A$4:$E$39,5,FALSE)=0,\"\",VLOOKUP($A297,'Schedule Setup'!$A$4:$E$39,5,FALSE))","v":""},0,"",0,"",0,"",0,"",null,0,"",0,"",0,"",0,"",null,{"$f":"'Schedule Setup'!R19","v":"00:00:00"},{"$f":"'Schedule Setup'!S19","v":"00:00:00"},-2.0833333333333332E-2,"00:30:00"]
[16,{"$f":"IF(VLOOKUP($A298,'Schedule Setup'!$A$4:$E$39,2,FALSE)=0,\"\",VLOOKUP($A298,'Schedule Setup'!$A$4:$E$39,2,FALSE))","v":""},{"$f":"IF(VLOOKUP($A298,'Schedule Setup'!$A$4:$E$39,4,FALSE)=0,\"\",VLOOKUP($A298,'Schedule Setup'!$A$4:$E$39,4,FALSE))","v":""},"",null,null,null,"x","x","x","x","x","x","x","x","x","x","x","x","x","x","x","x","x","x","x","x","x","x","x","x","x","x","x","x","x","x","x","x","x","x","x","x","x","x",0,null,"x","x","x","x","x","x","x","x","x","x","x","x","x","x","x","x","x","x","x","x","x","x","x","x","x","x","x","x","x","x","x","x","x","x","x","x","x","x",null,0,0,0,0,0,0,0,0,0,0,0,0,0,0,0,0,0,0,0,0,0,0,0,0,0,0,0,0,0,0,0,0,0,0,0,0,0,0,null,{"$f":"IF(VLOOKUP($A298,'Schedule Setup'!$A$4:$E$39,5,FALSE)=0,\"\",VLOOKUP($A298,'Schedule Setup'!$A$4:$E$39,5,FALSE))","v":""},0,"",0,"",0,"",0,"",null,0,"",0,"",0,"",0,"",null,{"$f":"'Schedule Setup'!R20","v":"00:00:00"},{"$f":"'Schedule Setup'!S20","v":"00:00:00"},-2.0833333333333332E-2,"00:30:00"]
[17,{"$f":"IF(VLOOKUP($A299,'Schedule Setup'!$A$4:$E$39,2,FALSE)=0,\"\",VLOOKUP($A299,'Schedule Setup'!$A$4:$E$39,2,FALSE))","v":""},{"$f":"IF(VLOOKUP($A299,'Schedule Setup'!$A$4:$E$39,4,FALSE)=0,\"\",VLOOKUP($A299,'Schedule Setup'!$A$4:$E$39,4,FALSE))","v":""},"",null,null,null,"x","x","x","x","x","x","x","x","x","x","x","x","x","x","x","x","x","x","x","x","x","x","x","x","x","x","x","x","x","x","x","x","x","x","x","x","x","x",0,null,"x","x","x","x","x","x","x","x","x","x","x","x","x","x","x","x","x","x","x","x","x","x","x","x","x","x","x","x","x","x","x","x","x","x","x","x","x","x",null,0,0,0,0,0,0,0,0,0,0,0,0,0,0,0,0,0,0,0,0,0,0,0,0,0,0,0,0,0,0,0,0,0,0,0,0,0,0,null,{"$f":"IF(VLOOKUP($A299,'Schedule Setup'!$A$4:$E$39,5,FALSE)=0,\"\",VLOOKUP($A299,'Schedule Setup'!$A$4:$E$39,5,FALSE))","v":""},0,"",0,"",0,"",0,"",null,0,"",0,"",0,"",0,"",null,{"$f":"'Schedule Setup'!R21","v":"00:00:00"},{"$f":"'Schedule Setup'!S21","v":"00:00:00"},-2.0833333333333332E-2,"00:30:00"]
[18,{"$f":"IF(VLOOKUP($A300,'Schedule Setup'!$A$4:$E$39,2,FALSE)=0,\"\",VLOOKUP($A300,'Schedule Setup'!$A$4:$E$39,2,FALSE))","v":""},{"$f":"IF(VLOOKUP($A300,'Schedule Setup'!$A$4:$E$39,4,FALSE)=0,\"\",VLOOKUP($A300,'Schedule Setup'!$A$4:$E$39,4,FALSE))","v":""},"",null,null,null,"x","x","x","x","x","x","x","x","x","x","x","x","x","x","x","x","x","x","x","x","x","x","x","x","x","x","x","x","x","x","x","x","x","x","x","x","x","x",0,null,"x","x","x","x","x","x","x","x","x","x","x","x","x","x","x","x","x","x","x","x","x","x","x","x","x","x","x","x","x","x","x","x","x","x","x","x","x","x",null,0,0,0,0,0,0,0,0,0,0,0,0,0,0,0,0,0,0,0,0,0,0,0,0,0,0,0,0,0,0,0,0,0,0,0,0,0,0,null,{"$f":"IF(VLOOKUP($A300,'Schedule Setup'!$A$4:$E$39,5,FALSE)=0,\"\",VLOOKUP($A300,'Schedule Setup'!$A$4:$E$39,5,FALSE))","v":""},0,"",0,"",0,"",0,"",null,0,"",0,"",0,"",0,"",null,{"$f":"'Schedule Setup'!R22","v":"00:00:00"},{"$f":"'Schedule Setup'!S22","v":"00:00:00"},-2.0833333333333332E-2,"00:30:00"]
[19,{"$f":"IF(VLOOKUP($A301,'Schedule Setup'!$A$4:$E$39,2,FALSE)=0,\"\",VLOOKUP($A301,'Schedule Setup'!$A$4:$E$39,2,FALSE))","v":""},{"$f":"IF(VLOOKUP($A301,'Schedule Setup'!$A$4:$E$39,4,FALSE)=0,\"\",VLOOKUP($A301,'Schedule Setup'!$A$4:$E$39,4,FALSE))","v":""},"",null,null,null,"x","x","x","x","x","x","x","x","x","x","x","x","x","x","x","x","x","x","x","x","x","x","x","x","x","x","x","x","x","x","x","x","x","x","x","x","x","x",0,null,"x","x","x","x","x","x","x","x","x","x","x","x","x","x","x","x","x","x","x","x","x","x","x","x","x","x","x","x","x","x","x","x","x","x","x","x","x","x",null,0,0,0,0,0,0,0,0,0,0,0,0,0,0,0,0,0,0,0,0,0,0,0,0,0,0,0,0,0,0,0,0,0,0,0,0,0,0,null,{"$f":"IF(VLOOKUP($A301,'Schedule Setup'!$A$4:$E$39,5,FALSE)=0,\"\",VLOOKUP($A301,'Schedule Setup'!$A$4:$E$39,5,FALSE))","v":""},0,"",0,"",0,"",0,"",null,0,"",0,"",0,"",0,"",null,{"$f":"'Schedule Setup'!R23","v":"00:00:00"},{"$f":"'Schedule Setup'!S23","v":"00:00:00"},-2.0833333333333332E-2,"00:30:00"]
[20,{"$f":"IF(VLOOKUP($A302,'Schedule Setup'!$A$4:$E$39,2,FALSE)=0,\"\",VLOOKUP($A302,'Schedule Setup'!$A$4:$E$39,2,FALSE))","v":""},{"$f":"IF(VLOOKUP($A302,'Schedule Setup'!$A$4:$E$39,4,FALSE)=0,\"\",VLOOKUP($A302,'Schedule Setup'!$A$4:$E$39,4,FALSE))","v":""},"",null,null,null,"x","x","x","x","x","x","x","x","x","x","x","x","x","x","x","x","x","x","x","x","x","x","x","x","x","x","x","x","x","x","x","x","x","x","x","x","x","x",0,null,"x","x","x","x","x","x","x","x","x","x","x","x","x","x","x","x","x","x","x","x","x","x","x","x","x","x","x","x","x","x","x","x","x","x","x","x","x","x",null,0,0,0,0,0,0,0,0,0,0,0,0,0,0,0,0,0,0,0,0,0,0,0,0,0,0,0,0,0,0,0,0,0,0,0,0,0,0,null,{"$f":"IF(VLOOKUP($A302,'Schedule Setup'!$A$4:$E$39,5,FALSE)=0,\"\",VLOOKUP($A302,'Schedule Setup'!$A$4:$E$39,5,FALSE))","v":""},0,"",0,"",0,"",0,"",null,0,"",0,"",0,"",0,"",null,{"$f":"'Schedule Setup'!R24","v":"00:00:00"},{"$f":"'Schedule Setup'!S24","v":"00:00:00"},-2.0833333333333332E-2,"00:30:00"]
[21,{"$f":"IF(VLOOKUP($A303,'Schedule Setup'!$A$4:$E$39,2,FALSE)=0,\"\",VLOOKUP($A303,'Schedule Setup'!$A$4:$E$39,2,FALSE))","v":""},{"$f":"IF(VLOOKUP($A303,'Schedule Setup'!$A$4:$E$39,4,FALSE)=0,\"\",VLOOKUP($A303,'Schedule Setup'!$A$4:$E$39,4,FALSE))","v":""},"",null,null,null,"x","x","x","x","x","x","x","x","x","x","x","x","x","x","x","x","x","x","x","x","x","x","x","x","x","x","x","x","x","x","x","x","x","x","x","x","x","x",0,null,"x","x","x","x","x","x","x","x","x","x","x","x","x","x","x","x","x","x","x","x","x","x","x","x","x","x","x","x","x","x","x","x","x","x","x","x","x","x",null,0,0,0,0,0,0,0,0,0,0,0,0,0,0,0,0,0,0,0,0,0,0,0,0,0,0,0,0,0,0,0,0,0,0,0,0,0,0,null,{"$f":"IF(VLOOKUP($A303,'Schedule Setup'!$A$4:$E$39,5,FALSE)=0,\"\",VLOOKUP($A303,'Schedule Setup'!$A$4:$E$39,5,FALSE))","v":""},0,"",0,"",0,"",0,"",null,0,"",0,"",0,"",0,"",null,{"$f":"'Schedule Setup'!R25","v":"00:00:00"},{"$f":"'Schedule Setup'!S25","v":"00:00:00"},-2.0833333333333332E-2,"00:30:00"]
[22,{"$f":"IF(VLOOKUP($A304,'Schedule Setup'!$A$4:$E$39,2,FALSE)=0,\"\",VLOOKUP($A304,'Schedule Setup'!$A$4:$E$39,2,FALSE))","v":""},{"$f":"IF(VLOOKUP($A304,'Schedule Setup'!$A$4:$E$39,4,FALSE)=0,\"\",VLOOKUP($A304,'Schedule Setup'!$A$4:$E$39,4,FALSE))","v":""},"",null,null,null,"x","x","x","x","x","x","x","x","x","x","x","x","x","x","x","x","x","x","x","x","x","x","x","x","x","x","x","x","x","x","x","x","x","x","x","x","x","x",0,null,"x","x","x","x","x","x","x","x","x","x","x","x","x","x","x","x","x","x","x","x","x","x","x","x","x","x","x","x","x","x","x","x","x","x","x","x","x","x",null,0,0,0,0,0,0,0,0,0,0,0,0,0,0,0,0,0,0,0,0,0,0,0,0,0,0,0,0,0,0,0,0,0,0,0,0,0,0,null,{"$f":"IF(VLOOKUP($A304,'Schedule Setup'!$A$4:$E$39,5,FALSE)=0,\"\",VLOOKUP($A304,'Schedule Setup'!$A$4:$E$39,5,FALSE))","v":""},0,"",0,"",0,"",0,"",null,0,"",0,"",0,"",0,"",null,{"$f":"'Schedule Setup'!R26","v":"00:00:00"},{"$f":"'Schedule Setup'!S26","v":"00:00:00"},-2.0833333333333332E-2,"00:30:00"]
[23,{"$f":"IF(VLOOKUP($A305,'Schedule Setup'!$A$4:$E$39,2,FALSE)=0,\"\",VLOOKUP($A305,'Schedule Setup'!$A$4:$E$39,2,FALSE))","v":""},{"$f":"IF(VLOOKUP($A305,'Schedule Setup'!$A$4:$E$39,4,FALSE)=0,\"\",VLOOKUP($A305,'Schedule Setup'!$A$4:$E$39,4,FALSE))","v":""},"",null,null,null,"x","x","x","x","x","x","x","x","x","x","x","x","x","x","x","x","x","x","x","x","x","x","x","x","x","x","x","x","x","x","x","x","x","x","x","x","x","x",0,null,"x","x","x","x","x","x","x","x","x","x","x","x","x","x","x","x","x","x","x","x","x","x","x","x","x","x","x","x","x","x","x","x","x","x","x","x","x","x",null,0,0,0,0,0,0,0,0,0,0,0,0,0,0,0,0,0,0,0,0,0,0,0,0,0,0,0,0,0,0,0,0,0,0,0,0,0,0,null,{"$f":"IF(VLOOKUP($A305,'Schedule Setup'!$A$4:$E$39,5,FALSE)=0,\"\",VLOOKUP($A305,'Schedule Setup'!$A$4:$E$39,5,FALSE))","v":""},0,"",0,"",0,"",0,"",null,0,"",0,"",0,"",0,"",null,{"$f":"'Schedule Setup'!R27","v":"00:00:00"},{"$f":"'Schedule Setup'!S27","v":"00:00:00"},-2.0833333333333332E-2,"00:30:00"]
[24,{"$f":"IF(VLOOKUP($A306,'Schedule Setup'!$A$4:$E$39,2,FALSE)=0,\"\",VLOOKUP($A306,'Schedule Setup'!$A$4:$E$39,2,FALSE))","v":""},{"$f":"IF(VLOOKUP($A306,'Schedule Setup'!$A$4:$E$39,4,FALSE)=0,\"\",VLOOKUP($A306,'Schedule Setup'!$A$4:$E$39,4,FALSE))","v":""},{"$f":"IF(B306<>\"\",IF(OR(C306=\"General Manager (S)\", C306=\"General Manager (H)\"), \"GM\",IF(C306=\"Acting Manager\",\"AM\",IF(C306=\"Shift Manager\",\"SM\",IF(C306=\"Team Lead\",\"TL\",\"TM\")))),\"\")","v":""},null,null,null,{"$f":"AV306","v":"x"},{"$f":"AW306","v":"x"},{"$f":"AX306","v":"x"},{"$f":"AY306","v":"x"},{"$f":"AZ306","v":"x"},{"$f":"BA306","v":"x"},{"$f":"BB306","v":"x"},{"$f":"BC306","v":"x"},{"$f":"BD306","v":"x"},{"$f":"BE306","v":"x"},{"$f":"BF306","v":"x"},{"$f":"BG306","v":"x"},{"$f":"BH306","v":"x"},{"$f":"BI306","v":"x"},"x","x","x","x","x","x","x","x","x","x","x","x","x","x","x",{"$f":"BY306","v":"x"},{"$f":"BZ306","v":"x"},{"$f":"CA306","v":"x"},{"$f":"CB306","v":"x"},{"$f":"CC306","v":"x"},{"$f":"CD306","v":"x"},{"$f":"CE306","v":"x"},{"$f":"CF306","v":"x"},{"$f":"CG306","v":"x"},{"$f":"EC306","v":0},null,"x","x","x","x","x","x","x","x","x","x","x","x","x","x","x","x","x","x","x","x","x","x","x","x","x","x","x","x","x","x","x","x","x","x","x","x","x","x",null,0,0,0,0,0,0,0,0,0,0,0,0,0,0,0,0,0,0,0,0,0,0,0,0,0,0,0,0,0,0,0,0,0,0,0,0,0,0,null,{"$f":"IF(VLOOKUP($A306,'Schedule Setup'!$A$4:$E$39,5,FALSE)=0,\"\",VLOOKUP($A306,'Schedule Setup'!$A$4:$E$39,5,FALSE))","v":""},0,{"$f":"IFERROR(DW306*$DV306,\"\")","v":""},{"$f":"SUM(CU306:DF306)","v":0},{"$f":"IFERROR(DY306*$DV306,\"\")","v":""},{"$f":"SUM(DG306:DT306)","v":0},{"$f":"IFERROR(EA306*$DV306,\"\")","v":""},{"$f":"SUM(DW306,DY306,EA306)","v":0},{"$f":"IFERROR(EC306*$DV306,\"\")","v":""},null,{"$f":"IF(DW306>5,(DW306-0.5),DW306)","v":0},{"$f":"IFERROR(EF306*$DV306,\"\")","v":""},{"$f":"IF(DY306>5,(DY306-0.5),DY306)","v":0},{"$f":"IFERROR(EH306*$DV306,\"\")","v":""},{"$f":"IF(EA306>5,(EA306-0.5),EA306)","v":0},{"$f":"IFERROR(EJ306*$DV306,\"\")","v":""},{"$f":"SUM(EF306,EH306,EJ306)","v":0},{"$f":"IFERROR(EL306*$DV306,\"\")","v":""},null,{"$f":"'Schedule Setup'!R28","v":"00:00:00"},{"$f":"'Schedule Setup'!S28","v":"00:00:00"},{"$f":"EO306-(0.5/24)","v":-2.0833333333333332E-2},{"$f":"EP306+(0.5/24)","v":"00:30:00"}]
[25,{"$f":"IF(VLOOKUP($A307,'Schedule Setup'!$A$4:$E$39,2,FALSE)=0,\"\",VLOOKUP($A307,'Schedule Setup'!$A$4:$E$39,2,FALSE))","v":""},{"$f":"IF(VLOOKUP($A307,'Schedule Setup'!$A$4:$E$39,4,FALSE)=0,\"\",VLOOKUP($A307,'Schedule Setup'!$A$4:$E$39,4,FALSE))","v":""},"",null,null,null,"x","x","x","x","x","x","x","x","x","x","x","x","x","x","x","x","x","x","x","x","x","x","x","x","x","x","x","x","x","x","x","x","x","x","x","x","x","x",0,null,"x","x","x","x","x","x","x","x","x","x","x","x","x","x","x","x","x","x","x","x","x","x","x","x","x","x","x","x","x","x","x","x","x","x","x","x","x","x",null,0,0,0,0,0,0,0,0,0,0,0,0,0,0,0,0,0,0,0,0,0,0,0,0,0,0,0,0,0,0,0,0,0,0,0,0,0,0,null,{"$f":"IF(VLOOKUP($A307,'Schedule Setup'!$A$4:$E$39,5,FALSE)=0,\"\",VLOOKUP($A307,'Schedule Setup'!$A$4:$E$39,5,FALSE))","v":""},0,"",0,"",0,"",0,"",null,0,"",0,"",0,"",0,"",null,{"$f":"'Schedule Setup'!R29","v":"00:00:00"},{"$f":"'Schedule Setup'!S29","v":"00:00:00"},-2.0833333333333332E-2,"00:30:00"]
[26,{"$f":"IF(VLOOKUP($A308,'Schedule Setup'!$A$4:$E$39,2,FALSE)=0,\"\",VLOOKUP($A308,'Schedule Setup'!$A$4:$E$39,2,FALSE))","v":""},{"$f":"IF(VLOOKUP($A308,'Schedule Setup'!$A$4:$E$39,4,FALSE)=0,\"\",VLOOKUP($A308,'Schedule Setup'!$A$4:$E$39,4,FALSE))","v":""},"",null,null,null,"x","x","x","x","x","x","x","x","x","x","x","x","x","x","x","x","x","x","x","x","x","x","x","x","x","x","x","x","x","x","x","x","x","x","x","x","x","x",0,null,"x","x","x","x","x","x","x","x","x","x","x","x","x","x","x","x","x","x","x","x","x","x","x","x","x","x","x","x","x","x","x","x","x","x","x","x","x","x",null,0,0,0,0,0,0,0,0,0,0,0,0,0,0,0,0,0,0,0,0,0,0,0,0,0,0,0,0,0,0,0,0,0,0,0,0,0,0,null,{"$f":"IF(VLOOKUP($A308,'Schedule Setup'!$A$4:$E$39,5,FALSE)=0,\"\",VLOOKUP($A308,'Schedule Setup'!$A$4:$E$39,5,FALSE))","v":""},0,"",0,"",0,"",0,"",null,0,"",0,"",0,"",0,"",null,{"$f":"'Schedule Setup'!R30","v":"00:00:00"},{"$f":"'Schedule Setup'!S30","v":"00:00:00"},-2.0833333333333332E-2,"00:30:00"]
[27,{"$f":"IF(VLOOKUP($A309,'Schedule Setup'!$A$4:$E$39,2,FALSE)=0,\"\",VLOOKUP($A309,'Schedule Setup'!$A$4:$E$39,2,FALSE))","v":""},{"$f":"IF(VLOOKUP($A309,'Schedule Setup'!$A$4:$E$39,4,FALSE)=0,\"\",VLOOKUP($A309,'Schedule Setup'!$A$4:$E$39,4,FALSE))","v":""},"",null,null,null,"x","x","x","x","x","x","x","x","x","x","x","x","x","x","x","x","x","x","x","x","x","x","x","x","x","x","x","x","x","x","x","x","x","x","x","x","x","x",0,null,"x","x","x","x","x","x","x","x","x","x","x","x","x","x","x","x","x","x","x","x","x","x","x","x","x","x","x","x","x","x","x","x","x","x","x","x","x","x",null,0,0,0,0,0,0,0,0,0,0,0,0,0,0,0,0,0,0,0,0,0,0,0,0,0,0,0,0,0,0,0,0,0,0,0,0,0,0,null,{"$f":"IF(VLOOKUP($A309,'Schedule Setup'!$A$4:$E$39,5,FALSE)=0,\"\",VLOOKUP($A309,'Schedule Setup'!$A$4:$E$39,5,FALSE))","v":""},0,"",0,"",0,"",0,"",null,0,"",0,"",0,"",0,"",null,{"$f":"'Schedule Setup'!R31","v":"00:00:00"},{"$f":"'Schedule Setup'!S31","v":"00:00:00"},-2.0833333333333332E-2,"00:30:00"]
[28,{"$f":"IF(VLOOKUP($A310,'Schedule Setup'!$A$4:$E$39,2,FALSE)=0,\"\",VLOOKUP($A310,'Schedule Setup'!$A$4:$E$39,2,FALSE))","v":""},{"$f":"IF(VLOOKUP($A310,'Schedule Setup'!$A$4:$E$39,4,FALSE)=0,\"\",VLOOKUP($A310,'Schedule Setup'!$A$4:$E$39,4,FALSE))","v":""},"",null,null,null,"x","x","x","x","x","x","x","x","x","x","x","x","x","x","x","x","x","x","x","x","x","x","x","x","x","x","x","x","x","x","x","x","x","x","x","x","x","x",0,null,"x","x","x","x","x","x","x","x","x","x","x","x","x","x","x","x","x","x","x","x","x","x","x","x","x","x","x","x","x","x","x","x","x","x","x","x","x","x",null,0,0,0,0,0,0,0,0,0,0,0,0,0,0,0,0,0,0,0,0,0,0,0,0,0,0,0,0,0,0,0,0,0,0,0,0,0,0,null,{"$f":"IF(VLOOKUP($A310,'Schedule Setup'!$A$4:$E$39,5,FALSE)=0,\"\",VLOOKUP($A310,'Schedule Setup'!$A$4:$E$39,5,FALSE))","v":""},0,"",0,"",0,"",0,"",null,0,"",0,"",0,"",0,"",null,{"$f":"'Schedule Setup'!R32","v":"00:00:00"},{"$f":"'Schedule Setup'!S32","v":"00:00:00"},-2.0833333333333332E-2,"00:30:00"]
[29,{"$f":"IF(VLOOKUP($A311,'Schedule Setup'!$A$4:$E$39,2,FALSE)=0,\"\",VLOOKUP($A311,'Schedule Setup'!$A$4:$E$39,2,FALSE))","v":""},{"$f":"IF(VLOOKUP($A311,'Schedule Setup'!$A$4:$E$39,4,FALSE)=0,\"\",VLOOKUP($A311,'Schedule Setup'!$A$4:$E$39,4,FALSE))","v":""},"",null,null,null,"x","x","x","x","x","x","x","x","x","x","x","x","x","x","x","x","x","x","x","x","x","x","x","x","x","x","x","x","x","x","x","x","x","x","x","x","x","x",0,null,"x","x","x","x","x","x","x","x","x","x","x","x","x","x","x","x","x","x","x","x","x","x","x","x","x","x","x","x","x","x","x","x","x","x","x","x","x","x",null,0,0,0,0,0,0,0,0,0,0,0,0,0,0,0,0,0,0,0,0,0,0,0,0,0,0,0,0,0,0,0,0,0,0,0,0,0,0,null,{"$f":"IF(VLOOKUP($A311,'Schedule Setup'!$A$4:$E$39,5,FALSE)=0,\"\",VLOOKUP($A311,'Schedule Setup'!$A$4:$E$39,5,FALSE))","v":""},0,"",0,"",0,"",0,"",null,0,"",0,"",0,"",0,"",null,{"$f":"'Schedule Setup'!R33","v":"00:00:00"},{"$f":"'Schedule Setup'!S33","v":"00:00:00"},-2.0833333333333332E-2,"00:30:00"]
[30,{"$f":"IF(VLOOKUP($A312,'Schedule Setup'!$A$4:$E$39,2,FALSE)=0,\"\",VLOOKUP($A312,'Schedule Setup'!$A$4:$E$39,2,FALSE))","v":""},{"$f":"IF(VLOOKUP($A312,'Schedule Setup'!$A$4:$E$39,4,FALSE)=0,\"\",VLOOKUP($A312,'Schedule Setup'!$A$4:$E$39,4,FALSE))","v":""},"",null,null,null,"x","x","x","x","x","x","x","x","x","x","x","x","x","x","x","x","x","x","x","x","x","x","x","x","x","x","x","x","x","x","x","x","x","x","x","x","x","x",0,null,"x","x","x","x","x","x","x","x","x","x","x","x","x","x","x","x","x","x","x","x","x","x","x","x","x","x","x","x","x","x","x","x","x","x","x","x","x","x",null,0,0,0,0,0,0,0,0,0,0,0,0,0,0,0,0,0,0,0,0,0,0,0,0,0,0,0,0,0,0,0,0,0,0,0,0,0,0,null,{"$f":"IF(VLOOKUP($A312,'Schedule Setup'!$A$4:$E$39,5,FALSE)=0,\"\",VLOOKUP($A312,'Schedule Setup'!$A$4:$E$39,5,FALSE))","v":""},0,"",0,"",0,"",0,"",null,0,"",0,"",0,"",0,"",null,{"$f":"'Schedule Setup'!R34","v":"00:00:00"},{"$f":"'Schedule Setup'!S34","v":"00:00:00"},-2.0833333333333332E-2,"00:30:00"]
[31,{"$f":"IF(VLOOKUP($A313,'Schedule Setup'!$A$4:$E$39,2,FALSE)=0,\"\",VLOOKUP($A313,'Schedule Setup'!$A$4:$E$39,2,FALSE))","v":""},{"$f":"IF(VLOOKUP($A313,'Schedule Setup'!$A$4:$E$39,4,FALSE)=0,\"\",VLOOKUP($A313,'Schedule Setup'!$A$4:$E$39,4,FALSE))","v":""},"",null,null,null,"x","x","x","x","x","x","x","x","x","x","x","x","x","x","x","x","x","x","x","x","x","x","x","x","x","x","x","x","x","x","x","x","x","x","x","x","x","x",0,null,"x","x","x","x","x","x","x","x","x","x","x","x","x","x","x","x","x","x","x","x","x","x","x","x","x","x","x","x","x","x","x","x","x","x","x","x","x","x",null,0,0,0,0,0,0,0,0,0,0,0,0,0,0,0,0,0,0,0,0,0,0,0,0,0,0,0,0,0,0,0,0,0,0,0,0,0,0,null,{"$f":"IF(VLOOKUP($A313,'Schedule Setup'!$A$4:$E$39,5,FALSE)=0,\"\",VLOOKUP($A313,'Schedule Setup'!$A$4:$E$39,5,FALSE))","v":""},0,"",0,"",0,"",0,"",null,0,"",0,"",0,"",0,"",null,{"$f":"'Schedule Setup'!R35","v":"00:00:00"},{"$f":"'Schedule Setup'!S35","v":"00:00:00"},-2.0833333333333332E-2,"00:30:00"]
[32,{"$f":"IF(VLOOKUP($A314,'Schedule Setup'!$A$4:$E$39,2,FALSE)=0,\"\",VLOOKUP($A314,'Schedule Setup'!$A$4:$E$39,2,FALSE))","v":""},{"$f":"IF(VLOOKUP($A314,'Schedule Setup'!$A$4:$E$39,4,FALSE)=0,\"\",VLOOKUP($A314,'Schedule Setup'!$A$4:$E$39,4,FALSE))","v":""},"",null,null,null,"x","x","x","x","x","x","x","x","x","x","x","x","x","x","x","x","x","x","x","x","x","x","x","x","x","x","x","x","x","x","x","x","x","x","x","x","x","x",0,null,"x","x","x","x","x","x","x","x","x","x","x","x","x","x","x","x","x","x","x","x","x","x","x","x","x","x","x","x","x","x","x","x","x","x","x","x","x","x",null,0,0,0,0,0,0,0,0,0,0,0,0,0,0,0,0,0,0,0,0,0,0,0,0,0,0,0,0,0,0,0,0,0,0,0,0,0,0,null,{"$f":"IF(VLOOKUP($A314,'Schedule Setup'!$A$4:$E$39,5,FALSE)=0,\"\",VLOOKUP($A314,'Schedule Setup'!$A$4:$E$39,5,FALSE))","v":""},0,"",0,"",0,"",0,"",null,0,"",0,"",0,"",0,"",null,{"$f":"'Schedule Setup'!R36","v":"00:00:00"},{"$f":"'Schedule Setup'!S36","v":"00:00:00"},-2.0833333333333332E-2,"00:30:00"]
[33,{"$f":"IF(VLOOKUP($A315,'Schedule Setup'!$A$4:$E$39,2,FALSE)=0,\"\",VLOOKUP($A315,'Schedule Setup'!$A$4:$E$39,2,FALSE))","v":""},{"$f":"IF(VLOOKUP($A315,'Schedule Setup'!$A$4:$E$39,4,FALSE)=0,\"\",VLOOKUP($A315,'Schedule Setup'!$A$4:$E$39,4,FALSE))","v":""},"",null,null,null,"x","x","x","x","x","x","x","x","x","x","x","x","x","x","x","x","x","x","x","x","x","x","x","x","x","x","x","x","x","x","x","x","x","x","x","x","x","x",0,null,"x","x","x","x","x","x","x","x","x","x","x","x","x","x","x","x","x","x","x","x","x","x","x","x","x","x","x","x","x","x","x","x","x","x","x","x","x","x",null,0,0,0,0,0,0,0,0,0,0,0,0,0,0,0,0,0,0,0,0,0,0,0,0,0,0,0,0,0,0,0,0,0,0,0,0,0,0,null,{"$f":"IF(VLOOKUP($A315,'Schedule Setup'!$A$4:$E$39,5,FALSE)=0,\"\",VLOOKUP($A315,'Schedule Setup'!$A$4:$E$39,5,FALSE))","v":""},0,"",0,"",0,"",0,"",null,0,"",0,"",0,"",0,"",null,{"$f":"'Schedule Setup'!R37","v":"00:00:00"},{"$f":"'Schedule Setup'!S37","v":"00:00:00"},-2.0833333333333332E-2,"00:30:00"]
[34,{"$f":"IF(VLOOKUP($A316,'Schedule Setup'!$A$4:$E$39,2,FALSE)=0,\"\",VLOOKUP($A316,'Schedule Setup'!$A$4:$E$39,2,FALSE))","v":""},{"$f":"IF(VLOOKUP($A316,'Schedule Setup'!$A$4:$E$39,4,FALSE)=0,\"\",VLOOKUP($A316,'Schedule Setup'!$A$4:$E$39,4,FALSE))","v":""},"",null,null,null,"x","x","x","x","x","x","x","x","x","x",{"$f":"BF316","v":"x"},"x","x","x","x",{"$f":"BK316","v":"x"},"x","x","x","x","x","x","x","x","x","x","x","x","x","x","x","x","x","x","x","x","x","x",0,null,"x","x","x","x","x","x","x","x","x","x","x","x","x","x","x","x","x","x","x","x","x","x","x","x","x","x","x","x","x","x","x","x","x","x","x","x","x","x",null,0,0,0,0,0,0,0,0,0,0,0,0,0,0,0,0,0,0,0,0,0,0,0,0,0,0,0,0,0,0,0,0,0,0,0,0,0,0,null,{"$f":"IF(VLOOKUP($A316,'Schedule Setup'!$A$4:$E$39,5,FALSE)=0,\"\",VLOOKUP($A316,'Schedule Setup'!$A$4:$E$39,5,FALSE))","v":""},0,"",0,"",0,"",0,"",null,0,"",0,"",0,"",0,"",null,{"$f":"'Schedule Setup'!R28","v":"00:00:00"},{"$f":"'Schedule Setup'!S28","v":"00:00:00"},-2.0833333333333332E-2,"00:30:00"]
[35,{"$f":"IF(VLOOKUP($A317,'Schedule Setup'!$A$4:$E$39,2,FALSE)=0,\"\",VLOOKUP($A317,'Schedule Setup'!$A$4:$E$39,2,FALSE))","v":""},{"$f":"IF(VLOOKUP($A317,'Schedule Setup'!$A$4:$E$39,4,FALSE)=0,\"\",VLOOKUP($A317,'Schedule Setup'!$A$4:$E$39,4,FALSE))","v":""},"",null,null,null,"x","x","x","x","x","x","x","x","x","x","x","x","x","x","x","x","x","x","x","x","x","x","x","x","x","x","x","x","x","x","x","x","x","x","x","x","x","x",0,null,"x","x","x","x","x","x","x","x","x","x","x","x","x","x","x","x","x","x","x","x","x","x","x","x","x","x","x","x","x","x","x","x","x","x","x","x","x","x",null,0,0,0,0,0,0,0,0,0,0,0,0,0,0,0,0,0,0,0,0,0,0,0,0,0,0,0,0,0,0,0,0,0,0,0,0,0,0,null,{"$f":"IF(VLOOKUP($A317,'Schedule Setup'!$A$4:$E$39,5,FALSE)=0,\"\",VLOOKUP($A317,'Schedule Setup'!$A$4:$E$39,5,FALSE))","v":""},0,"",0,"",0,"",0,"",null,0,"",0,"",0,"",0,"",null,{"$f":"'Schedule Setup'!R39","v":"00:00:00"},{"$f":"'Schedule Setup'!S39","v":"00:00:00"},-2.0833333333333332E-2,"00:30:00"]
[null,null,null,"Totals/Coverage",{"$f":"MIN(E283:E317)","v":"00:00:00"},{"$f":"MAX(F283:F317)","v":"00:00:00"},null,{"$f":"CI318","v":0},{"$f":"CJ318","v":0},{"$f":"CK318","v":0},{"$f":"CL318","v":0},{"$f":"CM318","v":0},{"$f":"CN318","v":0},{"$f":"CO318","v":0},{"$f":"CP318","v":0},{"$f":"CQ318","v":0},{"$f":"CR318","v":0},{"$f":"CS318","v":0},{"$f":"CT318","v":0},{"$f":"CU318","v":0},{"$f":"CV318","v":0},{"$f":"CW318","v":0},{"$f":"CX318","v":0},{"$f":"CY318","v":0},{"$f":"CZ318","v":0},{"$f":"DA318","v":0},{"$f":"DB318","v":0},{"$f":"DC318","v":0},{"$f":"DD318","v":0},{"$f":"DE318","v":0},{"$f":"DF318","v":0},{"$f":"DG318","v":0},{"$f":"DH318","v":0},{"$f":"DI318","v":0},{"$f":"DJ318","v":0},{"$f":"DK318","v":0},{"$f":"DL318","v":0},{"$f":"DM318","v":0},{"$f":"DN318","v":0},{"$f":"DO318","v":0},{"$f":"DP318","v":0},{"$f":"DQ318","v":0},{"$f":"DR318","v":0},{"$f":"DS318","v":0},{"$f":"DT318","v":0},{"$f":"SUM(AT283:AT317)","v":0},null,null,null,null,null,null,null,null,null,null,null,null,null,null,null,null,null,null,null,null,null,null,null,null,null,null,null,null,null,null,null,null,null,null,null,null,null,null,null,null,{"$f":"COUNTIF(CI283:CI317,0.5)","v":0},{"$f":"COUNTIF(CJ283:CJ317,0.5)","v":0},{"$f":"COUNTIF(CK283:CK317,0.5)","v":0},{"$f":"COUNTIF(CL283:CL317,0.5)","v":0},{"$f":"COUNTIF(CM283:CM317,0.5)","v":0},{"$f":"COUNTIF(CN283:CN317,0.5)","v":0},{"$f":"COUNTIF(CO283:CO317,0.5)","v":0},{"$f":"COUNTIF(CP283:CP317,0.5)","v":0},{"$f":"COUNTIF(CQ283:CQ317,0.5)","v":0},{"$f":"COUNTIF(CR283:CR317,0.5)","v":0},{"$f":"COUNTIF(CS283:CS317,0.5)","v":0},{"$f":"COUNTIF(CT283:CT317,0.5)","v":0},{"$f":"COUNTIF(CU283:CU317,0.5)","v":0},{"$f":"COUNTIF(CV283:CV317,0.5)","v":0},{"$f":"COUNTIF(CW283:CW317,0.5)","v":0},{"$f":"COUNTIF(CX283:CX317,0.5)","v":0},{"$f":"COUNTIF(CY283:CY317,0.5)","v":0},{"$f":"COUNTIF(CZ283:CZ317,0.5)","v":0},{"$f":"COUNTIF(DA283:DA317,0.5)","v":0},{"$f":"COUNTIF(DB283:DB317,0.5)","v":0},{"$f":"COUNTIF(DC283:DC317,0.5)","v":0},{"$f":"COUNTIF(DD283:DD317,0.5)","v":0},{"$f":"COUNTIF(DE283:DE317,0.5)","v":0},{"$f":"COUNTIF(DF283:DF317,0.5)","v":0},{"$f":"COUNTIF(DG283:DG317,0.5)","v":0},{"$f":"COUNTIF(DH283:DH317,0.5)","v":0},{"$f":"COUNTIF(DI283:DI317,0.5)","v":0},{"$f":"COUNTIF(DJ283:DJ317,0.5)","v":0},{"$f":"COUNTIF(DK283:DK317,0.5)","v":0},{"$f":"COUNTIF(DL283:DL317,0.5)","v":0},{"$f":"COUNTIF(DM283:DM317,0.5)","v":0},{"$f":"COUNTIF(DN283:DN317,0.5)","v":0},{"$f":"COUNTIF(DO283:DO317,0.5)","v":0},{"$f":"COUNTIF(DP283:DP317,0.5)","v":0},{"$f":"COUNTIF(DQ283:DQ317,0.5)","v":0},{"$f":"COUNTIF(DR283:DR317,0.5)","v":0},{"$f":"COUNTIF(DS283:DS317,0.5)","v":0},{"$f":"COUNTIF(DT283:DT317,0.5)","v":0},null,null,{"$f":"SUM(DW283:DW317)","v":0},0,0,0,0,0,0,0,null,{"$f":"SUM(EF283:EF317)","v":0},0,0,0,0,0,0,0,null,{"$f":"'Schedule Setup'!R40","v":"07:00:00"},{"$f":"'Schedule Setup'!S40","v":"20:00:00"},"06:30:00","20:30:00"]
[null,null,null,null,null,{"$f":"'Schedule Forecast'!A14","v":"Last Week"},null,{"$f":"IFERROR(INDEX(INDIRECT(\"'\"&$F319&\"'!$I:$I\"),MATCH(H$6,INDIRECT(\"'\"&$F319&\"'!$A$1:$A$250\"),0)+1),0)","v":0},0,0,0,0,0,0,0,0,0,{"$f":"IFERROR(INDEX(INDIRECT(\"'\"&$F319&\"'!$I:$I\"),MATCH(R$6,INDIRECT(\"'\"&$F319&\"'!$A$1:$A$250\"),0)+1),0)","v":0},0,0,0,0,0,0,0,0,0,{"$f":"IFERROR(INDEX(INDIRECT(\"'\"&$F319&\"'!$I:$I\"),MATCH(AB$6,INDIRECT(\"'\"&$F319&\"'!$A$1:$A$250\"),0)+1),0)","v":0},0,0,0,0,0,0,0,0,0,{"$f":"IFERROR(INDEX(INDIRECT(\"'\"&$F319&\"'!$I:$I\"),MATCH(AL$6,INDIRECT(\"'\"&$F319&\"'!$A$1:$A$250\"),0)+1),0)","v":0},0,0,0,0,0,0,0]
[null,null,null,null,null,{"$f":"'Schedule Forecast'!A15","v":"2 Weeks Ago"},null,0,0,0,0,0,0,0,0,0,0,0,0,0,0,0,0,0,0,0,0,0,0,0,0,0,0,0,0,0,0,0,0,0,0,0,0,0,0]
[null,null,null,null,null,{"$f":"'Schedule Forecast'!A16","v":"3 Weeks Ago"},null,0,0,0,0,0,0,0,0,0,0,0,0,0,0,0,0,0,0,0,0,0,0,0,0,0,0,0,0,0,0,0,0,0,0,0,0,0,0]
[null,null,null,null,null,{"$f":"'Schedule Forecast'!A17","v":"4 Weeks Ago"},null,0,0,0,0,0,0,0,0,0,0,0,0,0,0,0,0,0,0,0,0,0,0,0,0,0,0,0,0,0,0,0,0,0,0,0,0,0,0]
[null,null,null,null,null,"AVERAGE",null,{"$f":"IFERROR(IF(AND(H$6>=$EO$318,H$6<$EP$318-0.001),AVERAGE(H319:H322),\"\"),\"\")","v":""},"","","",0,0,0,0,0,0,0,0,0,0,0,0,0,0,0,0,0,0,0,0,0,0,0,0,0,0,"","","","","","","",""]
[null,null,null,null,null,null,null,{"$f":"IFERROR(IF((H323*'Schedule Forecast'!$C$4-$AC$2)>1,(H323*'Schedule Forecast'!$C$4-$AC$2),1),\"\")","v":""},{"$f":"IFERROR(IF((I323*'Schedule Forecast'!$C$4-$AC$2)>1,(I323*'Schedule Forecast'!$C$4-$AC$2),1),\"\")","v":""},{"$f":"IFERROR(IF((J323*'Schedule Forecast'!$C$4-$AC$2)>1,(J323*'Schedule Forecast'!$C$4-$AC$2),1),\"\")","v":""},{"$f":"IFERROR(IF((K323*'Schedule Forecast'!$C$4-$AC$2)>1,(K323*'Schedule Forecast'!$C$4-$AC$2),1),\"\")","v":""},{"$f":"IFERROR(IF((L323*'Schedule Forecast'!$C$4-$AC$2)>1,(L323*'Schedule Forecast'!$C$4-$AC$2),1),\"\")","v":1},{"$f":"IFERROR(IF((M323*'Schedule Forecast'!$C$4-$AC$2)>1,(M323*'Schedule Forecast'!$C$4-$AC$2),1),\"\")","v":1},{"$f":"IFERROR(IF((N323*'Schedule Forecast'!$C$4-$AC$2)>1,(N323*'Schedule Forecast'!$C$4-$AC$2),1),\"\")","v":1},{"$f":"IFERROR(IF((O323*'Schedule Forecast'!$C$4-$AC$2)>1,(O323*'Schedule Forecast'!$C$4-$AC$2),1),\"\")","v":1},{"$f":"IFERROR(IF((P323*'Schedule Forecast'!$C$4-$AC$2)>1,(P323*'Schedule Forecast'!$C$4-$AC$2),1),\"\")","v":1},{"$f":"IFERROR(IF((Q323*'Schedule Forecast'!$C$4-$AC$2)>1,(Q323*'Schedule Forecast'!$C$4-$AC$2),1),\"\")","v":1},{"$f":"IFERROR(IF((R323*'Schedule Forecast'!$C$4-$AC$2)>1,(R323*'Schedule Forecast'!$C$4-$AC$2),1),\"\")","v":1},{"$f":"IFERROR(IF((S323*'Schedule Forecast'!$C$4-$AC$2)>1,(S323*'Schedule Forecast'!$C$4-$AC$2),1),\"\")","v":1},{"$f":"IFERROR(IF((T323*'Schedule Forecast'!$C$4-$AC$2)>1,(T323*'Schedule Forecast'!$C$4-$AC$2),1),\"\")","v":1},{"$f":"IFERROR(IF((U323*'Schedule Forecast'!$C$4-$AC$2)>1,(U323*'Schedule Forecast'!$C$4-$AC$2),1),\"\")","v":1},{"$f":"IFERROR(IF((V323*'Schedule Forecast'!$C$4-$AC$2)>1,(V323*'Schedule Forecast'!$C$4-$AC$2),1),\"\")","v":1},{"$f":"IFERROR(IF((W323*'Schedule Forecast'!$C$4-$AC$2)>1,(W323*'Schedule Forecast'!$C$4-$AC$2),1),\"\")","v":1},{"$f":"IFERROR(IF((X323*'Schedule Forecast'!$C$4-$AC$2)>1,(X323*'Schedule Forecast'!$C$4-$AC$2),1),\"\")","v":1},{"$f":"IFERROR(IF((Y323*'Schedule Forecast'!$C$4-$AC$2)>1,(Y323*'Schedule Forecast'!$C$4-$AC$2),1),\"\")","v":1},{"$f":"IFERROR(IF((Z323*'Schedule Forecast'!$C$4-$AC$2)>1,(Z323*'Schedule Forecast'!$C$4-$AC$2),1),\"\")","v":1},{"$f":"IFERROR(IF((AA323*'Schedule Forecast'!$C$4-$AC$2)>1,(AA323*'Schedule Forecast'!$C$4-$AC$2),1),\"\")","v":1},{"$f":"IFERROR(IF((AB323*'Schedule Forecast'!$C$4-$AC$2)>1,(AB323*'Schedule Forecast'!$C$4-$AC$2),1),\"\")","v":1},{"$f":"IFERROR(IF((AC323*'Schedule Forecast'!$C$4-$AC$2)>1,(AC323*'Schedule Forecast'!$C$4-$AC$2),1),\"\")","v":1},{"$f":"IFERROR(IF((AD323*'Schedule Forecast'!$C$4-$AC$2)>1,(AD323*'Schedule Forecast'!$C$4-$AC$2),1),\"\")","v":1},{"$f":"IFERROR(IF((AE323*'Schedule Forecast'!$C$4-$AC$2)>1,(AE323*'Schedule Forecast'!$C$4-$AC$2),1),\"\")","v":1},{"$f":"IFERROR(IF((AF323*'Schedule Forecast'!$C$4-$AC$2)>1,(AF323*'Schedule Forecast'!$C$4-$AC$2),1),\"\")","v":1},{"$f":"IFERROR(IF((AG323*'Schedule Forecast'!$C$4-$AC$2)>1,(AG323*'Schedule Forecast'!$C$4-$AC$2),1),\"\")","v":1},{"$f":"IFERROR(IF((AH323*'Schedule Forecast'!$C$4-$AC$2)>1,(AH323*'Schedule Forecast'!$C$4-$AC$2),1),\"\")","v":1},{"$f":"IFERROR(IF((AI323*'Schedule Forecast'!$C$4-$AC$2)>1,(AI323*'Schedule Forecast'!$C$4-$AC$2),1),\"\")","v":1},{"$f":"IFERROR(IF((AJ323*'Schedule Forecast'!$C$4-$AC$2)>1,(AJ323*'Schedule Forecast'!$C$4-$AC$2),1),\"\")","v":1},{"$f":"IFERROR(IF((AK323*'Schedule Forecast'!$C$4-$AC$2)>1,(AK323*'Schedule Forecast'!$C$4-$AC$2),1),\"\")","v":1},{"$f":"IFERROR(IF((AL323*'Schedule Forecast'!$C$4-$AC$2)>1,(AL323*'Schedule Forecast'!$C$4-$AC$2),1),\"\")","v":""},{"$f":"IFERROR(IF((AM323*'Schedule Forecast'!$C$4-$AC$2)>1,(AM323*'Schedule Forecast'!$C$4-$AC$2),1),\"\")","v":""},{"$f":"IFERROR(IF((AN323*'Schedule Forecast'!$C$4-$AC$2)>1,(AN323*'Schedule Forecast'!$C$4-$AC$2),1),\"\")","v":""},{"$f":"IFERROR(IF((AO323*'Schedule Forecast'!$C$4-$AC$2)>1,(AO323*'Schedule Forecast'!$C$4-$AC$2),1),\"\")","v":""},{"$f":"IFERROR(IF((AP323*'Schedule Forecast'!$C$4-$AC$2)>1,(AP323*'Schedule Forecast'!$C$4-$AC$2),1),\"\")","v":""},{"$f":"IFERROR(IF((AQ323*'Schedule Forecast'!$C$4-$AC$2)>1,(AQ323*'Schedule Forecast'!$C$4-$AC$2),1),\"\")","v":""},{"$f":"IFERROR(IF((AR323*'Schedule Forecast'!$C$4-$AC$2)>1,(AR323*'Schedule Forecast'!$C$4-$AC$2),1),\"\")","v":""},{"$f":"IFERROR(IF((AS323*'Schedule Forecast'!$C$4-$AC$2)>1,(AS323*'Schedule Forecast'!$C$4-$AC$2),1),\"\")","v":""}]
[null,null,null,null,null,null,"Recommended:",{"$f":"IF(H282>=$EO$318,IF(H282<$EP$318-0.01,ROUND(IF(H324>1,(H324*$B$48)+1,H324)*2,0),\"\"),\"\")","v":""},"","","",2,2,2,2,2,2,2,2,2,2,2,2,2,2,2,2,2,2,2,2,2,2,2,2,2,2,"","","","","","","","",{"$f":"SUM(H325:AS325)/2","v":26}]

{"sheet":"Weekly Schedule","index":2,"n_rows":55,"n_cols":27,"rows_kept":55,"cut":false,"hidden":false,"merged":[[5,3,5,5],[4,3,4,5],[4,6,4,8],[5,6,5,8],[5,9,5,11],[42,18,42,19],[42,21,42,22],[42,3,42,4],[42,6,42,7],[42,9,42,10],[42,12,42,13],[42,15,42,16],[0,23,0,24],[1,23,1,24],[2,23,2,24],[5,15,5,17],[5,18,5,20],[5,21,5,23],[4,21,4,23],[4,18,4,20],[4,15,4,17],[1,6,1,15],[4,12,4,14],[4,9,4,11],[5,12,5,14]]}
[null,null,null,null,null,null,null,null,null,null,null,null,null,null,null,null,null,null,null,null,null,null,"For the Week of: ",{"$f":"'Shift Schedule'!O2","v":"2019-05-01"}]
[null,null,null,null,null,null,"Weekly Schedule ",null,null,null,null,null,null,null,null,null,null,null,null,null,null,null,"Period:",{"$f":"VLOOKUP(X1,'#Include'!A2:C53,2,FALSE)","v":5}]
[null,null,null,null,null,null,null,null,null,{"$f":"'Shift Schedule'!B2","v":"Store:"},{"$f":"'Shift Schedule'!D2","v":0},null,null,null,null,null,null,null,null,null,null,null,"Week:",{"$f":"VLOOKUP(X1,'#Include'!A2:C53,3,FALSE)","v":2}]
[]
[null,null,null,"Tuesday",null,null,"Wednesday",null,null,"Thursday",null,null,"Friday",null,null,"Saturday",null,null,"Sunday",null,null,"Monday"]
[null,null,null,{"$f":"'Shift Schedule'!T5","v":"2019-05-01"},null,null,{"$f":"'Shift Schedule'!T51","v":"2019-05-02"},null,null,{"$f":"'Shift Schedule'!T97","v":"2019-05-03"},null,null,{"$f":"'Shift Schedule'!T143","v":"2019-05-04"},null,null,{"$f":"'Shift Schedule'!T189","v":"2019-05-05"},null,null,{"$f":"'Shift Schedule'!T235","v":"2019-05-06"},null,null,{"$f":"'Shift Schedule'!T281","v":"2019-05-07"}]
[null,"Employee","Job","Start","End","Hrs","Start","End","Hrs","Start","End","Hrs","Start","End","Hrs","Start","End","Hrs","Start","End","Hrs","Start","End","Hrs","Total Hrs"]
[1,{"$f":"IF(VLOOKUP($A8,'Schedule Setup'!$A$5:$E$39,2,FALSE)=0,\"\",VLOOKUP($A8,'Schedule Setup'!$A$5:$E$39,2,FALSE))","v":""},{"$f":"IF(VLOOKUP($A8,'Schedule Setup'!$A$5:$E$39,4,FALSE)=0,\"\",IF(OR(VLOOKUP($A8,'Schedule Setup'!$A$5:$E$39,4,FALSE)=\"General Manager (H)\", VLOOKUP($A8,'Schedule Setup'!$A$5:$E$39,4,FALSE)=\"General Manager (S)\"),\"General Manager\",VLOOKUP($A8,'Schedule Setup'!$A$5:$E$39,4,FALSE)))","v":""},{"$f":"IF(VLOOKUP($A8,'Shift Schedule'!$A$7:$F$41,5,FALSE)=0,\"\",VLOOKUP($A8,'Shift Schedule'!$A$7:$F$41,5,FALSE))","v":""},{"$f":"IF(VLOOKUP($A8,'Shift Schedule'!$A$7:$F$41,6,FALSE)=0,\"\",VLOOKUP($A8,'Shift Schedule'!$A$7:$F$41,6,FALSE))","v":""},{"$f":"IFERROR((E8-D8)*24,\"\")","v":""},{"$f":"IF(VLOOKUP($A8,'Shift Schedule'!$A$53:$F$87,5,FALSE)=0,\"\",VLOOKUP($A8,'Shift Schedule'!$A$53:$F$87,5,FALSE))","v":""},{"$f":"IF(VLOOKUP($A8,'Shift Schedule'!$A$53:$F$87,6,FALSE)=0,\"\",VLOOKUP($A8,'Shift Schedule'!$A$53:$F$87,6,FALSE))","v":""},{"$f":"IFERROR((H8-G8)*24,\"\")","v":""},{"$f":"IF(VLOOKUP($A8,'Shift Schedule'!$A$99:$F510,5,FALSE)=0,\"\",VLOOKUP($A8,'Shift Schedule'!$A$99:$F$133,5,FALSE))","v":""},{"$f":"IF(VLOOKUP($A8,'Shift Schedule'!$A$99:$F510,6,FALSE)=0,\"\",VLOOKUP($A8,'Shift Schedule'!$A$99:$F$133,6,FALSE))","v":""},{"$f":"IFERROR((K8-J8)*24,\"\")","v":""},{"$f":"IF(VLOOKUP($A8,'Shift Schedule'!$A$145:$F$179,5,FALSE)=0,\"\",VLOOKUP($A8,'Shift Schedule'!$A$145:$F$179,5,FALSE))","v":""},{"$f":"IF(VLOOKUP($A8,'Shift Schedule'!$A$145:$F$179,6,FALSE)=0,\"\",VLOOKUP($A8,'Shift Schedule'!$A$145:$F$179,6,FALSE))","v":""},{"$f":"IFERROR((N8-M8)*24,\"\")","v":""},{"$f":"IF(VLOOKUP($A8,'Shift Schedule'!$A$191:$F$225,5,FALSE)=0,\"\",VLOOKUP($A8,'Shift Schedule'!$A$191:$F$225,5,FALSE))","v":""},{"$f":"IF(VLOOKUP($A8,'Shift Schedule'!$A$191:$F$225,6,FALSE)=0,\"\",VLOOKUP($A8,'Shift Schedule'!$A$191:$F$225,6,FALSE))","v":""},{"$f":"IFERROR((Q8-P8)*24,\"\")","v":""},{"$f":"IF(VLOOKUP($A8,'Shift Schedule'!$A$237:$F$271,5,FALSE)=0,\"\",VLOOKUP($A8,'Shift Schedule'!$A$237:$F$271,5,FALSE))","v":""},{"$f":"IF(VLOOKUP($A8,'Shift Schedule'!$A$237:$F$271,6,FALSE)=0,\"\",VLOOKUP($A8,'Shift Schedule'!$A$237:$F$271,6,FALSE))","v":""},{"$f":"IFERROR((T8-S8)*24,\"\")","v":""},{"$f":"IF(VLOOKUP($A8,'Shift Schedule'!$A$283:$F$317,5,FALSE)=0,\"\",VLOOKUP($A8,'Shift Schedule'!$A$283:$F$317,5,FALSE))","v":""},{"$f":"IF(VLOOKUP($A8,'Shift Schedule'!$A$283:$F$317,6,FALSE)=0,\"\",VLOOKUP($A8,'Shift Schedule'!$A$283:$F$317,6,FALSE))","v":""},{"$f":"IFERROR((W8-V8)*24,\"\")","v":""},{"$f":"IF(SUM(F8,I8,L8,O8,R8,U8,X8)=0,\"\",SUM(F8,I8,L8,O8,R8,U8,X8))","v":""},null,{"$f":"Y8","v":""}]
[{"$f":"A8+1","v":2},{"$f":"IF(VLOOKUP($A9,'Schedule Setup'!$A$5:$E$39,2,FALSE)=0,\"\",VLOOKUP($A9,'Schedule Setup'!$A$5:$E$39,2,FALSE))","v":""},{"$f":"IF(VLOOKUP($A9,'Schedule Setup'!$A$5:$E$39,4,FALSE)=0,\"\",IF(OR(VLOOKUP($A9,'Schedule Setup'!$A$5:$E$39,4,FALSE)=\"General Manager (H)\", VLOOKUP($A9,'Schedule Setup'!$A$5:$E$39,4,FALSE)=\"General Manager (S)\"),\"General Manager\",VLOOKUP($A9,'Schedule Setup'!$A$5:$E$39,4,FALSE)))","v":""},{"$f":"IF(VLOOKUP($A9,'Shift Schedule'!$A$7:$F$41,5,FALSE)=0,\"\",VLOOKUP($A9,'Shift Schedule'!$A$7:$F$41,5,FALSE))","v":""},{"$f":"IF(VLOOKUP($A9,'Shift Schedule'!$A$7:$F$41,6,FALSE)=0,\"\",VLOOKUP($A9,'Shift Schedule'!$A$7:$F$41,6,FALSE))","v":""},{"$f":"IFERROR((E9-D9)*24,\"\")","v":""},{"$f":"IF(VLOOKUP($A9,'Shift Schedule'!$A$53:$F$87,5,FALSE)=0,\"\",VLOOKUP($A9,'Shift Schedule'!$A$53:$F$87,5,FALSE))","v":""},{"$f":"IF(VLOOKUP($A9,'Shift Schedule'!$A$53:$F$87,6,FALSE)=0,\"\",VLOOKUP($A9,'Shift Schedule'!$A$53:$F$87,6,FALSE))","v":""},{"$f":"IFERROR((H9-G9)*24,\"\")","v":""},{"$f":"IF(VLOOKUP($A9,'Shift Schedule'!$A$99:$F511,5,FALSE)=0,\"\",VLOOKUP($A9,'Shift Schedule'!$A$99:$F$133,5,FALSE))","v":""},{"$f":"IF(VLOOKUP($A9,'Shift Schedule'!$A$99:$F511,6,FALSE)=0,\"\",VLOOKUP($A9,'Shift Schedule'!$A$99:$F$133,6,FALSE))","v":""},{"$f":"IFERROR((K9-J9)*24,\"\")","v":""},{"$f":"IF(VLOOKUP($A9,'Shift Schedule'!$A$145:$F$179,5,FALSE)=0,\"\",VLOOKUP($A9,'Shift Schedule'!$A$145:$F$179,5,FALSE))","v":""},{"$f":"IF(VLOOKUP($A9,'Shift Schedule'!$A$145:$F$179,6,FALSE)=0,\"\",VLOOKUP($A9,'Shift Schedule'!$A$145:$F$179,6,FALSE))","v":""},{"$f":"IFERROR((N9-M9)*24,\"\")","v":""},{"$f":"IF(VLOOKUP($A9,'Shift Schedule'!$A$191:$F$225,5,FALSE)=0,\"\",VLOOKUP($A9,'Shift Schedule'!$A$191:$F$225,5,FALSE))","v":""},{"$f":"IF(VLOOKUP($A9,'Shift Schedule'!$A$191:$F$225,6,FALSE)=0,\"\",VLOOKUP($A9,'Shift Schedule'!$A$191:$F$225,6,FALSE))","v":""},{"$f":"IFERROR((Q9-P9)*24,\"\")","v":""},{"$f":"IF(VLOOKUP($A9,'Shift Schedule'!$A$237:$F$271,5,FALSE)=0,\"\",VLOOKUP($A9,'Shift Schedule'!$A$237:$F$271,5,FALSE))","v":""},{"$f":"IF(VLOOKUP($A9,'Shift Schedule'!$A$237:$F$271,6,FALSE)=0,\"\",VLOOKUP($A9,'Shift Schedule'!$A$237:$F$271,6,FALSE))","v":""},{"$f":"IFERROR((T9-S9)*24,\"\")","v":""},{"$f":"IF(VLOOKUP($A9,'Shift Schedule'!$A$283:$F$317,5,FALSE)=0,\"\",VLOOKUP($A9,'Shift Schedule'!$A$283:$F$317,5,FALSE))","v":""},{"$f":"IF(VLOOKUP($A9,'Shift Schedule'!$A$283:$F$317,6,FALSE)=0,\"\",VLOOKUP($A9,'Shift Schedule'!$A$283:$F$317,6,FALSE))","v":""},{"$f":"IFERROR((W9-V9)*24,\"\")","v":""},{"$f":"IF(SUM(F9,I9,L9,O9,R9,U9,X9)=0,\"\",SUM(F9,I9,L9,O9,R9,U9,X9))","v":""},null,{"$f":"Y9","v":""}]
[{"$f":"A9+1","v":3},{"$f":"IF(VLOOKUP($A10,'Schedule Setup'!$A$5:$E$39,2,FALSE)=0,\"\",VLOOKUP($A10,'Schedule Setup'!$A$5:$E$39,2,FALSE))","v":""},{"$f":"IF(VLOOKUP($A10,'Schedule Setup'!$A$5:$E$39,4,FALSE)=0,\"\",IF(OR(VLOOKUP($A10,'Schedule Setup'!$A$5:$E$39,4,FALSE)=\"General Manager (H)\", VLOOKUP($A10,'Schedule Setup'!$A$5:$E$39,4,FALSE)=\"General Manager (S)\"),\"General Manager\",VLOOKUP($A10,'Schedule Setup'!$A$5:$E$39,4,FALSE)))","v":""},{"$f":"IF(VLOOKUP($A10,'Shift Schedule'!$A$7:$F$41,5,FALSE)=0,\"\",VLOOKUP($A10,'Shift Schedule'!$A$7:$F$41,5,FALSE))","v":""},{"$f":"IF(VLOOKUP($A10,'Shift Schedule'!$A$7:$F$41,6,FALSE)=0,\"\",VLOOKUP($A10,'Shift Schedule'!$A$7:$F$41,6,FALSE))","v":""},"",{"$f":"IF(VLOOKUP($A10,'Shift Schedule'!$A$53:$F$87,5,FALSE)=0,\"\",VLOOKUP($A10,'Shift Schedule'!$A$53:$F$87,5,FALSE))","v":""},{"$f":"IF(VLOOKUP($A10,'Shift Schedule'!$A$53:$F$87,6,FALSE)=0,\"\",VLOOKUP($A10,'Shift Schedule'!$A$53:$F$87,6,FALSE))","v":""},"",{"$f":"IF(VLOOKUP($A10,'Shift Schedule'!$A$99:$F512,5,FALSE)=0,\"\",VLOOKUP($A10,'Shift Schedule'!$A$99:$F$133,5,FALSE))","v":""},{"$f":"IF(VLOOKUP($A10,'Shift Schedule'!$A$99:$F512,6,FALSE)=0,\"\",VLOOKUP($A10,'Shift Schedule'!$A$99:$F$133,6,FALSE))","v":""},"",{"$f":"IF(VLOOKUP($A10,'Shift Schedule'!$A$145:$F$179,5,FALSE)=0,\"\",VLOOKUP($A10,'Shift Schedule'!$A$145:$F$179,5,FALSE))","v":""},{"$f":"IF(VLOOKUP($A10,'Shift Schedule'!$A$145:$F$179,6,FALSE)=0,\"\",VLOOKUP($A10,'Shift Schedule'!$A$145:$F$179,6,FALSE))","v":""},"",{"$f":"IF(VLOOKUP($A10,'Shift Schedule'!$A$191:$F$225,5,FALSE)=0,\"\",VLOOKUP($A10,'Shift Schedule'!$A$191:$F$225,5,FALSE))","v":""},{"$f":"IF(VLOOKUP($A10,'Shift Schedule'!$A$191:$F$225,6,FALSE)=0,\"\",VLOOKUP($A10,'Shift Schedule'!$A$191:$F$225,6,FALSE))","v":""},"",{"$f":"IF(VLOOKUP($A10,'Shift Schedule'!$A$237:$F$271,5,FALSE)=0,\"\",VLOOKUP($A10,'Shift Schedule'!$A$237:$F$271,5,FALSE))","v":""},{"$f":"IF(VLOOKUP($A10,'Shift Schedule'!$A$237:$F$271,6,FALSE)=0,\"\",VLOOKUP($A10,'Shift Schedule'!$A$237:$F$271,6,FALSE))","v":""},"",{"$f":"IF(VLOOKUP($A10,'Shift Schedule'!$A$283:$F$317,5,FALSE)=0,\"\",VLOOKUP($A10,'Shift Schedule'!$A$283:$F$317,5,FALSE))","v":""},{"$f":"IF(VLOOKUP($A10,'Shift Schedule'!$A$283:$F$317,6,FALSE)=0,\"\",VLOOKUP($A10,'Shift Schedule'!$A$283:$F$317,6,FALSE))","v":""},"","",null,""]
[4,{"$f":"IF(VLOOKUP($A11,'Schedule Setup'!$A$5:$E$39,2,FALSE)=0,\"\",VLOOKUP($A11,'Schedule Setup'!$A$5:$E$39,2,FALSE))","v":""},{"$f":"IF(VLOOKUP($A11,'Schedule Setup'!$A$5:$E$39,4,FALSE)=0,\"\",IF(OR(VLOOKUP($A11,'Schedule Setup'!$A$5:$E$39,4,FALSE)=\"General Manager (H)\", VLOOKUP($A11,'Schedule Setup'!$A$5:$E$39,4,FALSE)=\"General Manager (S)\"),\"General Manager\",VLOOKUP($A11,'Schedule Setup'!$A$5:$E$39,4,FALSE)))","v":""},{"$f":"IF(VLOOKUP($A11,'Shift Schedule'!$A$7:$F$41,5,FALSE)=0,\"\",VLOOKUP($A11,'Shift Schedule'!$A$7:$F$41,5,FALSE))","v":""},{"$f":"IF(VLOOKUP($A11,'Shift Schedule'!$A$7:$F$41,6,FALSE)=0,\"\",VLOOKUP($A11,'Shift Schedule'!$A$7:$F$41,6,FALSE))","v":""},"",{"$f":"IF(VLOOKUP($A11,'Shift Schedule'!$A$53:$F$87,5,FALSE)=0,\"\",VLOOKUP($A11,'Shift Schedule'!$A$53:$F$87,5,FALSE))","v":""},{"$f":"IF(VLOOKUP($A11,'Shift Schedule'!$A$53:$F$87,6,FALSE)=0,\"\",VLOOKUP($A11,'Shift Schedule'!$A$53:$F$87,6,FALSE))","v":""},"",{"$f":"IF(VLOOKUP($A11,'Shift Schedule'!$A$99:$F513,5,FALSE)=0,\"\",VLOOKUP($A11,'Shift Schedule'!$A$99:$F$133,5,FALSE))","v":""},{"$f":"IF(VLOOKUP($A11,'Shift Schedule'!$A$99:$F513,6,FALSE)=0,\"\",VLOOKUP($A11,'Shift Schedule'!$A$99:$F$133,6,FALSE))","v":""},"",{"$f":"IF(VLOOKUP($A11,'Shift Schedule'!$A$145:$F$179,5,FALSE)=0,\"\",VLOOKUP($A11,'Shift Schedule'!$A$145:$F$179,5,FALSE))","v":""},{"$f":"IF(VLOOKUP($A11,'Shift Schedule'!$A$145:$F$179,6,FALSE)=0,\"\",VLOOKUP($A11,'Shift Schedule'!$A$145:$F$179,6,FALSE))","v":""},"",{"$f":"IF(VLOOKUP($A11,'Shift Schedule'!$A$191:$F$225,5,FALSE)=0,\"\",VLOOKUP($A11,'Shift Schedule'!$A$191:$F$225,5,FALSE))","v":""},{"$f":"IF(VLOOKUP($A11,'Shift Schedule'!$A$191:$F$225,6,FALSE)=0,\"\",VLOOKUP($A11,'Shift Schedule'!$A$191:$F$225,6,FALSE))","v":""},"",{"$f":"IF(VLOOKUP($A11,'Shift Schedule'!$A$237:$F$271,5,FALSE)=0,\"\",VLOOKUP($A11,'Shift Schedule'!$A$237:$F$271,5,FALSE))","v":""},{"$f":"IF(VLOOKUP($A11,'Shift Schedule'!$A$237:$F$271,6,FALSE)=0,\"\",VLOOKUP($A11,'Shift Schedule'!$A$237:$F$271,6,FALSE))","v":""},"",{"$f":"IF(VLOOKUP($A11,'Shift Schedule'!$A$283:$F$317,5,FALSE)=0,\"\",VLOOKUP($A11,'Shift Schedule'!$A$283:$F$317,5,FALSE))","v":""},{"$f":"IF(VLOOKUP($A11,'Shift Schedule'!$A$283:$F$317,6,FALSE)=0,\"\",VLOOKUP($A11,'Shift Schedule'!$A$283:$F$317,6,FALSE))","v":""},"","",null,""]
[5,{"$f":"IF(VLOOKUP($A12,'Schedule Setup'!$A$5:$E$39,2,FALSE)=0,\"\",VLOOKUP($A12,'Schedule Setup'!$A$5:$E$39,2,FALSE))","v":""},{"$f":"IF(VLOOKUP($A12,'Schedule Setup'!$A$5:$E$39,4,FALSE)=0,\"\",IF(OR(VLOOKUP($A12,'Schedule Setup'!$A$5:$E$39,4,FALSE)=\"General Manager (H)\", VLOOKUP($A12,'Schedule Setup'!$A$5:$E$39,4,FALSE)=\"General Manager (S)\"),\"General Manager\",VLOOKUP($A12,'Schedule Setup'!$A$5:$E$39,4,FALSE)))","v":""},{"$f":"IF(VLOOKUP($A12,'Shift Schedule'!$A$7:$F$41,5,FALSE)=0,\"\",VLOOKUP($A12,'Shift Schedule'!$A$7:$F$41,5,FALSE))","v":""},{"$f":"IF(VLOOKUP($A12,'Shift Schedule'!$A$7:$F$41,6,FALSE)=0,\"\",VLOOKUP($A12,'Shift Schedule'!$A$7:$F$41,6,FALSE))","v":""},"",{"$f":"IF(VLOOKUP($A12,'Shift Schedule'!$A$53:$F$87,5,FALSE)=0,\"\",VLOOKUP($A12,'Shift Schedule'!$A$53:$F$87,5,FALSE))","v":""},{"$f":"IF(VLOOKUP($A12,'Shift Schedule'!$A$53:$F$87,6,FALSE)=0,\"\",VLOOKUP($A12,'Shift Schedule'!$A$53:$F$87,6,FALSE))","v":""},"",{"$f":"IF(VLOOKUP($A12,'Shift Schedule'!$A$99:$F514,5,FALSE)=0,\"\",VLOOKUP($A12,'Shift Schedule'!$A$99:$F$133,5,FALSE))","v":""},{"$f":"IF(VLOOKUP($A12,'Shift Schedule'!$A$99:$F514,6,FALSE)=0,\"\",VLOOKUP($A12,'Shift Schedule'!$A$99:$F$133,6,FALSE))","v":""},"",{"$f":"IF(VLOOKUP($A12,'Shift Schedule'!$A$145:$F$179,5,FALSE)=0,\"\",VLOOKUP($A12,'Shift Schedule'!$A$145:$F$179,5,FALSE))","v":""},{"$f":"IF(VLOOKUP($A12,'Shift Schedule'!$A$145:$F$179,6,FALSE)=0,\"\",VLOOKUP($A12,'Shift Schedule'!$A$145:$F$179,6,FALSE))","v":""},"",{"$f":"IF(VLOOKUP($A12,'Shift Schedule'!$A$191:$F$225,5,FALSE)=0,\"\",VLOOKUP($A12,'Shift Schedule'!$A$191:$F$225,5,FALSE))","v":""},{"$f":"IF(VLOOKUP($A12,'Shift Schedule'!$A$191:$F$225,6,FALSE)=0,\"\",VLOOKUP($A12,'Shift Schedule'!$A$191:$F$225,6,FALSE))","v":""},"",{"$f":"IF(VLOOKUP($A12,'Shift Schedule'!$A$237:$F$271,5,FALSE)=0,\"\",VLOOKUP($A12,'Shift Schedule'!$A$237:$F$271,5,FALSE))","v":""},{"$f":"IF(VLOOKUP($A12,'Shift Schedule'!$A$237:$F$271,6,FALSE)=0,\"\",VLOOKUP($A12,'Shift Schedule'!$A$237:$F$271,6,FALSE))","v":""},"",{"$f":"IF(VLOOKUP($A12,'Shift Schedule'!$A$283:$F$317,5,FALSE)=0,\"\",VLOOKUP($A12,'Shift Schedule'!$A$283:$F$317,5,FALSE))","v":""},{"$f":"IF(VLOOKUP($A12,'Shift Schedule'!$A$283:$F$317,6,FALSE)=0,\"\",VLOOKUP($A12,'Shift Schedule'!$A$283:$F$317,6,FALSE))","v":""},"","",null,""]
[6,{"$f":"IF(VLOOKUP($A13,'Schedule Setup'!$A$5:$E$39,2,FALSE)=0,\"\",VLOOKUP($A13,'Schedule Setup'!$A$5:$E$39,2,FALSE))","v":""},{"$f":"IF(VLOOKUP($A13,'Schedule Setup'!$A$5:$E$39,4,FALSE)=0,\"\",IF(OR(VLOOKUP($A13,'Schedule Setup'!$A$5:$E$39,4,FALSE)=\"General Manager (H)\", VLOOKUP($A13,'Schedule Setup'!$A$5:$E$39,4,FALSE)=\"General Manager (S)\"),\"General Manager\",VLOOKUP($A13,'Schedule Setup'!$A$5:$E$39,4,FALSE)))","v":""},{"$f":"IF(VLOOKUP($A13,'Shift Schedule'!$A$7:$F$41,5,FALSE)=0,\"\",VLOOKUP($A13,'Shift Schedule'!$A$7:$F$41,5,FALSE))","v":""},{"$f":"IF(VLOOKUP($A13,'Shift Schedule'!$A$7:$F$41,6,FALSE)=0,\"\",VLOOKUP($A13,'Shift Schedule'!$A$7:$F$41,6,FALSE))","v":""},{"$f":"IFERROR((E13-D13)*24,\"\")","v":""},{"$f":"IF(VLOOKUP($A13,'Shift Schedule'!$A$53:$F$87,5,FALSE)=0,\"\",VLOOKUP($A13,'Shift Schedule'!$A$53:$F$87,5,FALSE))","v":""},{"$f":"IF(VLOOKUP($A13,'Shift Schedule'!$A$53:$F$87,6,FALSE)=0,\"\",VLOOKUP($A13,'Shift Schedule'!$A$53:$F$87,6,FALSE))","v":""},{"$f":"IFERROR((H13-G13)*24,\"\")","v":""},{"$f":"IF(VLOOKUP($A13,'Shift Schedule'!$A$99:$F515,5,FALSE)=0,\"\",VLOOKUP($A13,'Shift Schedule'!$A$99:$F$133,5,FALSE))","v":""},{"$f":"IF(VLOOKUP($A13,'Shift Schedule'!$A$99:$F515,6,FALSE)=0,\"\",VLOOKUP($A13,'Shift Schedule'!$A$99:$F$133,6,FALSE))","v":""},{"$f":"IFERROR((K13-J13)*24,\"\")","v":""},{"$f":"IF(VLOOKUP($A13,'Shift Schedule'!$A$145:$F$179,5,FALSE)=0,\"\",VLOOKUP($A13,'Shift Schedule'!$A$145:$F$179,5,FALSE))","v":""},{"$f":"IF(VLOOKUP($A13,'Shift Schedule'!$A$145:$F$179,6,FALSE)=0,\"\",VLOOKUP($A13,'Shift Schedule'!$A$145:$F$179,6,FALSE))","v":""},{"$f":"IFERROR((N13-M13)*24,\"\")","v":""},{"$f":"IF(VLOOKUP($A13,'Shift Schedule'!$A$191:$F$225,5,FALSE)=0,\"\",VLOOKUP($A13,'Shift Schedule'!$A$191:$F$225,5,FALSE))","v":""},{"$f":"IF(VLOOKUP($A13,'Shift Schedule'!$A$191:$F$225,6,FALSE)=0,\"\",VLOOKUP($A13,'Shift Schedule'!$A$191:$F$225,6,FALSE))","v":""},{"$f":"IFERROR((Q13-P13)*24,\"\")","v":""},{"$f":"IF(VLOOKUP($A13,'Shift Schedule'!$A$237:$F$271,5,FALSE)=0,\"\",VLOOKUP($A13,'Shift Schedule'!$A$237:$F$271,5,FALSE))","v":""},{"$f":"IF(VLOOKUP($A13,'Shift Schedule'!$A$237:$F$271,6,FALSE)=0,\"\",VLOOKUP($A13,'Shift Schedule'!$A$237:$F$271,6,FALSE))","v":""},{"$f":"IFERROR((T13-S13)*24,\"\")","v":""},{"$f":"IF(VLOOKUP($A13,'Shift Schedule'!$A$283:$F$317,5,FALSE)=0,\"\",VLOOKUP($A13,'Shift Schedule'!$A$283:$F$317,5,FALSE))","v":""},{"$f":"IF(VLOOKUP($A13,'Shift Schedule'!$A$283:$F$317,6,FALSE)=0,\"\",VLOOKUP($A13,'Shift Schedule'!$A$283:$F$317,6,FALSE))","v":""},"","",null,""]
[7,{"$f":"IF(VLOOKUP($A14,'Schedule Setup'!$A$5:$E$39,2,FALSE)=0,\"\",VLOOKUP($A14,'Schedule Setup'!$A$5:$E$39,2,FALSE))","v":""},{"$f":"IF(VLOOKUP($A14,'Schedule Setup'!$A$5:$E$39,4,FALSE)=0,\"\",IF(OR(VLOOKUP($A14,'Schedule Setup'!$A$5:$E$39,4,FALSE)=\"General Manager (H)\", VLOOKUP($A14,'Schedule Setup'!$A$5:$E$39,4,FALSE)=\"General Manager (S)\"),\"General Manager\",VLOOKUP($A14,'Schedule Setup'!$A$5:$E$39,4,FALSE)))","v":""},{"$f":"IF(VLOOKUP($A14,'Shift Schedule'!$A$7:$F$41,5,FALSE)=0,\"\",VLOOKUP($A14,'Shift Schedule'!$A$7:$F$41,5,FALSE))","v":""},{"$f":"IF(VLOOKUP($A14,'Shift Schedule'!$A$7:$F$41,6,FALSE)=0,\"\",VLOOKUP($A14,'Shift Schedule'!$A$7:$F$41,6,FALSE))","v":""},"",{"$f":"IF(VLOOKUP($A14,'Shift Schedule'!$A$53:$F$87,5,FALSE)=0,\"\",VLOOKUP($A14,'Shift Schedule'!$A$53:$F$87,5,FALSE))","v":""},{"$f":"IF(VLOOKUP($A14,'Shift Schedule'!$A$53:$F$87,6,FALSE)=0,\"\",VLOOKUP($A14,'Shift Schedule'!$A$53:$F$87,6,FALSE))","v":""},"",{"$f":"IF(VLOOKUP($A14,'Shift Schedule'!$A$99:$F516,5,FALSE)=0,\"\",VLOOKUP($A14,'Shift Schedule'!$A$99:$F$133,5,FALSE))","v":""},{"$f":"IF(VLOOKUP($A14,'Shift Schedule'!$A$99:$F516,6,FALSE)=0,\"\",VLOOKUP($A14,'Shift Schedule'!$A$99:$F$133,6,FALSE))","v":""},"",{"$f":"IF(VLOOKUP($A14,'Shift Schedule'!$A$145:$F$179,5,FALSE)=0,\"\",VLOOKUP($A14,'Shift Schedule'!$A$145:$F$179,5,FALSE))","v":""},{"$f":"IF(VLOOKUP($A14,'Shift Schedule'!$A$145:$F$179,6,FALSE)=0,\"\",VLOOKUP($A14,'Shift Schedule'!$A$145:$F$179,6,FALSE))","v":""},"",{"$f":"IF(VLOOKUP($A14,'Shift Schedule'!$A$191:$F$225,5,FALSE)=0,\"\",VLOOKUP($A14,'Shift Schedule'!$A$191:$F$225,5,FALSE))","v":""},{"$f":"IF(VLOOKUP($A14,'Shift Schedule'!$A$191:$F$225,6,FALSE)=0,\"\",VLOOKUP($A14,'Shift Schedule'!$A$191:$F$225,6,FALSE))","v":""},"",{"$f":"IF(VLOOKUP($A14,'Shift Schedule'!$A$237:$F$271,5,FALSE)=0,\"\",VLOOKUP($A14,'Shift Schedule'!$A$237:$F$271,5,FALSE))","v":""},{"$f":"IF(VLOOKUP($A14,'Shift Schedule'!$A$237:$F$271,6,FALSE)=0,\"\",VLOOKUP($A14,'Shift Schedule'!$A$237:$F$271,6,FALSE))","v":""},"",{"$f":"IF(VLOOKUP($A14,'Shift Schedule'!$A$283:$F$317,5,FALSE)=0,\"\",VLOOKUP($A14,'Shift Schedule'!$A$283:$F$317,5,FALSE))","v":""},{"$f":"IF(VLOOKUP($A14,'Shift Schedule'!$A$283:$F$317,6,FALSE)=0,\"\",VLOOKUP($A14,'Shift Schedule'!$A$283:$F$317,6,FALSE))","v":""},"","",null,""]
[8,{"$f":"IF(VLOOKUP($A15,'Schedule Setup'!$A$5:$E$39,2,FALSE)=0,\"\",VLOOKUP($A15,'Schedule Setup'!$A$5:$E$39,2,FALSE))","v":""},{"$f":"IF(VLOOKUP($A15,'Schedule Setup'!$A$5:$E$39,4,FALSE)=0,\"\",IF(OR(VLOOKUP($A15,'Schedule Setup'!$A$5:$E$39,4,FALSE)=\"General Manager (H)\", VLOOKUP($A15,'Schedule Setup'!$A$5:$E$39,4,FALSE)=\"General Manager (S)\"),\"General Manager\",VLOOKUP($A15,'Schedule Setup'!$A$5:$E$39,4,FALSE)))","v":""},{"$f":"IF(VLOOKUP($A15,'Shift Schedule'!$A$7:$F$41,5,FALSE)=0,\"\",VLOOKUP($A15,'Shift Schedule'!$A$7:$F$41,5,FALSE))","v":""},{"$f":"IF(VLOOKUP($A15,'Shift Schedule'!$A$7:$F$41,6,FALSE)=0,\"\",VLOOKUP($A15,'Shift Schedule'!$A$7:$F$41,6,FALSE))","v":""},"",{"$f":"IF(VLOOKUP($A15,'Shift Schedule'!$A$53:$F$87,5,FALSE)=0,\"\",VLOOKUP($A15,'Shift Schedule'!$A$53:$F$87,5,FALSE))","v":""},{"$f":"IF(VLOOKUP($A15,'Shift Schedule'!$A$53:$F$87,6,FALSE)=0,\"\",VLOOKUP($A15,'Shift Schedule'!$A$53:$F$87,6,FALSE))","v":""},"",{"$f":"IF(VLOOKUP($A15,'Shift Schedule'!$A$99:$F517,5,FALSE)=0,\"\",VLOOKUP($A15,'Shift Schedule'!$A$99:$F$133,5,FALSE))","v":""},{"$f":"IF(VLOOKUP($A15,'Shift Schedule'!$A$99:$F517,6,FALSE)=0,\"\",VLOOKUP($A15,'Shift Schedule'!$A$99:$F$133,6,FALSE))","v":""},"",{"$f":"IF(VLOOKUP($A15,'Shift Schedule'!$A$145:$F$179,5,FALSE)=0,\"\",VLOOKUP($A15,'Shift Schedule'!$A$145:$F$179,5,FALSE))","v":""},{"$f":"IF(VLOOKUP($A15,'Shift Schedule'!$A$145:$F$179,6,FALSE)=0,\"\",VLOOKUP($A15,'Shift Schedule'!$A$145:$F$179,6,FALSE))","v":""},"",{"$f":"IF(VLOOKUP($A15,'Shift Schedule'!$A$191:$F$225,5,FALSE)=0,\"\",VLOOKUP($A15,'Shift Schedule'!$A$191:$F$225,5,FALSE))","v":""},{"$f":"IF(VLOOKUP($A15,'Shift Schedule'!$A$191:$F$225,6,FALSE)=0,\"\",VLOOKUP($A15,'Shift Schedule'!$A$191:$F$225,6,FALSE))","v":""},"",{"$f":"IF(VLOOKUP($A15,'Shift Schedule'!$A$237:$F$271,5,FALSE)=0,\"\",VLOOKUP($A15,'Shift Schedule'!$A$237:$F$271,5,FALSE))","v":""},{"$f":"IF(VLOOKUP($A15,'Shift Schedule'!$A$237:$F$271,6,FALSE)=0,\"\",VLOOKUP($A15,'Shift Schedule'!$A$237:$F$271,6,FALSE))","v":""},"",{"$f":"IF(VLOOKUP($A15,'Shift Schedule'!$A$283:$F$317,5,FALSE)=0,\"\",VLOOKUP($A15,'Shift Schedule'!$A$283:$F$317,5,FALSE))","v":""},{"$f":"IF(VLOOKUP($A15,'Shift Schedule'!$A$283:$F$317,6,FALSE)=0,\"\",VLOOKUP($A15,'Shift Schedule'!$A$283:$F$317,6,FALSE))","v":""},"","",null,""]
[9,{"$f":"IF(VLOOKUP($A16,'Schedule Setup'!$A$5:$E$39,2,FALSE)=0,\"\",VLOOKUP($A16,'Schedule Setup'!$A$5:$E$39,2,FALSE))","v":""},{"$f":"IF(VLOOKUP($A16,'Schedule Setup'!$A$5:$E$39,4,FALSE)=0,\"\",IF(OR(VLOOKUP($A16,'Schedule Setup'!$A$5:$E$39,4,FALSE)=\"General Manager (H)\", VLOOKUP($A16,'Schedule Setup'!$A$5:$E$39,4,FALSE)=\"General Manager (S)\"),\"General Manager\",VLOOKUP($A16,'Schedule Setup'!$A$5:$E$39,4,FALSE)))","v":""},{"$f":"IF(VLOOKUP($A16,'Shift Schedule'!$A$7:$F$41,5,FALSE)=0,\"\",VLOOKUP($A16,'Shift Schedule'!$A$7:$F$41,5,FALSE))","v":""},{"$f":"IF(VLOOKUP($A16,'Shift Schedule'!$A$7:$F$41,6,FALSE)=0,\"\",VLOOKUP($A16,'Shift Schedule'!$A$7:$F$41,6,FALSE))","v":""},"",{"$f":"IF(VLOOKUP($A16,'Shift Schedule'!$A$53:$F$87,5,FALSE)=0,\"\",VLOOKUP($A16,'Shift Schedule'!$A$53:$F$87,5,FALSE))","v":""},{"$f":"IF(VLOOKUP($A16,'Shift Schedule'!$A$53:$F$87,6,FALSE)=0,\"\",VLOOKUP($A16,'Shift Schedule'!$A$53:$F$87,6,FALSE))","v":""},"",{"$f":"IF(VLOOKUP($A16,'Shift Schedule'!$A$99:$F518,5,FALSE)=0,\"\",VLOOKUP($A16,'Shift Schedule'!$A$99:$F$133,5,FALSE))","v":""},{"$f":"IF(VLOOKUP($A16,'Shift Schedule'!$A$99:$F518,6,FALSE)=0,\"\",VLOOKUP($A16,'Shift Schedule'!$A$99:$F$133,6,FALSE))","v":""},"",{"$f":"IF(VLOOKUP($A16,'Shift Schedule'!$A$145:$F$179,5,FALSE)=0,\"\",VLOOKUP($A16,'Shift Schedule'!$A$145:$F$179,5,FALSE))","v":""},{"$f":"IF(VLOOKUP($A16,'Shift Schedule'!$A$145:$F$179,6,FALSE)=0,\"\",VLOOKUP($A16,'Shift Schedule'!$A$145:$F$179,6,FALSE))","v":""},"",{"$f":"IF(VLOOKUP($A16,'Shift Schedule'!$A$191:$F$225,5,FALSE)=0,\"\",VLOOKUP($A16,'Shift Schedule'!$A$191:$F$225,5,FALSE))","v":""},{"$f":"IF(VLOOKUP($A16,'Shift Schedule'!$A$191:$F$225,6,FALSE)=0,\"\",VLOOKUP($A16,'Shift Schedule'!$A$191:$F$225,6,FALSE))","v":""},"",{"$f":"IF(VLOOKUP($A16,'Shift Schedule'!$A$237:$F$271,5,FALSE)=0,\"\",VLOOKUP($A16,'Shift Schedule'!$A$237:$F$271,5,FALSE))","v":""},{"$f":"IF(VLOOKUP($A16,'Shift Schedule'!$A$237:$F$271,6,FALSE)=0,\"\",VLOOKUP($A16,'Shift Schedule'!$A$237:$F$271,6,FALSE))","v":""},"",{"$f":"IF(VLOOKUP($A16,'Shift Schedule'!$A$283:$F$317,5,FALSE)=0,\"\",VLOOKUP($A16,'Shift Schedule'!$A$283:$F$317,5,FALSE))","v":""},{"$f":"IF(VLOOKUP($A16,'Shift Schedule'!$A$283:$F$317,6,FALSE)=0,\"\",VLOOKUP($A16,'Shift Schedule'!$A$283:$F$317,6,FALSE))","v":""},"","",null,""]
[10,{"$f":"IF(VLOOKUP($A17,'Schedule Setup'!$A$5:$E$39,2,FALSE)=0,\"\",VLOOKUP($A17,'Schedule Setup'!$A$5:$E$39,2,FALSE))","v":""},{"$f":"IF(VLOOKUP($A17,'Schedule Setup'!$A$5:$E$39,4,FALSE)=0,\"\",IF(OR(VLOOKUP($A17,'Schedule Setup'!$A$5:$E$39,4,FALSE)=\"General Manager (H)\", VLOOKUP($A17,'Schedule Setup'!$A$5:$E$39,4,FALSE)=\"General Manager (S)\"),\"General Manager\",VLOOKUP($A17,'Schedule Setup'!$A$5:$E$39,4,FALSE)))","v":""},{"$f":"IF(VLOOKUP($A17,'Shift Schedule'!$A$7:$F$41,5,FALSE)=0,\"\",VLOOKUP($A17,'Shift Schedule'!$A$7:$F$41,5,FALSE))","v":""},{"$f":"IF(VLOOKUP($A17,'Shift Schedule'!$A$7:$F$41,6,FALSE)=0,\"\",VLOOKUP($A17,'Shift Schedule'!$A$7:$F$41,6,FALSE))","v":""},"",{"$f":"IF(VLOOKUP($A17,'Shift Schedule'!$A$53:$F$87,5,FALSE)=0,\"\",VLOOKUP($A17,'Shift Schedule'!$A$53:$F$87,5,FALSE))","v":""},{"$f":"IF(VLOOKUP($A17,'Shift Schedule'!$A$53:$F$87,6,FALSE)=0,\"\",VLOOKUP($A17,'Shift Schedule'!$A$53:$F$87,6,FALSE))","v":""},"",{"$f":"IF(VLOOKUP($A17,'Shift Schedule'!$A$99:$F519,5,FALSE)=0,\"\",VLOOKUP($A17,'Shift Schedule'!$A$99:$F$133,5,FALSE))","v":""},{"$f":"IF(VLOOKUP($A17,'Shift Schedule'!$A$99:$F519,6,FALSE)=0,\"\",VLOOKUP($A17,'Shift Schedule'!$A$99:$F$133,6,FALSE))","v":""},"",{"$f":"IF(VLOOKUP($A17,'Shift Schedule'!$A$145:$F$179,5,FALSE)=0,\"\",VLOOKUP($A17,'Shift Schedule'!$A$145:$F$179,5,FALSE))","v":""},{"$f":"IF(VLOOKUP($A17,'Shift Schedule'!$A$145:$F$179,6,FALSE)=0,\"\",VLOOKUP($A17,'Shift Schedule'!$A$145:$F$179,6,FALSE))","v":""},"",{"$f":"IF(VLOOKUP($A17,'Shift Schedule'!$A$191:$F$225,5,FALSE)=0,\"\",VLOOKUP($A17,'Shift Schedule'!$A$191:$F$225,5,FALSE))","v":""},{"$f":"IF(VLOOKUP($A17,'Shift Schedule'!$A$191:$F$225,6,FALSE)=0,\"\",VLOOKUP($A17,'Shift Schedule'!$A$191:$F$225,6,FALSE))","v":""},"",{"$f":"IF(VLOOKUP($A17,'Shift Schedule'!$A$237:$F$271,5,FALSE)=0,\"\",VLOOKUP($A17,'Shift Schedule'!$A$237:$F$271,5,FALSE))","v":""},{"$f":"IF(VLOOKUP($A17,'Shift Schedule'!$A$237:$F$271,6,FALSE)=0,\"\",VLOOKUP($A17,'Shift Schedule'!$A$237:$F$271,6,FALSE))","v":""},"",{"$f":"IF(VLOOKUP($A17,'Shift Schedule'!$A$283:$F$317,5,FALSE)=0,\"\",VLOOKUP($A17,'Shift Schedule'!$A$283:$F$317,5,FALSE))","v":""},{"$f":"IF(VLOOKUP($A17,'Shift Schedule'!$A$283:$F$317,6,FALSE)=0,\"\",VLOOKUP($A17,'Shift Schedule'!$A$283:$F$317,6,FALSE))","v":""},"","",null,""]
[11,{"$f":"IF(VLOOKUP($A18,'Schedule Setup'!$A$5:$E$39,2,FALSE)=0,\"\",VLOOKUP($A18,'Schedule Setup'!$A$5:$E$39,2,FALSE))","v":""},{"$f":"IF(VLOOKUP($A18,'Schedule Setup'!$A$5:$E$39,4,FALSE)=0,\"\",IF(OR(VLOOKUP($A18,'Schedule Setup'!$A$5:$E$39,4,FALSE)=\"General Manager (H)\", VLOOKUP($A18,'Schedule Setup'!$A$5:$E$39,4,FALSE)=\"General Manager (S)\"),\"General Manager\",VLOOKUP($A18,'Schedule Setup'!$A$5:$E$39,4,FALSE)))","v":""},{"$f":"IF(VLOOKUP($A18,'Shift Schedule'!$A$7:$F$41,5,FALSE)=0,\"\",VLOOKUP($A18,'Shift Schedule'!$A$7:$F$41,5,FALSE))","v":""},{"$f":"IF(VLOOKUP($A18,'Shift Schedule'!$A$7:$F$41,6,FALSE)=0,\"\",VLOOKUP($A18,'Shift Schedule'!$A$7:$F$41,6,FALSE))","v":""},"",{"$f":"IF(VLOOKUP($A18,'Shift Schedule'!$A$53:$F$87,5,FALSE)=0,\"\",VLOOKUP($A18,'Shift Schedule'!$A$53:$F$87,5,FALSE))","v":""},{"$f":"IF(VLOOKUP($A18,'Shift Schedule'!$A$53:$F$87,6,FALSE)=0,\"\",VLOOKUP($A18,'Shift Schedule'!$A$53:$F$87,6,FALSE))","v":""},"",{"$f":"IF(VLOOKUP($A18,'Shift Schedule'!$A$99:$F520,5,FALSE)=0,\"\",VLOOKUP($A18,'Shift Schedule'!$A$99:$F$133,5,FALSE))","v":""},{"$f":"IF(VLOOKUP($A18,'Shift Schedule'!$A$99:$F520,6,FALSE)=0,\"\",VLOOKUP($A18,'Shift Schedule'!$A$99:$F$133,6,FALSE))","v":""},"",{"$f":"IF(VLOOKUP($A18,'Shift Schedule'!$A$145:$F$179,5,FALSE)=0,\"\",VLOOKUP($A18,'Shift Schedule'!$A$145:$F$179,5,FALSE))","v":""},{"$f":"IF(VLOOKUP($A18,'Shift Schedule'!$A$145:$F$179,6,FALSE)=0,\"\",VLOOKUP($A18,'Shift Schedule'!$A$145:$F$179,6,FALSE))","v":""},"",{"$f":"IF(VLOOKUP($A18,'Shift Schedule'!$A$191:$F$225,5,FALSE)=0,\"\",VLOOKUP($A18,'Shift Schedule'!$A$191:$F$225,5,FALSE))","v":""},{"$f":"IF(VLOOKUP($A18,'Shift Schedule'!$A$191:$F$225,6,FALSE)=0,\"\",VLOOKUP($A18,'Shift Schedule'!$A$191:$F$225,6,FALSE))","v":""},"",{"$f":"IF(VLOOKUP($A18,'Shift Schedule'!$A$237:$F$271,5,FALSE)=0,\"\",VLOOKUP($A18,'Shift Schedule'!$A$237:$F$271,5,FALSE))","v":""},{"$f":"IF(VLOOKUP($A18,'Shift Schedule'!$A$237:$F$271,6,FALSE)=0,\"\",VLOOKUP($A18,'Shift Schedule'!$A$237:$F$271,6,FALSE))","v":""},"",{"$f":"IF(VLOOKUP($A18,'Shift Schedule'!$A$283:$F$317,5,FALSE)=0,\"\",VLOOKUP($A18,'Shift Schedule'!$A$283:$F$317,5,FALSE))","v":""},{"$f":"IF(VLOOKUP($A18,'Shift Schedule'!$A$283:$F$317,6,FALSE)=0,\"\",VLOOKUP($A18,'Shift Schedule'!$A$283:$F$317,6,FALSE))","v":""},"","",null,""]
[12,{"$f":"IF(VLOOKUP($A19,'Schedule Setup'!$A$5:$E$39,2,FALSE)=0,\"\",VLOOKUP($A19,'Schedule Setup'!$A$5:$E$39,2,FALSE))","v":""},{"$f":"IF(VLOOKUP($A19,'Schedule Setup'!$A$5:$E$39,4,FALSE)=0,\"\",IF(OR(VLOOKUP($A19,'Schedule Setup'!$A$5:$E$39,4,FALSE)=\"General Manager (H)\", VLOOKUP($A19,'Schedule Setup'!$A$5:$E$39,4,FALSE)=\"General Manager (S)\"),\"General Manager\",VLOOKUP($A19,'Schedule Setup'!$A$5:$E$39,4,FALSE)))","v":""},{"$f":"IF(VLOOKUP($A19,'Shift Schedule'!$A$7:$F$41,5,FALSE)=0,\"\",VLOOKUP($A19,'Shift Schedule'!$A$7:$F$41,5,FALSE))","v":""},{"$f":"IF(VLOOKUP($A19,'Shift Schedule'!$A$7:$F$41,6,FALSE)=0,\"\",VLOOKUP($A19,'Shift Schedule'!$A$7:$F$41,6,FALSE))","v":""},"",{"$f":"IF(VLOOKUP($A19,'Shift Schedule'!$A$53:$F$87,5,FALSE)=0,\"\",VLOOKUP($A19,'Shift Schedule'!$A$53:$F$87,5,FALSE))","v":""},{"$f":"IF(VLOOKUP($A19,'Shift Schedule'!$A$53:$F$87,6,FALSE)=0,\"\",VLOOKUP($A19,'Shift Schedule'!$A$53:$F$87,6,FALSE))","v":""},"",{"$f":"IF(VLOOKUP($A19,'Shift Schedule'!$A$99:$F521,5,FALSE)=0,\"\",VLOOKUP($A19,'Shift Schedule'!$A$99:$F$133,5,FALSE))","v":""},{"$f":"IF(VLOOKUP($A19,'Shift Schedule'!$A$99:$F521,6,FALSE)=0,\"\",VLOOKUP($A19,'Shift Schedule'!$A$99:$F$133,6,FALSE))","v":""},"",{"$f":"IF(VLOOKUP($A19,'Shift Schedule'!$A$145:$F$179,5,FALSE)=0,\"\",VLOOKUP($A19,'Shift Schedule'!$A$145:$F$179,5,FALSE))","v":""},{"$f":"IF(VLOOKUP($A19,'Shift Schedule'!$A$145:$F$179,6,FALSE)=0,\"\",VLOOKUP($A19,'Shift Schedule'!$A$145:$F$179,6,FALSE))","v":""},"",{"$f":"IF(VLOOKUP($A19,'Shift Schedule'!$A$191:$F$225,5,FALSE)=0,\"\",VLOOKUP($A19,'Shift Schedule'!$A$191:$F$225,5,FALSE))","v":""},{"$f":"IF(VLOOKUP($A19,'Shift Schedule'!$A$191:$F$225,6,FALSE)=0,\"\",VLOOKUP($A19,'Shift Schedule'!$A$191:$F$225,6,FALSE))","v":""},"",{"$f":"IF(VLOOKUP($A19,'Shift Schedule'!$A$237:$F$271,5,FALSE)=0,\"\",VLOOKUP($A19,'Shift Schedule'!$A$237:$F$271,5,FALSE))","v":""},{"$f":"IF(VLOOKUP($A19,'Shift Schedule'!$A$237:$F$271,6,FALSE)=0,\"\",VLOOKUP($A19,'Shift Schedule'!$A$237:$F$271,6,FALSE))","v":""},"",{"$f":"IF(VLOOKUP($A19,'Shift Schedule'!$A$283:$F$317,5,FALSE)=0,\"\",VLOOKUP($A19,'Shift Schedule'!$A$283:$F$317,5,FALSE))","v":""},{"$f":"IF(VLOOKUP($A19,'Shift Schedule'!$A$283:$F$317,6,FALSE)=0,\"\",VLOOKUP($A19,'Shift Schedule'!$A$283:$F$317,6,FALSE))","v":""},"","",null,""]
[13,{"$f":"IF(VLOOKUP($A20,'Schedule Setup'!$A$5:$E$39,2,FALSE)=0,\"\",VLOOKUP($A20,'Schedule Setup'!$A$5:$E$39,2,FALSE))","v":""},{"$f":"IF(VLOOKUP($A20,'Schedule Setup'!$A$5:$E$39,4,FALSE)=0,\"\",IF(OR(VLOOKUP($A20,'Schedule Setup'!$A$5:$E$39,4,FALSE)=\"General Manager (H)\", VLOOKUP($A20,'Schedule Setup'!$A$5:$E$39,4,FALSE)=\"General Manager (S)\"),\"General Manager\",VLOOKUP($A20,'Schedule Setup'!$A$5:$E$39,4,FALSE)))","v":""},{"$f":"IF(VLOOKUP($A20,'Shift Schedule'!$A$7:$F$41,5,FALSE)=0,\"\",VLOOKUP($A20,'Shift Schedule'!$A$7:$F$41,5,FALSE))","v":""},{"$f":"IF(VLOOKUP($A20,'Shift Schedule'!$A$7:$F$41,6,FALSE)=0,\"\",VLOOKUP($A20,'Shift Schedule'!$A$7:$F$41,6,FALSE))","v":""},"",{"$f":"IF(VLOOKUP($A20,'Shift Schedule'!$A$53:$F$87,5,FALSE)=0,\"\",VLOOKUP($A20,'Shift Schedule'!$A$53:$F$87,5,FALSE))","v":""},{"$f":"IF(VLOOKUP($A20,'Shift Schedule'!$A$53:$F$87,6,FALSE)=0,\"\",VLOOKUP($A20,'Shift Schedule'!$A$53:$F$87,6,FALSE))","v":""},"",{"$f":"IF(VLOOKUP($A20,'Shift Schedule'!$A$99:$F522,5,FALSE)=0,\"\",VLOOKUP($A20,'Shift Schedule'!$A$99:$F$133,5,FALSE))","v":""},{"$f":"IF(VLOOKUP($A20,'Shift Schedule'!$A$99:$F522,6,FALSE)=0,\"\",VLOOKUP($A20,'Shift Schedule'!$A$99:$F$133,6,FALSE))","v":""},"",{"$f":"IF(VLOOKUP($A20,'Shift Schedule'!$A$145:$F$179,5,FALSE)=0,\"\",VLOOKUP($A20,'Shift Schedule'!$A$145:$F$179,5,FALSE))","v":""},{"$f":"IF(VLOOKUP($A20,'Shift Schedule'!$A$145:$F$179,6,FALSE)=0,\"\",VLOOKUP($A20,'Shift Schedule'!$A$145:$F$179,6,FALSE))","v":""},"",{"$f":"IF(VLOOKUP($A20,'Shift Schedule'!$A$191:$F$225,5,FALSE)=0,\"\",VLOOKUP($A20,'Shift Schedule'!$A$191:$F$225,5,FALSE))","v":""},{"$f":"IF(VLOOKUP($A20,'Shift Schedule'!$A$191:$F$225,6,FALSE)=0,\"\",VLOOKUP($A20,'Shift Schedule'!$A$191:$F$225,6,FALSE))","v":""},"",{"$f":"IF(VLOOKUP($A20,'Shift Schedule'!$A$237:$F$271,5,FALSE)=0,\"\",VLOOKUP($A20,'Shift Schedule'!$A$237:$F$271,5,FALSE))","v":""},{"$f":"IF(VLOOKUP($A20,'Shift Schedule'!$A$237:$F$271,6,FALSE)=0,\"\",VLOOKUP($A20,'Shift Schedule'!$A$237:$F$271,6,FALSE))","v":""},"",{"$f":"IF(VLOOKUP($A20,'Shift Schedule'!$A$283:$F$317,5,FALSE)=0,\"\",VLOOKUP($A20,'Shift Schedule'!$A$283:$F$317,5,FALSE))","v":""},{"$f":"IF(VLOOKUP($A20,'Shift Schedule'!$A$283:$F$317,6,FALSE)=0,\"\",VLOOKUP($A20,'Shift Schedule'!$A$283:$F$317,6,FALSE))","v":""},"","",null,""]
[14,{"$f":"IF(VLOOKUP($A21,'Schedule Setup'!$A$5:$E$39,2,FALSE)=0,\"\",VLOOKUP($A21,'Schedule Setup'!$A$5:$E$39,2,FALSE))","v":""},{"$f":"IF(VLOOKUP($A21,'Schedule Setup'!$A$5:$E$39,4,FALSE)=0,\"\",IF(OR(VLOOKUP($A21,'Schedule Setup'!$A$5:$E$39,4,FALSE)=\"General Manager (H)\", VLOOKUP($A21,'Schedule Setup'!$A$5:$E$39,4,FALSE)=\"General Manager (S)\"),\"General Manager\",VLOOKUP($A21,'Schedule Setup'!$A$5:$E$39,4,FALSE)))","v":""},{"$f":"IF(VLOOKUP($A21,'Shift Schedule'!$A$7:$F$41,5,FALSE)=0,\"\",VLOOKUP($A21,'Shift Schedule'!$A$7:$F$41,5,FALSE))","v":""},{"$f":"IF(VLOOKUP($A21,'Shift Schedule'!$A$7:$F$41,6,FALSE)=0,\"\",VLOOKUP($A21,'Shift Schedule'!$A$7:$F$41,6,FALSE))","v":""},"",{"$f":"IF(VLOOKUP($A21,'Shift Schedule'!$A$53:$F$87,5,FALSE)=0,\"\",VLOOKUP($A21,'Shift Schedule'!$A$53:$F$87,5,FALSE))","v":""},{"$f":"IF(VLOOKUP($A21,'Shift Schedule'!$A$53:$F$87,6,FALSE)=0,\"\",VLOOKUP($A21,'Shift Schedule'!$A$53:$F$87,6,FALSE))","v":""},"",{"$f":"IF(VLOOKUP($A21,'Shift Schedule'!$A$99:$F523,5,FALSE)=0,\"\",VLOOKUP($A21,'Shift Schedule'!$A$99:$F$133,5,FALSE))","v":""},{"$f":"IF(VLOOKUP($A21,'Shift Schedule'!$A$99:$F523,6,FALSE)=0,\"\",VLOOKUP($A21,'Shift Schedule'!$A$99:$F$133,6,FALSE))","v":""},"",{"$f":"IF(VLOOKUP($A21,'Shift Schedule'!$A$145:$F$179,5,FALSE)=0,\"\",VLOOKUP($A21,'Shift Schedule'!$A$145:$F$179,5,FALSE))","v":""},{"$f":"IF(VLOOKUP($A21,'Shift Schedule'!$A$145:$F$179,6,FALSE)=0,\"\",VLOOKUP($A21,'Shift Schedule'!$A$145:$F$179,6,FALSE))","v":""},"",{"$f":"IF(VLOOKUP($A21,'Shift Schedule'!$A$191:$F$225,5,FALSE)=0,\"\",VLOOKUP($A21,'Shift Schedule'!$A$191:$F$225,5,FALSE))","v":""},{"$f":"IF(VLOOKUP($A21,'Shift Schedule'!$A$191:$F$225,6,FALSE)=0,\"\",VLOOKUP($A21,'Shift Schedule'!$A$191:$F$225,6,FALSE))","v":""},"",{"$f":"IF(VLOOKUP($A21,'Shift Schedule'!$A$237:$F$271,5,FALSE)=0,\"\",VLOOKUP($A21,'Shift Schedule'!$A$237:$F$271,5,FALSE))","v":""},{"$f":"IF(VLOOKUP($A21,'Shift Schedule'!$A$237:$F$271,6,FALSE)=0,\"\",VLOOKUP($A21,'Shift Schedule'!$A$237:$F$271,6,FALSE))","v":""},"",{"$f":"IF(VLOOKUP($A21,'Shift Schedule'!$A$283:$F$317,5,FALSE)=0,\"\",VLOOKUP($A21,'Shift Schedule'!$A$283:$F$317,5,FALSE))","v":""},{"$f":"IF(VLOOKUP($A21,'Shift Schedule'!$A$283:$F$317,6,FALSE)=0,\"\",VLOOKUP($A21,'Shift Schedule'!$A$283:$F$317,6,FALSE))","v":""},"","",null,""]
[15,{"$f":"IF(VLOOKUP($A22,'Schedule Setup'!$A$5:$E$39,2,FALSE)=0,\"\",VLOOKUP($A22,'Schedule Setup'!$A$5:$E$39,2,FALSE))","v":""},{"$f":"IF(VLOOKUP($A22,'Schedule Setup'!$A$5:$E$39,4,FALSE)=0,\"\",IF(OR(VLOOKUP($A22,'Schedule Setup'!$A$5:$E$39,4,FALSE)=\"General Manager (H)\", VLOOKUP($A22,'Schedule Setup'!$A$5:$E$39,4,FALSE)=\"General Manager (S)\"),\"General Manager\",VLOOKUP($A22,'Schedule Setup'!$A$5:$E$39,4,FALSE)))","v":""},{"$f":"IF(VLOOKUP($A22,'Shift Schedule'!$A$7:$F$41,5,FALSE)=0,\"\",VLOOKUP($A22,'Shift Schedule'!$A$7:$F$41,5,FALSE))","v":""},{"$f":"IF(VLOOKUP($A22,'Shift Schedule'!$A$7:$F$41,6,FALSE)=0,\"\",VLOOKUP($A22,'Shift Schedule'!$A$7:$F$41,6,FALSE))","v":""},"",{"$f":"IF(VLOOKUP($A22,'Shift Schedule'!$A$53:$F$87,5,FALSE)=0,\"\",VLOOKUP($A22,'Shift Schedule'!$A$53:$F$87,5,FALSE))","v":""},{"$f":"IF(VLOOKUP($A22,'Shift Schedule'!$A$53:$F$87,6,FALSE)=0,\"\",VLOOKUP($A22,'Shift Schedule'!$A$53:$F$87,6,FALSE))","v":""},"",{"$f":"IF(VLOOKUP($A22,'Shift Schedule'!$A$99:$F524,5,FALSE)=0,\"\",VLOOKUP($A22,'Shift Schedule'!$A$99:$F$133,5,FALSE))","v":""},{"$f":"IF(VLOOKUP($A22,'Shift Schedule'!$A$99:$F524,6,FALSE)=0,\"\",VLOOKUP($A22,'Shift Schedule'!$A$99:$F$133,6,FALSE))","v":""},"",{"$f":"IF(VLOOKUP($A22,'Shift Schedule'!$A$145:$F$179,5,FALSE)=0,\"\",VLOOKUP($A22,'Shift Schedule'!$A$145:$F$179,5,FALSE))","v":""},{"$f":"IF(VLOOKUP($A22,'Shift Schedule'!$A$145:$F$179,6,FALSE)=0,\"\",VLOOKUP($A22,'Shift Schedule'!$A$145:$F$179,6,FALSE))","v":""},"",{"$f":"IF(VLOOKUP($A22,'Shift Schedule'!$A$191:$F$225,5,FALSE)=0,\"\",VLOOKUP($A22,'Shift Schedule'!$A$191:$F$225,5,FALSE))","v":""},{"$f":"IF(VLOOKUP($A22,'Shift Schedule'!$A$191:$F$225,6,FALSE)=0,\"\",VLOOKUP($A22,'Shift Schedule'!$A$191:$F$225,6,FALSE))","v":""},"",{"$f":"IF(VLOOKUP($A22,'Shift Schedule'!$A$237:$F$271,5,FALSE)=0,\"\",VLOOKUP($A22,'Shift Schedule'!$A$237:$F$271,5,FALSE))","v":""},{"$f":"IF(VLOOKUP($A22,'Shift Schedule'!$A$237:$F$271,6,FALSE)=0,\"\",VLOOKUP($A22,'Shift Schedule'!$A$237:$F$271,6,FALSE))","v":""},"",{"$f":"IF(VLOOKUP($A22,'Shift Schedule'!$A$283:$F$317,5,FALSE)=0,\"\",VLOOKUP($A22,'Shift Schedule'!$A$283:$F$317,5,FALSE))","v":""},{"$f":"IF(VLOOKUP($A22,'Shift Schedule'!$A$283:$F$317,6,FALSE)=0,\"\",VLOOKUP($A22,'Shift Schedule'!$A$283:$F$317,6,FALSE))","v":""},"","",null,""]
[16,{"$f":"IF(VLOOKUP($A23,'Schedule Setup'!$A$5:$E$39,2,FALSE)=0,\"\",VLOOKUP($A23,'Schedule Setup'!$A$5:$E$39,2,FALSE))","v":""},{"$f":"IF(VLOOKUP($A23,'Schedule Setup'!$A$5:$E$39,4,FALSE)=0,\"\",IF(OR(VLOOKUP($A23,'Schedule Setup'!$A$5:$E$39,4,FALSE)=\"General Manager (H)\", VLOOKUP($A23,'Schedule Setup'!$A$5:$E$39,4,FALSE)=\"General Manager (S)\"),\"General Manager\",VLOOKUP($A23,'Schedule Setup'!$A$5:$E$39,4,FALSE)))","v":""},{"$f":"IF(VLOOKUP($A23,'Shift Schedule'!$A$7:$F$41,5,FALSE)=0,\"\",VLOOKUP($A23,'Shift Schedule'!$A$7:$F$41,5,FALSE))","v":""},{"$f":"IF(VLOOKUP($A23,'Shift Schedule'!$A$7:$F$41,6,FALSE)=0,\"\",VLOOKUP($A23,'Shift Schedule'!$A$7:$F$41,6,FALSE))","v":""},"",{"$f":"IF(VLOOKUP($A23,'Shift Schedule'!$A$53:$F$87,5,FALSE)=0,\"\",VLOOKUP($A23,'Shift Schedule'!$A$53:$F$87,5,FALSE))","v":""},{"$f":"IF(VLOOKUP($A23,'Shift Schedule'!$A$53:$F$87,6,FALSE)=0,\"\",VLOOKUP($A23,'Shift Schedule'!$A$53:$F$87,6,FALSE))","v":""},"",{"$f":"IF(VLOOKUP($A23,'Shift Schedule'!$A$99:$F525,5,FALSE)=0,\"\",VLOOKUP($A23,'Shift Schedule'!$A$99:$F$133,5,FALSE))","v":""},{"$f":"IF(VLOOKUP($A23,'Shift Schedule'!$A$99:$F525,6,FALSE)=0,\"\",VLOOKUP($A23,'Shift Schedule'!$A$99:$F$133,6,FALSE))","v":""},"",{"$f":"IF(VLOOKUP($A23,'Shift Schedule'!$A$145:$F$179,5,FALSE)=0,\"\",VLOOKUP($A23,'Shift Schedule'!$A$145:$F$179,5,FALSE))","v":""},{"$f":"IF(VLOOKUP($A23,'Shift Schedule'!$A$145:$F$179,6,FALSE)=0,\"\",VLOOKUP($A23,'Shift Schedule'!$A$145:$F$179,6,FALSE))","v":""},"",{"$f":"IF(VLOOKUP($A23,'Shift Schedule'!$A$191:$F$225,5,FALSE)=0,\"\",VLOOKUP($A23,'Shift Schedule'!$A$191:$F$225,5,FALSE))","v":""},{"$f":"IF(VLOOKUP($A23,'Shift Schedule'!$A$191:$F$225,6,FALSE)=0,\"\",VLOOKUP($A23,'Shift Schedule'!$A$191:$F$225,6,FALSE))","v":""},"",{"$f":"IF(VLOOKUP($A23,'Shift Schedule'!$A$237:$F$271,5,FALSE)=0,\"\",VLOOKUP($A23,'Shift Schedule'!$A$237:$F$271,5,FALSE))","v":""},{"$f":"IF(VLOOKUP($A23,'Shift Schedule'!$A$237:$F$271,6,FALSE)=0,\"\",VLOOKUP($A23,'Shift Schedule'!$A$237:$F$271,6,FALSE))","v":""},"",{"$f":"IF(VLOOKUP($A23,'Shift Schedule'!$A$283:$F$317,5,FALSE)=0,\"\",VLOOKUP($A23,'Shift Schedule'!$A$283:$F$317,5,FALSE))","v":""},{"$f":"IF(VLOOKUP($A23,'Shift Schedule'!$A$283:$F$317,6,FALSE)=0,\"\",VLOOKUP($A23,'Shift Schedule'!$A$283:$F$317,6,FALSE))","v":""},"","",null,""]
[17,{"$f":"IF(VLOOKUP($A24,'Schedule Setup'!$A$5:$E$39,2,FALSE)=0,\"\",VLOOKUP($A24,'Schedule Setup'!$A$5:$E$39,2,FALSE))","v":""},{"$f":"IF(VLOOKUP($A24,'Schedule Setup'!$A$5:$E$39,4,FALSE)=0,\"\",IF(OR(VLOOKUP($A24,'Schedule Setup'!$A$5:$E$39,4,FALSE)=\"General Manager (H)\", VLOOKUP($A24,'Schedule Setup'!$A$5:$E$39,4,FALSE)=\"General Manager (S)\"),\"General Manager\",VLOOKUP($A24,'Schedule Setup'!$A$5:$E$39,4,FALSE)))","v":""},{"$f":"IF(VLOOKUP($A24,'Shift Schedule'!$A$7:$F$41,5,FALSE)=0,\"\",VLOOKUP($A24,'Shift Schedule'!$A$7:$F$41,5,FALSE))","v":""},{"$f":"IF(VLOOKUP($A24,'Shift Schedule'!$A$7:$F$41,6,FALSE)=0,\"\",VLOOKUP($A24,'Shift Schedule'!$A$7:$F$41,6,FALSE))","v":""},"",{"$f":"IF(VLOOKUP($A24,'Shift Schedule'!$A$53:$F$87,5,FALSE)=0,\"\",VLOOKUP($A24,'Shift Schedule'!$A$53:$F$87,5,FALSE))","v":""},{"$f":"IF(VLOOKUP($A24,'Shift Schedule'!$A$53:$F$87,6,FALSE)=0,\"\",VLOOKUP($A24,'Shift Schedule'!$A$53:$F$87,6,FALSE))","v":""},"",{"$f":"IF(VLOOKUP($A24,'Shift Schedule'!$A$99:$F526,5,FALSE)=0,\"\",VLOOKUP($A24,'Shift Schedule'!$A$99:$F$133,5,FALSE))","v":""},{"$f":"IF(VLOOKUP($A24,'Shift Schedule'!$A$99:$F526,6,FALSE)=0,\"\",VLOOKUP($A24,'Shift Schedule'!$A$99:$F$133,6,FALSE))","v":""},"",{"$f":"IF(VLOOKUP($A24,'Shift Schedule'!$A$145:$F$179,5,FALSE)=0,\"\",VLOOKUP($A24,'Shift Schedule'!$A$145:$F$179,5,FALSE))","v":""},{"$f":"IF(VLOOKUP($A24,'Shift Schedule'!$A$145:$F$179,6,FALSE)=0,\"\",VLOOKUP($A24,'Shift Schedule'!$A$145:$F$179,6,FALSE))","v":""},"",{"$f":"IF(VLOOKUP($A24,'Shift Schedule'!$A$191:$F$225,5,FALSE)=0,\"\",VLOOKUP($A24,'Shift Schedule'!$A$191:$F$225,5,FALSE))","v":""},{"$f":"IF(VLOOKUP($A24,'Shift Schedule'!$A$191:$F$225,6,FALSE)=0,\"\",VLOOKUP($A24,'Shift Schedule'!$A$191:$F$225,6,FALSE))","v":""},"",{"$f":"IF(VLOOKUP($A24,'Shift Schedule'!$A$237:$F$271,5,FALSE)=0,\"\",VLOOKUP($A24,'Shift Schedule'!$A$237:$F$271,5,FALSE))","v":""},{"$f":"IF(VLOOKUP($A24,'Shift Schedule'!$A$237:$F$271,6,FALSE)=0,\"\",VLOOKUP($A24,'Shift Schedule'!$A$237:$F$271,6,FALSE))","v":""},"",{"$f":"IF(VLOOKUP($A24,'Shift Schedule'!$A$283:$F$317,5,FALSE)=0,\"\",VLOOKUP($A24,'Shift Schedule'!$A$283:$F$317,5,FALSE))","v":""},{"$f":"IF(VLOOKUP($A24,'Shift Schedule'!$A$283:$F$317,6,FALSE)=0,\"\",VLOOKUP($A24,'Shift Schedule'!$A$283:$F$317,6,FALSE))","v":""},"","",null,""]
[18,{"$f":"IF(VLOOKUP($A25,'Schedule Setup'!$A$5:$E$39,2,FALSE)=0,\"\",VLOOKUP($A25,'Schedule Setup'!$A$5:$E$39,2,FALSE))","v":""},{"$f":"IF(VLOOKUP($A25,'Schedule Setup'!$A$5:$E$39,4,FALSE)=0,\"\",IF(OR(VLOOKUP($A25,'Schedule Setup'!$A$5:$E$39,4,FALSE)=\"General Manager (H)\", VLOOKUP($A25,'Schedule Setup'!$A$5:$E$39,4,FALSE)=\"General Manager (S)\"),\"General Manager\",VLOOKUP($A25,'Schedule Setup'!$A$5:$E$39,4,FALSE)))","v":""},{"$f":"IF(VLOOKUP($A25,'Shift Schedule'!$A$7:$F$41,5,FALSE)=0,\"\",VLOOKUP($A25,'Shift Schedule'!$A$7:$F$41,5,FALSE))","v":""},{"$f":"IF(VLOOKUP($A25,'Shift Schedule'!$A$7:$F$41,6,FALSE)=0,\"\",VLOOKUP($A25,'Shift Schedule'!$A$7:$F$41,6,FALSE))","v":""},"",{"$f":"IF(VLOOKUP($A25,'Shift Schedule'!$A$53:$F$87,5,FALSE)=0,\"\",VLOOKUP($A25,'Shift Schedule'!$A$53:$F$87,5,FALSE))","v":""},{"$f":"IF(VLOOKUP($A25,'Shift Schedule'!$A$53:$F$87,6,FALSE)=0,\"\",VLOOKUP($A25,'Shift Schedule'!$A$53:$F$87,6,FALSE))","v":""},"",{"$f":"IF(VLOOKUP($A25,'Shift Schedule'!$A$99:$F527,5,FALSE)=0,\"\",VLOOKUP($A25,'Shift Schedule'!$A$99:$F$133,5,FALSE))","v":""},{"$f":"IF(VLOOKUP($A25,'Shift Schedule'!$A$99:$F527,6,FALSE)=0,\"\",VLOOKUP($A25,'Shift Schedule'!$A$99:$F$133,6,FALSE))","v":""},"",{"$f":"IF(VLOOKUP($A25,'Shift Schedule'!$A$145:$F$179,5,FALSE)=0,\"\",VLOOKUP($A25,'Shift Schedule'!$A$145:$F$179,5,FALSE))","v":""},{"$f":"IF(VLOOKUP($A25,'Shift Schedule'!$A$145:$F$179,6,FALSE)=0,\"\",VLOOKUP($A25,'Shift Schedule'!$A$145:$F$179,6,FALSE))","v":""},"",{"$f":"IF(VLOOKUP($A25,'Shift Schedule'!$A$191:$F$225,5,FALSE)=0,\"\",VLOOKUP($A25,'Shift Schedule'!$A$191:$F$225,5,FALSE))","v":""},{"$f":"IF(VLOOKUP($A25,'Shift Schedule'!$A$191:$F$225,6,FALSE)=0,\"\",VLOOKUP($A25,'Shift Schedule'!$A$191:$F$225,6,FALSE))","v":""},"",{"$f":"IF(VLOOKUP($A25,'Shift Schedule'!$A$237:$F$271,5,FALSE)=0,\"\",VLOOKUP($A25,'Shift Schedule'!$A$237:$F$271,5,FALSE))","v":""},{"$f":"IF(VLOOKUP($A25,'Shift Schedule'!$A$237:$F$271,6,FALSE)=0,\"\",VLOOKUP($A25,'Shift Schedule'!$A$237:$F$271,6,FALSE))","v":""},"",{"$f":"IF(VLOOKUP($A25,'Shift Schedule'!$A$283:$F$317,5,FALSE)=0,\"\",VLOOKUP($A25,'Shift Schedule'!$A$283:$F$317,5,FALSE))","v":""},{"$f":"IF(VLOOKUP($A25,'Shift Schedule'!$A$283:$F$317,6,FALSE)=0,\"\",VLOOKUP($A25,'Shift Schedule'!$A$283:$F$317,6,FALSE))","v":""},"","",null,""]
[19,{"$f":"IF(VLOOKUP($A26,'Schedule Setup'!$A$5:$E$39,2,FALSE)=0,\"\",VLOOKUP($A26,'Schedule Setup'!$A$5:$E$39,2,FALSE))","v":""},{"$f":"IF(VLOOKUP($A26,'Schedule Setup'!$A$5:$E$39,4,FALSE)=0,\"\",IF(OR(VLOOKUP($A26,'Schedule Setup'!$A$5:$E$39,4,FALSE)=\"General Manager (H)\", VLOOKUP($A26,'Schedule Setup'!$A$5:$E$39,4,FALSE)=\"General Manager (S)\"),\"General Manager\",VLOOKUP($A26,'Schedule Setup'!$A$5:$E$39,4,FALSE)))","v":""},{"$f":"IF(VLOOKUP($A26,'Shift Schedule'!$A$7:$F$41,5,FALSE)=0,\"\",VLOOKUP($A26,'Shift Schedule'!$A$7:$F$41,5,FALSE))","v":""},{"$f":"IF(VLOOKUP($A26,'Shift Schedule'!$A$7:$F$41,6,FALSE)=0,\"\",VLOOKUP($A26,'Shift Schedule'!$A$7:$F$41,6,FALSE))","v":""},"",{"$f":"IF(VLOOKUP($A26,'Shift Schedule'!$A$53:$F$87,5,FALSE)=0,\"\",VLOOKUP($A26,'Shift Schedule'!$A$53:$F$87,5,FALSE))","v":""},{"$f":"IF(VLOOKUP($A26,'Shift Schedule'!$A$53:$F$87,6,FALSE)=0,\"\",VLOOKUP($A26,'Shift Schedule'!$A$53:$F$87,6,FALSE))","v":""},"",{"$f":"IF(VLOOKUP($A26,'Shift Schedule'!$A$99:$F528,5,FALSE)=0,\"\",VLOOKUP($A26,'Shift Schedule'!$A$99:$F$133,5,FALSE))","v":""},{"$f":"IF(VLOOKUP($A26,'Shift Schedule'!$A$99:$F528,6,FALSE)=0,\"\",VLOOKUP($A26,'Shift Schedule'!$A$99:$F$133,6,FALSE))","v":""},"",{"$f":"IF(VLOOKUP($A26,'Shift Schedule'!$A$145:$F$179,5,FALSE)=0,\"\",VLOOKUP($A26,'Shift Schedule'!$A$145:$F$179,5,FALSE))","v":""},{"$f":"IF(VLOOKUP($A26,'Shift Schedule'!$A$145:$F$179,6,FALSE)=0,\"\",VLOOKUP($A26,'Shift Schedule'!$A$145:$F$179,6,FALSE))","v":""},"",{"$f":"IF(VLOOKUP($A26,'Shift Schedule'!$A$191:$F$225,5,FALSE)=0,\"\",VLOOKUP($A26,'Shift Schedule'!$A$191:$F$225,5,FALSE))","v":""},{"$f":"IF(VLOOKUP($A26,'Shift Schedule'!$A$191:$F$225,6,FALSE)=0,\"\",VLOOKUP($A26,'Shift Schedule'!$A$191:$F$225,6,FALSE))","v":""},"",{"$f":"IF(VLOOKUP($A26,'Shift Schedule'!$A$237:$F$271,5,FALSE)=0,\"\",VLOOKUP($A26,'Shift Schedule'!$A$237:$F$271,5,FALSE))","v":""},{"$f":"IF(VLOOKUP($A26,'Shift Schedule'!$A$237:$F$271,6,FALSE)=0,\"\",VLOOKUP($A26,'Shift Schedule'!$A$237:$F$271,6,FALSE))","v":""},"",{"$f":"IF(VLOOKUP($A26,'Shift Schedule'!$A$283:$F$317,5,FALSE)=0,\"\",VLOOKUP($A26,'Shift Schedule'!$A$283:$F$317,5,FALSE))","v":""},{"$f":"IF(VLOOKUP($A26,'Shift Schedule'!$A$283:$F$317,6,FALSE)=0,\"\",VLOOKUP($A26,'Shift Schedule'!$A$283:$F$317,6,FALSE))","v":""},{"$f":"IFERROR((W26-V26)*24,\"\")","v":""},"",null,""]
[20,{"$f":"IF(VLOOKUP($A27,'Schedule Setup'!$A$5:$E$39,2,FALSE)=0,\"\",VLOOKUP($A27,'Schedule Setup'!$A$5:$E$39,2,FALSE))","v":""},{"$f":"IF(VLOOKUP($A27,'Schedule Setup'!$A$5:$E$39,4,FALSE)=0,\"\",IF(OR(VLOOKUP($A27,'Schedule Setup'!$A$5:$E$39,4,FALSE)=\"General Manager (H)\", VLOOKUP($A27,'Schedule Setup'!$A$5:$E$39,4,FALSE)=\"General Manager (S)\"),\"General Manager\",VLOOKUP($A27,'Schedule Setup'!$A$5:$E$39,4,FALSE)))","v":""},{"$f":"IF(VLOOKUP($A27,'Shift Schedule'!$A$7:$F$41,5,FALSE)=0,\"\",VLOOKUP($A27,'Shift Schedule'!$A$7:$F$41,5,FALSE))","v":""},{"$f":"IF(VLOOKUP($A27,'Shift Schedule'!$A$7:$F$41,6,FALSE)=0,\"\",VLOOKUP($A27,'Shift Schedule'!$A$7:$F$41,6,FALSE))","v":""},"",{"$f":"IF(VLOOKUP($A27,'Shift Schedule'!$A$53:$F$87,5,FALSE)=0,\"\",VLOOKUP($A27,'Shift Schedule'!$A$53:$F$87,5,FALSE))","v":""},{"$f":"IF(VLOOKUP($A27,'Shift Schedule'!$A$53:$F$87,6,FALSE)=0,\"\",VLOOKUP($A27,'Shift Schedule'!$A$53:$F$87,6,FALSE))","v":""},"",{"$f":"IF(VLOOKUP($A27,'Shift Schedule'!$A$99:$F529,5,FALSE)=0,\"\",VLOOKUP($A27,'Shift Schedule'!$A$99:$F$133,5,FALSE))","v":""},{"$f":"IF(VLOOKUP($A27,'Shift Schedule'!$A$99:$F529,6,FALSE)=0,\"\",VLOOKUP($A27,'Shift Schedule'!$A$99:$F$133,6,FALSE))","v":""},"",{"$f":"IF(VLOOKUP($A27,'Shift Schedule'!$A$145:$F$179,5,FALSE)=0,\"\",VLOOKUP($A27,'Shift Schedule'!$A$145:$F$179,5,FALSE))","v":""},{"$f":"IF(VLOOKUP($A27,'Shift Schedule'!$A$145:$F$179,6,FALSE)=0,\"\",VLOOKUP($A27,'Shift Schedule'!$A$145:$F$179,6,FALSE))","v":""},"",{"$f":"IF(VLOOKUP($A27,'Shift Schedule'!$A$191:$F$225,5,FALSE)=0,\"\",VLOOKUP($A27,'Shift Schedule'!$A$191:$F$225,5,FALSE))","v":""},{"$f":"IF(VLOOKUP($A27,'Shift Schedule'!$A$191:$F$225,6,FALSE)=0,\"\",VLOOKUP($A27,'Shift Schedule'!$A$191:$F$225,6,FALSE))","v":""},"",{"$f":"IF(VLOOKUP($A27,'Shift Schedule'!$A$237:$F$271,5,FALSE)=0,\"\",VLOOKUP($A27,'Shift Schedule'!$A$237:$F$271,5,FALSE))","v":""},{"$f":"IF(VLOOKUP($A27,'Shift Schedule'!$A$237:$F$271,6,FALSE)=0,\"\",VLOOKUP($A27,'Shift Schedule'!$A$237:$F$271,6,FALSE))","v":""},"",{"$f":"IF(VLOOKUP($A27,'Shift Schedule'!$A$283:$F$317,5,FALSE)=0,\"\",VLOOKUP($A27,'Shift Schedule'!$A$283:$F$317,5,FALSE))","v":""},{"$f":"IF(VLOOKUP($A27,'Shift Schedule'!$A$283:$F$317,6,FALSE)=0,\"\",VLOOKUP($A27,'Shift Schedule'!$A$283:$F$317,6,FALSE))","v":""},"","",null,""]
[21,{"$f":"IF(VLOOKUP($A28,'Schedule Setup'!$A$5:$E$39,2,FALSE)=0,\"\",VLOOKUP($A28,'Schedule Setup'!$A$5:$E$39,2,FALSE))","v":""},{"$f":"IF(VLOOKUP($A28,'Schedule Setup'!$A$5:$E$39,4,FALSE)=0,\"\",IF(OR(VLOOKUP($A28,'Schedule Setup'!$A$5:$E$39,4,FALSE)=\"General Manager (H)\", VLOOKUP($A28,'Schedule Setup'!$A$5:$E$39,4,FALSE)=\"General Manager (S)\"),\"General Manager\",VLOOKUP($A28,'Schedule Setup'!$A$5:$E$39,4,FALSE)))","v":""},{"$f":"IF(VLOOKUP($A28,'Shift Schedule'!$A$7:$F$41,5,FALSE)=0,\"\",VLOOKUP($A28,'Shift Schedule'!$A$7:$F$41,5,FALSE))","v":""},{"$f":"IF(VLOOKUP($A28,'Shift Schedule'!$A$7:$F$41,6,FALSE)=0,\"\",VLOOKUP($A28,'Shift Schedule'!$A$7:$F$41,6,FALSE))","v":""},"",{"$f":"IF(VLOOKUP($A28,'Shift Schedule'!$A$53:$F$87,5,FALSE)=0,\"\",VLOOKUP($A28,'Shift Schedule'!$A$53:$F$87,5,FALSE))","v":""},{"$f":"IF(VLOOKUP($A28,'Shift Schedule'!$A$53:$F$87,6,FALSE)=0,\"\",VLOOKUP($A28,'Shift Schedule'!$A$53:$F$87,6,FALSE))","v":""},"",{"$f":"IF(VLOOKUP($A28,'Shift Schedule'!$A$99:$F530,5,FALSE)=0,\"\",VLOOKUP($A28,'Shift Schedule'!$A$99:$F$133,5,FALSE))","v":""},{"$f":"IF(VLOOKUP($A28,'Shift Schedule'!$A$99:$F530,6,FALSE)=0,\"\",VLOOKUP($A28,'Shift Schedule'!$A$99:$F$133,6,FALSE))","v":""},"",{"$f":"IF(VLOOKUP($A28,'Shift Schedule'!$A$145:$F$179,5,FALSE)=0,\"\",VLOOKUP($A28,'Shift Schedule'!$A$145:$F$179,5,FALSE))","v":""},{"$f":"IF(VLOOKUP($A28,'Shift Schedule'!$A$145:$F$179,6,FALSE)=0,\"\",VLOOKUP($A28,'Shift Schedule'!$A$145:$F$179,6,FALSE))","v":""},"",{"$f":"IF(VLOOKUP($A28,'Shift Schedule'!$A$191:$F$225,5,FALSE)=0,\"\",VLOOKUP($A28,'Shift Schedule'!$A$191:$F$225,5,FALSE))","v":""},{"$f":"IF(VLOOKUP($A28,'Shift Schedule'!$A$191:$F$225,6,FALSE)=0,\"\",VLOOKUP($A28,'Shift Schedule'!$A$191:$F$225,6,FALSE))","v":""},"",{"$f":"IF(VLOOKUP($A28,'Shift Schedule'!$A$237:$F$271,5,FALSE)=0,\"\",VLOOKUP($A28,'Shift Schedule'!$A$237:$F$271,5,FALSE))","v":""},{"$f":"IF(VLOOKUP($A28,'Shift Schedule'!$A$237:$F$271,6,FALSE)=0,\"\",VLOOKUP($A28,'Shift Schedule'!$A$237:$F$271,6,FALSE))","v":""},"",{"$f":"IF(VLOOKUP($A28,'Shift Schedule'!$A$283:$F$317,5,FALSE)=0,\"\",VLOOKUP($A28,'Shift Schedule'!$A$283:$F$317,5,FALSE))","v":""},{"$f":"IF(VLOOKUP($A28,'Shift Schedule'!$A$283:$F$317,6,FALSE)=0,\"\",VLOOKUP($A28,'Shift Schedule'!$A$283:$F$317,6,FALSE))","v":""},"","",null,""]
[22,{"$f":"IF(VLOOKUP($A29,'Schedule Setup'!$A$5:$E$39,2,FALSE)=0,\"\",VLOOKUP($A29,'Schedule Setup'!$A$5:$E$39,2,FALSE))","v":""},{"$f":"IF(VLOOKUP($A29,'Schedule Setup'!$A$5:$E$39,4,FALSE)=0,\"\",IF(OR(VLOOKUP($A29,'Schedule Setup'!$A$5:$E$39,4,FALSE)=\"General Manager (H)\", VLOOKUP($A29,'Schedule Setup'!$A$5:$E$39,4,FALSE)=\"General Manager (S)\"),\"General Manager\",VLOOKUP($A29,'Schedule Setup'!$A$5:$E$39,4,FALSE)))","v":""},{"$f":"IF(VLOOKUP($A29,'Shift Schedule'!$A$7:$F$41,5,FALSE)=0,\"\",VLOOKUP($A29,'Shift Schedule'!$A$7:$F$41,5,FALSE))","v":""},{"$f":"IF(VLOOKUP($A29,'Shift Schedule'!$A$7:$F$41,6,FALSE)=0,\"\",VLOOKUP($A29,'Shift Schedule'!$A$7:$F$41,6,FALSE))","v":""},"",{"$f":"IF(VLOOKUP($A29,'Shift Schedule'!$A$53:$F$87,5,FALSE)=0,\"\",VLOOKUP($A29,'Shift Schedule'!$A$53:$F$87,5,FALSE))","v":""},{"$f":"IF(VLOOKUP($A29,'Shift Schedule'!$A$53:$F$87,6,FALSE)=0,\"\",VLOOKUP($A29,'Shift Schedule'!$A$53:$F$87,6,FALSE))","v":""},"",{"$f":"IF(VLOOKUP($A29,'Shift Schedule'!$A$99:$F531,5,FALSE)=0,\"\",VLOOKUP($A29,'Shift Schedule'!$A$99:$F$133,5,FALSE))","v":""},{"$f":"IF(VLOOKUP($A29,'Shift Schedule'!$A$99:$F531,6,FALSE)=0,\"\",VLOOKUP($A29,'Shift Schedule'!$A$99:$F$133,6,FALSE))","v":""},"",{"$f":"IF(VLOOKUP($A29,'Shift Schedule'!$A$145:$F$179,5,FALSE)=0,\"\",VLOOKUP($A29,'Shift Schedule'!$A$145:$F$179,5,FALSE))","v":""},{"$f":"IF(VLOOKUP($A29,'Shift Schedule'!$A$145:$F$179,6,FALSE)=0,\"\",VLOOKUP($A29,'Shift Schedule'!$A$145:$F$179,6,FALSE))","v":""},"",{"$f":"IF(VLOOKUP($A29,'Shift Schedule'!$A$191:$F$225,5,FALSE)=0,\"\",VLOOKUP($A29,'Shift Schedule'!$A$191:$F$225,5,FALSE))","v":""},{"$f":"IF(VLOOKUP($A29,'Shift Schedule'!$A$191:$F$225,6,FALSE)=0,\"\",VLOOKUP($A29,'Shift Schedule'!$A$191:$F$225,6,FALSE))","v":""},"",{"$f":"IF(VLOOKUP($A29,'Shift Schedule'!$A$237:$F$271,5,FALSE)=0,\"\",VLOOKUP($A29,'Shift Schedule'!$A$237:$F$271,5,FALSE))","v":""},{"$f":"IF(VLOOKUP($A29,'Shift Schedule'!$A$237:$F$271,6,FALSE)=0,\"\",VLOOKUP($A29,'Shift Schedule'!$A$237:$F$271,6,FALSE))","v":""},"",{"$f":"IF(VLOOKUP($A29,'Shift Schedule'!$A$283:$F$317,5,FALSE)=0,\"\",VLOOKUP($A29,'Shift Schedule'!$A$283:$F$317,5,FALSE))","v":""},{"$f":"IF(VLOOKUP($A29,'Shift Schedule'!$A$283:$F$317,6,FALSE)=0,\"\",VLOOKUP($A29,'Shift Schedule'!$A$283:$F$317,6,FALSE))","v":""},"","",null,""]
[23,{"$f":"IF(VLOOKUP($A30,'Schedule Setup'!$A$5:$E$39,2,FALSE)=0,\"\",VLOOKUP($A30,'Schedule Setup'!$A$5:$E$39,2,FALSE))","v":""},{"$f":"IF(VLOOKUP($A30,'Schedule Setup'!$A$5:$E$39,4,FALSE)=0,\"\",IF(OR(VLOOKUP($A30,'Schedule Setup'!$A$5:$E$39,4,FALSE)=\"General Manager (H)\", VLOOKUP($A30,'Schedule Setup'!$A$5:$E$39,4,FALSE)=\"General Manager (S)\"),\"General Manager\",VLOOKUP($A30,'Schedule Setup'!$A$5:$E$39,4,FALSE)))","v":""},{"$f":"IF(VLOOKUP($A30,'Shift Schedule'!$A$7:$F$41,5,FALSE)=0,\"\",VLOOKUP($A30,'Shift Schedule'!$A$7:$F$41,5,FALSE))","v":""},{"$f":"IF(VLOOKUP($A30,'Shift Schedule'!$A$7:$F$41,6,FALSE)=0,\"\",VLOOKUP($A30,'Shift Schedule'!$A$7:$F$41,6,FALSE))","v":""},{"$f":"IFERROR((E30-D30)*24,\"\")","v":""},{"$f":"IF(VLOOKUP($A30,'Shift Schedule'!$A$53:$F$87,5,FALSE)=0,\"\",VLOOKUP($A30,'Shift Schedule'!$A$53:$F$87,5,FALSE))","v":""},{"$f":"IF(VLOOKUP($A30,'Shift Schedule'!$A$53:$F$87,6,FALSE)=0,\"\",VLOOKUP($A30,'Shift Schedule'!$A$53:$F$87,6,FALSE))","v":""},{"$f":"IFERROR((H30-G30)*24,\"\")","v":""},{"$f":"IF(VLOOKUP($A30,'Shift Schedule'!$A$99:$F532,5,FALSE)=0,\"\",VLOOKUP($A30,'Shift Schedule'!$A$99:$F$133,5,FALSE))","v":""},{"$f":"IF(VLOOKUP($A30,'Shift Schedule'!$A$99:$F532,6,FALSE)=0,\"\",VLOOKUP($A30,'Shift Schedule'!$A$99:$F$133,6,FALSE))","v":""},{"$f":"IFERROR((K30-J30)*24,\"\")","v":""},{"$f":"IF(VLOOKUP($A30,'Shift Schedule'!$A$145:$F$179,5,FALSE)=0,\"\",VLOOKUP($A30,'Shift Schedule'!$A$145:$F$179,5,FALSE))","v":""},{"$f":"IF(VLOOKUP($A30,'Shift Schedule'!$A$145:$F$179,6,FALSE)=0,\"\",VLOOKUP($A30,'Shift Schedule'!$A$145:$F$179,6,FALSE))","v":""},{"$f":"IFERROR((N30-M30)*24,\"\")","v":""},{"$f":"IF(VLOOKUP($A30,'Shift Schedule'!$A$191:$F$225,5,FALSE)=0,\"\",VLOOKUP($A30,'Shift Schedule'!$A$191:$F$225,5,FALSE))","v":""},{"$f":"IF(VLOOKUP($A30,'Shift Schedule'!$A$191:$F$225,6,FALSE)=0,\"\",VLOOKUP($A30,'Shift Schedule'!$A$191:$F$225,6,FALSE))","v":""},{"$f":"IFERROR((Q30-P30)*24,\"\")","v":""},{"$f":"IF(VLOOKUP($A30,'Shift Schedule'!$A$237:$F$271,5,FALSE)=0,\"\",VLOOKUP($A30,'Shift Schedule'!$A$237:$F$271,5,FALSE))","v":""},{"$f":"IF(VLOOKUP($A30,'Shift Schedule'!$A$237:$F$271,6,FALSE)=0,\"\",VLOOKUP($A30,'Shift Schedule'!$A$237:$F$271,6,FALSE))","v":""},{"$f":"IFERROR((T30-S30)*24,\"\")","v":""},{"$f":"IF(VLOOKUP($A30,'Shift Schedule'!$A$283:$F$317,5,FALSE)=0,\"\",VLOOKUP($A30,'Shift Schedule'!$A$283:$F$317,5,FALSE))","v":""},{"$f":"IF(VLOOKUP($A30,'Shift Schedule'!$A$283:$F$317,6,FALSE)=0,\"\",VLOOKUP($A30,'Shift Schedule'!$A$283:$F$317,6,FALSE))","v":""},{"$f":"IFERROR((W30-V30)*24,\"\")","v":""},{"$f":"IF(SUM(F30,I30,L30,O30,R30,U30,X30)=0,\"\",SUM(F30,I30,L30,O30,R30,U30,X30))","v":""},null,""]
[24,{"$f":"IF(VLOOKUP($A31,'Schedule Setup'!$A$5:$E$39,2,FALSE)=0,\"\",VLOOKUP($A31,'Schedule Setup'!$A$5:$E$39,2,FALSE))","v":""},{"$f":"IF(VLOOKUP($A31,'Schedule Setup'!$A$5:$E$39,4,FALSE)=0,\"\",IF(OR(VLOOKUP($A31,'Schedule Setup'!$A$5:$E$39,4,FALSE)=\"General Manager (H)\", VLOOKUP($A31,'Schedule Setup'!$A$5:$E$39,4,FALSE)=\"General Manager (S)\"),\"General Manager\",VLOOKUP($A31,'Schedule Setup'!$A$5:$E$39,4,FALSE)))","v":""},{"$f":"IF(VLOOKUP($A31,'Shift Schedule'!$A$7:$F$41,5,FALSE)=0,\"\",VLOOKUP($A31,'Shift Schedule'!$A$7:$F$41,5,FALSE))","v":""},{"$f":"IF(VLOOKUP($A31,'Shift Schedule'!$A$7:$F$41,6,FALSE)=0,\"\",VLOOKUP($A31,'Shift Schedule'!$A$7:$F$41,6,FALSE))","v":""},"",{"$f":"IF(VLOOKUP($A31,'Shift Schedule'!$A$53:$F$87,5,FALSE)=0,\"\",VLOOKUP($A31,'Shift Schedule'!$A$53:$F$87,5,FALSE))","v":""},{"$f":"IF(VLOOKUP($A31,'Shift Schedule'!$A$53:$F$87,6,FALSE)=0,\"\",VLOOKUP($A31,'Shift Schedule'!$A$53:$F$87,6,FALSE))","v":""},"",{"$f":"IF(VLOOKUP($A31,'Shift Schedule'!$A$99:$F533,5,FALSE)=0,\"\",VLOOKUP($A31,'Shift Schedule'!$A$99:$F$133,5,FALSE))","v":""},{"$f":"IF(VLOOKUP($A31,'Shift Schedule'!$A$99:$F533,6,FALSE)=0,\"\",VLOOKUP($A31,'Shift Schedule'!$A$99:$F$133,6,FALSE))","v":""},"",{"$f":"IF(VLOOKUP($A31,'Shift Schedule'!$A$145:$F$179,5,FALSE)=0,\"\",VLOOKUP($A31,'Shift Schedule'!$A$145:$F$179,5,FALSE))","v":""},{"$f":"IF(VLOOKUP($A31,'Shift Schedule'!$A$145:$F$179,6,FALSE)=0,\"\",VLOOKUP($A31,'Shift Schedule'!$A$145:$F$179,6,FALSE))","v":""},"",{"$f":"IF(VLOOKUP($A31,'Shift Schedule'!$A$191:$F$225,5,FALSE)=0,\"\",VLOOKUP($A31,'Shift Schedule'!$A$191:$F$225,5,FALSE))","v":""},{"$f":"IF(VLOOKUP($A31,'Shift Schedule'!$A$191:$F$225,6,FALSE)=0,\"\",VLOOKUP($A31,'Shift Schedule'!$A$191:$F$225,6,FALSE))","v":""},"",{"$f":"IF(VLOOKUP($A31,'Shift Schedule'!$A$237:$F$271,5,FALSE)=0,\"\",VLOOKUP($A31,'Shift Schedule'!$A$237:$F$271,5,FALSE))","v":""},{"$f":"IF(VLOOKUP($A31,'Shift Schedule'!$A$237:$F$271,6,FALSE)=0,\"\",VLOOKUP($A31,'Shift Schedule'!$A$237:$F$271,6,FALSE))","v":""},"",{"$f":"IF(VLOOKUP($A31,'Shift Schedule'!$A$283:$F$317,5,FALSE)=0,\"\",VLOOKUP($A31,'Shift Schedule'!$A$283:$F$317,5,FALSE))","v":""},{"$f":"IF(VLOOKUP($A31,'Shift Schedule'!$A$283:$F$317,6,FALSE)=0,\"\",VLOOKUP($A31,'Shift Schedule'!$A$283:$F$317,6,FALSE))","v":""},"","",null,""]
[25,{"$f":"IF(VLOOKUP($A32,'Schedule Setup'!$A$5:$E$39,2,FALSE)=0,\"\",VLOOKUP($A32,'Schedule Setup'!$A$5:$E$39,2,FALSE))","v":""},{"$f":"IF(VLOOKUP($A32,'Schedule Setup'!$A$5:$E$39,4,FALSE)=0,\"\",IF(OR(VLOOKUP($A32,'Schedule Setup'!$A$5:$E$39,4,FALSE)=\"General Manager (H)\", VLOOKUP($A32,'Schedule Setup'!$A$5:$E$39,4,FALSE)=\"General Manager (S)\"),\"General Manager\",VLOOKUP($A32,'Schedule Setup'!$A$5:$E$39,4,FALSE)))","v":""},{"$f":"IF(VLOOKUP($A32,'Shift Schedule'!$A$7:$F$41,5,FALSE)=0,\"\",VLOOKUP($A32,'Shift Schedule'!$A$7:$F$41,5,FALSE))","v":""},{"$f":"IF(VLOOKUP($A32,'Shift Schedule'!$A$7:$F$41,6,FALSE)=0,\"\",VLOOKUP($A32,'Shift Schedule'!$A$7:$F$41,6,FALSE))","v":""},"",{"$f":"IF(VLOOKUP($A32,'Shift Schedule'!$A$53:$F$87,5,FALSE)=0,\"\",VLOOKUP($A32,'Shift Schedule'!$A$53:$F$87,5,FALSE))","v":""},{"$f":"IF(VLOOKUP($A32,'Shift Schedule'!$A$53:$F$87,6,FALSE)=0,\"\",VLOOKUP($A32,'Shift Schedule'!$A$53:$F$87,6,FALSE))","v":""},"",{"$f":"IF(VLOOKUP($A32,'Shift Schedule'!$A$99:$F534,5,FALSE)=0,\"\",VLOOKUP($A32,'Shift Schedule'!$A$99:$F$133,5,FALSE))","v":""},{"$f":"IF(VLOOKUP($A32,'Shift Schedule'!$A$99:$F534,6,FALSE)=0,\"\",VLOOKUP($A32,'Shift Schedule'!$A$99:$F$133,6,FALSE))","v":""},"",{"$f":"IF(VLOOKUP($A32,'Shift Schedule'!$A$145:$F$179,5,FALSE)=0,\"\",VLOOKUP($A32,'Shift Schedule'!$A$145:$F$179,5,FALSE))","v":""},{"$f":"IF(VLOOKUP($A32,'Shift Schedule'!$A$145:$F$179,6,FALSE)=0,\"\",VLOOKUP($A32,'Shift Schedule'!$A$145:$F$179,6,FALSE))","v":""},"",{"$f":"IF(VLOOKUP($A32,'Shift Schedule'!$A$191:$F$225,5,FALSE)=0,\"\",VLOOKUP($A32,'Shift Schedule'!$A$191:$F$225,5,FALSE))","v":""},{"$f":"IF(VLOOKUP($A32,'Shift Schedule'!$A$191:$F$225,6,FALSE)=0,\"\",VLOOKUP($A32,'Shift Schedule'!$A$191:$F$225,6,FALSE))","v":""},"",{"$f":"IF(VLOOKUP($A32,'Shift Schedule'!$A$237:$F$271,5,FALSE)=0,\"\",VLOOKUP($A32,'Shift Schedule'!$A$237:$F$271,5,FALSE))","v":""},{"$f":"IF(VLOOKUP($A32,'Shift Schedule'!$A$237:$F$271,6,FALSE)=0,\"\",VLOOKUP($A32,'Shift Schedule'!$A$237:$F$271,6,FALSE))","v":""},"",{"$f":"IF(VLOOKUP($A32,'Shift Schedule'!$A$283:$F$317,5,FALSE)=0,\"\",VLOOKUP($A32,'Shift Schedule'!$A$283:$F$317,5,FALSE))","v":""},{"$f":"IF(VLOOKUP($A32,'Shift Schedule'!$A$283:$F$317,6,FALSE)=0,\"\",VLOOKUP($A32,'Shift Schedule'!$A$283:$F$317,6,FALSE))","v":""},"",""]
[26,{"$f":"IF(VLOOKUP($A33,'Schedule Setup'!$A$5:$E$39,2,FALSE)=0,\"\",VLOOKUP($A33,'Schedule Setup'!$A$5:$E$39,2,FALSE))","v":""},{"$f":"IF(VLOOKUP($A33,'Schedule Setup'!$A$5:$E$39,4,FALSE)=0,\"\",IF(OR(VLOOKUP($A33,'Schedule Setup'!$A$5:$E$39,4,FALSE)=\"General Manager (H)\", VLOOKUP($A33,'Schedule Setup'!$A$5:$E$39,4,FALSE)=\"General Manager (S)\"),\"General Manager\",VLOOKUP($A33,'Schedule Setup'!$A$5:$E$39,4,FALSE)))","v":""},{"$f":"IF(VLOOKUP($A33,'Shift Schedule'!$A$7:$F$41,5,FALSE)=0,\"\",VLOOKUP($A33,'Shift Schedule'!$A$7:$F$41,5,FALSE))","v":""},{"$f":"IF(VLOOKUP($A33,'Shift Schedule'!$A$7:$F$41,6,FALSE)=0,\"\",VLOOKUP($A33,'Shift Schedule'!$A$7:$F$41,6,FALSE))","v":""},"",{"$f":"IF(VLOOKUP($A33,'Shift Schedule'!$A$53:$F$87,5,FALSE)=0,\"\",VLOOKUP($A33,'Shift Schedule'!$A$53:$F$87,5,FALSE))","v":""},{"$f":"IF(VLOOKUP($A33,'Shift Schedule'!$A$53:$F$87,6,FALSE)=0,\"\",VLOOKUP($A33,'Shift Schedule'!$A$53:$F$87,6,FALSE))","v":""},"",{"$f":"IF(VLOOKUP($A33,'Shift Schedule'!$A$99:$F535,5,FALSE)=0,\"\",VLOOKUP($A33,'Shift Schedule'!$A$99:$F$133,5,FALSE))","v":""},{"$f":"IF(VLOOKUP($A33,'Shift Schedule'!$A$99:$F535,6,FALSE)=0,\"\",VLOOKUP($A33,'Shift Schedule'!$A$99:$F$133,6,FALSE))","v":""},"",{"$f":"IF(VLOOKUP($A33,'Shift Schedule'!$A$145:$F$179,5,FALSE)=0,\"\",VLOOKUP($A33,'Shift Schedule'!$A$145:$F$179,5,FALSE))","v":""},{"$f":"IF(VLOOKUP($A33,'Shift Schedule'!$A$145:$F$179,6,FALSE)=0,\"\",VLOOKUP($A33,'Shift Schedule'!$A$145:$F$179,6,FALSE))","v":""},"",{"$f":"IF(VLOOKUP($A33,'Shift Schedule'!$A$191:$F$225,5,FALSE)=0,\"\",VLOOKUP($A33,'Shift Schedule'!$A$191:$F$225,5,FALSE))","v":""},{"$f":"IF(VLOOKUP($A33,'Shift Schedule'!$A$191:$F$225,6,FALSE)=0,\"\",VLOOKUP($A33,'Shift Schedule'!$A$191:$F$225,6,FALSE))","v":""},"",{"$f":"IF(VLOOKUP($A33,'Shift Schedule'!$A$237:$F$271,5,FALSE)=0,\"\",VLOOKUP($A33,'Shift Schedule'!$A$237:$F$271,5,FALSE))","v":""},{"$f":"IF(VLOOKUP($A33,'Shift Schedule'!$A$237:$F$271,6,FALSE)=0,\"\",VLOOKUP($A33,'Shift Schedule'!$A$237:$F$271,6,FALSE))","v":""},"",{"$f":"IF(VLOOKUP($A33,'Shift Schedule'!$A$283:$F$317,5,FALSE)=0,\"\",VLOOKUP($A33,'Shift Schedule'!$A$283:$F$317,5,FALSE))","v":""},{"$f":"IF(VLOOKUP($A33,'Shift Schedule'!$A$283:$F$317,6,FALSE)=0,\"\",VLOOKUP($A33,'Shift Schedule'!$A$283:$F$317,6,FALSE))","v":""},"",""]
[27,{"$f":"IF(VLOOKUP($A34,'Schedule Setup'!$A$5:$E$39,2,FALSE)=0,\"\",VLOOKUP($A34,'Schedule Setup'!$A$5:$E$39,2,FALSE))","v":""},{"$f":"IF(VLOOKUP($A34,'Schedule Setup'!$A$5:$E$39,4,FALSE)=0,\"\",IF(OR(VLOOKUP($A34,'Schedule Setup'!$A$5:$E$39,4,FALSE)=\"General Manager (H)\", VLOOKUP($A34,'Schedule Setup'!$A$5:$E$39,4,FALSE)=\"General Manager (S)\"),\"General Manager\",VLOOKUP($A34,'Schedule Setup'!$A$5:$E$39,4,FALSE)))","v":""},{"$f":"IF(VLOOKUP($A34,'Shift Schedule'!$A$7:$F$41,5,FALSE)=0,\"\",VLOOKUP($A34,'Shift Schedule'!$A$7:$F$41,5,FALSE))","v":""},{"$f":"IF(VLOOKUP($A34,'Shift Schedule'!$A$7:$F$41,6,FALSE)=0,\"\",VLOOKUP($A34,'Shift Schedule'!$A$7:$F$41,6,FALSE))","v":""},"",{"$f":"IF(VLOOKUP($A34,'Shift Schedule'!$A$53:$F$87,5,FALSE)=0,\"\",VLOOKUP($A34,'Shift Schedule'!$A$53:$F$87,5,FALSE))","v":""},{"$f":"IF(VLOOKUP($A34,'Shift Schedule'!$A$53:$F$87,6,FALSE)=0,\"\",VLOOKUP($A34,'Shift Schedule'!$A$53:$F$87,6,FALSE))","v":""},"",{"$f":"IF(VLOOKUP($A34,'Shift Schedule'!$A$99:$F536,5,FALSE)=0,\"\",VLOOKUP($A34,'Shift Schedule'!$A$99:$F$133,5,FALSE))","v":""},{"$f":"IF(VLOOKUP($A34,'Shift Schedule'!$A$99:$F536,6,FALSE)=0,\"\",VLOOKUP($A34,'Shift Schedule'!$A$99:$F$133,6,FALSE))","v":""},"",{"$f":"IF(VLOOKUP($A34,'Shift Schedule'!$A$145:$F$179,5,FALSE)=0,\"\",VLOOKUP($A34,'Shift Schedule'!$A$145:$F$179,5,FALSE))","v":""},{"$f":"IF(VLOOKUP($A34,'Shift Schedule'!$A$145:$F$179,6,FALSE)=0,\"\",VLOOKUP($A34,'Shift Schedule'!$A$145:$F$179,6,FALSE))","v":""},"",{"$f":"IF(VLOOKUP($A34,'Shift Schedule'!$A$191:$F$225,5,FALSE)=0,\"\",VLOOKUP($A34,'Shift Schedule'!$A$191:$F$225,5,FALSE))","v":""},{"$f":"IF(VLOOKUP($A34,'Shift Schedule'!$A$191:$F$225,6,FALSE)=0,\"\",VLOOKUP($A34,'Shift Schedule'!$A$191:$F$225,6,FALSE))","v":""},"",{"$f":"IF(VLOOKUP($A34,'Shift Schedule'!$A$237:$F$271,5,FALSE)=0,\"\",VLOOKUP($A34,'Shift Schedule'!$A$237:$F$271,5,FALSE))","v":""},{"$f":"IF(VLOOKUP($A34,'Shift Schedule'!$A$237:$F$271,6,FALSE)=0,\"\",VLOOKUP($A34,'Shift Schedule'!$A$237:$F$271,6,FALSE))","v":""},"",{"$f":"IF(VLOOKUP($A34,'Shift Schedule'!$A$283:$F$317,5,FALSE)=0,\"\",VLOOKUP($A34,'Shift Schedule'!$A$283:$F$317,5,FALSE))","v":""},{"$f":"IF(VLOOKUP($A34,'Shift Schedule'!$A$283:$F$317,6,FALSE)=0,\"\",VLOOKUP($A34,'Shift Schedule'!$A$283:$F$317,6,FALSE))","v":""},"",""]
[28,{"$f":"IF(VLOOKUP($A35,'Schedule Setup'!$A$5:$E$39,2,FALSE)=0,\"\",VLOOKUP($A35,'Schedule Setup'!$A$5:$E$39,2,FALSE))","v":""},{"$f":"IF(VLOOKUP($A35,'Schedule Setup'!$A$5:$E$39,4,FALSE)=0,\"\",IF(OR(VLOOKUP($A35,'Schedule Setup'!$A$5:$E$39,4,FALSE)=\"General Manager (H)\", VLOOKUP($A35,'Schedule Setup'!$A$5:$E$39,4,FALSE)=\"General Manager (S)\"),\"General Manager\",VLOOKUP($A35,'Schedule Setup'!$A$5:$E$39,4,FALSE)))","v":""},{"$f":"IF(VLOOKUP($A35,'Shift Schedule'!$A$7:$F$41,5,FALSE)=0,\"\",VLOOKUP($A35,'Shift Schedule'!$A$7:$F$41,5,FALSE))","v":""},{"$f":"IF(VLOOKUP($A35,'Shift Schedule'!$A$7:$F$41,6,FALSE)=0,\"\",VLOOKUP($A35,'Shift Schedule'!$A$7:$F$41,6,FALSE))","v":""},"",{"$f":"IF(VLOOKUP($A35,'Shift Schedule'!$A$53:$F$87,5,FALSE)=0,\"\",VLOOKUP($A35,'Shift Schedule'!$A$53:$F$87,5,FALSE))","v":""},{"$f":"IF(VLOOKUP($A35,'Shift Schedule'!$A$53:$F$87,6,FALSE)=0,\"\",VLOOKUP($A35,'Shift Schedule'!$A$53:$F$87,6,FALSE))","v":""},"",{"$f":"IF(VLOOKUP($A35,'Shift Schedule'!$A$99:$F537,5,FALSE)=0,\"\",VLOOKUP($A35,'Shift Schedule'!$A$99:$F$133,5,FALSE))","v":""},{"$f":"IF(VLOOKUP($A35,'Shift Schedule'!$A$99:$F537,6,FALSE)=0,\"\",VLOOKUP($A35,'Shift Schedule'!$A$99:$F$133,6,FALSE))","v":""},"",{"$f":"IF(VLOOKUP($A35,'Shift Schedule'!$A$145:$F$179,5,FALSE)=0,\"\",VLOOKUP($A35,'Shift Schedule'!$A$145:$F$179,5,FALSE))","v":""},{"$f":"IF(VLOOKUP($A35,'Shift Schedule'!$A$145:$F$179,6,FALSE)=0,\"\",VLOOKUP($A35,'Shift Schedule'!$A$145:$F$179,6,FALSE))","v":""},"",{"$f":"IF(VLOOKUP($A35,'Shift Schedule'!$A$191:$F$225,5,FALSE)=0,\"\",VLOOKUP($A35,'Shift Schedule'!$A$191:$F$225,5,FALSE))","v":""},{"$f":"IF(VLOOKUP($A35,'Shift Schedule'!$A$191:$F$225,6,FALSE)=0,\"\",VLOOKUP($A35,'Shift Schedule'!$A$191:$F$225,6,FALSE))","v":""},"",{"$f":"IF(VLOOKUP($A35,'Shift Schedule'!$A$237:$F$271,5,FALSE)=0,\"\",VLOOKUP($A35,'Shift Schedule'!$A$237:$F$271,5,FALSE))","v":""},{"$f":"IF(VLOOKUP($A35,'Shift Schedule'!$A$237:$F$271,6,FALSE)=0,\"\",VLOOKUP($A35,'Shift Schedule'!$A$237:$F$271,6,FALSE))","v":""},"",{"$f":"IF(VLOOKUP($A35,'Shift Schedule'!$A$283:$F$317,5,FALSE)=0,\"\",VLOOKUP($A35,'Shift Schedule'!$A$283:$F$317,5,FALSE))","v":""},{"$f":"IF(VLOOKUP($A35,'Shift Schedule'!$A$283:$F$317,6,FALSE)=0,\"\",VLOOKUP($A35,'Shift Schedule'!$A$283:$F$317,6,FALSE))","v":""},"",""]
[29,{"$f":"IF(VLOOKUP($A36,'Schedule Setup'!$A$5:$E$39,2,FALSE)=0,\"\",VLOOKUP($A36,'Schedule Setup'!$A$5:$E$39,2,FALSE))","v":""},{"$f":"IF(VLOOKUP($A36,'Schedule Setup'!$A$5:$E$39,4,FALSE)=0,\"\",IF(OR(VLOOKUP($A36,'Schedule Setup'!$A$5:$E$39,4,FALSE)=\"General Manager (H)\", VLOOKUP($A36,'Schedule Setup'!$A$5:$E$39,4,FALSE)=\"General Manager (S)\"),\"General Manager\",VLOOKUP($A36,'Schedule Setup'!$A$5:$E$39,4,FALSE)))","v":""},{"$f":"IF(VLOOKUP($A36,'Shift Schedule'!$A$7:$F$41,5,FALSE)=0,\"\",VLOOKUP($A36,'Shift Schedule'!$A$7:$F$41,5,FALSE))","v":""},{"$f":"IF(VLOOKUP($A36,'Shift Schedule'!$A$7:$F$41,6,FALSE)=0,\"\",VLOOKUP($A36,'Shift Schedule'!$A$7:$F$41,6,FALSE))","v":""},"",{"$f":"IF(VLOOKUP($A36,'Shift Schedule'!$A$53:$F$87,5,FALSE)=0,\"\",VLOOKUP($A36,'Shift Schedule'!$A$53:$F$87,5,FALSE))","v":""},{"$f":"IF(VLOOKUP($A36,'Shift Schedule'!$A$53:$F$87,6,FALSE)=0,\"\",VLOOKUP($A36,'Shift Schedule'!$A$53:$F$87,6,FALSE))","v":""},"",{"$f":"IF(VLOOKUP($A36,'Shift Schedule'!$A$99:$F538,5,FALSE)=0,\"\",VLOOKUP($A36,'Shift Schedule'!$A$99:$F$133,5,FALSE))","v":""},{"$f":"IF(VLOOKUP($A36,'Shift Schedule'!$A$99:$F538,6,FALSE)=0,\"\",VLOOKUP($A36,'Shift Schedule'!$A$99:$F$133,6,FALSE))","v":""},"",{"$f":"IF(VLOOKUP($A36,'Shift Schedule'!$A$145:$F$179,5,FALSE)=0,\"\",VLOOKUP($A36,'Shift Schedule'!$A$145:$F$179,5,FALSE))","v":""},{"$f":"IF(VLOOKUP($A36,'Shift Schedule'!$A$145:$F$179,6,FALSE)=0,\"\",VLOOKUP($A36,'Shift Schedule'!$A$145:$F$179,6,FALSE))","v":""},"",{"$f":"IF(VLOOKUP($A36,'Shift Schedule'!$A$191:$F$225,5,FALSE)=0,\"\",VLOOKUP($A36,'Shift Schedule'!$A$191:$F$225,5,FALSE))","v":""},{"$f":"IF(VLOOKUP($A36,'Shift Schedule'!$A$191:$F$225,6,FALSE)=0,\"\",VLOOKUP($A36,'Shift Schedule'!$A$191:$F$225,6,FALSE))","v":""},"",{"$f":"IF(VLOOKUP($A36,'Shift Schedule'!$A$237:$F$271,5,FALSE)=0,\"\",VLOOKUP($A36,'Shift Schedule'!$A$237:$F$271,5,FALSE))","v":""},{"$f":"IF(VLOOKUP($A36,'Shift Schedule'!$A$237:$F$271,6,FALSE)=0,\"\",VLOOKUP($A36,'Shift Schedule'!$A$237:$F$271,6,FALSE))","v":""},"",{"$f":"IF(VLOOKUP($A36,'Shift Schedule'!$A$283:$F$317,5,FALSE)=0,\"\",VLOOKUP($A36,'Shift Schedule'!$A$283:$F$317,5,FALSE))","v":""},{"$f":"IF(VLOOKUP($A36,'Shift Schedule'!$A$283:$F$317,6,FALSE)=0,\"\",VLOOKUP($A36,'Shift Schedule'!$A$283:$F$317,6,FALSE))","v":""},"",""]
[30,{"$f":"IF(VLOOKUP($A37,'Schedule Setup'!$A$5:$E$39,2,FALSE)=0,\"\",VLOOKUP($A37,'Schedule Setup'!$A$5:$E$39,2,FALSE))","v":""},{"$f":"IF(VLOOKUP($A37,'Schedule Setup'!$A$5:$E$39,4,FALSE)=0,\"\",IF(OR(VLOOKUP($A37,'Schedule Setup'!$A$5:$E$39,4,FALSE)=\"General Manager (H)\", VLOOKUP($A37,'Schedule Setup'!$A$5:$E$39,4,FALSE)=\"General Manager (S)\"),\"General Manager\",VLOOKUP($A37,'Schedule Setup'!$A$5:$E$39,4,FALSE)))","v":""},{"$f":"IF(VLOOKUP($A37,'Shift Schedule'!$A$7:$F$41,5,FALSE)=0,\"\",VLOOKUP($A37,'Shift Schedule'!$A$7:$F$41,5,FALSE))","v":""},{"$f":"IF(VLOOKUP($A37,'Shift Schedule'!$A$7:$F$41,6,FALSE)=0,\"\",VLOOKUP($A37,'Shift Schedule'!$A$7:$F$41,6,FALSE))","v":""},"",{"$f":"IF(VLOOKUP($A37,'Shift Schedule'!$A$53:$F$87,5,FALSE)=0,\"\",VLOOKUP($A37,'Shift Schedule'!$A$53:$F$87,5,FALSE))","v":""},{"$f":"IF(VLOOKUP($A37,'Shift Schedule'!$A$53:$F$87,6,FALSE)=0,\"\",VLOOKUP($A37,'Shift Schedule'!$A$53:$F$87,6,FALSE))","v":""},"",{"$f":"IF(VLOOKUP($A37,'Shift Schedule'!$A$99:$F539,5,FALSE)=0,\"\",VLOOKUP($A37,'Shift Schedule'!$A$99:$F$133,5,FALSE))","v":""},{"$f":"IF(VLOOKUP($A37,'Shift Schedule'!$A$99:$F539,6,FALSE)=0,\"\",VLOOKUP($A37,'Shift Schedule'!$A$99:$F$133,6,FALSE))","v":""},"",{"$f":"IF(VLOOKUP($A37,'Shift Schedule'!$A$145:$F$179,5,FALSE)=0,\"\",VLOOKUP($A37,'Shift Schedule'!$A$145:$F$179,5,FALSE))","v":""},{"$f":"IF(VLOOKUP($A37,'Shift Schedule'!$A$145:$F$179,6,FALSE)=0,\"\",VLOOKUP($A37,'Shift Schedule'!$A$145:$F$179,6,FALSE))","v":""},"",{"$f":"IF(VLOOKUP($A37,'Shift Schedule'!$A$191:$F$225,5,FALSE)=0,\"\",VLOOKUP($A37,'Shift Schedule'!$A$191:$F$225,5,FALSE))","v":""},{"$f":"IF(VLOOKUP($A37,'Shift Schedule'!$A$191:$F$225,6,FALSE)=0,\"\",VLOOKUP($A37,'Shift Schedule'!$A$191:$F$225,6,FALSE))","v":""},"",{"$f":"IF(VLOOKUP($A37,'Shift Schedule'!$A$237:$F$271,5,FALSE)=0,\"\",VLOOKUP($A37,'Shift Schedule'!$A$237:$F$271,5,FALSE))","v":""},{"$f":"IF(VLOOKUP($A37,'Shift Schedule'!$A$237:$F$271,6,FALSE)=0,\"\",VLOOKUP($A37,'Shift Schedule'!$A$237:$F$271,6,FALSE))","v":""},"",{"$f":"IF(VLOOKUP($A37,'Shift Schedule'!$A$283:$F$317,5,FALSE)=0,\"\",VLOOKUP($A37,'Shift Schedule'!$A$283:$F$317,5,FALSE))","v":""},{"$f":"IF(VLOOKUP($A37,'Shift Schedule'!$A$283:$F$317,6,FALSE)=0,\"\",VLOOKUP($A37,'Shift Schedule'!$A$283:$F$317,6,FALSE))","v":""},"",{"$f":"IF(SUM(F37,I37,L37,O37,R37,U37,X37)=0,\"\",SUM(F37,I37,L37,O37,R37,U37,X37))","v":""}]
[31,{"$f":"IF(VLOOKUP($A38,'Schedule Setup'!$A$5:$E$39,2,FALSE)=0,\"\",VLOOKUP($A38,'Schedule Setup'!$A$5:$E$39,2,FALSE))","v":""},{"$f":"IF(VLOOKUP($A38,'Schedule Setup'!$A$5:$E$39,4,FALSE)=0,\"\",IF(OR(VLOOKUP($A38,'Schedule Setup'!$A$5:$E$39,4,FALSE)=\"General Manager (H)\", VLOOKUP($A38,'Schedule Setup'!$A$5:$E$39,4,FALSE)=\"General Manager (S)\"),\"General Manager\",VLOOKUP($A38,'Schedule Setup'!$A$5:$E$39,4,FALSE)))","v":""},{"$f":"IF(VLOOKUP($A38,'Shift Schedule'!$A$7:$F$41,5,FALSE)=0,\"\",VLOOKUP($A38,'Shift Schedule'!$A$7:$F$41,5,FALSE))","v":""},{"$f":"IF(VLOOKUP($A38,'Shift Schedule'!$A$7:$F$41,6,FALSE)=0,\"\",VLOOKUP($A38,'Shift Schedule'!$A$7:$F$41,6,FALSE))","v":""},"",{"$f":"IF(VLOOKUP($A38,'Shift Schedule'!$A$53:$F$87,5,FALSE)=0,\"\",VLOOKUP($A38,'Shift Schedule'!$A$53:$F$87,5,FALSE))","v":""},{"$f":"IF(VLOOKUP($A38,'Shift Schedule'!$A$53:$F$87,6,FALSE)=0,\"\",VLOOKUP($A38,'Shift Schedule'!$A$53:$F$87,6,FALSE))","v":""},"",{"$f":"IF(VLOOKUP($A38,'Shift Schedule'!$A$99:$F540,5,FALSE)=0,\"\",VLOOKUP($A38,'Shift Schedule'!$A$99:$F$133,5,FALSE))","v":""},{"$f":"IF(VLOOKUP($A38,'Shift Schedule'!$A$99:$F540,6,FALSE)=0,\"\",VLOOKUP($A38,'Shift Schedule'!$A$99:$F$133,6,FALSE))","v":""},"",{"$f":"IF(VLOOKUP($A38,'Shift Schedule'!$A$145:$F$179,5,FALSE)=0,\"\",VLOOKUP($A38,'Shift Schedule'!$A$145:$F$179,5,FALSE))","v":""},{"$f":"IF(VLOOKUP($A38,'Shift Schedule'!$A$145:$F$179,6,FALSE)=0,\"\",VLOOKUP($A38,'Shift Schedule'!$A$145:$F$179,6,FALSE))","v":""},"",{"$f":"IF(VLOOKUP($A38,'Shift Schedule'!$A$191:$F$225,5,FALSE)=0,\"\",VLOOKUP($A38,'Shift Schedule'!$A$191:$F$225,5,FALSE))","v":""},{"$f":"IF(VLOOKUP($A38,'Shift Schedule'!$A$191:$F$225,6,FALSE)=0,\"\",VLOOKUP($A38,'Shift Schedule'!$A$191:$F$225,6,FALSE))","v":""},"",{"$f":"IF(VLOOKUP($A38,'Shift Schedule'!$A$237:$F$271,5,FALSE)=0,\"\",VLOOKUP($A38,'Shift Schedule'!$A$237:$F$271,5,FALSE))","v":""},{"$f":"IF(VLOOKUP($A38,'Shift Schedule'!$A$237:$F$271,6,FALSE)=0,\"\",VLOOKUP($A38,'Shift Schedule'!$A$237:$F$271,6,FALSE))","v":""},"",{"$f":"IF(VLOOKUP($A38,'Shift Schedule'!$A$283:$F$317,5,FALSE)=0,\"\",VLOOKUP($A38,'Shift Schedule'!$A$283:$F$317,5,FALSE))","v":""},{"$f":"IF(VLOOKUP($A38,'Shift Schedule'!$A$283:$F$317,6,FALSE)=0,\"\",VLOOKUP($A38,'Shift Schedule'!$A$283:$F$317,6,FALSE))","v":""},"",""]
[32,{"$f":"IF(VLOOKUP($A39,'Schedule Setup'!$A$5:$E$39,2,FALSE)=0,\"\",VLOOKUP($A39,'Schedule Setup'!$A$5:$E$39,2,FALSE))","v":""},{"$f":"IF(VLOOKUP($A39,'Schedule Setup'!$A$5:$E$39,4,FALSE)=0,\"\",IF(OR(VLOOKUP($A39,'Schedule Setup'!$A$5:$E$39,4,FALSE)=\"General Manager (H)\", VLOOKUP($A39,'Schedule Setup'!$A$5:$E$39,4,FALSE)=\"General Manager (S)\"),\"General Manager\",VLOOKUP($A39,'Schedule Setup'!$A$5:$E$39,4,FALSE)))","v":""},{"$f":"IF(VLOOKUP($A39,'Shift Schedule'!$A$7:$F$41,5,FALSE)=0,\"\",VLOOKUP($A39,'Shift Schedule'!$A$7:$F$41,5,FALSE))","v":""},{"$f":"IF(VLOOKUP($A39,'Shift Schedule'!$A$7:$F$41,6,FALSE)=0,\"\",VLOOKUP($A39,'Shift Schedule'!$A$7:$F$41,6,FALSE))","v":""},"",{"$f":"IF(VLOOKUP($A39,'Shift Schedule'!$A$53:$F$87,5,FALSE)=0,\"\",VLOOKUP($A39,'Shift Schedule'!$A$53:$F$87,5,FALSE))","v":""},{"$f":"IF(VLOOKUP($A39,'Shift Schedule'!$A$53:$F$87,6,FALSE)=0,\"\",VLOOKUP($A39,'Shift Schedule'!$A$53:$F$87,6,FALSE))","v":""},"",{"$f":"IF(VLOOKUP($A39,'Shift Schedule'!$A$99:$F541,5,FALSE)=0,\"\",VLOOKUP($A39,'Shift Schedule'!$A$99:$F$133,5,FALSE))","v":""},{"$f":"IF(VLOOKUP($A39,'Shift Schedule'!$A$99:$F541,6,FALSE)=0,\"\",VLOOKUP($A39,'Shift Schedule'!$A$99:$F$133,6,FALSE))","v":""},"",{"$f":"IF(VLOOKUP($A39,'Shift Schedule'!$A$145:$F$179,5,FALSE)=0,\"\",VLOOKUP($A39,'Shift Schedule'!$A$145:$F$179,5,FALSE))","v":""},{"$f":"IF(VLOOKUP($A39,'Shift Schedule'!$A$145:$F$179,6,FALSE)=0,\"\",VLOOKUP($A39,'Shift Schedule'!$A$145:$F$179,6,FALSE))","v":""},"",{"$f":"IF(VLOOKUP($A39,'Shift Schedule'!$A$191:$F$225,5,FALSE)=0,\"\",VLOOKUP($A39,'Shift Schedule'!$A$191:$F$225,5,FALSE))","v":""},{"$f":"IF(VLOOKUP($A39,'Shift Schedule'!$A$191:$F$225,6,FALSE)=0,\"\",VLOOKUP($A39,'Shift Schedule'!$A$191:$F$225,6,FALSE))","v":""},"",{"$f":"IF(VLOOKUP($A39,'Shift Schedule'!$A$237:$F$271,5,FALSE)=0,\"\",VLOOKUP($A39,'Shift Schedule'!$A$237:$F$271,5,FALSE))","v":""},{"$f":"IF(VLOOKUP($A39,'Shift Schedule'!$A$237:$F$271,6,FALSE)=0,\"\",VLOOKUP($A39,'Shift Schedule'!$A$237:$F$271,6,FALSE))","v":""},"",{"$f":"IF(VLOOKUP($A39,'Shift Schedule'!$A$283:$F$317,5,FALSE)=0,\"\",VLOOKUP($A39,'Shift Schedule'!$A$283:$F$317,5,FALSE))","v":""},{"$f":"IF(VLOOKUP($A39,'Shift Schedule'!$A$283:$F$317,6,FALSE)=0,\"\",VLOOKUP($A39,'Shift Schedule'!$A$283:$F$317,6,FALSE))","v":""},"",""]
[33,{"$f":"IF(VLOOKUP($A40,'Schedule Setup'!$A$5:$E$39,2,FALSE)=0,\"\",VLOOKUP($A40,'Schedule Setup'!$A$5:$E$39,2,FALSE))","v":""},{"$f":"IF(VLOOKUP($A40,'Schedule Setup'!$A$5:$E$39,4,FALSE)=0,\"\",IF(OR(VLOOKUP($A40,'Schedule Setup'!$A$5:$E$39,4,FALSE)=\"General Manager (H)\", VLOOKUP($A40,'Schedule Setup'!$A$5:$E$39,4,FALSE)=\"General Manager (S)\"),\"General Manager\",VLOOKUP($A40,'Schedule Setup'!$A$5:$E$39,4,FALSE)))","v":""},{"$f":"IF(VLOOKUP($A40,'Shift Schedule'!$A$7:$F$41,5,FALSE)=0,\"\",VLOOKUP($A40,'Shift Schedule'!$A$7:$F$41,5,FALSE))","v":""},{"$f":"IF(VLOOKUP($A40,'Shift Schedule'!$A$7:$F$41,6,FALSE)=0,\"\",VLOOKUP($A40,'Shift Schedule'!$A$7:$F$41,6,FALSE))","v":""},"",{"$f":"IF(VLOOKUP($A40,'Shift Schedule'!$A$53:$F$87,5,FALSE)=0,\"\",VLOOKUP($A40,'Shift Schedule'!$A$53:$F$87,5,FALSE))","v":""},{"$f":"IF(VLOOKUP($A40,'Shift Schedule'!$A$53:$F$87,6,FALSE)=0,\"\",VLOOKUP($A40,'Shift Schedule'!$A$53:$F$87,6,FALSE))","v":""},"",{"$f":"IF(VLOOKUP($A40,'Shift Schedule'!$A$99:$F542,5,FALSE)=0,\"\",VLOOKUP($A40,'Shift Schedule'!$A$99:$F$133,5,FALSE))","v":""},{"$f":"IF(VLOOKUP($A40,'Shift Schedule'!$A$99:$F542,6,FALSE)=0,\"\",VLOOKUP($A40,'Shift Schedule'!$A$99:$F$133,6,FALSE))","v":""},"",{"$f":"IF(VLOOKUP($A40,'Shift Schedule'!$A$145:$F$179,5,FALSE)=0,\"\",VLOOKUP($A40,'Shift Schedule'!$A$145:$F$179,5,FALSE))","v":""},{"$f":"IF(VLOOKUP($A40,'Shift Schedule'!$A$145:$F$179,6,FALSE)=0,\"\",VLOOKUP($A40,'Shift Schedule'!$A$145:$F$179,6,FALSE))","v":""},"",{"$f":"IF(VLOOKUP($A40,'Shift Schedule'!$A$191:$F$225,5,FALSE)=0,\"\",VLOOKUP($A40,'Shift Schedule'!$A$191:$F$225,5,FALSE))","v":""},{"$f":"IF(VLOOKUP($A40,'Shift Schedule'!$A$191:$F$225,6,FALSE)=0,\"\",VLOOKUP($A40,'Shift Schedule'!$A$191:$F$225,6,FALSE))","v":""},"",{"$f":"IF(VLOOKUP($A40,'Shift Schedule'!$A$237:$F$271,5,FALSE)=0,\"\",VLOOKUP($A40,'Shift Schedule'!$A$237:$F$271,5,FALSE))","v":""},{"$f":"IF(VLOOKUP($A40,'Shift Schedule'!$A$237:$F$271,6,FALSE)=0,\"\",VLOOKUP($A40,'Shift Schedule'!$A$237:$F$271,6,FALSE))","v":""},"",{"$f":"IF(VLOOKUP($A40,'Shift Schedule'!$A$283:$F$317,5,FALSE)=0,\"\",VLOOKUP($A40,'Shift Schedule'!$A$283:$F$317,5,FALSE))","v":""},{"$f":"IF(VLOOKUP($A40,'Shift Schedule'!$A$283:$F$317,6,FALSE)=0,\"\",VLOOKUP($A40,'Shift Schedule'!$A$283:$F$317,6,FALSE))","v":""},"",""]
[34,{"$f":"IF(VLOOKUP($A41,'Schedule Setup'!$A$5:$E$39,2,FALSE)=0,\"\",VLOOKUP($A41,'Schedule Setup'!$A$5:$E$39,2,FALSE))","v":""},{"$f":"IF(VLOOKUP($A41,'Schedule Setup'!$A$5:$E$39,4,FALSE)=0,\"\",IF(OR(VLOOKUP($A41,'Schedule Setup'!$A$5:$E$39,4,FALSE)=\"General Manager (H)\", VLOOKUP($A41,'Schedule Setup'!$A$5:$E$39,4,FALSE)=\"General Manager (S)\"),\"General Manager\",VLOOKUP($A41,'Schedule Setup'!$A$5:$E$39,4,FALSE)))","v":""},{"$f":"IF(VLOOKUP($A41,'Shift Schedule'!$A$7:$F$41,5,FALSE)=0,\"\",VLOOKUP($A41,'Shift Schedule'!$A$7:$F$41,5,FALSE))","v":""},{"$f":"IF(VLOOKUP($A41,'Shift Schedule'!$A$7:$F$41,6,FALSE)=0,\"\",VLOOKUP($A41,'Shift Schedule'!$A$7:$F$41,6,FALSE))","v":""},"",{"$f":"IF(VLOOKUP($A41,'Shift Schedule'!$A$53:$F$87,5,FALSE)=0,\"\",VLOOKUP($A41,'Shift Schedule'!$A$53:$F$87,5,FALSE))","v":""},{"$f":"IF(VLOOKUP($A41,'Shift Schedule'!$A$53:$F$87,6,FALSE)=0,\"\",VLOOKUP($A41,'Shift Schedule'!$A$53:$F$87,6,FALSE))","v":""},"",{"$f":"IF(VLOOKUP($A41,'Shift Schedule'!$A$99:$F543,5,FALSE)=0,\"\",VLOOKUP($A41,'Shift Schedule'!$A$99:$F$133,5,FALSE))","v":""},{"$f":"IF(VLOOKUP($A41,'Shift Schedule'!$A$99:$F543,6,FALSE)=0,\"\",VLOOKUP($A41,'Shift Schedule'!$A$99:$F$133,6,FALSE))","v":""},"",{"$f":"IF(VLOOKUP($A41,'Shift Schedule'!$A$145:$F$179,5,FALSE)=0,\"\",VLOOKUP($A41,'Shift Schedule'!$A$145:$F$179,5,FALSE))","v":""},{"$f":"IF(VLOOKUP($A41,'Shift Schedule'!$A$145:$F$179,6,FALSE)=0,\"\",VLOOKUP($A41,'Shift Schedule'!$A$145:$F$179,6,FALSE))","v":""},"",{"$f":"IF(VLOOKUP($A41,'Shift Schedule'!$A$191:$F$225,5,FALSE)=0,\"\",VLOOKUP($A41,'Shift Schedule'!$A$191:$F$225,5,FALSE))","v":""},{"$f":"IF(VLOOKUP($A41,'Shift Schedule'!$A$191:$F$225,6,FALSE)=0,\"\",VLOOKUP($A41,'Shift Schedule'!$A$191:$F$225,6,FALSE))","v":""},"",{"$f":"IF(VLOOKUP($A41,'Shift Schedule'!$A$237:$F$271,5,FALSE)=0,\"\",VLOOKUP($A41,'Shift Schedule'!$A$237:$F$271,5,FALSE))","v":""},{"$f":"IF(VLOOKUP($A41,'Shift Schedule'!$A$237:$F$271,6,FALSE)=0,\"\",VLOOKUP($A41,'Shift Schedule'!$A$237:$F$271,6,FALSE))","v":""},"",{"$f":"IF(VLOOKUP($A41,'Shift Schedule'!$A$283:$F$317,5,FALSE)=0,\"\",VLOOKUP($A41,'Shift Schedule'!$A$283:$F$317,5,FALSE))","v":""},{"$f":"IF(VLOOKUP($A41,'Shift Schedule'!$A$283:$F$317,6,FALSE)=0,\"\",VLOOKUP($A41,'Shift Schedule'!$A$283:$F$317,6,FALSE))","v":""},"",""]
[35,{"$f":"IF(VLOOKUP($A42,'Schedule Setup'!$A$5:$E$39,2,FALSE)=0,\"\",VLOOKUP($A42,'Schedule Setup'!$A$5:$E$39,2,FALSE))","v":""},{"$f":"IF(VLOOKUP($A42,'Schedule Setup'!$A$5:$E$39,4,FALSE)=0,\"\",IF(OR(VLOOKUP($A42,'Schedule Setup'!$A$5:$E$39,4,FALSE)=\"General Manager (H)\", VLOOKUP($A42,'Schedule Setup'!$A$5:$E$39,4,FALSE)=\"General Manager (S)\"),\"General Manager\",VLOOKUP($A42,'Schedule Setup'!$A$5:$E$39,4,FALSE)))","v":""},{"$f":"IF(VLOOKUP($A42,'Shift Schedule'!$A$7:$F$41,5,FALSE)=0,\"\",VLOOKUP($A42,'Shift Schedule'!$A$7:$F$41,5,FALSE))","v":""},{"$f":"IF(VLOOKUP($A42,'Shift Schedule'!$A$7:$F$41,6,FALSE)=0,\"\",VLOOKUP($A42,'Shift Schedule'!$A$7:$F$41,6,FALSE))","v":""},"",{"$f":"IF(VLOOKUP($A42,'Shift Schedule'!$A$53:$F$87,5,FALSE)=0,\"\",VLOOKUP($A42,'Shift Schedule'!$A$53:$F$87,5,FALSE))","v":""},{"$f":"IF(VLOOKUP($A42,'Shift Schedule'!$A$53:$F$87,6,FALSE)=0,\"\",VLOOKUP($A42,'Shift Schedule'!$A$53:$F$87,6,FALSE))","v":""},"",{"$f":"IF(VLOOKUP($A42,'Shift Schedule'!$A$99:$F544,5,FALSE)=0,\"\",VLOOKUP($A42,'Shift Schedule'!$A$99:$F$133,5,FALSE))","v":""},{"$f":"IF(VLOOKUP($A42,'Shift Schedule'!$A$99:$F544,6,FALSE)=0,\"\",VLOOKUP($A42,'Shift Schedule'!$A$99:$F$133,6,FALSE))","v":""},"",{"$f":"IF(VLOOKUP($A42,'Shift Schedule'!$A$145:$F$179,5,FALSE)=0,\"\",VLOOKUP($A42,'Shift Schedule'!$A$145:$F$179,5,FALSE))","v":""},{"$f":"IF(VLOOKUP($A42,'Shift Schedule'!$A$145:$F$179,6,FALSE)=0,\"\",VLOOKUP($A42,'Shift Schedule'!$A$145:$F$179,6,FALSE))","v":""},"",{"$f":"IF(VLOOKUP($A42,'Shift Schedule'!$A$191:$F$225,5,FALSE)=0,\"\",VLOOKUP($A42,'Shift Schedule'!$A$191:$F$225,5,FALSE))","v":""},{"$f":"IF(VLOOKUP($A42,'Shift Schedule'!$A$191:$F$225,6,FALSE)=0,\"\",VLOOKUP($A42,'Shift Schedule'!$A$191:$F$225,6,FALSE))","v":""},"",{"$f":"IF(VLOOKUP($A42,'Shift Schedule'!$A$237:$F$271,5,FALSE)=0,\"\",VLOOKUP($A42,'Shift Schedule'!$A$237:$F$271,5,FALSE))","v":""},{"$f":"IF(VLOOKUP($A42,'Shift Schedule'!$A$237:$F$271,6,FALSE)=0,\"\",VLOOKUP($A42,'Shift Schedule'!$A$237:$F$271,6,FALSE))","v":""},"",{"$f":"IF(VLOOKUP($A42,'Shift Schedule'!$A$283:$F$317,5,FALSE)=0,\"\",VLOOKUP($A42,'Shift Schedule'!$A$283:$F$317,5,FALSE))","v":""},{"$f":"IF(VLOOKUP($A42,'Shift Schedule'!$A$283:$F$317,6,FALSE)=0,\"\",VLOOKUP($A42,'Shift Schedule'!$A$283:$F$317,6,FALSE))","v":""},"","",null,""]
[null,"Totals / Coverage",null,{"$f":"'Shift Schedule'!AT42","v":0},null,{"$f":"IFERROR(SUM(F8:F42),\"\")","v":0},{"$f":"'Shift Schedule'!AT88","v":0},null,{"$f":"IFERROR(SUM(I8:I42),\"\")","v":0},{"$f":"'Shift Schedule'!AT134","v":0},null,{"$f":"IFERROR(SUM(L8:L42),\"\")","v":0},{"$f":"'Shift Schedule'!AT180","v":0},null,{"$f":"IFERROR(SUM(O8:O42),\"\")","v":0},{"$f":"'Shift Schedule'!AT226","v":0},null,{"$f":"IFERROR(SUM(R8:R42),\"\")","v":0},{"$f":"'Shift Schedule'!AT272","v":0},null,{"$f":"IFERROR(SUM(U8:U42),\"\")","v":0},{"$f":"'Shift Schedule'!AT318","v":0},null,{"$f":"IFERROR(SUM(X8:X42),\"\")","v":0},{"$f":"IF(SUM(Y8:Y42)=\"\",\"\",SUM(Y8:Y42))","v":0}]
[]
[null,"Events",null,"Start","End",null,"Start","End",null,"Start","End",null,"Start","End",null,"Start","End",null,"Start","End",null,"Start","End"]
[null,{"$f":"IF(ISBLANK('Schedule Setup'!D43),\"\",'Schedule Setup'!D43)","v":""},null,{"$f":"IF(ISBLANK('Schedule Setup'!F43),\"\",'Schedule Setup'!F43)","v":""},{"$f":"IF(ISBLANK('Schedule Setup'!G43),\"\",'Schedule Setup'!G43)","v":""},null,{"$f":"IF(ISBLANK('Schedule Setup'!H43),\"\",'Schedule Setup'!H43)","v":""},{"$f":"IF(ISBLANK('Schedule Setup'!I43),\"\",'Schedule Setup'!I43)","v":""},null,{"$f":"IF(ISBLANK('Schedule Setup'!J43),\"\",'Schedule Setup'!J43)","v":""},{"$f":"IF(ISBLANK('Schedule Setup'!K43),\"\",'Schedule Setup'!K43)","v":""},null,{"$f":"IF(ISBLANK('Schedule Setup'!L43),\"\",'Schedule Setup'!L43)","v":""},{"$f":"IF(ISBLANK('Schedule Setup'!M43),\"\",'Schedule Setup'!M43)","v":""},null,{"$f":"IF(ISBLANK('Schedule Setup'!N43),\"\",'Schedule Setup'!N43)","v":""},{"$f":"IF(ISBLANK('Schedule Setup'!O43),\"\",'Schedule Setup'!O43)","v":""},null,{"$f":"IF(ISBLANK('Schedule Setup'!P43),\"\",'Schedule Setup'!P43)","v":""},{"$f":"IF(ISBLANK('Schedule Setup'!Q43),\"\",'Schedule Setup'!Q43)","v":""},null,{"$f":"IF(ISBLANK('Schedule Setup'!R43),\"\",'Schedule Setup'!R43)","v":""},{"$f":"IF(ISBLANK('Schedule Setup'!S43),\"\",'Schedule Setup'!S43)","v":""}]
[null,{"$f":"IF(ISBLANK('Schedule Setup'!D44),\"\",'Schedule Setup'!D44)","v":""},null,{"$f":"IF(ISBLANK('Schedule Setup'!F44),\"\",'Schedule Setup'!F44)","v":""},{"$f":"IF(ISBLANK('Schedule Setup'!G44),\"\",'Schedule Setup'!G44)","v":""},null,{"$f":"IF(ISBLANK('Schedule Setup'!H44),\"\",'Schedule Setup'!H44)","v":""},{"$f":"IF(ISBLANK('Schedule Setup'!I44),\"\",'Schedule Setup'!I44)","v":""},null,{"$f":"IF(ISBLANK('Schedule Setup'!J44),\"\",'Schedule Setup'!J44)","v":""},{"$f":"IF(ISBLANK('Schedule Setup'!K44),\"\",'Schedule Setup'!K44)","v":""},null,{"$f":"IF(ISBLANK('Schedule Setup'!L44),\"\",'Schedule Setup'!L44)","v":""},{"$f":"IF(ISBLANK('Schedule Setup'!M44),\"\",'Schedule Setup'!M44)","v":""},null,{"$f":"IF(ISBLANK('Schedule Setup'!N44),\"\",'Schedule Setup'!N44)","v":""},{"$f":"IF(ISBLANK('Schedule Setup'!O44),\"\",'Schedule Setup'!O44)","v":""},null,{"$f":"IF(ISBLANK('Schedule Setup'!P44),\"\",'Schedule Setup'!P44)","v":""},{"$f":"IF(ISBLANK('Schedule Setup'!Q44),\"\",'Schedule Setup'!Q44)","v":""},null,{"$f":"IF(ISBLANK('Schedule Setup'!R44),\"\",'Schedule Setup'!R44)","v":""},{"$f":"IF(ISBLANK('Schedule Setup'!S44),\"\",'Schedule Setup'!S44)","v":""}]
[null,{"$f":"IF(ISBLANK('Schedule Setup'!D45),\"\",'Schedule Setup'!D45)","v":""},null,{"$f":"IF(ISBLANK('Schedule Setup'!F45),\"\",'Schedule Setup'!F45)","v":""},{"$f":"IF(ISBLANK('Schedule Setup'!G45),\"\",'Schedule Setup'!G45)","v":""},null,{"$f":"IF(ISBLANK('Schedule Setup'!H45),\"\",'Schedule Setup'!H45)","v":""},{"$f":"IF(ISBLANK('Schedule Setup'!I45),\"\",'Schedule Setup'!I45)","v":""},null,{"$f":"IF(ISBLANK('Schedule Setup'!J45),\"\",'Schedule Setup'!J45)","v":""},{"$f":"IF(ISBLANK('Schedule Setup'!K45),\"\",'Schedule Setup'!K45)","v":""},null,{"$f":"IF(ISBLANK('Schedule Setup'!L45),\"\",'Schedule Setup'!L45)","v":""},{"$f":"IF(ISBLANK('Schedule Setup'!M45),\"\",'Schedule Setup'!M45)","v":""},null,{"$f":"IF(ISBLANK('Schedule Setup'!N45),\"\",'Schedule Setup'!N45)","v":""},{"$f":"IF(ISBLANK('Schedule Setup'!O45),\"\",'Schedule Setup'!O45)","v":""},null,{"$f":"IF(ISBLANK('Schedule Setup'!P45),\"\",'Schedule Setup'!P45)","v":""},{"$f":"IF(ISBLANK('Schedule Setup'!Q45),\"\",'Schedule Setup'!Q45)","v":""},null,{"$f":"IF(ISBLANK('Schedule Setup'!R45),\"\",'Schedule Setup'!R45)","v":""},{"$f":"IF(ISBLANK('Schedule Setup'!S45),\"\",'Schedule Setup'!S45)","v":""}]
[null,{"$f":"IF(ISBLANK('Schedule Setup'!D46),\"\",'Schedule Setup'!D46)","v":""},null,{"$f":"IF(ISBLANK('Schedule Setup'!F46),\"\",'Schedule Setup'!F46)","v":""},{"$f":"IF(ISBLANK('Schedule Setup'!G46),\"\",'Schedule Setup'!G46)","v":""},null,{"$f":"IF(ISBLANK('Schedule Setup'!H46),\"\",'Schedule Setup'!H46)","v":""},{"$f":"IF(ISBLANK('Schedule Setup'!I46),\"\",'Schedule Setup'!I46)","v":""},null,{"$f":"IF(ISBLANK('Schedule Setup'!J46),\"\",'Schedule Setup'!J46)","v":""},{"$f":"IF(ISBLANK('Schedule Setup'!K46),\"\",'Schedule Setup'!K46)","v":""},null,{"$f":"IF(ISBLANK('Schedule Setup'!L46),\"\",'Schedule Setup'!L46)","v":""},{"$f":"IF(ISBLANK('Schedule Setup'!M46),\"\",'Schedule Setup'!M46)","v":""},null,{"$f":"IF(ISBLANK('Schedule Setup'!N46),\"\",'Schedule Setup'!N46)","v":""},{"$f":"IF(ISBLANK('Schedule Setup'!O46),\"\",'Schedule Setup'!O46)","v":""},null,{"$f":"IF(ISBLANK('Schedule Setup'!P46),\"\",'Schedule Setup'!P46)","v":""},{"$f":"IF(ISBLANK('Schedule Setup'!Q46),\"\",'Schedule Setup'!Q46)","v":""},null,{"$f":"IF(ISBLANK('Schedule Setup'!R46),\"\",'Schedule Setup'!R46)","v":""},{"$f":"IF(ISBLANK('Schedule Setup'!S46),\"\",'Schedule Setup'!S46)","v":""}]
[null,{"$f":"IF(ISBLANK('Schedule Setup'!D47),\"\",'Schedule Setup'!D47)","v":""},null,{"$f":"IF(ISBLANK('Schedule Setup'!F47),\"\",'Schedule Setup'!F47)","v":""},{"$f":"IF(ISBLANK('Schedule Setup'!G47),\"\",'Schedule Setup'!G47)","v":""},null,{"$f":"IF(ISBLANK('Schedule Setup'!H47),\"\",'Schedule Setup'!H47)","v":""},{"$f":"IF(ISBLANK('Schedule Setup'!I47),\"\",'Schedule Setup'!I47)","v":""},null,{"$f":"IF(ISBLANK('Schedule Setup'!J47),\"\",'Schedule Setup'!J47)","v":""},{"$f":"IF(ISBLANK('Schedule Setup'!K47),\"\",'Schedule Setup'!K47)","v":""},null,{"$f":"IF(ISBLANK('Schedule Setup'!L47),\"\",'Schedule Setup'!L47)","v":""},{"$f":"IF(ISBLANK('Schedule Setup'!M47),\"\",'Schedule Setup'!M47)","v":""},null,{"$f":"IF(ISBLANK('Schedule Setup'!N47),\"\",'Schedule Setup'!N47)","v":""},{"$f":"IF(ISBLANK('Schedule Setup'!O47),\"\",'Schedule Setup'!O47)","v":""},null,{"$f":"IF(ISBLANK('Schedule Setup'!P47),\"\",'Schedule Setup'!P47)","v":""},{"$f":"IF(ISBLANK('Schedule Setup'!Q47),\"\",'Schedule Setup'!Q47)","v":""},null,{"$f":"IF(ISBLANK('Schedule Setup'!R47),\"\",'Schedule Setup'!R47)","v":""},{"$f":"IF(ISBLANK('Schedule Setup'!S47),\"\",'Schedule Setup'!S47)","v":""}]
[null,{"$f":"IF(ISBLANK('Schedule Setup'!D48),\"\",'Schedule Setup'!D48)","v":""},null,{"$f":"IF(ISBLANK('Schedule Setup'!F48),\"\",'Schedule Setup'!F48)","v":""},{"$f":"IF(ISBLANK('Schedule Setup'!G48),\"\",'Schedule Setup'!G48)","v":""},null,{"$f":"IF(ISBLANK('Schedule Setup'!H48),\"\",'Schedule Setup'!H48)","v":""},{"$f":"IF(ISBLANK('Schedule Setup'!I48),\"\",'Schedule Setup'!I48)","v":""},null,{"$f":"IF(ISBLANK('Schedule Setup'!J48),\"\",'Schedule Setup'!J48)","v":""},{"$f":"IF(ISBLANK('Schedule Setup'!K48),\"\",'Schedule Setup'!K48)","v":""},null,{"$f":"IF(ISBLANK('Schedule Setup'!L48),\"\",'Schedule Setup'!L48)","v":""},{"$f":"IF(ISBLANK('Schedule Setup'!M48),\"\",'Schedule Setup'!M48)","v":""},null,{"$f":"IF(ISBLANK('Schedule Setup'!N48),\"\",'Schedule Setup'!N48)","v":""},{"$f":"IF(ISBLANK('Schedule Setup'!O48),\"\",'Schedule Setup'!O48)","v":""},null,{"$f":"IF(ISBLANK('Schedule Setup'!P48),\"\",'Schedule Setup'!P48)","v":""},{"$f":"IF(ISBLANK('Schedule Setup'!Q48),\"\",'Schedule Setup'!Q48)","v":""},null,{"$f":"IF(ISBLANK('Schedule Setup'!R48),\"\",'Schedule Setup'!R48)","v":""},{"$f":"IF(ISBLANK('Schedule Setup'!S48),\"\",'Schedule Setup'!S48)","v":""}]
[]
[null,"Remember:"]
[null,"1.  All Time Off Requests Should be Submitted for Approval a minimum of 3 Weeks in Advance.",null,null,null,null,null,null,null,null,null,null,null,"3.  The MIC must Approve ALL Schedule Changes."]
[null,"2.  Should You NEED Time off After the Schedule is Posted, it is YOUR Responsibility fo cover your Shift.",null,null,null,null,null,null,null,null,null,null,null,"4.  All Schedule Changes MUST be Marked in Pen and Initialed by MIC or GM"]

{"sheet":"Schedule Forecast","index":3,"n_rows":52,"n_cols":31,"rows_kept":52,"cut":false,"hidden":false,"merged":[[24,0,24,28],[35,0,35,28],[43,0,43,28],[12,0,12,28],[19,0,19,28],[9,17,9,20],[9,21,9,24],[9,25,9,28],[10,1,10,4],[10,5,10,8],[10,9,10,12],[10,13,10,16],[10,17,10,20],[10,21,10,24],[10,25,10,28],[9,13,9,16],[6,0,6,1],[6,2,6,3],[9,1,9,4],[9,5,9,8],[9,9,9,12],[8,1,8,4],[8,5,8,6],[5,0,5,1],[5,2,5,3],[0,9,0,20],[0,29,0,30],[1,11,1,12],[1,13,1,15],[1,29,1,30],[2,29,2,30],[3,0,3,1],[3,2,3,3],[3,29,3,30],[4,0,4,1],[4,2,4,3],[5,11,5,12]]}
[null,null,null,null,null,null,null,null,null,"Weekly Schedule Forecast",null,null,null,null,null,null,null,null,null,null,null,null,null,null,null,null,null,null,"For the Week of: ",{"$f":"'Shift Schedule'!O2","v":"2019-05-01"}]
[null,null,null,null,null,null,null,null,null,null,null,{"$f":"'Shift Schedule'!B2","v":"Store:"},null,{"$f":"'Weekly Schedule'!K3","v":0},null,null,null,null,null,null,null,null,null,null,null,null,null,null,"Period:",{"$f":"'Weekly Schedule'!X2","v":5}]
[null,null,null,null,null,null,null,null,null,null,null,null,null,null,null,null,null,null,null,null,null,null,null,null,null,null,null,null,"Week:",{"$f":"'Weekly Schedule'!X3","v":2}]
["Labor Budget-"]
["Scheduled Labor-",null,{"$f":"AE31","v":""}]
["Labor Variance ($)-",null,{"$f":"AE45","v":""}]
["Labor Variance (Hr)-",null,{"$f":"AE46","v":""}]
[]
[]
[null,"Wednesday",null,null,null,"Thursday",null,null,null,"Friday",null,null,null,"Saturday",null,null,null,"Sunday",null,null,null,"Monday",null,null,null,"Tuesday"]
[null,{"$f":"'Shift Schedule'!T5","v":"2019-05-01"},null,null,null,{"$f":"'Shift Schedule'!T51","v":"2019-05-02"},null,null,null,{"$f":"'Shift Schedule'!T97","v":"2019-05-03"},null,null,null,{"$f":"'Shift Schedule'!T143","v":"2019-05-04"},null,null,null,{"$f":"'Shift Schedule'!T189","v":"2019-05-05"},null,null,null,{"$f":"'Shift Schedule'!T235","v":"2019-05-06"},null,null,null,{"$f":"'Shift Schedule'!T281","v":"2019-05-07"},null,null,null,null,"Weekly"]
["Daypart","Bfst","Lunch","Dinner","Total","Bfst","Lunch","Dinner","Total","Bfst","Lunch","Dinner","Total","Bfst","Lunch","Dinner","Total","Bfst","Lunch","Dinner","Total","Bfst","Lunch","Dinner","Total","Bfst","Lunch","Dinner","Total",null,"Total"]
["Forecasted Sales"]
["Last Week",null,null,null,{"$f":"IF(SUM(B14:D14)=0,\"\",SUM(B14:D14))","v":""},null,null,null,{"$f":"IF(SUM(F14:H14)=0,\"\",SUM(F14:H14))","v":""},null,null,null,{"$f":"IF(SUM(J14:L14)=0,\"\",SUM(J14:L14))","v":""},null,null,null,{"$f":"IF(SUM(N14:P14)=0,\"\",SUM(N14:P14))","v":""},null,null,null,{"$f":"IF(SUM(R14:T14)=0,\"\",SUM(R14:T14))","v":""},null,null,null,{"$f":"IF(SUM(V14:X14)=0,\"\",SUM(V14:X14))","v":""},null,null,null,{"$f":"IF(SUM(Z14:AB14)=0,\"\",SUM(Z14:AB14))","v":""},null,{"$f":"IF(SUM(E14,I14,M14,Q14,U14,Y14,AC14)=0,\"\",SUM(E14,I14,M14,Q14,U14,Y14,AC14))","v":""}]
["2 Weeks Ago",null,null,null,{"$f":"IF(SUM(B15:D15)=0,\"\",SUM(B15:D15))","v":""},null,null,null,{"$f":"IF(SUM(F15:H15)=0,\"\",SUM(F15:H15))","v":""},null,null,null,{"$f":"IF(SUM(J15:L15)=0,\"\",SUM(J15:L15))","v":""},null,null,null,"",null,null,null,"",null,null,null,"",null,null,null,"",null,""]
["3 Weeks Ago",null,null,null,{"$f":"IF(SUM(B16:D16)=0,\"\",SUM(B16:D16))","v":""},null,null,null,{"$f":"IF(SUM(F16:H16)=0,\"\",SUM(F16:H16))","v":""},null,null,null,"",null,null,null,"",null,null,null,"",null,null,null,"",null,null,null,"",null,""]
["4 Weeks Ago",null,null,null,{"$f":"IF(SUM(B17:D17)=0,\"\",SUM(B17:D17))","v":""},null,null,null,{"$f":"IF(SUM(F17:H17)=0,\"\",SUM(F17:H17))","v":""},null,null,null,"",null,null,null,{"$f":"IF(SUM(N17:P17)=0,\"\",SUM(N17:P17))","v":""},null,null,null,"",null,null,null,"",null,null,null,"",null,{"$f":"IF(SUM(E17,I17,M17,Q17,U17,Y17,AC17)=0,\"\",SUM(E17,I17,M17,Q17,U17,Y17,AC17))","v":""}]
["Avg Last 4wk Sales",{"$f":"IF(SUM(B14:B17)=0,\"\",AVERAGE(B14:B17))","v":""},{"$f":"IF(SUM(C14:C17)=0,\"\",AVERAGE(C14:C17))","v":""},{"$f":"IF(SUM(D14:D17)=0,\"\",AVERAGE(D14:D17))","v":""},{"$f":"IF(SUM(B18:D18)=0,\"\",SUM(B18:D18))","v":""},{"$f":"IF(SUM(F14:F17)=0,\"\",AVERAGE(F14:F17))","v":""},{"$f":"IF(SUM(G14:G17)=0,\"\",AVERAGE(G14:G17))","v":""},{"$f":"IF(SUM(H14:H17)=0,\"\",AVERAGE(H14:H17))","v":""},{"$f":"IF(SUM(F18:H18)=0,\"\",SUM(F18:H18))","v":""},{"$f":"IF(SUM(J14:J17)=0,\"\",AVERAGE(J14:J17))","v":""},{"$f":"IF(SUM(K14:K17)=0,\"\",AVERAGE(K14:K17))","v":""},{"$f":"IF(SUM(L14:L17)=0,\"\",AVERAGE(L14:L17))","v":""},"",{"$f":"IF(SUM(N14:N17)=0,\"\",AVERAGE(N14:N17))","v":""},{"$f":"IF(SUM(O14:O17)=0,\"\",AVERAGE(O14:O17))","v":""},{"$f":"IF(SUM(P14:P17)=0,\"\",AVERAGE(P14:P17))","v":""},"",{"$f":"IF(SUM(R14:R17)=0,\"\",AVERAGE(R14:R17))","v":""},{"$f":"IF(SUM(S14:S17)=0,\"\",AVERAGE(S14:S17))","v":""},{"$f":"IF(SUM(T14:T17)=0,\"\",AVERAGE(T14:T17))","v":""},{"$f":"IF(SUM(R18:T18)=0,\"\",SUM(R18:T18))","v":""},{"$f":"IF(SUM(V14:V17)=0,\"\",AVERAGE(V14:V17))","v":""},{"$f":"IF(SUM(W14:W17)=0,\"\",AVERAGE(W14:W17))","v":""},{"$f":"IF(SUM(X14:X17)=0,\"\",AVERAGE(X14:X17))","v":""},"",{"$f":"IF(SUM(Z14:Z17)=0,\"\",AVERAGE(Z14:Z17))","v":""},{"$f":"IF(SUM(AA14:AA17)=0,\"\",AVERAGE(AA14:AA17))","v":""},{"$f":"IF(SUM(AB14:AB17)=0,\"\",AVERAGE(AB14:AB17))","v":""},"",null,""]
["PY Sales",null,null,null,"",null,null,null,"",null,null,null,"",null,null,null,{"$f":"IF(SUM(N19:P19)=0,\"\",SUM(N19:P19))","v":""},null,null,null,"",null,null,null,"",null,null,null,"",null,""]
[]
["Sales Forecast",{"$f":"IFERROR(AVERAGE(B14:B17,B19),\" \")","v":" "},{"$f":"IFERROR(AVERAGE(C14:C17,C19),\" \")","v":" "},{"$f":"IFERROR(AVERAGE(D14:D17,D19),\" \")","v":" "},"",{"$f":"IFERROR(AVERAGE(F14:F17,F19),\" \")","v":" "},{"$f":"IFERROR(AVERAGE(G14:G17,G19),\" \")","v":" "},{"$f":"IFERROR(AVERAGE(H14:H17,H19),\" \")","v":" "},{"$f":"IF(SUM(F21:H21)=0,\"\",SUM(F21:H21))","v":""},{"$f":"IFERROR(AVERAGE(J14:J17,J19),\" \")","v":" "}," "," ",{"$f":"IF(SUM(J21:L21)=0,\"\",SUM(J21:L21))","v":""},{"$f":"IFERROR(AVERAGE(N14:N17,N19),\" \")","v":" "}," "," ",{"$f":"IF(SUM(N21:P21)=0,\"\",SUM(N21:P21))","v":""},{"$f":"IFERROR(AVERAGE(R14:R17,R19),\" \")","v":" "}," "," ",{"$f":"IF(SUM(R21:T21)=0,\"\",SUM(R21:T21))","v":""},{"$f":"IFERROR(AVERAGE(V14:V17,V19),\" \")","v":" "}," "," ",{"$f":"IF(SUM(V21:X21)=0,\"\",SUM(V21:X21))","v":""},{"$f":"IFERROR(AVERAGE(Z14:Z17,Z19),\" \")","v":" "}," "," ",{"$f":"IF(SUM(Z21:AB21)=0,\"\",SUM(Z21:AB21))","v":""},null,{"$f":"IF(SUM(E21,I21,M21,Q21,U21,Y21,AC21)=0,\"\",SUM(E21,I21,M21,Q21,U21,Y21,AC21))","v":""}]
["Outside Sales",null,null,null,"",null,null,null,"",null,null,null,"",null,null,null,"",null,null,null,"",null,null,null,"",null,null,null,"",null,{"$f":"IF(SUM(E22,I22,M22,Q22,U22,Y22,AC22)=0,\"\",SUM(E22,I22,M22,Q22,U22,Y22,AC22))","v":""}]
["Sales Forecast-Total",{"$f":"IF(SUM(B21:B22)=0,\"\",SUM(B21:B22))","v":""},"","","",{"$f":"IF(SUM(F21:F22)=0,\"\",SUM(F21:F22))","v":""},{"$f":"IF(SUM(G21:G22)=0,\"\",SUM(G21:G22))","v":""},"","","","","","","","","","","","","","","","","","","","","","",null,{"$f":"IF(SUM(E23,I23,M23,Q23,U23,Y23,AC23)=0,\"\",SUM(E23,I23,M23,Q23,U23,Y23,AC23))","v":""}]
[]
["Forecasted Schedule"]
["Scheduled Labor Hrs",{"$f":"IF('Shift Schedule'!EF42=0,\"\",'Shift Schedule'!EF42)","v":""},{"$f":"IF('Shift Schedule'!EH42=0,\"\",'Shift Schedule'!EH42)","v":""},{"$f":"IF('Shift Schedule'!EJ42=0,\"\",'Shift Schedule'!EJ42)","v":""},{"$f":"IF(SUM(B26:D26)=0,\"\",SUM(B26:D26))","v":""},{"$f":"IF('Shift Schedule'!EF88=0,\"\",'Shift Schedule'!EF88)","v":""},{"$f":"IF('Shift Schedule'!EH88=0,\"\",'Shift Schedule'!EH88)","v":""},{"$f":"IF('Shift Schedule'!EJ88=0,\"\",'Shift Schedule'!EJ88)","v":""},{"$f":"IF(SUM(F26:H26)=0,\"\",SUM(F26:H26))","v":""},{"$f":"IF('Shift Schedule'!EF134=0,\"\",'Shift Schedule'!EF134)","v":""},{"$f":"IF('Shift Schedule'!EH134=0,\"\",'Shift Schedule'!EH134)","v":""},{"$f":"IF('Shift Schedule'!EJ134=0,\"\",'Shift Schedule'!EJ134)","v":""},{"$f":"IF(SUM(J26:L26)=0,\"\",SUM(J26:L26))","v":""},{"$f":"IF('Shift Schedule'!EF180=0,\"\",'Shift Schedule'!EF180)","v":""},{"$f":"IF('Shift Schedule'!EH180=0,\"\",'Shift Schedule'!EH180)","v":""},{"$f":"IF('Shift Schedule'!EJ180=0,\"\",'Shift Schedule'!EJ180)","v":""},{"$f":"IF(SUM(N26:P26)=0,\"\",SUM(N26:P26))","v":""},{"$f":"IF('Shift Schedule'!EF226=0,\"\",'Shift Schedule'!EF226)","v":""},{"$f":"IF('Shift Schedule'!EH226=0,\"\",'Shift Schedule'!EH226)","v":""},{"$f":"IF('Shift Schedule'!EJ226=0,\"\",'Shift Schedule'!EJ226)","v":""},{"$f":"IF(SUM(R26:T26)=0,\"\",SUM(R26:T26))","v":""},{"$f":"IF('Shift Schedule'!EF272=0,\"\",'Shift Schedule'!EF272)","v":""},{"$f":"IF('Shift Schedule'!EH272=0,\"\",'Shift Schedule'!EH272)","v":""},{"$f":"IF('Shift Schedule'!EJ272=0,\"\",'Shift Schedule'!EJ272)","v":""},{"$f":"IF(SUM(V26:X26)=0,\"\",SUM(V26:X26))","v":""},{"$f":"IF('Shift Schedule'!EF318=0,\"\",'Shift Schedule'!EF318)","v":""},{"$f":"IF('Shift Schedule'!EH318=0,\"\",'Shift Schedule'!EH318)","v":""},{"$f":"IF('Shift Schedule'!EJ318=0,\"\",'Shift Schedule'!EJ318)","v":""},{"$f":"IF(SUM(Z26:AB26)=0,\"\",SUM(Z26:AB26))","v":""},null,{"$f":"IF(SUM(E26,I26,M26,Q26,U26,Y26,AC26)=\"\",\"\",SUM(E26,I26,M26,Q26,U26,Y26,AC26))","v":0}]
["Scheduled Labor $",{"$f":"IF('Shift Schedule'!EG42=0,\"\",'Shift Schedule'!EG42)","v":""},{"$f":"IF('Shift Schedule'!EI42=0,\"\",'Shift Schedule'!EI42)","v":""},{"$f":"IF('Shift Schedule'!EK42=0,\"\",'Shift Schedule'!EK42)","v":""},{"$f":"IF(SUM(B27:D27)=0,\"\",SUM(B27:D27))","v":""},{"$f":"IF('Shift Schedule'!EG88=0,\"\",'Shift Schedule'!EG88)","v":""},{"$f":"IF('Shift Schedule'!EI88=0,\"\",'Shift Schedule'!EI88)","v":""},{"$f":"IF('Shift Schedule'!EK88=0,\"\",'Shift Schedule'!EK88)","v":""},{"$f":"IF(SUM(F27:H27)=0,\"\",SUM(F27:H27))","v":""},{"$f":"IF('Shift Schedule'!EG134=0,\"\",'Shift Schedule'!EG134)","v":""},{"$f":"IF('Shift Schedule'!EI134=0,\"\",'Shift Schedule'!EI134)","v":""},{"$f":"IF('Shift Schedule'!EK134=0,\"\",'Shift Schedule'!EK134)","v":""},{"$f":"IF(SUM(J27:L27)=0,\"\",SUM(J27:L27))","v":""},{"$f":"IF('Shift Schedule'!EG180=0,\"\",'Shift Schedule'!EG180)","v":""},{"$f":"IF('Shift Schedule'!EI180=0,\"\",'Shift Schedule'!EI180)","v":""},{"$f":"IF('Shift Schedule'!EK180=0,\"\",'Shift Schedule'!EK180)","v":""},{"$f":"IF(SUM(N27:P27)=0,\"\",SUM(N27:P27))","v":""},{"$f":"IF('Shift Schedule'!EG226=0,\"\",'Shift Schedule'!EG226)","v":""},{"$f":"IF('Shift Schedule'!EI226=0,\"\",'Shift Schedule'!EI226)","v":""},{"$f":"IF('Shift Schedule'!EK226=0,\"\",'Shift Schedule'!EK226)","v":""},{"$f":"IF(SUM(R27:T27)=0,\"\",SUM(R27:T27))","v":""},{"$f":"IF('Shift Schedule'!EG272=0,\"\",'Shift Schedule'!EG272)","v":""},{"$f":"IF('Shift Schedule'!EI272=0,\"\",'Shift Schedule'!EI272)","v":""},{"$f":"IF('Shift Schedule'!EK272=0,\"\",'Shift Schedule'!EK272)","v":""},{"$f":"IF(SUM(V27:X27)=0,\"\",SUM(V27:X27))","v":""},{"$f":"IF('Shift Schedule'!EG318=0,\"\",'Shift Schedule'!EG318)","v":""},{"$f":"IF('Shift Schedule'!EI318=0,\"\",'Shift Schedule'!EI318)","v":""},{"$f":"IF('Shift Schedule'!EK318=0,\"\",'Shift Schedule'!EK318)","v":""},{"$f":"IF(SUM(Z27:AB27)=0,\"\",SUM(Z27:AB27))","v":""},null,{"$f":"IF(SUM(E27,I27,M27,Q27,U27,Y27,AC27)=\"\",\"\",SUM(E27,I27,M27,Q27,U27,Y27,AC27))","v":0}]
["GM Hours Scheduled",{"$f":"IFERROR(VLOOKUP(\"General Manager (S)\",'Shift Schedule'!$C$7:$EM$41,125,FALSE),0)","v":0},{"$f":"IFERROR(VLOOKUP(\"General Manager (S)\",'Shift Schedule'!$C$7:$EM$41,127,FALSE),0)","v":0},{"$f":"IFERROR(VLOOKUP(\"General Manager (S)\",'Shift Schedule'!$C$7:$EM$41,129,FALSE),0)","v":0},{"$f":"IFERROR(VLOOKUP(\"General Manager (S)\",'Shift Schedule'!$C$7:$EM$41,131,FALSE),0)","v":0},{"$f":"IFERROR(VLOOKUP(\"General Manager (S)\",'Shift Schedule'!$C$53:$EM$87,125,FALSE),0)","v":0},{"$f":"IFERROR(VLOOKUP(\"General Manager (S)\",'Shift Schedule'!$C$53:$EM$87,127,FALSE),0)","v":0},{"$f":"IFERROR(VLOOKUP(\"General Manager (S)\",'Shift Schedule'!$C$53:$EM$87,129,FALSE),0)","v":0},{"$f":"IFERROR(VLOOKUP(\"General Manager (S)\",'Shift Schedule'!$C$53:$EM$87,131,FALSE),0)","v":0},{"$f":"IFERROR(VLOOKUP(\"General Manager (S)\",'Shift Schedule'!$C$99:$EM$133,125,FALSE),0)","v":0},{"$f":"IFERROR(VLOOKUP(\"General Manager (S)\",'Shift Schedule'!$C$99:$EM$133,127,FALSE),0)","v":0},{"$f":"IFERROR(VLOOKUP(\"General Manager (S)\",'Shift Schedule'!$C$99:$EM$133,129,FALSE),0)","v":0},{"$f":"IFERROR(VLOOKUP(\"General Manager (S)\",'Shift Schedule'!$C$99:$EM$133,131,FALSE),0)","v":0},{"$f":"IFERROR(VLOOKUP(\"General Manager (S)\",'Shift Schedule'!$C$145:$EM$179,125,FALSE),0)","v":0},{"$f":"IFERROR(VLOOKUP(\"General Manager (S)\",'Shift Schedule'!$C$145:$EM$179,127,FALSE),0)","v":0},{"$f":"IFERROR(VLOOKUP(\"General Manager (S)\",'Shift Schedule'!$C$145:$EM$179,129,FALSE),0)","v":0},{"$f":"IFERROR(VLOOKUP(\"General Manager (S)\",'Shift Schedule'!$C$145:$EM$179,131,FALSE),0)","v":0},{"$f":"IFERROR(VLOOKUP(\"General Manager (S)\",'Shift Schedule'!$C$191:$EM$225,125,FALSE),0)","v":0},{"$f":"IFERROR(VLOOKUP(\"General Manager (S)\",'Shift Schedule'!$C$191:$EM$225,127,FALSE),0)","v":0},{"$f":"IFERROR(VLOOKUP(\"General Manager (S)\",'Shift Schedule'!$C$191:$EM$225,129,FALSE),0)","v":0},{"$f":"IFERROR(VLOOKUP(\"General Manager (S)\",'Shift Schedule'!$C$191:$EM$225,131,FALSE),0)","v":0},{"$f":"IFERROR(VLOOKUP(\"General Manager (S)\",'Shift Schedule'!$C$237:$EM$271,125,FALSE),0)","v":0},{"$f":"IFERROR(VLOOKUP(\"General Manager (S)\",'Shift Schedule'!$C$237:$EM$271,127,FALSE),0)","v":0},{"$f":"IFERROR(VLOOKUP(\"General Manager (S)\",'Shift Schedule'!$C$237:$EM$271,129,FALSE),0)","v":0},{"$f":"IFERROR(VLOOKUP(\"General Manager (S)\",'Shift Schedule'!$C$237:$EM$271,131,FALSE),0)","v":0},{"$f":"IFERROR(VLOOKUP(\"General Manager (S)\",'Shift Schedule'!$C$283:$EM$317,125,FALSE),0)","v":0},{"$f":"IFERROR(VLOOKUP(\"General Manager (S)\",'Shift Schedule'!$C$283:$EM$317,127,FALSE),0)","v":0},{"$f":"IFERROR(VLOOKUP(\"General Manager (S)\",'Shift Schedule'!$C$283:$EM$317,129,FALSE),0)","v":0},{"$f":"IFERROR(VLOOKUP(\"General Manager (S)\",'Shift Schedule'!$C$283:$EM$317,131,FALSE),0)","v":0},null,{"$f":"IF(SUM(E28,I28,M28,Q28,U28,Y28,AC28)=\"\",\"\",SUM(E28,I28,M28,Q28,U28,Y28,AC28))","v":0}]
["Scheduled Labor Hrs",{"$f":"IF(SUM(B26,B28)=0,\"\",B26-B28)","v":""},{"$f":"IF(SUM(C26,C28)=0,\"\",C26-C28)","v":""},"","",{"$f":"IF(SUM(F26,F28)=0,\"\",F26-F28)","v":""},{"$f":"IF(SUM(G26,G28)=0,\"\",G26-G28)","v":""},"","",{"$f":"IF(SUM(J26,J28)=0,\"\",J26-J28)","v":""},{"$f":"IF(SUM(K26,K28)=0,\"\",K26-K28)","v":""},"","",{"$f":"IF(SUM(N26,N28)=0,\"\",N26-N28)","v":""},{"$f":"IF(SUM(O26,O28)=0,\"\",O26-O28)","v":""},"","",{"$f":"IF(SUM(R26,R28)=0,\"\",R26-R28)","v":""},{"$f":"IF(SUM(S26,S28)=0,\"\",S26-S28)","v":""},"","",{"$f":"IF(SUM(V26,V28)=0,\"\",V26-V28)","v":""},{"$f":"IF(SUM(W26,W28)=0,\"\",W26-W28)","v":""},"","",{"$f":"IF(SUM(Z26,Z28)=0,\"\",Z26-Z28)","v":""},{"$f":"IF(SUM(AA26,AA28)=0,\"\",AA26-AA28)","v":""},"","",null,{"$f":"IF(SUM(E29,I29,M29,Q29,U29,Y29,AC29)=\"\",\"\",SUM(E29,I29,M29,Q29,U29,Y29,AC29))","v":0}]
["Scheduled Labor $",{"$f":"B27","v":""},{"$f":"C27","v":""},"","",{"$f":"F27","v":""},{"$f":"G27","v":""},"","",{"$f":"J27","v":""},{"$f":"K27","v":""},"","",{"$f":"N27","v":""},{"$f":"O27","v":""},"","",{"$f":"R27","v":""},{"$f":"S27","v":""},"","",{"$f":"V27","v":""},{"$f":"W27","v":""},"","",{"$f":"Z27","v":""},{"$f":"AA27","v":""},"","",null,{"$f":"IF(SUM(E30,I30,M30,Q30,U30,Y30,AC30)=\"\",\"\",SUM(E30,I30,M30,Q30,U30,Y30,AC30))","v":0}]
["Forecasted Labor %",{"$f":"IFERROR(B30/B23,\"\")","v":""},{"$f":"IFERROR(C30/C23,\"\")","v":""},"","",{"$f":"IFERROR(F30/F23,\"\")","v":""},{"$f":"IFERROR(G30/G23,\"\")","v":""},"","",{"$f":"IFERROR(J30/J23,\"\")","v":""},{"$f":"IFERROR(K30/K23,\"\")","v":""},"","",{"$f":"IFERROR(N30/N23,\"\")","v":""},{"$f":"IFERROR(O30/O23,\"\")","v":""},"","",{"$f":"IFERROR(R30/R23,\"\")","v":""},{"$f":"IFERROR(S30/S23,\"\")","v":""},"","",{"$f":"IFERROR(V30/V23,\"\")","v":""},{"$f":"IFERROR(W30/W23,\"\")","v":""},"","",{"$f":"IFERROR(Z30/Z23,\"\")","v":""},{"$f":"IFERROR(AA30/AA23,\"\")","v":""},"","",null,""]
[]
["Average Wage $",{"$f":"IFERROR(B30/B29,\"\")","v":""},{"$f":"IFERROR(C30/C29,\"\")","v":""},"","",{"$f":"IFERROR(F30/F29,\"\")","v":""},{"$f":"IFERROR(G30/G29,\"\")","v":""},"","",{"$f":"IFERROR(J30/J29,\"\")","v":""},{"$f":"IFERROR(K30/K29,\"\")","v":""},"","",{"$f":"IFERROR(N30/N29,\"\")","v":""},{"$f":"IFERROR(O30/O29,\"\")","v":""},"","",{"$f":"IFERROR(R30/R29,\"\")","v":""},{"$f":"IFERROR(S30/S29,\"\")","v":""},"","",{"$f":"IFERROR(V30/V29,\"\")","v":""},{"$f":"IFERROR(W30/W29,\"\")","v":""},"","",{"$f":"IFERROR(Z30/Z29,\"\")","v":""},{"$f":"IFERROR(AA30/AA29,\"\")","v":""},"","",null,""]
["Forecasted SPMH",{"$f":"IFERROR(B23/B29,\"\")","v":""},{"$f":"IFERROR(C23/C29,\"\")","v":""},"","",{"$f":"IFERROR(F23/F29,\"\")","v":""},{"$f":"IFERROR(G23/G29,\"\")","v":""},"","",{"$f":"IFERROR(J23/J29,\"\")","v":""},{"$f":"IFERROR(K23/K29,\"\")","v":""},"","",{"$f":"IFERROR(N23/N29,\"\")","v":""},{"$f":"IFERROR(O23/O29,\"\")","v":""},"","",{"$f":"IFERROR(R23/R29,\"\")","v":""},{"$f":"IFERROR(S23/S29,\"\")","v":""},"","",{"$f":"IFERROR(V23/V29,\"\")","v":""},{"$f":"IFERROR(W23/W29,\"\")","v":""},"","",{"$f":"IFERROR(Z23/Z29,\"\")","v":""},{"$f":"IFERROR(AA23/AA29,\"\")","v":""},"","",null,{"$f":"IFERROR(AE23/AE29,\"\")","v":""}]
[]
["Labor Budget"]
["Labor Budget $",{"$f":"IFERROR(B23*$C$4,\"\")","v":""},{"$f":"IFERROR(C23*$C$4,\"\")","v":""},"","","","","","","","","","","","","","","","","","","","","","","","","","",null,""]
["Labor Credit $",{"$f":"IFERROR(VLOOKUP(\"Acting Manager\",'Shift Schedule'!$C$7:$EM$41,178,FALSE),0)","v":0},{"$f":"IFERROR(VLOOKUP(\"Acting Manager\",'Shift Schedule'!$C$7:$EM$41,180,FALSE),0)","v":0},{"$f":"IFERROR(VLOOKUP(\"Acting Manager\",'Shift Schedule'!$C$7:$EM$41,182,FALSE),0)","v":0},{"$f":"IFERROR(VLOOKUP(\"Acting Manager\",'Shift Schedule'!$C$7:$EM$41,184,FALSE),0)","v":0},{"$f":"IFERROR(VLOOKUP(\"Acting Manager\",'Shift Schedule'!$C$53:$EM$87,178,FALSE),0)","v":0},{"$f":"IFERROR(VLOOKUP(\"Acting Manager\",'Shift Schedule'!$C$53:$EM$87,180,FALSE),0)","v":0},{"$f":"IFERROR(VLOOKUP(\"Acting Manager\",'Shift Schedule'!$C$53:$EM$87,182,FALSE),0)","v":0},{"$f":"IFERROR(VLOOKUP(\"Acting Manager\",'Shift Schedule'!$C$53:$EM$87,184,FALSE),0)","v":0},{"$f":"IFERROR(VLOOKUP(\"Acting Manager\",'Shift Schedule'!$C$99:$EM$133,178,FALSE),0)","v":0},{"$f":"IFERROR(VLOOKUP(\"Acting Manager\",'Shift Schedule'!$C$99:$EM$133,180,FALSE),0)","v":0},{"$f":"IFERROR(VLOOKUP(\"Acting Manager\",'Shift Schedule'!$C$99:$EM$133,182,FALSE),0)","v":0},{"$f":"IFERROR(VLOOKUP(\"Acting Manager\",'Shift Schedule'!$C$99:$EM$133,184,FALSE),0)","v":0},{"$f":"IFERROR(VLOOKUP(\"Acting Manager\",'Shift Schedule'!$C$145:$EM$179,178,FALSE),0)","v":0},{"$f":"IFERROR(VLOOKUP(\"Acting Manager\",'Shift Schedule'!$C$145:$EM$179,180,FALSE),0)","v":0},{"$f":"IFERROR(VLOOKUP(\"Acting Manager\",'Shift Schedule'!$C$145:$EM$179,182,FALSE),0)","v":0},{"$f":"IFERROR(VLOOKUP(\"Acting Manager\",'Shift Schedule'!$C$145:$EM$179,184,FALSE),0)","v":0},{"$f":"IFERROR(VLOOKUP(\"Acting Manager\",'Shift Schedule'!$C$191:$EM$225,178,FALSE),0)","v":0},{"$f":"IFERROR(VLOOKUP(\"Acting Manager\",'Shift Schedule'!$C$191:$EM$225,180,FALSE),0)","v":0},{"$f":"IFERROR(VLOOKUP(\"Acting Manager\",'Shift Schedule'!$C$191:$EM$225,182,FALSE),0)","v":0},{"$f":"IFERROR(VLOOKUP(\"Acting Manager\",'Shift Schedule'!$C$191:$EM$225,184,FALSE),0)","v":0},{"$f":"IFERROR(VLOOKUP(\"Acting Manager\",'Shift Schedule'!$C$237:$EM$271,178,FALSE),0)","v":0},{"$f":"IFERROR(VLOOKUP(\"Acting Manager\",'Shift Schedule'!$C$237:$EM$271,180,FALSE),0)","v":0},{"$f":"IFERROR(VLOOKUP(\"Acting Manager\",'Shift Schedule'!$C$237:$EM$271,182,FALSE),0)","v":0},{"$f":"IFERROR(VLOOKUP(\"Acting Manager\",'Shift Schedule'!$C$237:$EM$271,184,FALSE),0)","v":0},{"$f":"IFERROR(VLOOKUP(\"Acting Manager\",'Shift Schedule'!$C$283:$EM$317,178,FALSE),0)","v":0},{"$f":"IFERROR(VLOOKUP(\"Acting Manager\",'Shift Schedule'!$C$283:$EM$317,180,FALSE),0)","v":0},{"$f":"IFERROR(VLOOKUP(\"Acting Manager\",'Shift Schedule'!$C$283:$EM$317,182,FALSE),0)","v":0},{"$f":"IFERROR(VLOOKUP(\"Acting Manager\",'Shift Schedule'!$C$283:$EM$317,184,FALSE),0)","v":0},null,{"$f":"IF(SUM(E38,I38,M38,Q38,U38,Y38,AC38)=\"\",\"\",SUM(E38,I38,M38,Q38,U38,Y38,AC38))","v":0}]
["Labor Credit Hrs",{"$f":"IFERROR(VLOOKUP(\"Acting Manager\",'Shift Schedule'!$C$7:$EM$41,177,FALSE),0)","v":0},{"$f":"IFERROR(VLOOKUP(\"Acting Manager\",'Shift Schedule'!$C$7:$EM$41,179,FALSE),0)","v":0},{"$f":"IFERROR(VLOOKUP(\"Acting Manager\",'Shift Schedule'!$C$7:$EM$41,181,FALSE),0)","v":0},{"$f":"IFERROR(VLOOKUP(\"Acting Manager\",'Shift Schedule'!$C$7:$EM$41,183,FALSE),0)","v":0},{"$f":"IFERROR(VLOOKUP(\"Acting Manager\",'Shift Schedule'!$C$53:$EM$87,177,FALSE),0)","v":0},{"$f":"IFERROR(VLOOKUP(\"Acting Manager\",'Shift Schedule'!$C$53:$EM$87,179,FALSE),0)","v":0},{"$f":"IFERROR(VLOOKUP(\"Acting Manager\",'Shift Schedule'!$C$53:$EM$87,181,FALSE),0)","v":0},{"$f":"IFERROR(VLOOKUP(\"Acting Manager\",'Shift Schedule'!$C$53:$EM$87,183,FALSE),0)","v":0},{"$f":"IFERROR(VLOOKUP(\"Acting Manager\",'Shift Schedule'!$C$99:$EM$133,177,FALSE),0)","v":0},{"$f":"IFERROR(VLOOKUP(\"Acting Manager\",'Shift Schedule'!$C$99:$EM$133,179,FALSE),0)","v":0},{"$f":"IFERROR(VLOOKUP(\"Acting Manager\",'Shift Schedule'!$C$99:$EM$133,181,FALSE),0)","v":0},{"$f":"IFERROR(VLOOKUP(\"Acting Manager\",'Shift Schedule'!$C$99:$EM$133,183,FALSE),0)","v":0},{"$f":"IFERROR(VLOOKUP(\"Acting Manager\",'Shift Schedule'!$C$145:$EM$179,177,FALSE),0)","v":0},{"$f":"IFERROR(VLOOKUP(\"Acting Manager\",'Shift Schedule'!$C$145:$EM$179,179,FALSE),0)","v":0},{"$f":"IFERROR(VLOOKUP(\"Acting Manager\",'Shift Schedule'!$C$145:$EM$179,181,FALSE),0)","v":0},{"$f":"IFERROR(VLOOKUP(\"Acting Manager\",'Shift Schedule'!$C$145:$EM$179,183,FALSE),0)","v":0},{"$f":"IFERROR(VLOOKUP(\"Acting Manager\",'Shift Schedule'!$C$191:$EM$225,177,FALSE),0)","v":0},{"$f":"IFERROR(VLOOKUP(\"Acting Manager\",'Shift Schedule'!$C$191:$EM$225,179,FALSE),0)","v":0},{"$f":"IFERROR(VLOOKUP(\"Acting Manager\",'Shift Schedule'!$C$191:$EM$225,181,FALSE),0)","v":0},{"$f":"IFERROR(VLOOKUP(\"Acting Manager\",'Shift Schedule'!$C$191:$EM$225,183,FALSE),0)","v":0},{"$f":"IFERROR(VLOOKUP(\"Acting Manager\",'Shift Schedule'!$C$237:$EM$271,177,FALSE),0)","v":0},{"$f":"IFERROR(VLOOKUP(\"Acting Manager\",'Shift Schedule'!$C$237:$EM$271,179,FALSE),0)","v":0},{"$f":"IFERROR(VLOOKUP(\"Acting Manager\",'Shift Schedule'!$C$237:$EM$271,181,FALSE),0)","v":0},{"$f":"IFERROR(VLOOKUP(\"Acting Manager\",'Shift Schedule'!$C$237:$EM$271,183,FALSE),0)","v":0},{"$f":"IFERROR(VLOOKUP(\"Acting Manager\",'Shift Schedule'!$C$283:$EM$317,177,FALSE),0)","v":0},{"$f":"IFERROR(VLOOKUP(\"Acting Manager\",'Shift Schedule'!$C$283:$EM$317,179,FALSE),0)","v":0},{"$f":"IFERROR(VLOOKUP(\"Acting Manager\",'Shift Schedule'!$C$283:$EM$317,181,FALSE),0)","v":0},{"$f":"IFERROR(VLOOKUP(\"Acting Manager\",'Shift Schedule'!$C$283:$EM$317,183,FALSE),0)","v":0},null,{"$f":"IF(SUM(E39,I39,M39,Q39,U39,Y39,AC39)=\"\",\"\",SUM(E39,I39,M39,Q39,U39,Y39,AC39))","v":0}]
["Labor Budget Hrs",{"$f":"IFERROR(B37/B33,\"\")","v":""},"","","",{"$f":"IFERROR(F37/F33,\"\")","v":""},{"$f":"IFERROR(G37/G33,\"\")","v":""},"","",{"$f":"IFERROR(J37/J33,\"\")","v":""},{"$f":"IFERROR(K37/K33,\"\")","v":""},"","",{"$f":"IFERROR(N37/N33,\"\")","v":""},{"$f":"IFERROR(O37/O33,\"\")","v":""},"","",{"$f":"IFERROR(R37/R33,\"\")","v":""},{"$f":"IFERROR(S37/S33,\"\")","v":""},"","",{"$f":"IFERROR(V37/V33,\"\")","v":""},{"$f":"IFERROR(W37/W33,\"\")","v":""},"","",{"$f":"IFERROR(Z37/Z33,\"\")","v":""},{"$f":"IFERROR(AA37/AA33,\"\")","v":""},"","",null,""]
["Labor Budget $",{"$f":"IFERROR(B37-B38,\"\")","v":""},"","","",{"$f":"IFERROR(F37-F38,\"\")","v":""},{"$f":"IFERROR(G37-G38,\"\")","v":""},"","",{"$f":"IFERROR(J37-J38,\"\")","v":""},{"$f":"IFERROR(K37-K38,\"\")","v":""},"","",{"$f":"IFERROR(N37-N38,\"\")","v":""},{"$f":"IFERROR(O37-O38,\"\")","v":""},"","",{"$f":"IFERROR(R37-R38,\"\")","v":""},{"$f":"IFERROR(S37-S38,\"\")","v":""},"","",{"$f":"IFERROR(V37-V38,\"\")","v":""},{"$f":"IFERROR(W37-W38,\"\")","v":""},"","",{"$f":"IFERROR(Z37-Z38,\"\")","v":""},{"$f":"IFERROR(AA37-AA38,\"\")","v":""},"","",null,""]
["Labor Budget Hrs",{"$f":"IFERROR(B40-B39,\"\")","v":""},"","","",{"$f":"IFERROR(F40-F39,\"\")","v":""},{"$f":"IFERROR(G40-G39,\"\")","v":""},"","",{"$f":"IFERROR(J40-J39,\"\")","v":""},{"$f":"IFERROR(K40-K39,\"\")","v":""},"","",{"$f":"IFERROR(N40-N39,\"\")","v":""},{"$f":"IFERROR(O40-O39,\"\")","v":""},"","",{"$f":"IFERROR(R40-R39,\"\")","v":""},{"$f":"IFERROR(S40-S39,\"\")","v":""},"","",{"$f":"IFERROR(V40-V39,\"\")","v":""},{"$f":"IFERROR(W40-W39,\"\")","v":""},"","",{"$f":"IFERROR(Z40-Z39,\"\")","v":""},{"$f":"IFERROR(AA40-AA39,\"\")","v":""},"","",null,""]
[]
["Labor Variance"]
["Variance $",{"$f":"IFERROR(B30-B37,\"\")","v":""},"","","",{"$f":"IFERROR(F30-F37,\"\")","v":""},{"$f":"IFERROR(G30-G37,\"\")","v":""},"","","","","","","","","","","","","","","","","","","","","","",null,{"$f":"IFERROR(AE30-AE37,\"\")","v":""}]
["Variance Hrs",{"$f":"IFERROR(B29-B42,\"\")","v":""},"","","",{"$f":"IFERROR(F29-F42,\"\")","v":""},{"$f":"IFERROR(G29-G42,\"\")","v":""},"","","","","","","","","","","","","","","","","","","","","","",null,{"$f":"IFERROR(AE29-AE42,\"\")","v":""}]
["Variance %",{"$f":"IFERROR(B45/B23,\"\")","v":""},"","","",{"$f":"IFERROR(F45/F23,\"\")","v":""},{"$f":"IFERROR(G45/G23,\"\")","v":""},"","","","","","","","","","","","","","","","","","","","","","",null,{"$f":"IFERROR(AE45/AE23,\"\")","v":""}]
[]
[]
["Remember:"]
["1.  This Forecast Must be Completed Along with the Schedule Every Week"]
["2.  This Forecast Must be Stapled to the Back of the Schedule Every Week."]

{"sheet":"Schedule Forecast-Detailed","index":4,"n_rows":47,"n_cols":31,"rows_kept":47,"cut":false,"hidden":false,"merged":[[10,13,10,16],[15,0,15,28],[6,0,6,1],[30,0,30,28],[38,0,38,28],[12,0,12,28],[20,0,20,28],[10,17,10,20],[10,21,10,24],[10,25,10,28],[10,5,10,8],[10,9,10,12],[2,29,2,30],[4,0,4,1],[4,2,4,3],[5,0,5,1],[5,2,5,3],[3,0,3,1],[0,9,0,20],[1,11,1,12],[1,13,1,15],[10,1,10,4],[0,29,0,30],[1,29,1,30],[3,29,3,30],[3,2,3,3],[9,17,9,20],[9,21,9,24],[9,25,9,28],[9,1,9,4],[9,5,9,8],[6,2,6,3],[9,9,9,12],[9,13,9,16]]}
[null,null,null,null,null,null,null,null,null,"Weekly Schedule Forecast",null,null,null,null,null,null,null,null,null,null,null,null,null,null,null,null,null,null,"For the Week of: ",{"$f":"'Shift Schedule'!O2","v":"2019-05-01"}]
[null,null,null,null,null,null,null,null,null,null,null,{"$f":"'Shift Schedule'!B2","v":"Store:"},null,{"$f":"'Shift Schedule'!D2","v":0},null,null,null,null,null,null,null,null,null,null,null,null,null,null,"Period:",{"$f":"'Weekly Schedule'!X2","v":5}]
[null,null,null,null,null,null,null,null,null,null,null,null,null,null,null,null,null,null,null,null,null,null,null,null,null,null,null,null,"Week:",{"$f":"'Weekly Schedule'!X3","v":2}]
["Labor Budget-",null,{"$f":"'Schedule Forecast'!C4:D4","v":0}]
["Scheduled Labor-",null,{"$f":"AE27","v":""}]
["Labor Variance ($)-",null,{"$f":"AE40","v":""}]
["Labor Variance (Hr)-",null,{"$f":"AE41","v":""}]
[]
[]
[null,"Wednesday",null,null,null,"Thursday",null,null,null,"Friday",null,null,null,"Saturday",null,null,null,"Sunday",null,null,null,"Monday",null,null,null,"Tuesday"]
[null,{"$f":"'Shift Schedule'!T5","v":"2019-05-01"},null,null,null,{"$f":"'Shift Schedule'!T51","v":"2019-05-02"},null,null,null,{"$f":"'Shift Schedule'!T97","v":"2019-05-03"},null,null,null,{"$f":"'Shift Schedule'!T143","v":"2019-05-04"},null,null,null,{"$f":"'Shift Schedule'!T189","v":"2019-05-05"},null,null,null,{"$f":"'Shift Schedule'!T235","v":"2019-05-06"},null,null,null,{"$f":"'Shift Schedule'!T281","v":"2019-05-07"},null,null,null,null,"Weekly"]
["Daypart","Bfst","Lunch","Dinner","Total","Bfst","Lunch","Dinner","Total","Bfst","Lunch","Dinner","Total","Bfst","Lunch","Dinner","Total","Bfst","Lunch","Dinner","Total","Bfst","Lunch","Dinner","Total","Bfst","Lunch","Dinner","Total",null,"Total"]
["Forecasted Sales"]
["Avg Last 4wk Sales",{"$f":"'Schedule Forecast'!B18","v":""},{"$f":"'Schedule Forecast'!C18","v":""},{"$f":"'Schedule Forecast'!D18","v":""},{"$f":"'Schedule Forecast'!E18","v":""},{"$f":"'Schedule Forecast'!F18","v":""},{"$f":"'Schedule Forecast'!G18","v":""},{"$f":"'Schedule Forecast'!H18","v":""},{"$f":"'Schedule Forecast'!I18","v":""},{"$f":"'Schedule Forecast'!J18","v":""},{"$f":"'Schedule Forecast'!K18","v":""},{"$f":"'Schedule Forecast'!L18","v":""},{"$f":"'Schedule Forecast'!M18","v":""},{"$f":"'Schedule Forecast'!N18","v":""},{"$f":"'Schedule Forecast'!O18","v":""},{"$f":"'Schedule Forecast'!P18","v":""},{"$f":"'Schedule Forecast'!Q18","v":""},{"$f":"'Schedule Forecast'!R18","v":""},{"$f":"'Schedule Forecast'!S18","v":""},{"$f":"'Schedule Forecast'!T18","v":""},{"$f":"'Schedule Forecast'!U18","v":""},{"$f":"'Schedule Forecast'!V18","v":""},{"$f":"'Schedule Forecast'!W18","v":""},{"$f":"'Schedule Forecast'!X18","v":""},{"$f":"'Schedule Forecast'!Y18","v":""},{"$f":"'Schedule Forecast'!Z18","v":""},{"$f":"'Schedule Forecast'!AA18","v":""},{"$f":"'Schedule Forecast'!AB18","v":""},{"$f":"'Schedule Forecast'!AC18","v":""},null,{"$f":"'Schedule Forecast'!AE18","v":""}]
["PY Sales",{"$f":"'Schedule Forecast'!B19","v":0},{"$f":"'Schedule Forecast'!C19","v":0},{"$f":"'Schedule Forecast'!D19","v":0},{"$f":"IF(SUM(B15:D15)=0,\"\",SUM(B15:D15))","v":""},{"$f":"'Schedule Forecast'!F19","v":0},{"$f":"'Schedule Forecast'!G19","v":0},{"$f":"'Schedule Forecast'!H19","v":0},{"$f":"IF(SUM(F15:H15)=0,\"\",SUM(F15:H15))","v":""},{"$f":"'Schedule Forecast'!J19","v":0},{"$f":"'Schedule Forecast'!K19","v":0},{"$f":"'Schedule Forecast'!L19","v":0},{"$f":"'Schedule Forecast'!M19","v":""},{"$f":"'Schedule Forecast'!N19","v":0},{"$f":"'Schedule Forecast'!O19","v":0},{"$f":"'Schedule Forecast'!P19","v":0},{"$f":"IF(SUM(N15:P15)=0,\"\",SUM(N15:P15))","v":""},{"$f":"'Schedule Forecast'!R19","v":0},{"$f":"'Schedule Forecast'!S19","v":0},{"$f":"'Schedule Forecast'!T19","v":0},{"$f":"'Schedule Forecast'!U19","v":""},{"$f":"'Schedule Forecast'!V19","v":0},{"$f":"'Schedule Forecast'!W19","v":0},{"$f":"'Schedule Forecast'!X19","v":0},{"$f":"IF(SUM(V15:X15)=0,\"\",SUM(V15:X15))","v":""},{"$f":"'Schedule Forecast'!Z19","v":0},{"$f":"'Schedule Forecast'!AA19","v":0},{"$f":"'Schedule Forecast'!AB19","v":0},{"$f":"'Schedule Forecast'!AC19","v":""},null,{"$f":"IF(SUM(E15,I15,M15,Q15,U15,Y15,AC15)=0,\"\",SUM(E15,I15,M15,Q15,U15,Y15,AC15))","v":""}]
[]
["Sales Forecast",{"$f":"'Schedule Forecast'!B21","v":" "},{"$f":"'Schedule Forecast'!C21","v":" "},{"$f":"'Schedule Forecast'!D21","v":" "},{"$f":"'Schedule Forecast'!E21","v":""},{"$f":"'Schedule Forecast'!F21","v":" "},{"$f":"'Schedule Forecast'!G21","v":" "},{"$f":"'Schedule Forecast'!H21","v":" "},{"$f":"'Schedule Forecast'!I21","v":""},{"$f":"'Schedule Forecast'!J21","v":" "},{"$f":"'Schedule Forecast'!K21","v":" "},{"$f":"'Schedule Forecast'!L21","v":" "},{"$f":"'Schedule Forecast'!M21","v":""},{"$f":"'Schedule Forecast'!N21","v":" "},{"$f":"'Schedule Forecast'!O21","v":" "},{"$f":"'Schedule Forecast'!P21","v":" "},{"$f":"'Schedule Forecast'!Q21","v":""},{"$f":"'Schedule Forecast'!R21","v":" "},{"$f":"'Schedule Forecast'!S21","v":" "},{"$f":"'Schedule Forecast'!T21","v":" "},{"$f":"'Schedule Forecast'!U21","v":""},{"$f":"'Schedule Forecast'!V21","v":" "},{"$f":"'Schedule Forecast'!W21","v":" "},{"$f":"'Schedule Forecast'!X21","v":" "},{"$f":"'Schedule Forecast'!Y21","v":""},{"$f":"'Schedule Forecast'!Z21","v":" "},{"$f":"'Schedule Forecast'!AA21","v":" "},{"$f":"'Schedule Forecast'!AB21","v":" "},{"$f":"'Schedule Forecast'!AC21","v":""},null,{"$f":"'Schedule Forecast'!AE21","v":""}]
["Outside Sales",{"$f":"'Schedule Forecast'!B22","v":0},{"$f":"'Schedule Forecast'!C22","v":0},{"$f":"'Schedule Forecast'!D22","v":0},{"$f":"'Schedule Forecast'!E22","v":""},{"$f":"'Schedule Forecast'!F22","v":0},{"$f":"'Schedule Forecast'!G22","v":0},{"$f":"'Schedule Forecast'!H22","v":0},{"$f":"'Schedule Forecast'!I22","v":""},{"$f":"'Schedule Forecast'!J22","v":0},{"$f":"'Schedule Forecast'!K22","v":0},{"$f":"'Schedule Forecast'!L22","v":0},{"$f":"'Schedule Forecast'!M22","v":""},{"$f":"'Schedule Forecast'!N22","v":0},{"$f":"'Schedule Forecast'!O22","v":0},{"$f":"'Schedule Forecast'!P22","v":0},{"$f":"'Schedule Forecast'!Q22","v":""},{"$f":"'Schedule Forecast'!R22","v":0},{"$f":"'Schedule Forecast'!S22","v":0},{"$f":"'Schedule Forecast'!T22","v":0},{"$f":"'Schedule Forecast'!U22","v":""},{"$f":"'Schedule Forecast'!V22","v":0},{"$f":"'Schedule Forecast'!W22","v":0},{"$f":"'Schedule Forecast'!X22","v":0},{"$f":"'Schedule Forecast'!Y22","v":""},{"$f":"'Schedule Forecast'!Z22","v":0},{"$f":"'Schedule Forecast'!AA22","v":0},{"$f":"'Schedule Forecast'!AB22","v":0},{"$f":"'Schedule Forecast'!AC22","v":""},null,{"$f":"'Schedule Forecast'!AE22","v":""}]
["Sales Forecast-Total",{"$f":"IF(SUM(B17:B18)=0,\"\",SUM(B17:B18))","v":""},"","","",{"$f":"IF(SUM(F17:F18)=0,\"\",SUM(F17:F18))","v":""},{"$f":"IF(SUM(G17:G18)=0,\"\",SUM(G17:G18))","v":""},"","","","","","","","","","","","","","","","","","","","","","",null,{"$f":"IF(SUM(E19,I19,M19,Q19,U19,Y19,AC19)=0,\"\",SUM(E19,I19,M19,Q19,U19,Y19,AC19))","v":""}]
[]
["Forecasted Schedule"]
["Scheduled Labor Hrs",{"$f":"IF('Shift Schedule'!EF42=0,\"\",'Shift Schedule'!EF42)","v":""},{"$f":"IF('Shift Schedule'!EH42=0,\"\",'Shift Schedule'!EH42)","v":""},{"$f":"IF('Shift Schedule'!EJ42=0,\"\",'Shift Schedule'!EJ42)","v":""},{"$f":"IF(SUM(B22:D22)=0,\"\",SUM(B22:D22))","v":""},{"$f":"IF('Shift Schedule'!EF88=0,\"\",'Shift Schedule'!EF88)","v":""},{"$f":"IF('Shift Schedule'!EH88=0,\"\",'Shift Schedule'!EH88)","v":""},{"$f":"IF('Shift Schedule'!EJ88=0,\"\",'Shift Schedule'!EJ88)","v":""},{"$f":"IF(SUM(F22:H22)=0,\"\",SUM(F22:H22))","v":""},{"$f":"IF('Shift Schedule'!EF134=0,\"\",'Shift Schedule'!EF134)","v":""},{"$f":"IF('Shift Schedule'!EH134=0,\"\",'Shift Schedule'!EH134)","v":""},{"$f":"IF('Shift Schedule'!EJ134=0,\"\",'Shift Schedule'!EJ134)","v":""},{"$f":"IF(SUM(J22:L22)=0,\"\",SUM(J22:L22))","v":""},{"$f":"IF('Shift Schedule'!EF180=0,\"\",'Shift Schedule'!EF180)","v":""},{"$f":"IF('Shift Schedule'!EH180=0,\"\",'Shift Schedule'!EH180)","v":""},{"$f":"IF('Shift Schedule'!EJ180=0,\"\",'Shift Schedule'!EJ180)","v":""},{"$f":"IF(SUM(N22:P22)=0,\"\",SUM(N22:P22))","v":""},{"$f":"IF('Shift Schedule'!EF226=0,\"\",'Shift Schedule'!EF226)","v":""},{"$f":"IF('Shift Schedule'!EH226=0,\"\",'Shift Schedule'!EH226)","v":""},{"$f":"IF('Shift Schedule'!EJ226=0,\"\",'Shift Schedule'!EJ226)","v":""},{"$f":"IF(SUM(R22:T22)=0,\"\",SUM(R22:T22))","v":""},{"$f":"IF('Shift Schedule'!EF272=0,\"\",'Shift Schedule'!EF272)","v":""},{"$f":"IF('Shift Schedule'!EH272=0,\"\",'Shift Schedule'!EH272)","v":""},{"$f":"IF('Shift Schedule'!EJ272=0,\"\",'Shift Schedule'!EJ272)","v":""},{"$f":"IF(SUM(V22:X22)=0,\"\",SUM(V22:X22))","v":""},{"$f":"IF('Shift Schedule'!EF318=0,\"\",'Shift Schedule'!EF318)","v":""},{"$f":"IF('Shift Schedule'!EH318=0,\"\",'Shift Schedule'!EH318)","v":""},{"$f":"IF('Shift Schedule'!EJ318=0,\"\",'Shift Schedule'!EJ318)","v":""},{"$f":"IF(SUM(Z22:AB22)=0,\"\",SUM(Z22:AB22))","v":""},null,{"$f":"IF(SUM(E22,I22,M22,Q22,U22,Y22,AC22)=\"\",\"\",SUM(E22,I22,M22,Q22,U22,Y22,AC22))","v":0}]
["Scheduled Labor $",{"$f":"IF('Shift Schedule'!EG42=0,\"\",'Shift Schedule'!EG42)","v":""},{"$f":"IF('Shift Schedule'!EI42=0,\"\",'Shift Schedule'!EI42)","v":""},{"$f":"IF('Shift Schedule'!EK42=0,\"\",'Shift Schedule'!EK42)","v":""},{"$f":"IF(SUM(B23:D23)=0,\"\",SUM(B23:D23))","v":""},{"$f":"IF('Shift Schedule'!EG88=0,\"\",'Shift Schedule'!EG88)","v":""},{"$f":"IF('Shift Schedule'!EI88=0,\"\",'Shift Schedule'!EI88)","v":""},{"$f":"IF('Shift Schedule'!EK88=0,\"\",'Shift Schedule'!EK88)","v":""},{"$f":"IF(SUM(F23:H23)=0,\"\",SUM(F23:H23))","v":""},{"$f":"IF('Shift Schedule'!EG134=0,\"\",'Shift Schedule'!EG134)","v":""},{"$f":"IF('Shift Schedule'!EI134=0,\"\",'Shift Schedule'!EI134)","v":""},{"$f":"IF('Shift Schedule'!EK134=0,\"\",'Shift Schedule'!EK134)","v":""},{"$f":"IF(SUM(J23:L23)=0,\"\",SUM(J23:L23))","v":""},{"$f":"IF('Shift Schedule'!EG180=0,\"\",'Shift Schedule'!EG180)","v":""},{"$f":"IF('Shift Schedule'!EI180=0,\"\",'Shift Schedule'!EI180)","v":""},{"$f":"IF('Shift Schedule'!EK180=0,\"\",'Shift Schedule'!EK180)","v":""},{"$f":"IF(SUM(N23:P23)=0,\"\",SUM(N23:P23))","v":""},{"$f":"IF('Shift Schedule'!EG226=0,\"\",'Shift Schedule'!EG226)","v":""},{"$f":"IF('Shift Schedule'!EI226=0,\"\",'Shift Schedule'!EI226)","v":""},{"$f":"IF('Shift Schedule'!EK226=0,\"\",'Shift Schedule'!EK226)","v":""},{"$f":"IF(SUM(R23:T23)=0,\"\",SUM(R23:T23))","v":""},{"$f":"IF('Shift Schedule'!EG272=0,\"\",'Shift Schedule'!EG272)","v":""},{"$f":"IF('Shift Schedule'!EI272=0,\"\",'Shift Schedule'!EI272)","v":""},{"$f":"IF('Shift Schedule'!EK272=0,\"\",'Shift Schedule'!EK272)","v":""},{"$f":"IF(SUM(V23:X23)=0,\"\",SUM(V23:X23))","v":""},{"$f":"IF('Shift Schedule'!EG318=0,\"\",'Shift Schedule'!EG318)","v":""},{"$f":"IF('Shift Schedule'!EI318=0,\"\",'Shift Schedule'!EI318)","v":""},{"$f":"IF('Shift Schedule'!EK318=0,\"\",'Shift Schedule'!EK318)","v":""},{"$f":"IF(SUM(Z23:AB23)=0,\"\",SUM(Z23:AB23))","v":""},null,{"$f":"IF(SUM(E23,I23,M23,Q23,U23,Y23,AC23)=\"\",\"\",SUM(E23,I23,M23,Q23,U23,Y23,AC23))","v":0}]
["GM Hours Scheduled",{"$f":"IFERROR(VLOOKUP(\"General Manager\",'Shift Schedule'!$C$7:$EM$41,169,FALSE),0)","v":0},{"$f":"IFERROR(VLOOKUP(\"General Manager\",'Shift Schedule'!$C$7:$EM$41,171,FALSE),0)","v":0},{"$f":"IFERROR(VLOOKUP(\"General Manager\",'Shift Schedule'!$C$7:$EM$41,173,FALSE),0)","v":0},{"$f":"IFERROR(VLOOKUP(\"General Manager\",'Shift Schedule'!$C$7:$EM$41,175,FALSE),0)","v":0},{"$f":"IFERROR(VLOOKUP(\"General Manager\",'Shift Schedule'!$C$53:$EM$87,169,FALSE),0)","v":0},{"$f":"IFERROR(VLOOKUP(\"General Manager\",'Shift Schedule'!$C$53:$EM$87,171,FALSE),0)","v":0},{"$f":"IFERROR(VLOOKUP(\"General Manager\",'Shift Schedule'!$C$53:$EM$87,173,FALSE),0)","v":0},{"$f":"IFERROR(VLOOKUP(\"General Manager\",'Shift Schedule'!$C$53:$EM$87,175,FALSE),0)","v":0},{"$f":"IFERROR(VLOOKUP(\"General Manager\",'Shift Schedule'!$C$99:$EM$133,169,FALSE),0)","v":0},{"$f":"IFERROR(VLOOKUP(\"General Manager\",'Shift Schedule'!$C$99:$EM$133,171,FALSE),0)","v":0},{"$f":"IFERROR(VLOOKUP(\"General Manager\",'Shift Schedule'!$C$99:$EM$133,173,FALSE),0)","v":0},{"$f":"IFERROR(VLOOKUP(\"General Manager\",'Shift Schedule'!$C$99:$EM$133,175,FALSE),0)","v":0},{"$f":"IFERROR(VLOOKUP(\"General Manager\",'Shift Schedule'!$C$145:$EM$179,169,FALSE),0)","v":0},{"$f":"IFERROR(VLOOKUP(\"General Manager\",'Shift Schedule'!$C$145:$EM$179,171,FALSE),0)","v":0},{"$f":"IFERROR(VLOOKUP(\"General Manager\",'Shift Schedule'!$C$145:$EM$179,173,FALSE),0)","v":0},{"$f":"IFERROR(VLOOKUP(\"General Manager\",'Shift Schedule'!$C$145:$EM$179,175,FALSE),0)","v":0},{"$f":"IFERROR(VLOOKUP(\"General Manager\",'Shift Schedule'!$C$191:$EM$225,169,FALSE),0)","v":0},{"$f":"IFERROR(VLOOKUP(\"General Manager\",'Shift Schedule'!$C$191:$EM$225,171,FALSE),0)","v":0},{"$f":"IFERROR(VLOOKUP(\"General Manager\",'Shift Schedule'!$C$191:$EM$225,173,FALSE),0)","v":0},{"$f":"IFERROR(VLOOKUP(\"General Manager\",'Shift Schedule'!$C$191:$EM$225,175,FALSE),0)","v":0},{"$f":"IFERROR(VLOOKUP(\"General Manager\",'Shift Schedule'!$C$237:$EM$271,169,FALSE),0)","v":0},{"$f":"IFERROR(VLOOKUP(\"General Manager\",'Shift Schedule'!$C$237:$EM$271,171,FALSE),0)","v":0},{"$f":"IFERROR(VLOOKUP(\"General Manager\",'Shift Schedule'!$C$237:$EM$271,173,FALSE),0)","v":0},{"$f":"IFERROR(VLOOKUP(\"General Manager\",'Shift Schedule'!$C$237:$EM$271,175,FALSE),0)","v":0},{"$f":"IFERROR(VLOOKUP(\"General Manager\",'Shift Schedule'!$C$283:$EM$317,169,FALSE),0)","v":0},{"$f":"IFERROR(VLOOKUP(\"General Manager\",'Shift Schedule'!$C$283:$EM$317,171,FALSE),0)","v":0},{"$f":"IFERROR(VLOOKUP(\"General Manager\",'Shift Schedule'!$C$283:$EM$317,173,FALSE),0)","v":0},{"$f":"IFERROR(VLOOKUP(\"General Manager\",'Shift Schedule'!$C$283:$EM$317,175,FALSE),0)","v":0},null,{"$f":"IF(SUM(E24,I24,M24,Q24,U24,Y24,AC24)=\"\",\"\",SUM(E24,I24,M24,Q24,U24,Y24,AC24))","v":0}]
["Hourly Labor Hrs",{"$f":"IF(SUM(B22,B24)=0,\"\",B22-B24)","v":""},{"$f":"IF(SUM(C22,C24)=0,\"\",C22-C24)","v":""},"","",{"$f":"IF(SUM(F22,F24)=0,\"\",F22-F24)","v":""},{"$f":"IF(SUM(G22,G24)=0,\"\",G22-G24)","v":""},{"$f":"IF(SUM(H22,H24)=0,\"\",H22-H24)","v":""},{"$f":"IF(SUM(I22,I24)=0,\"\",I22-I24)","v":""},{"$f":"IF(SUM(J22,J24)=0,\"\",J22-J24)","v":""},{"$f":"IF(SUM(K22,K24)=0,\"\",K22-K24)","v":""},{"$f":"IF(SUM(L22,L24)=0,\"\",L22-L24)","v":""},{"$f":"IF(SUM(M22,M24)=0,\"\",M22-M24)","v":""},{"$f":"IF(SUM(N22,N24)=0,\"\",N22-N24)","v":""},{"$f":"IF(SUM(O22,O24)=0,\"\",O22-O24)","v":""},{"$f":"IF(SUM(P22,P24)=0,\"\",P22-P24)","v":""},{"$f":"IF(SUM(Q22,Q24)=0,\"\",Q22-Q24)","v":""},{"$f":"IF(SUM(R22,R24)=0,\"\",R22-R24)","v":""},{"$f":"IF(SUM(S22,S24)=0,\"\",S22-S24)","v":""},{"$f":"IF(SUM(T22,T24)=0,\"\",T22-T24)","v":""},{"$f":"IF(SUM(U22,U24)=0,\"\",U22-U24)","v":""},{"$f":"IF(SUM(V22,V24)=0,\"\",V22-V24)","v":""},{"$f":"IF(SUM(W22,W24)=0,\"\",W22-W24)","v":""},{"$f":"IF(SUM(X22,X24)=0,\"\",X22-X24)","v":""},{"$f":"IF(SUM(Y22,Y24)=0,\"\",Y22-Y24)","v":""},{"$f":"IF(SUM(Z22,Z24)=0,\"\",Z22-Z24)","v":""},{"$f":"IF(SUM(AA22,AA24)=0,\"\",AA22-AA24)","v":""},{"$f":"IF(SUM(AB22,AB24)=0,\"\",AB22-AB24)","v":""},{"$f":"IF(SUM(AC22,AC24)=0,\"\",AC22-AC24)","v":""},null,{"$f":"IF(SUM(E25,I25,M25,Q25,U25,Y25,AC25)=\"\",\"\",SUM(E25,I25,M25,Q25,U25,Y25,AC25))","v":0}]
["Hourly Labor $",{"$f":"B23","v":""},{"$f":"C23","v":""},"","",{"$f":"F23","v":""},{"$f":"G23","v":""},"","",{"$f":"J23","v":""},{"$f":"K23","v":""},"","",{"$f":"N23","v":""},{"$f":"O23","v":""},"","",{"$f":"R23","v":""},{"$f":"S23","v":""},"","",{"$f":"V23","v":""},{"$f":"W23","v":""},"","",{"$f":"Z23","v":""},{"$f":"AA23","v":""},"","",null,{"$f":"IF(SUM(E26,I26,M26,Q26,U26,Y26,AC26)=\"\",\"\",SUM(E26,I26,M26,Q26,U26,Y26,AC26))","v":0}]
["Forecasted Labor %",{"$f":"IFERROR(B26/B19,\"\")","v":""},"","","",{"$f":"IFERROR(F26/F19,\"\")","v":""},{"$f":"IFERROR(G26/G19,\"\")","v":""},"","",{"$f":"IFERROR(J26/J19,\"\")","v":""},{"$f":"IFERROR(K26/K19,\"\")","v":""},{"$f":"IFERROR(L26/L19,\"\")","v":""},{"$f":"IFERROR(M26/M19,\"\")","v":""},{"$f":"IFERROR(N26/N19,\"\")","v":""},{"$f":"IFERROR(O26/O19,\"\")","v":""},{"$f":"IFERROR(P26/P19,\"\")","v":""},{"$f":"IFERROR(Q26/Q19,\"\")","v":""},{"$f":"IFERROR(R26/R19,\"\")","v":""},{"$f":"IFERROR(S26/S19,\"\")","v":""},{"$f":"IFERROR(T26/T19,\"\")","v":""},{"$f":"IFERROR(U26/U19,\"\")","v":""},{"$f":"IFERROR(V26/V19,\"\")","v":""},{"$f":"IFERROR(W26/W19,\"\")","v":""},{"$f":"IFERROR(X26/X19,\"\")","v":""},{"$f":"IFERROR(Y26/Y19,\"\")","v":""},{"$f":"IFERROR(Z26/Z19,\"\")","v":""},{"$f":"IFERROR(AA26/AA19,\"\")","v":""},{"$f":"IFERROR(AB26/AB19,\"\")","v":""},{"$f":"IFERROR(AC26/AC19,\"\")","v":""},null,""]
["Average Wage $",{"$f":"IFERROR(B26/B25,\"\")","v":""},"","","","","","","","","","","","","","","","","","","","","","","","","","","",null,{"$f":"IFERROR(AE26/AE25,\"\")","v":""}]
["Forecasted SPMH",{"$f":"IFERROR(B19/B25,\"\")","v":""},"","","","","","","","","","","","","","","","","","","","","","","","","","","",null,{"$f":"IFERROR(AE19/AE25,\"\")","v":""}]
[]
["Labor Budget"]
["Labor Budget $",{"$f":"IFERROR(B19*$C$4,\"\")","v":""},"","","","","","","","","","","","","","","","","","","","","","","","","","","",null,{"$f":"IFERROR(AE19*$C$4,\"\")","v":""}]
["Labor Credit $",{"$f":"IFERROR(VLOOKUP(\"Acting Manager\",'Shift Schedule'!$C$7:$EM$41,178,FALSE),0)","v":0},{"$f":"IFERROR(VLOOKUP(\"Acting Manager\",'Shift Schedule'!$C$7:$EM$41,180,FALSE),0)","v":0},{"$f":"IFERROR(VLOOKUP(\"Acting Manager\",'Shift Schedule'!$C$7:$EM$41,182,FALSE),0)","v":0},{"$f":"IFERROR(VLOOKUP(\"Acting Manager\",'Shift Schedule'!$C$7:$EM$41,184,FALSE),0)","v":0},{"$f":"IFERROR(VLOOKUP(\"Acting Manager\",'Shift Schedule'!$C$53:$EM$87,178,FALSE),0)","v":0},{"$f":"IFERROR(VLOOKUP(\"Acting Manager\",'Shift Schedule'!$C$53:$EM$87,180,FALSE),0)","v":0},{"$f":"IFERROR(VLOOKUP(\"Acting Manager\",'Shift Schedule'!$C$53:$EM$87,182,FALSE),0)","v":0},{"$f":"IFERROR(VLOOKUP(\"Acting Manager\",'Shift Schedule'!$C$53:$EM$87,184,FALSE),0)","v":0},{"$f":"IFERROR(VLOOKUP(\"Acting Manager\",'Shift Schedule'!$C$99:$EM$133,178,FALSE),0)","v":0},{"$f":"IFERROR(VLOOKUP(\"Acting Manager\",'Shift Schedule'!$C$99:$EM$133,180,FALSE),0)","v":0},{"$f":"IFERROR(VLOOKUP(\"Acting Manager\",'Shift Schedule'!$C$99:$EM$133,182,FALSE),0)","v":0},{"$f":"IFERROR(VLOOKUP(\"Acting Manager\",'Shift Schedule'!$C$99:$EM$133,184,FALSE),0)","v":0},{"$f":"IFERROR(VLOOKUP(\"Acting Manager\",'Shift Schedule'!$C$145:$EM$179,178,FALSE),0)","v":0},{"$f":"IFERROR(VLOOKUP(\"Acting Manager\",'Shift Schedule'!$C$145:$EM$179,180,FALSE),0)","v":0},{"$f":"IFERROR(VLOOKUP(\"Acting Manager\",'Shift Schedule'!$C$145:$EM$179,182,FALSE),0)","v":0},{"$f":"IFERROR(VLOOKUP(\"Acting Manager\",'Shift Schedule'!$C$145:$EM$179,184,FALSE),0)","v":0},{"$f":"IFERROR(VLOOKUP(\"Acting Manager\",'Shift Schedule'!$C$191:$EM$225,178,FALSE),0)","v":0},{"$f":"IFERROR(VLOOKUP(\"Acting Manager\",'Shift Schedule'!$C$191:$EM$225,180,FALSE),0)","v":0},{"$f":"IFERROR(VLOOKUP(\"Acting Manager\",'Shift Schedule'!$C$191:$EM$225,182,FALSE),0)","v":0},{"$f":"IFERROR(VLOOKUP(\"Acting Manager\",'Shift Schedule'!$C$191:$EM$225,184,FALSE),0)","v":0},{"$f":"IFERROR(VLOOKUP(\"Acting Manager\",'Shift Schedule'!$C$237:$EM$271,178,FALSE),0)","v":0},{"$f":"IFERROR(VLOOKUP(\"Acting Manager\",'Shift Schedule'!$C$237:$EM$271,180,FALSE),0)","v":0},{"$f":"IFERROR(VLOOKUP(\"Acting Manager\",'Shift Schedule'!$C$237:$EM$271,182,FALSE),0)","v":0},{"$f":"IFERROR(VLOOKUP(\"Acting Manager\",'Shift Schedule'!$C$237:$EM$271,184,FALSE),0)","v":0},{"$f":"IFERROR(VLOOKUP(\"Acting Manager\",'Shift Schedule'!$C$283:$EM$317,178,FALSE),0)","v":0},{"$f":"IFERROR(VLOOKUP(\"Acting Manager\",'Shift Schedule'!$C$283:$EM$317,180,FALSE),0)","v":0},{"$f":"IFERROR(VLOOKUP(\"Acting Manager\",'Shift Schedule'!$C$283:$EM$317,182,FALSE),0)","v":0},{"$f":"IFERROR(VLOOKUP(\"Acting Manager\",'Shift Schedule'!$C$283:$EM$317,184,FALSE),0)","v":0},null,{"$f":"IF(SUM(E33,I33,M33,Q33,U33,Y33,AC33)=\"\",\"\",SUM(E33,I33,M33,Q33,U33,Y33,AC33))","v":0}]
["Labor Credit Hrs",{"$f":"IFERROR(VLOOKUP(\"Acting Manager\",'Shift Schedule'!$C$7:$EM$41,177,FALSE),0)","v":0},{"$f":"IFERROR(VLOOKUP(\"Acting Manager\",'Shift Schedule'!$C$7:$EM$41,179,FALSE),0)","v":0},{"$f":"IFERROR(VLOOKUP(\"Acting Manager\",'Shift Schedule'!$C$7:$EM$41,181,FALSE),0)","v":0},{"$f":"IFERROR(VLOOKUP(\"Acting Manager\",'Shift Schedule'!$C$7:$EM$41,183,FALSE),0)","v":0},{"$f":"IFERROR(VLOOKUP(\"Acting Manager\",'Shift Schedule'!$C$53:$EM$87,177,FALSE),0)","v":0},{"$f":"IFERROR(VLOOKUP(\"Acting Manager\",'Shift Schedule'!$C$53:$EM$87,179,FALSE),0)","v":0},{"$f":"IFERROR(VLOOKUP(\"Acting Manager\",'Shift Schedule'!$C$53:$EM$87,181,FALSE),0)","v":0},{"$f":"IFERROR(VLOOKUP(\"Acting Manager\",'Shift Schedule'!$C$53:$EM$87,183,FALSE),0)","v":0},{"$f":"IFERROR(VLOOKUP(\"Acting Manager\",'Shift Schedule'!$C$99:$EM$133,177,FALSE),0)","v":0},{"$f":"IFERROR(VLOOKUP(\"Acting Manager\",'Shift Schedule'!$C$99:$EM$133,179,FALSE),0)","v":0},{"$f":"IFERROR(VLOOKUP(\"Acting Manager\",'Shift Schedule'!$C$99:$EM$133,181,FALSE),0)","v":0},{"$f":"IFERROR(VLOOKUP(\"Acting Manager\",'Shift Schedule'!$C$99:$EM$133,183,FALSE),0)","v":0},{"$f":"IFERROR(VLOOKUP(\"Acting Manager\",'Shift Schedule'!$C$145:$EM$179,177,FALSE),0)","v":0},{"$f":"IFERROR(VLOOKUP(\"Acting Manager\",'Shift Schedule'!$C$145:$EM$179,179,FALSE),0)","v":0},{"$f":"IFERROR(VLOOKUP(\"Acting Manager\",'Shift Schedule'!$C$145:$EM$179,181,FALSE),0)","v":0},{"$f":"IFERROR(VLOOKUP(\"Acting Manager\",'Shift Schedule'!$C$145:$EM$179,183,FALSE),0)","v":0},{"$f":"IFERROR(VLOOKUP(\"Acting Manager\",'Shift Schedule'!$C$191:$EM$225,177,FALSE),0)","v":0},{"$f":"IFERROR(VLOOKUP(\"Acting Manager\",'Shift Schedule'!$C$191:$EM$225,179,FALSE),0)","v":0},{"$f":"IFERROR(VLOOKUP(\"Acting Manager\",'Shift Schedule'!$C$191:$EM$225,181,FALSE),0)","v":0},{"$f":"IFERROR(VLOOKUP(\"Acting Manager\",'Shift Schedule'!$C$191:$EM$225,183,FALSE),0)","v":0},{"$f":"IFERROR(VLOOKUP(\"Acting Manager\",'Shift Schedule'!$C$237:$EM$271,177,FALSE),0)","v":0},{"$f":"IFERROR(VLOOKUP(\"General Manager\",'Shift Schedule'!$C$237:$EM$271,179,FALSE),0)","v":0},{"$f":"IFERROR(VLOOKUP(\"General Manager\",'Shift Schedule'!$C$237:$EM$271,181,FALSE),0)","v":0},{"$f":"IFERROR(VLOOKUP(\"General Manager\",'Shift Schedule'!$C$237:$EM$271,183,FALSE),0)","v":0},{"$f":"IFERROR(VLOOKUP(\"Acting Manager\",'Shift Schedule'!$C$283:$EM$317,177,FALSE),0)","v":0},{"$f":"IFERROR(VLOOKUP(\"Acting Manager\",'Shift Schedule'!$C$283:$EM$317,179,FALSE),0)","v":0},{"$f":"IFERROR(VLOOKUP(\"Acting Manager\",'Shift Schedule'!$C$283:$EM$317,181,FALSE),0)","v":0},{"$f":"IFERROR(VLOOKUP(\"Acting Manager\",'Shift Schedule'!$C$283:$EM$317,183,FALSE),0)","v":0},null,{"$f":"IF(SUM(E34,I34,M34,Q34,U34,Y34,AC34)=\"\",\"\",SUM(E34,I34,M34,Q34,U34,Y34,AC34))","v":0}]
["Labor Budget Hrs",{"$f":"IFERROR(B32/B28,\"\")","v":""},"","","",{"$f":"IFERROR(F32/F28,\"\")","v":""},{"$f":"IFERROR(G32/G28,\"\")","v":""},"","",{"$f":"IFERROR(J32/J28,\"\")","v":""},{"$f":"IFERROR(K32/K28,\"\")","v":""},"","",{"$f":"IFERROR(N32/N28,\"\")","v":""},{"$f":"IFERROR(O32/O28,\"\")","v":""},"","",{"$f":"IFERROR(R32/R28,\"\")","v":""},{"$f":"IFERROR(S32/S28,\"\")","v":""},"","",{"$f":"IFERROR(V32/V28,\"\")","v":""},{"$f":"IFERROR(W32/W28,\"\")","v":""},"","",{"$f":"IFERROR(Z32/Z28,\"\")","v":""},{"$f":"IFERROR(AA32/AA28,\"\")","v":""},"","",null,""]
["Adj. Labor Budget $",{"$f":"IFERROR(B32-B33,\"\")","v":""},{"$f":"IFERROR(C32-C33,\"\")","v":""},"","",{"$f":"IFERROR(F32-F33,\"\")","v":""},{"$f":"IFERROR(G32-G33,\"\")","v":""},"","",{"$f":"IFERROR(J32-J33,\"\")","v":""},{"$f":"IFERROR(K32-K33,\"\")","v":""},"","",{"$f":"IFERROR(N32-N33,\"\")","v":""},{"$f":"IFERROR(O32-O33,\"\")","v":""},"","",{"$f":"IFERROR(R32-R33,\"\")","v":""},{"$f":"IFERROR(S32-S33,\"\")","v":""},"","",{"$f":"IFERROR(V32-V33,\"\")","v":""},{"$f":"IFERROR(W32-W33,\"\")","v":""},"","",{"$f":"IFERROR(Z32-Z33,\"\")","v":""},{"$f":"IFERROR(AA32-AA33,\"\")","v":""},"","",null,""]
["Adj. Labor Budget Hrs",{"$f":"IFERROR(B35-B34,\"\")","v":""},{"$f":"IFERROR(C35-C34,\"\")","v":""},"","",{"$f":"IFERROR(F35-F34,\"\")","v":""},{"$f":"IFERROR(G35-G34,\"\")","v":""},"","",{"$f":"IFERROR(J35-J34,\"\")","v":""},{"$f":"IFERROR(K35-K34,\"\")","v":""},"","",{"$f":"IFERROR(N35-N34,\"\")","v":""},{"$f":"IFERROR(O35-O34,\"\")","v":""},"","",{"$f":"IFERROR(R35-R34,\"\")","v":""},{"$f":"IFERROR(S35-S34,\"\")","v":""},"","",{"$f":"IFERROR(V35-V34,\"\")","v":""},{"$f":"IFERROR(W35-W34,\"\")","v":""},"","",{"$f":"IFERROR(Z35-Z34,\"\")","v":""},{"$f":"IFERROR(AA35-AA34,\"\")","v":""},"","",null,""]
[]
["Labor Variance"]
["Variance $",{"$f":"IFERROR(B26-B32,\"\")","v":""},"","","","","","","","","","","","","","","","","","","","","","","","","","","",null,{"$f":"IFERROR(AE26-AE32,\"\")","v":""}]
["Variance Hrs",{"$f":"IFERROR(B25-B37,\"\")","v":""},"","","","","","","","","","","","","","","","","","","","","","","","","","","",null,{"$f":"IFERROR(AE25-AE37,\"\")","v":""}]
["Variance %",{"$f":"IFERROR(B40/B19,\"\")","v":""},"","","","","","","","","","","","","","","","","","","","","","","","","","","",null,{"$f":"IFERROR(AE40/AE19,\"\")","v":""}]
[]
[]
["Remember:"]
["1.  This Forecast Must be Completed Along with the Schedule Every Week"]
["2.  This Forecast Must Stapled to the Back of the Schedule Every Week."]

{"sheet":"#Include","index":5,"n_rows":53,"n_cols":3,"rows_kept":53,"cut":false,"hidden":true,"merged":[]}
["Week Start","Period","Week"]
["2019-01-02",1,1]
[{"$f":"A2+7","v":"2019-01-09"},1,2]
[{"$f":"A3+7","v":"2019-01-16"},1,3]
["2019-01-23",1,4]
["2019-01-30",2,1]
["2019-02-06",2,2]
["2019-02-13",2,3]
["2019-02-20",2,4]
["2019-02-27",3,1]
["2019-03-06",3,2]
["2019-03-13",3,3]
["2019-03-20",3,4]
["2019-03-27",4,1]
["2019-04-03",4,2]
["2019-04-10",4,3]
["2019-04-17",4,4]
["2019-04-24",5,1]
["2019-05-01",5,2]
["2019-05-08",5,3]
["2019-05-15",5,4]
["2019-05-22",6,1]
["2019-05-29",6,2]
["2019-06-05",6,3]
["2019-06-12",6,4]
["2019-06-19",7,1]
["2019-06-26",7,2]
["2019-07-03",7,3]
["2019-07-10",7,4]
["2019-07-17",8,1]
["2019-07-24",8,2]
["2019-07-31",8,3]
["2019-08-07",8,4]
["2019-08-14",9,1]
["2019-08-21",9,2]
["2019-08-28",9,3]
["2019-09-04",9,4]
["2019-09-11",10,1]
["2019-09-18",10,2]
["2019-09-25",10,3]
["2019-10-02",10,4]
["2019-10-09",11,1]
["2019-10-16",11,2]
["2019-10-23",11,3]
["2019-10-30",11,4]
["2019-11-06",12,1]
["2019-11-13",12,2]
["2019-11-20",12,3]
["2019-11-27",12,4]
["2019-12-04",13,1]
["2019-12-11",13,2]
["2019-12-18",13,3]
["2019-12-25",13,4]

{"sheet":"Opening-Closing","index":6,"n_rows":52,"n_cols":29,"rows_kept":52,"cut":false,"hidden":false,"merged":[[0,1,0,2]]}
[null,45,null,"$ Below"]
[]
[null,"07:00:00","07:30:00","08:00:00","08:30:00","09:00:00","09:30:00",null,"18:00:00","18:30:00","19:00:00","19:30:00","20:00:00","20:30:00","21:00:00","21:30:00","22:00:00","22:30:00",null,null,"07:00:00","08:00:00","09:00:00",null,"18:00:00","19:00:00","20:00:00","21:00:00","22:00:00"]
[]
["Tuesday",null,null,null,null,null,null,null,null,null,null,null,null,null,null,null,null,null,null,"Tuesday"]
[{"$f":"'Schedule Forecast'!A14","v":"Last Week"},{"$f":"IFERROR(INDEX(INDIRECT(\"'\"&$A6&\"'!$C:$C\"),MATCH(B$3,INDIRECT(\"'\"&$A6&\"'!$A$1:$A$250\"),0)+1),0)","v":0},0,0,0,0,0,null,{"$f":"IFERROR(INDEX(INDIRECT(\"'\"&$A6&\"'!$C:$C\"),MATCH(I$3,INDIRECT(\"'\"&$A6&\"'!$A$1:$A$250\"),0)+1),0)","v":0},0,0,0,0,0,0,0,0,0,null,{"$f":"'Schedule Forecast'!A14","v":"Last Week"},{"$f":"B6+C6","v":0},{"$f":"D6+E6","v":0},{"$f":"F6+G6","v":0},null,{"$f":"I6+J6","v":0},{"$f":"K6+L6","v":0},{"$f":"M6+N6","v":0},{"$f":"O6+P6","v":0},{"$f":"Q6+R6","v":0}]
[{"$f":"'Schedule Forecast'!A15","v":"2 Weeks Ago"},0,0,0,0,0,0,null,0,0,0,0,0,0,0,0,0,0,null,{"$f":"'Schedule Forecast'!A15","v":"2 Weeks Ago"},{"$f":"B7+C7","v":0},{"$f":"D7+E7","v":0},{"$f":"F7+G7","v":0},null,{"$f":"I7+J7","v":0},{"$f":"K7+L7","v":0},{"$f":"M7+N7","v":0},{"$f":"O7+P7","v":0},{"$f":"Q7+R7","v":0}]
[{"$f":"'Schedule Forecast'!A16","v":"3 Weeks Ago"},0,0,0,0,0,0,null,0,0,0,0,0,0,0,0,0,0,null,{"$f":"'Schedule Forecast'!A16","v":"3 Weeks Ago"},{"$f":"B8+C8","v":0},{"$f":"D8+E8","v":0},{"$f":"F8+G8","v":0},null,0,0,0,0,0]
[{"$f":"'Schedule Forecast'!A17","v":"4 Weeks Ago"},0,0,0,0,0,0,null,0,0,0,0,0,0,0,0,0,0,null,{"$f":"'Schedule Forecast'!A17","v":"4 Weeks Ago"},{"$f":"B9+C9","v":0},{"$f":"D9+E9","v":0},{"$f":"F9+G9","v":0},null,0,0,0,0,0]
["AVG",{"$f":"AVERAGE(B6:B9)","v":0},{"$f":"AVERAGE(C6:C9)","v":0},{"$f":"AVERAGE(D6:D9)","v":0},{"$f":"AVERAGE(E6:E9)","v":0},{"$f":"AVERAGE(F6:F9)","v":0},0,null,{"$f":"AVERAGE(I6:I9)","v":0},{"$f":"AVERAGE(J6:J9)","v":0},0,0,{"$f":"AVERAGE(M6:M9)","v":0},0,0,0,0,0,null,"AVG",{"$f":"AVERAGE(U6:U9)","v":0},{"$f":"AVERAGE(V6:V9)","v":0},{"$f":"AVERAGE(W6:W9)","v":0},null,{"$f":"AVERAGE(Y6:Y9)","v":0},{"$f":"AVERAGE(Z6:Z9)","v":0},{"$f":"AVERAGE(AA6:AA9)","v":0},0,0]
[]
["Wednesday",null,null,null,null,null,null,null,null,null,null,null,null,null,null,null,null,null,null,"Wednesday"]
[{"$f":"'Schedule Forecast'!A14","v":"Last Week"},{"$f":"IFERROR(INDEX(INDIRECT(\"'\"&$A13&\"'!$D:$D\"),MATCH(B$3,INDIRECT(\"'\"&$A13&\"'!$A$1:$A$250\"),0)+1),0)","v":0},0,0,0,0,0,null,{"$f":"IFERROR(INDEX(INDIRECT(\"'\"&$A13&\"'!$D:$D\"),MATCH(I$3,INDIRECT(\"'\"&$A13&\"'!$A$1:$A$250\"),0)+1),0)","v":0},0,0,0,0,0,0,0,0,0,null,{"$f":"'Schedule Forecast'!A14","v":"Last Week"},{"$f":"B13+C13","v":0},{"$f":"D13+E13","v":0},{"$f":"F13+G13","v":0},null,{"$f":"I13+J13","v":0},{"$f":"K13+L13","v":0},{"$f":"M13+N13","v":0},{"$f":"O13+P13","v":0},{"$f":"Q13+R13","v":0}]
[{"$f":"'Schedule Forecast'!A15","v":"2 Weeks Ago"},0,0,0,0,0,0,null,0,0,0,0,0,0,0,0,0,0,null,{"$f":"'Schedule Forecast'!A15","v":"2 Weeks Ago"},{"$f":"B14+C14","v":0},{"$f":"D14+E14","v":0},{"$f":"F14+G14","v":0},null,{"$f":"I14+J14","v":0},{"$f":"K14+L14","v":0},{"$f":"M14+N14","v":0},{"$f":"O14+P14","v":0},{"$f":"Q14+R14","v":0}]
[{"$f":"'Schedule Forecast'!A16","v":"3 Weeks Ago"},0,0,0,0,0,0,null,0,0,0,0,0,0,0,0,0,0,null,{"$f":"'Schedule Forecast'!A16","v":"3 Weeks Ago"},{"$f":"B15+C15","v":0},{"$f":"D15+E15","v":0},{"$f":"F15+G15","v":0},null,0,0,0,0,0]
[{"$f":"'Schedule Forecast'!A17","v":"4 Weeks Ago"},0,0,0,0,0,0,null,0,0,0,0,0,0,0,0,0,0,null,{"$f":"'Schedule Forecast'!A17","v":"4 Weeks Ago"},{"$f":"B16+C16","v":0},{"$f":"D16+E16","v":0},{"$f":"F16+G16","v":0},null,0,0,0,0,0]
["AVG",{"$f":"AVERAGE(B13:B16)","v":0},{"$f":"AVERAGE(C13:C16)","v":0},{"$f":"AVERAGE(D13:D16)","v":0},{"$f":"AVERAGE(E13:E16)","v":0},{"$f":"AVERAGE(F13:F16)","v":0},0,null,{"$f":"AVERAGE(I13:I16)","v":0},0,{"$f":"AVERAGE(K13:K16)","v":0},0,0,0,0,0,0,0,null,"AVG",{"$f":"AVERAGE(U13:U16)","v":0},{"$f":"AVERAGE(V13:V16)","v":0},{"$f":"AVERAGE(W13:W16)","v":0},null,{"$f":"AVERAGE(Y13:Y16)","v":0},{"$f":"AVERAGE(Z13:Z16)","v":0},{"$f":"AVERAGE(AA13:AA16)","v":0},{"$f":"AVERAGE(AB13:AB16)","v":0},{"$f":"AVERAGE(AC13:AC16)","v":0}]
[]
["Thursday",null,null,null,null,null,null,null,null,null,null,null,null,null,null,null,null,null,null,"Thursday"]
[{"$f":"'Schedule Forecast'!A14","v":"Last Week"},{"$f":"IFERROR(INDEX(INDIRECT(\"'\"&$A20&\"'!$E:$E\"),MATCH(B$3,INDIRECT(\"'\"&$A20&\"'!$A$1:$A$250\"),0)+1),0)","v":0},0,0,0,0,0,null,{"$f":"IFERROR(INDEX(INDIRECT(\"'\"&$A20&\"'!$E:$E\"),MATCH(I$3,INDIRECT(\"'\"&$A20&\"'!$A$1:$A$250\"),0)+1),0)","v":0},0,0,0,{"$f":"IFERROR(INDEX(INDIRECT(\"'\"&$A20&\"'!$E:$E\"),MATCH(M$3,INDIRECT(\"'\"&$A20&\"'!$A$1:$A$250\"),0)+1),0)","v":0},0,0,0,0,0,null,{"$f":"'Schedule Forecast'!A14","v":"Last Week"},{"$f":"B20+C20","v":0},{"$f":"D20+E20","v":0},{"$f":"F20+G20","v":0},null,{"$f":"I20+J20","v":0},{"$f":"K20+L20","v":0},{"$f":"M20+N20","v":0},{"$f":"O20+P20","v":0},{"$f":"Q20+R20","v":0}]
[{"$f":"'Schedule Forecast'!A15","v":"2 Weeks Ago"},0,0,0,0,0,0,null,0,0,0,0,0,0,0,0,0,0,null,{"$f":"'Schedule Forecast'!A15","v":"2 Weeks Ago"},{"$f":"B21+C21","v":0},{"$f":"D21+E21","v":0},{"$f":"F21+G21","v":0},null,{"$f":"I21+J21","v":0},{"$f":"K21+L21","v":0},{"$f":"M21+N21","v":0},{"$f":"O21+P21","v":0},{"$f":"Q21+R21","v":0}]
[{"$f":"'Schedule Forecast'!A16","v":"3 Weeks Ago"},0,0,0,0,0,0,null,0,0,0,0,0,0,0,0,0,0,null,{"$f":"'Schedule Forecast'!A16","v":"3 Weeks Ago"},{"$f":"B22+C22","v":0},{"$f":"D22+E22","v":0},{"$f":"F22+G22","v":0},null,0,0,0,0,0]
[{"$f":"'Schedule Forecast'!A17","v":"4 Weeks Ago"},0,0,0,0,0,0,null,0,0,0,0,0,0,0,0,0,0,null,{"$f":"'Schedule Forecast'!A17","v":"4 Weeks Ago"},{"$f":"B23+C23","v":0},{"$f":"D23+E23","v":0},{"$f":"F23+G23","v":0},null,0,0,0,0,0]
["AVG",{"$f":"AVERAGE(B20:B23)","v":0},{"$f":"AVERAGE(C20:C23)","v":0},{"$f":"AVERAGE(D20:D23)","v":0},{"$f":"AVERAGE(E20:E23)","v":0},{"$f":"AVERAGE(F20:F23)","v":0},0,null,{"$f":"AVERAGE(I20:I23)","v":0},0,{"$f":"AVERAGE(K20:K23)","v":0},0,{"$f":"AVERAGE(M20:M23)","v":0},0,{"$f":"AVERAGE(O20:O23)","v":0},0,0,0,null,"AVG",{"$f":"AVERAGE(U20:U23)","v":0},{"$f":"AVERAGE(V20:V23)","v":0},{"$f":"AVERAGE(W20:W23)","v":0},null,{"$f":"AVERAGE(Y20:Y23)","v":0},{"$f":"AVERAGE(Z20:Z23)","v":0},{"$f":"AVERAGE(AA20:AA23)","v":0},{"$f":"AVERAGE(AB20:AB23)","v":0},{"$f":"AVERAGE(AC20:AC23)","v":0}]
[]
["Friday",null,null,null,null,null,null,null,null,null,null,null,null,null,null,null,null,null,null,"Friday"]
[{"$f":"'Schedule Forecast'!A14","v":"Last Week"},{"$f":"IFERROR(INDEX(INDIRECT(\"'\"&$A27&\"'!$F:$F\"),MATCH(B$3,INDIRECT(\"'\"&$A27&\"'!$A$1:$A$250\"),0)+1),0)","v":0},0,0,0,0,0,null,{"$f":"IFERROR(INDEX(INDIRECT(\"'\"&$A27&\"'!$F:$F\"),MATCH(I$3,INDIRECT(\"'\"&$A27&\"'!$A$1:$A$250\"),0)+1),0)","v":0},0,0,0,{"$f":"IFERROR(INDEX(INDIRECT(\"'\"&$A27&\"'!$F:$F\"),MATCH(M$3,INDIRECT(\"'\"&$A27&\"'!$A$1:$A$250\"),0)+1),0)","v":0},0,0,0,0,0,null,{"$f":"'Schedule Forecast'!A14","v":"Last Week"},{"$f":"B27+C27","v":0},{"$f":"D27+E27","v":0},{"$f":"F27+G27","v":0},null,{"$f":"I27+J27","v":0},{"$f":"K27+L27","v":0},{"$f":"M27+N27","v":0},{"$f":"O27+P27","v":0},{"$f":"Q27+R27","v":0}]
[{"$f":"'Schedule Forecast'!A15","v":"2 Weeks Ago"},0,0,0,0,0,0,null,0,0,0,0,0,0,0,0,0,0,null,{"$f":"'Schedule Forecast'!A15","v":"2 Weeks Ago"},{"$f":"B28+C28","v":0},{"$f":"D28+E28","v":0},{"$f":"F28+G28","v":0},null,{"$f":"I28+J28","v":0},{"$f":"K28+L28","v":0},{"$f":"M28+N28","v":0},{"$f":"O28+P28","v":0},{"$f":"Q28+R28","v":0}]
[{"$f":"'Schedule Forecast'!A16","v":"3 Weeks Ago"},0,0,0,0,0,0,null,0,0,0,0,0,0,0,0,0,0,null,{"$f":"'Schedule Forecast'!A16","v":"3 Weeks Ago"},{"$f":"B29+C29","v":0},{"$f":"D29+E29","v":0},{"$f":"F29+G29","v":0},null,0,0,0,0,0]
[{"$f":"'Schedule Forecast'!A17","v":"4 Weeks Ago"},0,0,0,0,0,0,null,0,0,0,0,0,0,0,0,0,0,null,{"$f":"'Schedule Forecast'!A17","v":"4 Weeks Ago"},{"$f":"B30+C30","v":0},{"$f":"D30+E30","v":0},{"$f":"F30+G30","v":0},null,0,0,0,0,0]
["AVG",{"$f":"AVERAGE(B27:B30)","v":0},0,{"$f":"AVERAGE(D27:D30)","v":0},{"$f":"AVERAGE(E27:E30)","v":0},{"$f":"AVERAGE(F27:F30)","v":0},{"$f":"AVERAGE(G27:G30)","v":0},null,{"$f":"AVERAGE(I27:I30)","v":0},0,{"$f":"AVERAGE(K27:K30)","v":0},0,{"$f":"AVERAGE(M27:M30)","v":0},0,{"$f":"AVERAGE(O27:O30)","v":0},0,0,0,null,"AVG",{"$f":"AVERAGE(U27:U30)","v":0},{"$f":"AVERAGE(V27:V30)","v":0},{"$f":"AVERAGE(W27:W30)","v":0},null,{"$f":"AVERAGE(Y27:Y30)","v":0},{"$f":"AVERAGE(Z27:Z30)","v":0},{"$f":"AVERAGE(AA27:AA30)","v":0},{"$f":"AVERAGE(AB27:AB30)","v":0},{"$f":"AVERAGE(AC27:AC30)","v":0}]
[]
["Saturday",null,null,null,null,null,null,null,null,null,null,null,null,null,null,null,null,null,null,"Saturday"]
[{"$f":"'Schedule Forecast'!A14","v":"Last Week"},{"$f":"IFERROR(INDEX(INDIRECT(\"'\"&$A34&\"'!$G:$G\"),MATCH(B$3,INDIRECT(\"'\"&$A34&\"'!$A$1:$A$250\"),0)+1),0)","v":0},0,0,0,{"$f":"IFERROR(INDEX(INDIRECT(\"'\"&$A34&\"'!$G:$G\"),MATCH(F$3,INDIRECT(\"'\"&$A34&\"'!$A$1:$A$250\"),0)+1),0)","v":0},0,null,{"$f":"IFERROR(INDEX(INDIRECT(\"'\"&$A34&\"'!$G:$G\"),MATCH(I$3,INDIRECT(\"'\"&$A34&\"'!$A$1:$A$250\"),0)+1),0)","v":0},0,0,0,0,0,0,0,0,0,null,{"$f":"'Schedule Forecast'!A14","v":"Last Week"},{"$f":"B34+C34","v":0},{"$f":"D34+E34","v":0},{"$f":"F34+G34","v":0},null,{"$f":"I34+J34","v":0},{"$f":"K34+L34","v":0},{"$f":"M34+N34","v":0},{"$f":"O34+P34","v":0},{"$f":"Q34+R34","v":0}]
[{"$f":"'Schedule Forecast'!A15","v":"2 Weeks Ago"},0,0,0,0,0,0,null,0,0,0,0,0,0,0,0,0,0,null,{"$f":"'Schedule Forecast'!A15","v":"2 Weeks Ago"},{"$f":"B35+C35","v":0},{"$f":"D35+E35","v":0},{"$f":"F35+G35","v":0},null,{"$f":"I35+J35","v":0},{"$f":"K35+L35","v":0},{"$f":"M35+N35","v":0},{"$f":"O35+P35","v":0},{"$f":"Q35+R35","v":0}]
[{"$f":"'Schedule Forecast'!A16","v":"3 Weeks Ago"},0,0,0,0,0,0,null,0,0,0,0,0,0,0,0,0,0,null,{"$f":"'Schedule Forecast'!A16","v":"3 Weeks Ago"},{"$f":"B36+C36","v":0},{"$f":"D36+E36","v":0},0,null,0,0,0,0,0]
[{"$f":"'Schedule Forecast'!A17","v":"4 Weeks Ago"},0,0,0,0,0,0,null,0,0,0,0,0,0,0,0,0,0,null,{"$f":"'Schedule Forecast'!A17","v":"4 Weeks Ago"},{"$f":"B37+C37","v":0},{"$f":"D37+E37","v":0},0,null,0,0,0,0,0]
["AVG",{"$f":"AVERAGE(B34:B37)","v":0},0,{"$f":"AVERAGE(D34:D37)","v":0},{"$f":"AVERAGE(E34:E37)","v":0},{"$f":"AVERAGE(F34:F37)","v":0},{"$f":"AVERAGE(G34:G37)","v":0},null,{"$f":"AVERAGE(I34:I37)","v":0},0,{"$f":"AVERAGE(K34:K37)","v":0},0,0,0,0,0,0,0,null,"AVG",{"$f":"AVERAGE(U34:U37)","v":0},{"$f":"AVERAGE(V34:V37)","v":0},{"$f":"AVERAGE(W34:W37)","v":0},null,{"$f":"AVERAGE(Y34:Y37)","v":0},{"$f":"AVERAGE(Z34:Z37)","v":0},{"$f":"AVERAGE(AA34:AA37)","v":0},{"$f":"AVERAGE(AB34:AB37)","v":0},{"$f":"AVERAGE(AC34:AC37)","v":0}]
[]
["Sunday",null,null,null,null,null,null,null,null,null,null,null,null,null,null,null,null,null,null,"Sunday"]
[{"$f":"'Schedule Forecast'!A14","v":"Last Week"},{"$f":"IFERROR(INDEX(INDIRECT(\"'\"&$A41&\"'!$H:$H\"),MATCH(B$3,INDIRECT(\"'\"&$A41&\"'!$A$1:$A$250\"),0)+1),0)","v":0},0,0,0,0,0,null,{"$f":"IFERROR(INDEX(INDIRECT(\"'\"&$A41&\"'!$H:$H\"),MATCH(I$3,INDIRECT(\"'\"&$A41&\"'!$A$1:$A$250\"),0)+1),0)","v":0},0,0,0,0,0,0,0,0,0,null,{"$f":"'Schedule Forecast'!A14","v":"Last Week"},{"$f":"B41+C41","v":0},{"$f":"D41+E41","v":0},{"$f":"F41+G41","v":0},null,{"$f":"I41+J41","v":0},{"$f":"K41+L41","v":0},{"$f":"M41+N41","v":0},{"$f":"O41+P41","v":0},{"$f":"Q41+R41","v":0}]
[{"$f":"'Schedule Forecast'!A15","v":"2 Weeks Ago"},0,0,0,0,0,0,null,0,0,0,0,0,0,0,0,0,0,null,{"$f":"'Schedule Forecast'!A15","v":"2 Weeks Ago"},{"$f":"B42+C42","v":0},{"$f":"D42+E42","v":0},{"$f":"F42+G42","v":0},null,{"$f":"I42+J42","v":0},{"$f":"K42+L42","v":0},{"$f":"M42+N42","v":0},{"$f":"O42+P42","v":0},{"$f":"Q42+R42","v":0}]
[{"$f":"'Schedule Forecast'!A16","v":"3 Weeks Ago"},0,0,0,0,0,0,null,0,0,0,0,0,0,0,0,0,0,null,{"$f":"'Schedule Forecast'!A16","v":"3 Weeks Ago"},{"$f":"B43+C43","v":0},{"$f":"D43+E43","v":0},0,null,0,0,0,0,0]
[{"$f":"'Schedule Forecast'!A17","v":"4 Weeks Ago"},0,0,0,0,0,0,null,0,0,0,0,0,0,0,0,0,0,null,{"$f":"'Schedule Forecast'!A17","v":"4 Weeks Ago"},{"$f":"B44+C44","v":0},{"$f":"D44+E44","v":0},0,null,0,0,0,0,0]
["AVG",{"$f":"AVERAGE(B41:B44)","v":0},0,0,0,0,0,null,{"$f":"AVERAGE(I41:I44)","v":0},0,{"$f":"AVERAGE(K41:K44)","v":0},0,{"$f":"AVERAGE(M41:M44)","v":0},0,0,0,0,0,null,"AVG",{"$f":"AVERAGE(U41:U44)","v":0},{"$f":"AVERAGE(V41:V44)","v":0},{"$f":"AVERAGE(W41:W44)","v":0},null,{"$f":"AVERAGE(Y41:Y44)","v":0},{"$f":"AVERAGE(Z41:Z44)","v":0},{"$f":"AVERAGE(AA41:AA44)","v":0},{"$f":"AVERAGE(AB41:AB44)","v":0},{"$f":"AVERAGE(AC41:AC44)","v":0}]
[]
["Monday",null,null,null,null,null,null,null,null,null,null,null,null,null,null,null,null,null,null,"Monday"]
[{"$f":"'Schedule Forecast'!A14","v":"Last Week"},{"$f":"IFERROR(INDEX(INDIRECT(\"'\"&$A48&\"'!$I:$I\"),MATCH(B$3,INDIRECT(\"'\"&$A48&\"'!$A$1:$A$250\"),0)+1),0)","v":0},0,0,0,0,0,null,{"$f":"IFERROR(INDEX(INDIRECT(\"'\"&$A48&\"'!$I:$I\"),MATCH(I$3,INDIRECT(\"'\"&$A48&\"'!$A$1:$A$250\"),0)+1),0)","v":0},0,0,0,0,0,0,0,0,0,null,{"$f":"'Schedule Forecast'!A14","v":"Last Week"},{"$f":"B48+C48","v":0},{"$f":"D48+E48","v":0},{"$f":"F48+G48","v":0},null,{"$f":"I48+J48","v":0},{"$f":"K48+L48","v":0},{"$f":"M48+N48","v":0},{"$f":"O48+P48","v":0},{"$f":"Q48+R48","v":0}]
[{"$f":"'Schedule Forecast'!A15","v":"2 Weeks Ago"},0,0,0,0,0,0,null,0,0,0,0,0,0,0,0,0,0,null,{"$f":"'Schedule Forecast'!A15","v":"2 Weeks Ago"},{"$f":"B49+C49","v":0},{"$f":"D49+E49","v":0},{"$f":"F49+G49","v":0},null,{"$f":"I49+J49","v":0},{"$f":"K49+L49","v":0},{"$f":"M49+N49","v":0},{"$f":"O49+P49","v":0},{"$f":"Q49+R49","v":0}]
[{"$f":"'Schedule Forecast'!A16","v":"3 Weeks Ago"},0,0,0,0,0,0,null,0,0,0,0,0,0,0,0,0,0,null,{"$f":"'Schedule Forecast'!A16","v":"3 Weeks Ago"},{"$f":"B50+C50","v":0},{"$f":"D50+E50","v":0},0,null,0,0,0,0,0]
[{"$f":"'Schedule Forecast'!A17","v":"4 Weeks Ago"},0,0,0,0,0,0,null,0,0,0,0,0,0,0,0,0,0,null,{"$f":"'Schedule Forecast'!A17","v":"4 Weeks Ago"},{"$f":"B51+C51","v":0},{"$f":"D51+E51","v":0},{"$f":"F51+G51","v":0},null,0,0,0,0,0]
["AVG",{"$f":"AVERAGE(B48:B51)","v":0},0,0,0,0,0,null,{"$f":"AVERAGE(I48:I51)","v":0},0,{"$f":"AVERAGE(K48:K51)","v":0},0,{"$f":"AVERAGE(M48:M51)","v":0},0,0,0,0,0,null,"AVG",{"$f":"AVERAGE(U48:U51)","v":0},{"$f":"AVERAGE(V48:V51)","v":0},{"$f":"AVERAGE(W48:W51)","v":0},null,{"$f":"AVERAGE(Y48:Y51)","v":0},{"$f":"AVERAGE(Z48:Z51)","v":0},{"$f":"AVERAGE(AA48:AA51)","v":0},{"$f":"AVERAGE(AB48:AB51)","v":0},{"$f":"AVERAGE(AC48:AC51)","v":0}]