{"text_format":"1","workbook":"xlsx","n_sheets":11,"sheets":["Schedule Setup","Shift Schedule","Weekly Schedule","Schedule Forecast","Schedule Forecast-Detailed","#Include","Opening-Closing","Wk 11-11","Wk 11-4","Wk 10-28","Wk 10-21"],"not_rendered":{"charts":0,"images":2,"macros":1,"external_links":0,"defined_names":7,"comments":0,"pivot_tables":0},"unopened":[],"bounds":{"document_bytes":16777216,"sheet_cells":100000,"rows_first":2000,"rows_last":500,"rows_between":2000,"halvings":0,"cell_chars":16384,"cell_head_chars":4096},"cells_cut":0,"cells_raw":0,"read":"whole","date_system":"1900"}

{"sheet":"Schedule Setup","index":0,"n_rows":87,"n_cols":21,"rows_kept":87,"cut":false,"hidden":false,"merged":[[39,1,39,2],[2,13,2,14],[2,15,2,16],[2,17,2,18],[0,0,0,3],[2,5,2,6],[2,7,2,8],[2,9,2,10],[2,11,2,12],[1,0,1,3],[49,0,49,3],[50,15,50,16],[50,17,50,18],[50,5,50,6],[50,7,50,8],[50,9,50,10],[50,11,50,12],[50,13,50,14]]}
[]
["Schedule Availability "]
[null,null,null,null,null,"Wednesday",null,"Thursday",null,"Friday",null,"Saturday",null,"Sunday",null,"Monday",null,"Tuesday",null,null,"Time"]
[null,"Name","Number","Job","Wage","Start","End","Start","End","Start","End","Start","End","Start","End","Start","End","Start","End",null,"05:00:00"]
[{"$f":"A4+1","v":1},"Shaun Payne",null,"General Manager (S)",null,"05:00:00","20:30:00","UnAvail","UnAvail","UnAvail","UnAvail","06:00:00","21:30:00","07:00:00","19:30:00","UnAvail","UnAvail","UnAvail","UnAvail",null,{"$f":"U4+(0.5/24)","v":"05:30:00"}]
[2,"Clay Huycke-McCall",null,"Shift Manager",null,"Req. Off","Req. Off","Req. Off","Req. Off","Req. Off","Req. Off","Req. Off","Req. Off","UnAvail","UnAvail","06:00:00","20:30:00","06:00:00","20:30:00",null,{"$f":"U5+(0.5/24)","v":"06:00:00"}]
[3,"Shaina Hunt",null,"Shift Manager",null,"05:00:00","20:30:00","06:00:00","20:30:00","06:00:00","21:30:00","06:00:00","21:30:00","07:00:00","19:30:00","06:00:00","20:30:00","06:00:00","20:30:00",null,"06:30:00"]
[4,"Christian Fink",null,"Team Lead",null,"17:30:00","20:30:00","06:00:00","20:30:00","06:00:00","21:30:00","06:00:00","21:30:00","UnAvail","UnAvail","UnAvail","UnAvail","UnAvail","UnAvail",null,"07:00:00"]
[{"$f":"A8+1","v":5},"Brendan Frye",null,"Team Member",null,"07:00:00","20:30:00","07:00:00","20:30:00","07:00:00","21:30:00","07:00:00","21:30:00","08:00:00","19:30:00","07:00:00","20:30:00","07:00:00","20:30:00",null,"07:30:00"]
[6,"Jordan Galli",null,"Team Member",null,"07:00:00","20:30:00","07:00:00","20:30:00","07:00:00","21:30:00","07:00:00","21:30:00","08:00:00","19:30:00","07:00:00","20:30:00","07:00:00","14:30:00",null,"08:00:00"]
[7,"Madelyn Hickey",null,"Team Member",null,"UnAvail","UnAvail","UnAvail","UnAvail","UnAvail","UnAvail","UnAvail","UnAvail","08:00:00","19:30:00","07:00:00","20:30:00","UnAvail","UnAvail",null,"08:30:00"]
[8,null,null,null,null,"05:00:00","08:30:00",null,null,null,null,null,null,null,null,null,null,null,null,null,"09:00:00"]
[9,null,null,null,null,null,null,null,null,null,null,null,null,null,null,null,null,null,null,null,"09:30:00"]
[10,null,null,null,null,null,null,null,null,null,null,null,null,null,null,null,null,null,null,null,"10:00:00"]
[11,null,null,null,null,null,null,null,null,null,null,null,null,null,null,null,null,null,null,null,"10:30:00"]
[12,null,null,null,null,null,null,null,null,null,null,null,null,null,null,null,null,null,null,null,"11:00:00"]
[{"$f":"A16+1","v":13},null,null,null,null,null,null,null,null,null,null,null,null,null,null,null,null,null,null,null,"11:30:00"]
[14,"Matt Louden",null,"Team Member",null,"07:00:00","20:30:00","07:00:00","16:30:00","07:00:00","21:30:00","07:00:00","21:30:00","08:00:00","19:30:00","07:00:00","16:30:00","07:00:00","16:30:00",null,"12:00:00"]
[15,"Ani Reyes",null,"Team Member",null,"15:30:00","20:30:00","15:30:00","20:30:00","15:30:00","21:30:00","07:00:00","21:30:00","08:00:00","19:30:00","07:00:00","20:30:00","07:00:00","20:30:00",null,"12:30:00"]
[{"$f":"A19+1","v":16},"Andrew Philips",null,"Team Member",null,"16:00:00","20:30:00","16:00:00","20:30:00","16:00:00","21:30:00","07:00:00","17:30:00","16:00:00","19:30:00","07:00:00","20:30:00","07:00:00","20:30:00",null,"13:00:00"]
[17,null,null,null,null,null,null,null,null,null,null,null,null,null,null,null,null,null,null,null,"13:30:00"]
[18,null,null,null,null,null,null,null,null,null,null,null,null,null,null,null,null,null,null,null,"14:00:00"]
[{"$f":"A22+1","v":19},".",null,null,null,null,null,null,null,null,null,null,null,null,null,null,null,null,null,null,"14:30:00"]
[20,"Sean Duncan",null,"Team Lead",null,null,null,null,null,null,null,null,null,null,null,"14:30:00","20:30:00",null,null,null,"15:00:00"]
[21,null,null,null,null,null,null,null,null,null,null,null,null,null,null,null,null,null,null,null,"15:30:00"]
[22,null,null,null,null,null,null,null,null,null,null,null,null,null,null,null,null,null,null,null,"16:00:00"]
[23,null,null,null,null,null,null,null,null,null,null,null,null,null,null,null,null,null,null,null,"16:30:00"]
[24,null,null,null,null,null,null,null,null,null,null,null,null,null,null,null,null,null,null,null,"17:00:00"]
[25,null,null,null,null,null,null,null,null,null,null,null,null,null,null,null,null,null,null,null,{"$f":"U28+(0.5/24)","v":"17:30:00"}]
[26,null,null,null,null,null,null,null,null,null,null,null,null,null,null,null,null,null,null,null,"18:00:00"]
[27,null,null,null,null,null,null,null,null,null,null,null,null,null,null,null,null,null,null,null,{"$f":"U30+(0.5/24)","v":"18:30:00"}]
[28,null,null,null,null,null,null,null,null,null,null,null,null,null,null,null,null,null,null,null,"19:00:00"]
[29,null,null,null,null,null,null,null,null,null,null,null,null,null,null,null,null,null,null,null,"19:30:00"]
[30,null,null,null,null,null,null,null,null,null,null,null,null,null,null,null,null,null,null,null,"20:00:00"]
[31,null,null,null,null,null,null,null,null,null,null,null,null,null,null,null,null,null,null,null,"20:30:00"]
[32,null,null,null,null,null,null,null,null,null,null,null,null,null,null,null,null,null,null,null,"21:00:00"]
[33,null,null,null,null,null,null,null,null,null,null,null,null,null,null,null,null,null,null,null,"21:30:00"]
[34,null,null,null,null,null,null,null,null,null,null,null,null,null,null,null,null,null,null,null,"22:00:00"]
[35,null,null,null,null,null,null,null,null,null,null,null,null,null,null,null,null,null,null,null,{"$f":"U38+(0.5/24)","v":"22:30:00"}]
[null,"v10.17.14",null,"Store Hours",null,"07:00:00","20:00:00","07:00:00","20:00:00","07:00:00","21:00:00","07:30:00","21:00:00","08:00:00","19:00:00","07:00:00","20:00:00","07:00:00","20:00:00",null,"23:00:00"]
[null,null,null,null,null,null,null,null,null,null,null,null,null,null,null,null,null,null,null,null,"23:30:00"]
[null,null,null,"Events",null,null,null,null,null,null,null,null,null,null,null,null,null,null,null,null,1.0000000000000007]
[null,null,null,"Stone Valley",null,null,null,"09:00:00",null,null,null,null,null,null,null,null,null,null,null,null,"UnAvail"]
[null,null,null,"Choice Lunch",null,null,null,"10:30:00",null,null,null,null,null,null,null,null,null,null,null,null,"Req. Off"]
[null,null,null,"Training - Clay"]
[null,null,null,"Training - Shaina",null,null,null,null,null,null,null,null,null,null,null,null,null,null,null,null,"Job"]
[null,null,null,"No School",null,null,null,null,null,null,null,null,null,null,null,"Req. Off","Req. Off","Req. Off","Req. Off",null,"General Manager (S)"]
[null,null,null,null,null,null,null,null,null,null,null,null,null,null,null,null,null,null,null,null,"General Manager (H)"]
[null,null,null,null,null,null,null,null,null,null,null,null,null,null,null,null,null,null,null,null,"Acting Manager"]
["Standard Availability ",null,null,null,null,null,null,null,null,null,null,null,null,null,null,null,null,null,null,null,"Shift Manager"]
[null,null,null,null,null,"Wednesday",null,"Thursday",null,"Friday",null,"Saturday",null,"Sunday",null,"Monday",null,"Tuesday",null,null,"Team Lead"]
[null,"Name","Number","Job","Wage","Start","End","Start","End","Start","End","Start","End","Start","End","Start","End","Start","End",null,"Team Member"]
[{"$f":"A52+1","v":1},"Shaun Payne",null,"General Manager (S)",null,"05:00:00","20:30:00","06:00:00","20:30:00","06:00:00","21:30:00","06:00:00","21:30:00","07:00:00","19:30:00","06:00:00","20:30:00","06:00:00","20:30:00"]
[2,"Clay Huycke-McCall",null,"Shift Manager",null,"05:00:00","20:30:00","06:00:00","20:30:00","06:00:00","21:30:00","06:00:00","21:30:00","UnAvail","UnAvail","06:00:00","20:30:00","06:00:00","20:30:00"]
[3,"Shaina Hunt",null,"Shift Manager",null,"05:00:00","20:30:00","06:00:00","20:30:00","06:00:00","21:30:00","06:00:00","21:30:00","07:00:00","19:30:00","06:00:00","20:30:00","06:00:00","20:30:00"]
[4,"Christian Fink",null,"Team Lead",null,"17:30:00","20:30:00","06:00:00","20:30:00","06:00:00","21:30:00","06:00:00","21:30:00","07:00:00","19:30:00","17:30:00","20:30:00","06:00:00","20:30:00"]
[{"$f":"A56+1","v":5},"Brendan Frye",null,"Team Member",null,"07:00:00","20:30:00","07:00:00","20:30:00","07:00:00","21:30:00","07:00:00","21:30:00","08:00:00","19:30:00","07:00:00","20:30:00","07:00:00","20:30:00"]
[6,"Jordan Galli",null,"Team Member",null,"07:00:00","20:30:00","07:00:00","20:30:00","07:00:00","21:30:00","07:00:00","21:30:00","08:00:00","19:30:00","07:00:00","20:30:00","07:00:00","14:30:00"]
[7,"Madelyn Hickey",null,"Team Member",null,"UnAvail","UnAvail","UnAvail","UnAvail","UnAvail","UnAvail","UnAvail","UnAvail","08:00:00","19:30:00","15:30:00","20:30:00","UnAvail","UnAvail"]
[8,null,null,null,null,"05:30:00","08:30:00"]
[9]
[10]
[11]
[12]
[{"$f":"A64+1","v":13}]
[14,"Matt Louden",null,"Team Member",null,"07:00:00","20:30:00","07:00:00","16:30:00","07:00:00","21:30:00","07:00:00","21:30:00","08:00:00","19:30:00","07:00:00","16:30:00","07:00:00","16:30:00"]
[15,"Ani Reyes",null,"Team Member",null,"15:30:00","20:30:00","15:30:00","20:30:00","15:30:00","21:30:00","07:00:00","21:30:00","08:00:00","19:30:00","15:30:00","20:30:00","15:30:00","20:30:00"]
[{"$f":"A67+1","v":16},"Andrew Philips",null,"Team Member",null,"16:00:00","20:30:00","16:00:00","20:30:00","16:00:00","21:30:00","07:00:00","21:30:00","16:00:00","19:30:00","16:00:00","20:30:00","16:00:00","20:30:00"]
[17]
[18]
[{"$f":"A70+1","v":19},"."]
[20,"Sean Duncan",null,"Team Lead",null,null,null,null,null,null,null,null,null,null,null,"14:30:00","20:30:00"]
[21]
[22]
[23]
[24]
[25]
[26]
[27]
[28]
[29]
[30]
[31]
[32]
[33]
[34]
[35]

{"sheet":"Shift Schedule","index":1,"n_rows":325,"n_cols":148,"rows_kept":325,"cut":false,"hidden":false,"merged":[[4,144,4,145],[50,126,50,127],[50,128,50,129],[50,130,50,131],[50,132,50,133],[50,135,50,136],[50,137,50,138],[50,139,50,140],[50,141,50,142],[50,144,50,145],[4,126,4,127],[4,128,4,129],[4,130,4,131],[4,132,4,133],[4,135,4,136],[4,137,4,138],[234,144,234,145],[234,128,234,129],[234,130,234,131],[234,132,234,133],[234,19,234,21],[234,126,234,127],[96,144,96,145],[280,128,280,129],[280,137,280,138],[188,144,188,145],[188,135,188,136],[142,135,142,136],[142,137,142,138],[142,139,142,140],[142,141,142,142],[142,144,142,145],[280,139,280,140],[280,141,280,142],[280,144,280,145],[234,137,234,138],[234,139,234,140],[234,141,234,142],[280,135,280,136],[234,135,234,136],[96,135,96,136],[188,130,188,131],[188,132,188,133],[96,130,96,131],[96,132,96,133],[142,130,142,131],[142,132,142,133],[1,32,1,37],[280,126,280,127],[1,22,1,27],[1,28,1,30],[188,126,188,127],[142,126,142,127],[96,126,96,127],[2,126,2,133],[280,130,280,131],[280,132,280,133],[1,38,1,40],[188,128,188,129],[142,128,142,129],[96,128,96,129],[2,135,2,142],[4,139,4,140],[4,141,4,142],[188,137,188,138],[188,139,188,140],[188,141,188,142],[96,137,96,138],[96,139,96,140],[96,141,96,142],[280,19,280,21],[4,19,4,21],[50,19,50,21],[4,1,4,5],[50,1,50,5],[96,1,96,5],[142,1,142,5],[188,1,188,5],[188,19,188,21],[96,19,96,21],[142,19,142,21],[1,3,1,4],[1,14,1,18],[1,8,1,13],[234,1,234,5],[280,1,280,5],[1,5,1,6],[2,5,2,6]]}
[]
[null,"Store:",null,"1361 Danville",null,null,null,null,"For the Week of: ",null,null,null,null,null,"2014-11-19",null,null,null,null,null,null,null,"Last Weeks AVG Labor",null,null,null,null,null,10,null,null,null,"Reccomended Hours",null,null,null,null,null,{"$f":"AT49+AT95+AT141+AT187+AT233+AT279+AT325","v":181}]
[null,null,null,null,null,null,null,null,null,null,null,null,null,null,null,null,null,null,null,null,null,null,null,null,null,null,null,null,null,null,null,null,null,null,null,null,null,null,null,null,null,null,null,null,null,null,null,null,null,null,null,null,null,null,null,null,null,null,null,null,null,null,null,null,null,null,null,null,null,null,null,null,null,null,null,null,null,null,null,null,null,null,null,null,null,null,null,null,null,null,null,null,null,null,null,null,null,null,null,null,null,null,null,null,null,null,null,null,null,null,null,null,null,null,null,null,null,null,null,null,null,null,null,null,null,null,"Gross Labor",null,null,null,null,null,null,null,null,"Net Labor"]
[]
[null,"Wednesday",null,null,null,null,null,null,null,null,null,null,null,null,null,null,null,null,"Today's Date",{"$f":"O2","v":"2014-11-19"},null,null,null,null,null,null,null,null,null,null,null,null,null,null,null,null,null,null,null,null,null,null,null,null,null,null,null,null,null,null,null,null,null,null,null,null,null,null,null,null,null,null,null,null,null,null,null,null,null,null,null,null,null,null,null,null,null,null,null,null,null,null,null,null,null,null,null,null,null,null,null,null,null,null,null,null,null,null,null,null,null,null,null,null,null,null,null,null,null,null,null,null,null,null,null,null,null,null,null,null,null,null,null,null,null,null,"Breakfast",null,"Lunch",null,"Dinner",null,"Total",null,null,"Breakfast",null,"Lunch",null,"Dinner",null,"Total",null,null,"Availability"]
[null,"Employee","Job",null,"Start","End",null,"05:00:00","05:30:00","06:00:00","06:30:00","07:00:00","07:30:00","08:00:00","08:30:00","09:00:00","09:30:00","10:00:00","10:30:00","11:00:00","11:30:00","12:00:00","12:30:00","13:00:00","13:30:00","14:00:00","14:30:00","15:00:00","15:30:00","16:00:00","16:30:00","17:00:00","17:30:00","18:00:00","18:30:00","19:00:00","19:30:00","20:00:00","20:30:00","21:00:00","21:30:00","22:00:00","22:30:00","23:00:00","23:30:00","TOTAL",null,5,null,6,null,7,null,8,null,9,null,10,null,11,null,12,null,1,null,2,null,3,null,4,null,5,null,6,null,7,null,8,null,9,null,10,null,11,null,null,5,null,6,null,7,null,8,null,9,null,10,null,11,null,12,null,1,null,2,null,3,null,4,null,5,null,6,null,7,null,8,null,9,null,10,null,11,null,null,"Rate","Hrs","$","Hrs","$","Hrs","$","Hrs","$",null,"Hrs","$","Hrs","$","Hrs","$","Hrs","$",null,"Start","End","Start-Early","End-Late"]
[1,{"$f":"IF(VLOOKUP($A7,'Schedule Setup'!$A$4:$E$39,2,FALSE)=0,\"\",VLOOKUP($A7,'Schedule Setup'!$A$4:$E$39,2,FALSE))","v":"Shaun Payne"},{"$f":"IF(VLOOKUP($A7,'Schedule Setup'!$A$4:$E$39,4,FALSE)=0,\"\",VLOOKUP($A7,'Schedule Setup'!$A$4:$E$39,4,FALSE))","v":"General Manager (S)"},{"$f":"IF(B7<>\"\",IF(OR(C7=\"General Manager (S)\", C7=\"General Manager (H)\"), \"GM\",IF(C7=\"Acting Manager\",\"AM\",IF(C7=\"Shift Manager\",\"SM\",IF(C7=\"Team Lead\",\"TL\",\"TM\")))),\"\")","v":"GM"},"05:00:00","13:30:00",null,{"$f":"AV7","v":"GM"},"GM","GM","GM","GM","GM","GM","GM","GM","GM","GM","GM","GM","GM","GM","GM","GM","","","","","","","","","","","","","","","x",{"$f":"CB7","v":"x"},"x","x","x","x","x",{"$f":"EC7","v":8.5},null,{"$f":"IF(AND($EO7<=H$6+0.01,$EP7>H$6+0.01),IF(AND(H$6<$F7-0.01,H$6>=$E7-0.01),$D7,\"\"),\"x\")","v":"GM"},{"$f":"IF(AND($EO7<=I$6+0.01,$EP7>I$6+0.01),IF(AND(I$6<$F7-0.01,I$6>=$E7-0.01),$D7,\"\"),\"x\")","v":"GM"},{"$f":"IF(AND($EO7<=J$6+0.01,$EP7>J$6+0.01),IF(AND(J$6<$F7-0.01,J$6>=$E7-0.01),$D7,\"\"),\"x\")","v":"GM"},{"$f":"IF(AND($EO7<=K$6+0.01,$EP7>K$6+0.01),IF(AND(K$6<$F7-0.01,K$6>=$E7-0.01),$D7,\"\"),\"x\")","v":"GM"},{"$f":"IF(AND($EO7<=L$6+0.01,$EP7>L$6+0.01),IF(AND(L$6<$F7-0.01,L$6>=$E7-0.01),$D7,\"\"),\"x\")","v":"GM"},{"$f":"IF(AND($EO7<=M$6+0.01,$EP7>M$6+0.01),IF(AND(M$6<$F7-0.01,M$6>=$E7-0.01),$D7,\"\"),\"x\")","v":"GM"},{"$f":"IF(AND($EO7<=N$6+0.01,$EP7>N$6+0.01),IF(AND(N$6<$F7-0.01,N$6>=$E7-0.01),$D7,\"\"),\"x\")","v":"GM"},{"$f":"IF(AND($EO7<=O$6+0.01,$EP7>O$6+0.01),IF(AND(O$6<$F7-0.01,O$6>=$E7-0.01),$D7,\"\"),\"x\")","v":"GM"},{"$f":"IF(AND($EO7<=P$6+0.01,$EP7>P$6+0.01),IF(AND(P$6<$F7-0.01,P$6>=$E7-0.01),$D7,\"\"),\"x\")","v":"GM"},{"$f":"IF(AND($EO7<=Q$6+0.01,$EP7>Q$6+0.01),IF(AND(Q$6<$F7-0.01,Q$6>=$E7-0.01),$D7,\"\"),\"x\")","v":"GM"},{"$f":"IF(AND($EO7<=R$6+0.01,$EP7>R$6+0.01),IF(AND(R$6<$F7-0.01,R$6>=$E7-0.01),$D7,\"\"),\"x\")","v":"GM"},{"$f":"IF(AND($EO7<=S$6+0.01,$EP7>S$6+0.01),IF(AND(S$6<$F7-0.01,S$6>=$E7-0.01),$D7,\"\"),\"x\")","v":"GM"},{"$f":"IF(AND($EO7<=T$6+0.01,$EP7>T$6+0.01),IF(AND(T$6<$F7-0.01,T$6>=$E7-0.01),$D7,\"\"),\"x\")","v":"GM"},{"$f":"IF(AND($EO7<=U$6+0.01,$EP7>U$6+0.01),IF(AND(U$6<$F7-0.01,U$6>=$E7-0.01),$D7,\"\"),\"x\")","v":"GM"},{"$f":"IF(AND($EO7<=V$6+0.01,$EP7>V$6+0.01),IF(AND(V$6<$F7-0.01,V$6>=$E7-0.01),$D7,\"\"),\"x\")","v":"GM"},{"$f":"IF(AND($EO7<=W$6+0.01,$EP7>W$6+0.01),IF(AND(W$6<$F7-0.01,W$6>=$E7-0.01),$D7,\"\"),\"x\")","v":"GM"},{"$f":"IF(AND($EO7<=X$6+0.01,$EP7>X$6+0.01),IF(AND(X$6<$F7-0.01,X$6>=$E7-0.01),$D7,\"\"),\"x\")","v":"GM"},{"$f":"IF(AND($EO7<=Y$6+0.01,$EP7>Y$6+0.01),IF(AND(Y$6<$F7-0.01,Y$6>=$E7-0.01),$D7,\"\"),\"x\")","v":""},{"$f":"IF(AND($EO7<=Z$6+0.01,$EP7>Z$6+0.01),IF(AND(Z$6<$F7-0.01,Z$6>=$E7-0.01),$D7,\"\"),\"x\")","v":""},{"$f":"IF(AND($EO7<=AA$6+0.01,$EP7>AA$6+0.01),IF(AND(AA$6<$F7-0.01,AA$6>=$E7-0.01),$D7,\"\"),\"x\")","v":""},{"$f":"IF(AND($EO7<=AB$6+0.01,$EP7>AB$6+0.01),IF(AND(AB$6<$F7-0.01,AB$6>=$E7-0.01),$D7,\"\"),\"x\")","v":""},{"$f":"IF(AND($EO7<=AC$6+0.01,$EP7>AC$6+0.01),IF(AND(AC$6<$F7-0.01,AC$6>=$E7-0.01),$D7,\"\"),\"x\")","v":""},{"$f":"IF(AND($EO7<=AD$6+0.01,$EP7>AD$6+0.01),IF(AND(AD$6<$F7-0.01,AD$6>=$E7-0.01),$D7,\"\"),\"x\")","v":""},{"$f":"IF(AND($EO7<=AE$6+0.01,$EP7>AE$6+0.01),IF(AND(AE$6<$F7-0.01,AE$6>=$E7-0.01),$D7,\"\"),\"x\")","v":""},{"$f":"IF(AND($EO7<=AF$6+0.01,$EP7>AF$6+0.01),IF(AND(AF$6<$F7-0.01,AF$6>=$E7-0.01),$D7,\"\"),\"x\")","v":""},{"$f":"IF(AND($EO7<=AG$6+0.01,$EP7>AG$6+0.01),IF(AND(AG$6<$F7-0.01,AG$6>=$E7-0.01),$D7,\"\"),\"x\")","v":""},{"$f":"IF(AND($EO7<=AH$6+0.01,$EP7>AH$6+0.01),IF(AND(AH$6<$F7-0.01,AH$6>=$E7-0.01),$D7,\"\"),\"x\")","v":""},{"$f":"IF(AND($EO7<=AI$6+0.01,$EP7>AI$6+0.01),IF(AND(AI$6<$F7-0.01,AI$6>=$E7-0.01),$D7,\"\"),\"x\")","v":""},{"$f":"IF(AND($EO7<=AJ$6+0.01,$EP7>AJ$6+0.01),IF(AND(AJ$6<$F7-0.01,AJ$6>=$E7-0.01),$D7,\"\"),\"x\")","v":""},{"$f":"IF(AND($EO7<=AK$6+0.01,$EP7>AK$6+0.01),IF(AND(AK$6<$F7-0.01,AK$6>=$E7-0.01),$D7,\"\"),\"x\")","v":""},{"$f":"IF(AND($EO7<=AL$6+0.01,$EP7>AL$6+0.01),IF(AND(AL$6<$F7-0.01,AL$6>=$E7-0.01),$D7,\"\"),\"x\")","v":""},{"$f":"IF(AND($EO7<=AM$6+0.01,$EP7>AM$6+0.01),IF(AND(AM$6<$F7-0.01,AM$6>=$E7-0.01),$D7,\"\"),\"x\")","v":"x"},{"$f":"IF(AND($EO7<=AN$6+0.01,$EP7>AN$6+0.01),IF(AND(AN$6<$F7-0.01,AN$6>=$E7-0.01),$D7,\"\"),\"x\")","v":"x"},{"$f":"IF(AND($EO7<=AO$6+0.01,$EP7>AO$6+0.01),IF(AND(AO$6<$F7-0.01,AO$6>=$E7-0.01),$D7,\"\"),\"x\")","v":"x"},{"$f":"IF(AND($EO7<=AP$6+0.01,$EP7>AP$6+0.01),IF(AND(AP$6<$F7-0.01,AP$6>=$E7-0.01),$D7,\"\"),\"x\")","v":"x"},{"$f":"IF(AND($EO7<=AQ$6+0.01,$EP7>AQ$6+0.01),IF(AND(AQ$6<$F7-0.01,AQ$6>=$E7-0.01),$D7,\"\"),\"x\")","v":"x"},{"$f":"IF(AND($EO7<=AR$6+0.01,$EP7>AR$6+0.01),IF(AND(AR$6<$F7-0.01,AR$6>=$E7-0.01),$D7,\"\"),\"x\")","v":"x"},{"$f":"IF(AND($EO7<=AS$6+0.01,$EP7>AS$6+0.01),IF(AND(AS$6<$F7-0.01,AS$6>=$E7-0.01),$D7,\"\"),\"x\")","v":"x"},null,{"$f":"IF(AND(AV7<>\"\",AV7<>\"x\"),0.5,)","v":0.5},{"$f":"IF(AND(AW7<>\"\",AW7<>\"x\"),0.5,)","v":0.5},0.5,0.5,0.5,0.5,0.5,0.5,0.5,0.5,0.5,0.5,0.5,0.5,0.5,0.5,0.5,0,0,0,0,0,0,0,0,0,0,0,0,0,0,0,0,0,0,0,0,0,null,{"$f":"IF(VLOOKUP($A7,'Schedule Setup'!$A$4:$E$39,5,FALSE)=0,\"\",VLOOKUP($A7,'Schedule Setup'!$A$4:$E$39,5,FALSE))","v":""},{"$f":"SUM(CI7:CT7)","v":6},{"$f":"IFERROR(DW7*$DV7,\"\")","v":""},{"$f":"SUM(CU7:DF7)","v":2.5},{"$f":"IFERROR(DY7*$DV7,\"\")","v":""},{"$f":"SUM(DG7:DT7)","v":0},{"$f":"IFERROR(EA7*$DV7,\"\")","v":""},{"$f":"SUM(DW7,DY7,EA7)","v":8.5},{"$f":"IFERROR(EC7*$DV7,\"\")","v":""},null,{"$f":"IF(DW7>5,(DW7-0.5),DW7)","v":5.5},{"$f":"IFERROR(EF7*$DV7,\"\")","v":""},{"$f":"IF(DY7>5,(DY7-0.5),DY7)","v":2.5},{"$f":"IFERROR(EH7*$DV7,\"\")","v":""},{"$f":"IF(EA7>5,(EA7-0.5),EA7)","v":0},{"$f":"IFERROR(EJ7*$DV7,\"\")","v":""},{"$f":"SUM(EF7,EH7,EJ7)","v":8},{"$f":"IFERROR(EL7*$DV7,\"\")","v":""},null,{"$f":"'Schedule Setup'!F5","v":"05:00:00"},{"$f":"'Schedule Setup'!G5","v":"20:30:00"},{"$f":"EO7-(0.5/24)","v":"04:30:00"},{"$f":"EP7+(0.5/24)","v":"21:00:00"}]
[{"$f":"A7+1","v":2},{"$f":"IF(VLOOKUP($A8,'Schedule Setup'!$A$4:$E$39,2,FALSE)=0,\"\",VLOOKUP($A8,'Schedule Setup'!$A$4:$E$39,2,FALSE))","v":"Clay Huycke-McCall"},{"$f":"IF(VLOOKUP($A8,'Schedule Setup'!$A$4:$E$39,4,FALSE)=0,\"\",VLOOKUP($A8,'Schedule Setup'!$A$4:$E$39,4,FALSE))","v":"Shift Manager"},{"$f":"IF(B8<>\"\",IF(OR(C8=\"General Manager (S)\", C8=\"General Manager (H)\"), \"GM\",IF(C8=\"Acting Manager\",\"AM\",IF(C8=\"Shift Manager\",\"SM\",IF(C8=\"Team Lead\",\"TL\",\"TM\")))),\"\")","v":"SM"},null,null,null,"x","x","x","x","x","x","x","x","x","x","x","x","x","x","x","x","x","x","x","x","x","x","x","x","x","x","x","x","x","x","x","x","x","x","x","x","x","x",{"$f":"EC8","v":0},null,"x","x","x","x","x","x","x","x","x","x","x","x","x","x","x","x","x","x","x","x","x","x","x","x","x","x","x","x","x","x","x","x","x","x","x","x","x","x",null,{"$f":"IF(AND(AV8<>\"\",AV8<>\"x\"),0.5,)","v":0},{"$f":"IF(AND(AW8<>\"\",AW8<>\"x\"),0.5,)","v":0},{"$f":"IF(AND(AX8<>\"\",AX8<>\"x\"),0.5,)","v":0},{"$f":"IF(AND(AY8<>\"\",AY8<>\"x\"),0.5,)","v":0},{"$f":"IF(AND(AZ8<>\"\",AZ8<>\"x\"),0.5,)","v":0},{"$f":"IF(AND(BA8<>\"\",BA8<>\"x\"),0.5,)","v":0},{"$f":"IF(AND(BB8<>\"\",BB8<>\"x\"),0.5,)","v":0},{"$f":"IF(AND(BC8<>\"\",BC8<>\"x\"),0.5,)","v":0},{"$f":"IF(AND(BD8<>\"\",BD8<>\"x\"),0.5,)","v":0},{"$f":"IF(AND(BE8<>\"\",BE8<>\"x\"),0.5,)","v":0},{"$f":"IF(AND(BF8<>\"\",BF8<>\"x\"),0.5,)","v":0},{"$f":"IF(AND(BG8<>\"\",BG8<>\"x\"),0.5,)","v":0},{"$f":"IF(AND(BH8<>\"\",BH8<>\"x\"),0.5,)","v":0},{"$f":"IF(AND(BI8<>\"\",BI8<>\"x\"),0.5,)","v":0},{"$f":"IF(AND(BJ8<>\"\",BJ8<>\"x\"),0.5,)","v":0},{"$f":"IF(AND(BK8<>\"\",BK8<>\"x\"),0.5,)","v":0},{"$f":"IF(AND(BL8<>\"\",BL8<>\"x\"),0.5,)","v":0},{"$f":"IF(AND(BM8<>\"\",BM8<>\"x\"),0.5,)","v":0},{"$f":"IF(AND(BN8<>\"\",BN8<>\"x\"),0.5,)","v":0},{"$f":"IF(AND(BO8<>\"\",BO8<>\"x\"),0.5,)","v":0},{"$f":"IF(AND(BP8<>\"\",BP8<>\"x\"),0.5,)","v":0},{"$f":"IF(AND(BQ8<>\"\",BQ8<>\"x\"),0.5,)","v":0},{"$f":"IF(AND(BR8<>\"\",BR8<>\"x\"),0.5,)","v":0},{"$f":"IF(AND(BS8<>\"\",BS8<>\"x\"),0.5,)","v":0},{"$f":"IF(AND(BT8<>\"\",BT8<>\"x\"),0.5,)","v":0},{"$f":"IF(AND(BU8<>\"\",BU8<>\"x\"),0.5,)","v":0},{"$f":"IF(AND(BV8<>\"\",BV8<>\"x\"),0.5,)","v":0},{"$f":"IF(AND(BW8<>\"\",BW8<>\"x\"),0.5,)","v":0},{"$f":"IF(AND(BX8<>\"\",BX8<>\"x\"),0.5,)","v":0},{"$f":"IF(AND(BY8<>\"\",BY8<>\"x\"),0.5,)","v":0},{"$f":"IF(AND(BZ8<>\"\",BZ8<>\"x\"),0.5,)","v":0},{"$f":"IF(AND(CA8<>\"\",CA8<>\"x\"),0.5,)","v":0},{"$f":"IF(AND(CB8<>\"\",CB8<>\"x\"),0.5,)","v":0},{"$f":"IF(AND(CC8<>\"\",CC8<>\"x\"),0.5,)","v":0},{"$f":"IF(AND(CD8<>\"\",CD8<>\"x\"),0.5,)","v":0},{"$f":"IF(AND(CE8<>\"\",CE8<>\"x\"),0.5,)","v":0},{"$f":"IF(AND(CF8<>\"\",CF8<>\"x\"),0.5,)","v":0},{"$f":"IF(AND(CG8<>\"\",CG8<>\"x\"),0.5,)","v":0},null,{"$f":"IF(VLOOKUP($A8,'Schedule Setup'!$A$4:$E$39,5,FALSE)=0,\"\",VLOOKUP($A8,'Schedule Setup'!$A$4:$E$39,5,FALSE))","v":""},0,"",0,"",0,"",{"$f":"SUM(DW8,DY8,EA8)","v":0},"",null,{"$f":"IF(DW8>5,(DW8-0.5),DW8)","v":0},"",{"$f":"IF(DY8>5,(DY8-0.5),DY8)","v":0},"",0,"",{"$f":"SUM(EF8,EH8,EJ8)","v":0},"",null,{"$f":"'Schedule Setup'!F6","v":"Req. Off"},{"$f":"'Schedule Setup'!G6","v":"Req. Off"},{"$f":"EO8-(0.5/24)","v":{"$error":"#VALUE!"}},{"$f":"EP8+(0.5/24)","v":{"$error":"#VALUE!"}}]
[{"$f":"A8+1","v":3},{"$f":"IF(VLOOKUP($A9,'Schedule Setup'!$A$4:$E$39,2,FALSE)=0,\"\",VLOOKUP($A9,'Schedule Setup'!$A$4:$E$39,2,FALSE))","v":"Shaina Hunt"},{"$f":"IF(VLOOKUP($A9,'Schedule Setup'!$A$4:$E$39,4,FALSE)=0,\"\",VLOOKUP($A9,'Schedule Setup'!$A$4:$E$39,4,FALSE))","v":"Shift Manager"},"SM","12:30:00","20:30:00",null,"","","","","","","","","","","","","","","","SM","SM","SM","SM","SM","SM","SM","SM","SM","SM","SM","SM","SM","SM","SM","SM","x","x","x","x","x","x","x",8,null,"","","","","","","","","","","","","","","","SM","SM","SM","SM","SM","SM","SM","SM","SM","SM","SM","SM","SM","SM","SM","SM","x","x","x","x","x","x","x",null,0,0,0,0,0,0,0,0,0,0,0,0,0,0,0,0.5,0.5,0.5,0.5,0.5,0.5,0.5,0.5,0.5,0.5,0.5,0.5,0.5,0.5,0.5,0.5,0,0,0,0,0,0,0,null,{"$f":"IF(VLOOKUP($A9,'Schedule Setup'!$A$4:$E$39,5,FALSE)=0,\"\",VLOOKUP($A9,'Schedule Setup'!$A$4:$E$39,5,FALSE))","v":""},0,"",4.5,"",3.5,"",{"$f":"SUM(DW9,DY9,EA9)","v":8},"",null,0,"",4.5,"",3.5,"",8,"",null,{"$f":"'Schedule Setup'!F7","v":"05:00:00"},{"$f":"'Schedule Setup'!G7","v":"20:30:00"},"04:30:00","21:00:00"]
[4,{"$f":"IF(VLOOKUP($A10,'Schedule Setup'!$A$4:$E$39,2,FALSE)=0,\"\",VLOOKUP($A10,'Schedule Setup'!$A$4:$E$39,2,FALSE))","v":"Christian Fink"},{"$f":"IF(VLOOKUP($A10,'Schedule Setup'!$A$4:$E$39,4,FALSE)=0,\"\",VLOOKUP($A10,'Schedule Setup'!$A$4:$E$39,4,FALSE))","v":"Team Lead"},"TL",null,null,null,"x","x","x","x","x","x","x","x","x","x","x","x","x","x","x","x","x","x","x","x","x","x","x","x","x","","","","","","","x","x","x","x","x","x","x",0,null,"x","x","x","x","x","x","x","x","x","x","x","x","x","x","x","x","x","x","x","x","x","x","x","x","x","","","","","","","x","x","x","x","x","x","x",null,0,0,0,0,0,0,0,0,0,0,0,0,0,0,0,0,0,0,0,0,0,0,0,0,0,0,0,0,0,0,0,0,0,0,0,0,0,0,null,{"$f":"IF(VLOOKUP($A10,'Schedule Setup'!$A$4:$E$39,5,FALSE)=0,\"\",VLOOKUP($A10,'Schedule Setup'!$A$4:$E$39,5,FALSE))","v":""},0,"",0,"",0,"",0,"",null,0,"",0,"",0,"",0,"",null,{"$f":"'Schedule Setup'!F8","v":"17:30:00"},{"$f":"'Schedule Setup'!G8","v":"20:30:00"},{"$f":"EO10-(0.5/24)","v":"17:00:00"},{"$f":"EP10+(0.5/24)","v":"21:00:00"}]
[5,{"$f":"IF(VLOOKUP($A11,'Schedule Setup'!$A$4:$E$39,2,FALSE)=0,\"\",VLOOKUP($A11,'Schedule Setup'!$A$4:$E$39,2,FALSE))","v":"Brendan Frye"},{"$f":"IF(VLOOKUP($A11,'Schedule Setup'!$A$4:$E$39,4,FALSE)=0,\"\",VLOOKUP($A11,'Schedule Setup'!$A$4:$E$39,4,FALSE))","v":"Team Member"},"TM","08:00:00","16:00:00",null,"x","x","x","x","","","TM","TM","TM","TM","TM","TM","TM","TM","TM","TM","TM","TM","TM","TM","TM","TM","","","","","","","","","","x","x","x","x","x","x","x",8,null,"x","x","x","x","","","TM","TM","TM","TM","TM","TM","TM","TM","TM","TM","TM","TM","TM","TM","TM","TM","","","","","","","","","","x","x","x","x","x","x","x",null,0,0,0,0,0,0,0.5,0.5,0.5,0.5,0.5,0.5,0.5,0.5,0.5,0.5,0.5,0.5,0.5,0.5,0.5,0.5,0,0,0,0,0,0,0,0,0,0,0,0,0,0,0,0,null,{"$f":"IF(VLOOKUP($A11,'Schedule Setup'!$A$4:$E$39,5,FALSE)=0,\"\",VLOOKUP($A11,'Schedule Setup'!$A$4:$E$39,5,FALSE))","v":""},3,"",5,"",0,"",8,"",null,3,"",5,"",0,"",8,"",null,{"$f":"'Schedule Setup'!F9","v":"07:00:00"},{"$f":"'Schedule Setup'!G9","v":"20:30:00"},"06:30:00","21:00:00"]
[6,{"$f":"IF(VLOOKUP($A12,'Schedule Setup'!$A$4:$E$39,2,FALSE)=0,\"\",VLOOKUP($A12,'Schedule Setup'!$A$4:$E$39,2,FALSE))","v":"Jordan Galli"},{"$f":"IF(VLOOKUP($A12,'Schedule Setup'!$A$4:$E$39,4,FALSE)=0,\"\",VLOOKUP($A12,'Schedule Setup'!$A$4:$E$39,4,FALSE))","v":"Team Member"},"TM","13:30:00","20:30:00",null,"x","x","x","x","","","","","","","","","","","","","","TM","TM","TM","TM","TM","TM","TM","TM","TM","TM","TM","TM","TM","TM","x","x","x","x","x","x","x",7,null,"x","x","x","x","","","","","","","","","","","","","","TM","TM","TM","TM","TM","TM","TM","TM","TM","TM","TM","TM","TM","TM","x","x","x","x","x","x","x",null,0,0,0,0,0,0,0,0,0,0,0,0,0,0,0,0,0,0.5,0.5,0.5,0.5,0.5,0.5,0.5,0.5,0.5,0.5,0.5,0.5,0.5,0.5,0,0,0,0,0,0,0,null,{"$f":"IF(VLOOKUP($A12,'Schedule Setup'!$A$4:$E$39,5,FALSE)=0,\"\",VLOOKUP($A12,'Schedule Setup'!$A$4:$E$39,5,FALSE))","v":""},0,"",3.5,"",3.5,"",7,"",null,0,"",3.5,"",3.5,"",7,"",null,{"$f":"'Schedule Setup'!F10","v":"07:00:00"},{"$f":"'Schedule Setup'!G10","v":"20:30:00"},"06:30:00","21:00:00"]
[7,{"$f":"IF(VLOOKUP($A13,'Schedule Setup'!$A$4:$E$39,2,FALSE)=0,\"\",VLOOKUP($A13,'Schedule Setup'!$A$4:$E$39,2,FALSE))","v":"Madelyn Hickey"},{"$f":"IF(VLOOKUP($A13,'Schedule Setup'!$A$4:$E$39,4,FALSE)=0,\"\",VLOOKUP($A13,'Schedule Setup'!$A$4:$E$39,4,FALSE))","v":"Team Member"},"TM",null,null,null,"x","x","x","x","x","x","x","x","x","x","x","x","x","x","x","x","x","x","x","x","x","x","x","x","x","x","x",{"$f":"BW13","v":"x"},"x","x","x","x","x","x","x","x","x","x",0,null,"x","x","x","x","x","x","x","x","x","x","x","x","x","x","x","x","x","x","x","x","x","x","x","x","x","x","x","x","x","x","x","x","x","x","x","x","x","x",null,0,0,0,0,0,0,0,0,0,0,0,0,0,0,0,0,0,0,0,0,0,0,0,0,0,0,0,0,0,0,0,0,0,0,0,0,0,0,null,{"$f":"IF(VLOOKUP($A13,'Schedule Setup'!$A$4:$E$39,5,FALSE)=0,\"\",VLOOKUP($A13,'Schedule Setup'!$A$4:$E$39,5,FALSE))","v":""},0,"",0,"",0,"",0,"",null,0,"",0,"",0,"",0,"",null,{"$f":"'Schedule Setup'!F11","v":"UnAvail"},{"$f":"'Schedule Setup'!G11","v":"UnAvail"},{"$error":"#VALUE!"},{"$error":"#VALUE!"}]
[8,{"$f":"IF(VLOOKUP($A14,'Schedule Setup'!$A$4:$E$39,2,FALSE)=0,\"\",VLOOKUP($A14,'Schedule Setup'!$A$4:$E$39,2,FALSE))","v":""},{"$f":"IF(VLOOKUP($A14,'Schedule Setup'!$A$4:$E$39,4,FALSE)=0,\"\",VLOOKUP($A14,'Schedule Setup'!$A$4:$E$39,4,FALSE))","v":""},"",null,null,null,{"$f":"AV14","v":""},"","","","","","","x","x","x","x","x","x","x","x","x",{"$f":"BL14","v":"x"},"x","x","x","x","x","x","x","x","x","x","x","x","x","x","x","x","x","x","x","x","x",0,null,"","","","","","","","x","x","x","x","x","x","x","x","x","x","x","x","x","x","x","x","x","x","x","x","x","x","x","x","x","x",{"$f":"IF(AND($EO14<=AO$6+0.01,$EP14>AO$6+0.01),IF(AND(AO$6<$F14-0.01,AO$6>=$E14-0.01),$D14,\"\"),\"x\")","v":"x"},"x","x","x","x",null,0,0,0,0,0,0,0,0,0,0,0,0,0,0,0,0,0,0,0,0,0,0,0,0,0,0,0,0,0,0,0,0,0,0,0,0,0,0,null,{"$f":"IF(VLOOKUP($A14,'Schedule Setup'!$A$4:$E$39,5,FALSE)=0,\"\",VLOOKUP($A14,'Schedule Setup'!$A$4:$E$39,5,FALSE))","v":""},0,{"$f":"IFERROR(DW14*$DV14,\"\")","v":""},0,"",0,"",0,"",null,0,"",0,"",0,"",0,"",null,{"$f":"'Schedule Setup'!F12","v":"05:00:00"},{"$f":"'Schedule Setup'!G12","v":"08:30:00"},"04:30:00","09:00:00"]
[9,{"$f":"IF(VLOOKUP($A15,'Schedule Setup'!$A$4:$E$39,2,FALSE)=0,\"\",VLOOKUP($A15,'Schedule Setup'!$A$4:$E$39,2,FALSE))","v":""},{"$f":"IF(VLOOKUP($A15,'Schedule Setup'!$A$4:$E$39,4,FALSE)=0,\"\",VLOOKUP($A15,'Schedule Setup'!$A$4:$E$39,4,FALSE))","v":""},"",null,null,null,"x","x","x","x","x","x","x","x","x","x","x","x","x","x","x","x","x","x","x","x","x","x","x","x","x","x","x","x","x","x","x","x","x","x","x","x","x","x",0,null,"x","x","x","x","x","x","x","x","x","x","x","x","x","x","x","x","x","x","x","x","x","x","x","x","x","x","x","x","x","x","x","x","x",{"$f":"IF(AND($EO15<=AO$6+0.01,$EP15>AO$6+0.01),IF(AND(AO$6<$F15-0.01,AO$6>=$E15-0.01),$D15,\"\"),\"x\")","v":"x"},"x","x","x","x",null,0,0,0,0,0,0,0,0,0,0,0,0,0,0,0,0,0,0,0,0,0,0,0,0,0,0,0,0,0,0,0,0,0,0,0,0,0,0,null,{"$f":"IF(VLOOKUP($A15,'Schedule Setup'!$A$4:$E$39,5,FALSE)=0,\"\",VLOOKUP($A15,'Schedule Setup'!$A$4:$E$39,5,FALSE))","v":""},0,"",0,"",0,"",0,"",null,0,"",0,"",0,"",0,"",null,{"$f":"'Schedule Setup'!F13","v":"00:00:00"},{"$f":"'Schedule Setup'!G13","v":"00:00:00"},-2.0833333333333332E-2,"00:30:00"]
[10,{"$f":"IF(VLOOKUP($A16,'Schedule Setup'!$A$4:$E$39,2,FALSE)=0,\"\",VLOOKUP($A16,'Schedule Setup'!$A$4:$E$39,2,FALSE))","v":""},{"$f":"IF(VLOOKUP($A16,'Schedule Setup'!$A$4:$E$39,4,FALSE)=0,\"\",VLOOKUP($A16,'Schedule Setup'!$A$4:$E$39,4,FALSE))","v":""},"",null,null,null,"x","x","x","x","x","x","x","x","x","x","x","x","x","x","x","x","x","x","x","x","x","x","x","x","x","x","x","x","x","x","x","x","x","x","x","x","x","x",0,null,"x","x","x","x","x","x","x","x","x","x","x","x","x","x","x","x","x","x","x","x","x","x","x","x","x","x","x","x","x","x","x","x","x","x","x","x","x","x",null,0,0,0,0,0,0,0,0,0,0,0,0,0,0,0,0,0,0,0,0,0,0,0,0,0,0,0,0,0,0,0,0,0,0,0,0,0,0,null,{"$f":"IF(VLOOKUP($A16,'Schedule Setup'!$A$4:$E$39,5,FALSE)=0,\"\",VLOOKUP($A16,'Schedule Setup'!$A$4:$E$39,5,FALSE))","v":""},0,"",0,"",0,"",0,"",null,0,"",0,"",0,"",0,"",null,{"$f":"'Schedule Setup'!F14","v":"00:00:00"},{"$f":"'Schedule Setup'!G14","v":"00:00:00"},-2.0833333333333332E-2,"00:30:00"]
[11,{"$f":"IF(VLOOKUP($A17,'Schedule Setup'!$A$4:$E$39,2,FALSE)=0,\"\",VLOOKUP($A17,'Schedule Setup'!$A$4:$E$39,2,FALSE))","v":""},{"$f":"IF(VLOOKUP($A17,'Schedule Setup'!$A$4:$E$39,4,FALSE)=0,\"\",VLOOKUP($A17,'Schedule Setup'!$A$4:$E$39,4,FALSE))","v":""},"",null,null,null,"x","x","x","x","x","x","x","x","x","x","x","x","x","x","x","x","x","x","x","x","x","x","x","x","x","x","x","x","x","x","x","x","x","x","x","x","x","x",0,null,"x","x","x","x","x","x","x","x","x","x","x","x","x","x","x","x","x","x","x","x","x","x","x","x","x","x","x","x","x","x","x","x","x","x","x","x","x","x",null,0,0,0,0,0,0,0,0,0,0,0,0,0,0,0,0,0,0,0,0,0,0,0,0,0,0,0,0,0,0,0,0,0,0,0,0,0,0,null,{"$f":"IF(VLOOKUP($A17,'Schedule Setup'!$A$4:$E$39,5,FALSE)=0,\"\",VLOOKUP($A17,'Schedule Setup'!$A$4:$E$39,5,FALSE))","v":""},0,"",0,"",0,"",0,"",null,0,"",0,"",0,"",0,"",null,{"$f":"'Schedule Setup'!F15","v":"00:00:00"},{"$f":"'Schedule Setup'!G15","v":"00:00:00"},-2.0833333333333332E-2,"00:30:00"]
[12,{"$f":"IF(VLOOKUP($A18,'Schedule Setup'!$A$4:$E$39,2,FALSE)=0,\"\",VLOOKUP($A18,'Schedule Setup'!$A$4:$E$39,2,FALSE))","v":""},{"$f":"IF(VLOOKUP($A18,'Schedule Setup'!$A$4:$E$39,4,FALSE)=0,\"\",VLOOKUP($A18,'Schedule Setup'!$A$4:$E$39,4,FALSE))","v":""},"",null,null,null,"x","x","x","x","x","x","x","x","x","x","x","x","x","x","x","x","x","x","x","x","x","x","x","x","x","x","x","x","x","x","x","x","x","x","x","x","x","x",0,null,"x","x","x","x","x","x","x","x","x","x","x","x","x","x","x","x","x","x","x","x","x","x","x","x","x","x","x","x","x","x","x","x","x","x","x","x","x","x",null,0,0,0,0,0,0,0,0,0,0,0,0,0,0,0,0,0,0,0,0,0,0,0,0,0,0,0,0,0,0,0,0,0,0,0,0,0,0,null,{"$f":"IF(VLOOKUP($A18,'Schedule Setup'!$A$4:$E$39,5,FALSE)=0,\"\",VLOOKUP($A18,'Schedule Setup'!$A$4:$E$39,5,FALSE))","v":""},0,"",0,"",0,"",0,"",null,0,"",0,"",0,"",0,"",null,{"$f":"'Schedule Setup'!F16","v":"00:00:00"},{"$f":"'Schedule Setup'!G16","v":"00:00:00"},-2.0833333333333332E-2,"00:30:00"]
[13,{"$f":"IF(VLOOKUP($A19,'Schedule Setup'!$A$4:$E$39,2,FALSE)=0,\"\",VLOOKUP($A19,'Schedule Setup'!$A$4:$E$39,2,FALSE))","v":""},{"$f":"IF(VLOOKUP($A19,'Schedule Setup'!$A$4:$E$39,4,FALSE)=0,\"\",VLOOKUP($A19,'Schedule Setup'!$A$4:$E$39,4,FALSE))","v":""},"",null,null,null,"x","x","x","x","x","x","x","x","x","x","x","x","x","x","x","x","x","x","x","x","x","x","x","x","x","x","x","x","x","x","x","x","x","x","x","x","x","x",0,null,"x","x","x","x","x","x","x","x","x","x","x","x","x","x","x","x","x","x","x","x","x","x","x","x","x","x","x","x","x","x","x","x","x","x","x","x","x","x",null,0,0,0,0,0,0,0,0,0,0,0,0,0,0,0,0,0,0,0,0,0,0,0,0,0,0,0,0,0,0,0,0,0,0,0,0,0,0,null,{"$f":"IF(VLOOKUP($A19,'Schedule Setup'!$A$4:$E$39,5,FALSE)=0,\"\",VLOOKUP($A19,'Schedule Setup'!$A$4:$E$39,5,FALSE))","v":""},0,"",0,"",0,"",0,"",null,0,"",0,"",0,"",0,"",null,{"$f":"'Schedule Setup'!F17","v":"00:00:00"},{"$f":"'Schedule Setup'!G17","v":"00:00:00"},-2.0833333333333332E-2,"00:30:00"]
[14,{"$f":"IF(VLOOKUP($A20,'Schedule Setup'!$A$4:$E$39,2,FALSE)=0,\"\",VLOOKUP($A20,'Schedule Setup'!$A$4:$E$39,2,FALSE))","v":"Matt Louden"},{"$f":"IF(VLOOKUP($A20,'Schedule Setup'!$A$4:$E$39,4,FALSE)=0,\"\",VLOOKUP($A20,'Schedule Setup'!$A$4:$E$39,4,FALSE))","v":"Team Member"},"TM","14:30:00","18:30:00",null,"x","x","x","x","","","","","","","","","","","","","","","","TM","TM","TM","TM","TM","TM","TM","TM","","","","","x","x","x","x","x","x","x",4,null,"x","x","x","x","","","","","","","","","","","","","","","","TM","TM","TM","TM","TM","TM","TM","TM","","","","","x","x","x","x","x","x","x",null,0,0,0,0,0,0,0,0,0,0,0,0,0,0,0,0,0,0,0,0.5,0.5,0.5,0.5,0.5,0.5,0.5,0.5,0,0,0,0,0,0,0,0,0,0,0,null,{"$f":"IF(VLOOKUP($A20,'Schedule Setup'!$A$4:$E$39,5,FALSE)=0,\"\",VLOOKUP($A20,'Schedule Setup'!$A$4:$E$39,5,FALSE))","v":""},0,"",2.5,"",1.5,"",4,"",null,0,"",2.5,"",1.5,"",4,"",null,{"$f":"'Schedule Setup'!F18","v":"07:00:00"},{"$f":"'Schedule Setup'!G18","v":"20:30:00"},"06:30:00","21:00:00"]
[15,{"$f":"IF(VLOOKUP($A21,'Schedule Setup'!$A$4:$E$39,2,FALSE)=0,\"\",VLOOKUP($A21,'Schedule Setup'!$A$4:$E$39,2,FALSE))","v":"Ani Reyes"},{"$f":"IF(VLOOKUP($A21,'Schedule Setup'!$A$4:$E$39,4,FALSE)=0,\"\",VLOOKUP($A21,'Schedule Setup'!$A$4:$E$39,4,FALSE))","v":"Team Member"},"TM",null,null,null,"x","x","x","x","x","x","x","x","x","x","x","x","x","x","x","x","x","x","x","x","x","","","","","","","","","","","x","x","x","x","x","x","x",0,null,"x","x","x","x","x","x","x","x","x","x","x","x","x","x","x","x","x","x","x","x","x","","","","","","","","","","","x","x","x","x","x","x","x",null,0,0,0,0,0,0,0,0,0,0,0,0,0,0,0,0,0,0,0,0,0,0,0,0,0,0,0,0,0,0,0,0,0,0,0,0,0,0,null,{"$f":"IF(VLOOKUP($A21,'Schedule Setup'!$A$4:$E$39,5,FALSE)=0,\"\",VLOOKUP($A21,'Schedule Setup'!$A$4:$E$39,5,FALSE))","v":""},0,"",0,"",0,"",0,"",null,0,"",0,"",0,"",0,"",null,{"$f":"'Schedule Setup'!F19","v":"15:30:00"},{"$f":"'Schedule Setup'!G19","v":"20:30:00"},"15:00:00","21:00:00"]
[16,{"$f":"IF(VLOOKUP($A22,'Schedule Setup'!$A$4:$E$39,2,FALSE)=0,\"\",VLOOKUP($A22,'Schedule Setup'!$A$4:$E$39,2,FALSE))","v":"Andrew Philips"},{"$f":"IF(VLOOKUP($A22,'Schedule Setup'!$A$4:$E$39,4,FALSE)=0,\"\",VLOOKUP($A22,'Schedule Setup'!$A$4:$E$39,4,FALSE))","v":"Team Member"},"TM",null,null,null,"x","x","x","x","x","x","x","x","x","x","x","x","x","x","x","x","x","x","x","x","x","x","","","","","","","","","","x","x","x","x","x","x","x",0,null,"x","x","x","x","x","x","x","x","x","x","x","x","x","x","x","x",{"$f":"IF(AND($EO22<=X$6+0.01,$EP22>X$6+0.01),IF(AND(X$6<$F22-0.01,X$6>=$E22-0.01),$D22,\"\"),\"x\")","v":"x"},{"$f":"IF(AND($EO22<=Y$6+0.01,$EP22>Y$6+0.01),IF(AND(Y$6<$F22-0.01,Y$6>=$E22-0.01),$D22,\"\"),\"x\")","v":"x"},{"$f":"IF(AND($EO22<=Z$6+0.01,$EP22>Z$6+0.01),IF(AND(Z$6<$F22-0.01,Z$6>=$E22-0.01),$D22,\"\"),\"x\")","v":"x"},{"$f":"IF(AND($EO22<=AA$6+0.01,$EP22>AA$6+0.01),IF(AND(AA$6<$F22-0.01,AA$6>=$E22-0.01),$D22,\"\"),\"x\")","v":"x"},{"$f":"IF(AND($EO22<=AB$6+0.01,$EP22>AB$6+0.01),IF(AND(AB$6<$F22-0.01,AB$6>=$E22-0.01),$D22,\"\"),\"x\")","v":"x"},{"$f":"IF(AND($EO22<=AC$6+0.01,$EP22>AC$6+0.01),IF(AND(AC$6<$F22-0.01,AC$6>=$E22-0.01),$D22,\"\"),\"x\")","v":"x"},{"$f":"IF(AND($EO22<=AD$6+0.01,$EP22>AD$6+0.01),IF(AND(AD$6<$F22-0.01,AD$6>=$E22-0.01),$D22,\"\"),\"x\")","v":""},{"$f":"IF(AND($EO22<=AE$6+0.01,$EP22>AE$6+0.01),IF(AND(AE$6<$F22-0.01,AE$6>=$E22-0.01),$D22,\"\"),\"x\")","v":""},{"$f":"IF(AND($EO22<=AF$6+0.01,$EP22>AF$6+0.01),IF(AND(AF$6<$F22-0.01,AF$6>=$E22-0.01),$D22,\"\"),\"x\")","v":""},{"$f":"IF(AND($EO22<=AG$6+0.01,$EP22>AG$6+0.01),IF(AND(AG$6<$F22-0.01,AG$6>=$E22-0.01),$D22,\"\"),\"x\")","v":""},{"$f":"IF(AND($EO22<=AH$6+0.01,$EP22>AH$6+0.01),IF(AND(AH$6<$F22-0.01,AH$6>=$E22-0.01),$D22,\"\"),\"x\")","v":""},{"$f":"IF(AND($EO22<=AI$6+0.01,$EP22>AI$6+0.01),IF(AND(AI$6<$F22-0.01,AI$6>=$E22-0.01),$D22,\"\"),\"x\")","v":""},{"$f":"IF(AND($EO22<=AJ$6+0.01,$EP22>AJ$6+0.01),IF(AND(AJ$6<$F22-0.01,AJ$6>=$E22-0.01),$D22,\"\"),\"x\")","v":""},{"$f":"IF(AND($EO22<=AK$6+0.01,$EP22>AK$6+0.01),IF(AND(AK$6<$F22-0.01,AK$6>=$E22-0.01),$D22,\"\"),\"x\")","v":""},{"$f":"IF(AND($EO22<=AL$6+0.01,$EP22>AL$6+0.01),IF(AND(AL$6<$F22-0.01,AL$6>=$E22-0.01),$D22,\"\"),\"x\")","v":""},{"$f":"IF(AND($EO22<=AM$6+0.01,$EP22>AM$6+0.01),IF(AND(AM$6<$F22-0.01,AM$6>=$E22-0.01),$D22,\"\"),\"x\")","v":"x"},{"$f":"IF(AND($EO22<=AN$6+0.01,$EP22>AN$6+0.01),IF(AND(AN$6<$F22-0.01,AN$6>=$E22-0.01),$D22,\"\"),\"x\")","v":"x"},"x","x","x","x","x",null,0,0,0,0,0,0,0,0,0,0,0,0,0,0,0,0,0,0,0,0,0,0,0,0,0,0,0,0,0,0,0,0,0,0,0,0,0,0,null,{"$f":"IF(VLOOKUP($A22,'Schedule Setup'!$A$4:$E$39,5,FALSE)=0,\"\",VLOOKUP($A22,'Schedule Setup'!$A$4:$E$39,5,FALSE))","v":""},0,"",0,"",0,"",0,"",null,0,"",0,"",0,"",0,"",null,{"$f":"'Schedule Setup'!F20","v":"16:00:00"},{"$f":"'Schedule Setup'!G20","v":"20:30:00"},"15:30:00","21:00:00"]
[17,{"$f":"IF(VLOOKUP($A23,'Schedule Setup'!$A$4:$E$39,2,FALSE)=0,\"\",VLOOKUP($A23,'Schedule Setup'!$A$4:$E$39,2,FALSE))","v":""},{"$f":"IF(VLOOKUP($A23,'Schedule Setup'!$A$4:$E$39,4,FALSE)=0,\"\",VLOOKUP($A23,'Schedule Setup'!$A$4:$E$39,4,FALSE))","v":""},"",null,null,null,"x","x","x","x","x","x","x","x","x","x","x","x","x","x","x","x","x","x","x","x","x","x","x","x","x","x","x","x","x","x","x","x","x","x","x","x","x","x",0,null,{"$f":"IF(AND($EO23<=H$6+0.01,$EP23>H$6+0.01),IF(AND(H$6<$F23-0.01,H$6>=$E23-0.01),$D23,\"\"),\"x\")","v":"x"},{"$f":"IF(AND($EO23<=I$6+0.01,$EP23>I$6+0.01),IF(AND(I$6<$F23-0.01,I$6>=$E23-0.01),$D23,\"\"),\"x\")","v":"x"},{"$f":"IF(AND($EO23<=J$6+0.01,$EP23>J$6+0.01),IF(AND(J$6<$F23-0.01,J$6>=$E23-0.01),$D23,\"\"),\"x\")","v":"x"},{"$f":"IF(AND($EO23<=K$6+0.01,$EP23>K$6+0.01),IF(AND(K$6<$F23-0.01,K$6>=$E23-0.01),$D23,\"\"),\"x\")","v":"x"},{"$f":"IF(AND($EO23<=L$6+0.01,$EP23>L$6+0.01),IF(AND(L$6<$F23-0.01,L$6>=$E23-0.01),$D23,\"\"),\"x\")","v":"x"},{"$f":"IF(AND($EO23<=M$6+0.01,$EP23>M$6+0.01),IF(AND(M$6<$F23-0.01,M$6>=$E23-0.01),$D23,\"\"),\"x\")","v":"x"},{"$f":"IF(AND($EO23<=N$6+0.01,$EP23>N$6+0.01),IF(AND(N$6<$F23-0.01,N$6>=$E23-0.01),$D23,\"\"),\"x\")","v":"x"},{"$f":"IF(AND($EO23<=O$6+0.01,$EP23>O$6+0.01),IF(AND(O$6<$F23-0.01,O$6>=$E23-0.01),$D23,\"\"),\"x\")","v":"x"},{"$f":"IF(AND($EO23<=P$6+0.01,$EP23>P$6+0.01),IF(AND(P$6<$F23-0.01,P$6>=$E23-0.01),$D23,\"\"),\"x\")","v":"x"},{"$f":"IF(AND($EO23<=Q$6+0.01,$EP23>Q$6+0.01),IF(AND(Q$6<$F23-0.01,Q$6>=$E23-0.01),$D23,\"\"),\"x\")","v":"x"},{"$f":"IF(AND($EO23<=R$6+0.01,$EP23>R$6+0.01),IF(AND(R$6<$F23-0.01,R$6>=$E23-0.01),$D23,\"\"),\"x\")","v":"x"},{"$f":"IF(AND($EO23<=S$6+0.01,$EP23>S$6+0.01),IF(AND(S$6<$F23-0.01,S$6>=$E23-0.01),$D23,\"\"),\"x\")","v":"x"},{"$f":"IF(AND($EO23<=T$6+0.01,$EP23>T$6+0.01),IF(AND(T$6<$F23-0.01,T$6>=$E23-0.01),$D23,\"\"),\"x\")","v":"x"},{"$f":"IF(AND($EO23<=U$6+0.01,$EP23>U$6+0.01),IF(AND(U$6<$F23-0.01,U$6>=$E23-0.01),$D23,\"\"),\"x\")","v":"x"},{"$f":"IF(AND($EO23<=V$6+0.01,$EP23>V$6+0.01),IF(AND(V$6<$F23-0.01,V$6>=$E23-0.01),$D23,\"\"),\"x\")","v":"x"},{"$f":"IF(AND($EO23<=W$6+0.01,$EP23>W$6+0.01),IF(AND(W$6<$F23-0.01,W$6>=$E23-0.01),$D23,\"\"),\"x\")","v":"x"},"x","x","x","x","x","x","x","x","x","x","x","x","x","x","x","x","x","x","x","x","x","x",null,0,0,0,0,0,0,0,0,0,0,0,0,0,0,0,0,0,0,0,0,0,0,0,0,0,0,0,0,0,0,0,0,0,0,0,0,0,0,null,{"$f":"IF(VLOOKUP($A23,'Schedule Setup'!$A$4:$E$39,5,FALSE)=0,\"\",VLOOKUP($A23,'Schedule Setup'!$A$4:$E$39,5,FALSE))","v":""},0,"",0,"",0,"",0,"",null,0,"",0,"",0,"",0,"",null,{"$f":"'Schedule Setup'!F21","v":"00:00:00"},{"$f":"'Schedule Setup'!G21","v":"00:00:00"},-2.0833333333333332E-2,"00:30:00"]
[18,{"$f":"IF(VLOOKUP($A24,'Schedule Setup'!$A$4:$E$39,2,FALSE)=0,\"\",VLOOKUP($A24,'Schedule Setup'!$A$4:$E$39,2,FALSE))","v":""},{"$f":"IF(VLOOKUP($A24,'Schedule Setup'!$A$4:$E$39,4,FALSE)=0,\"\",VLOOKUP($A24,'Schedule Setup'!$A$4:$E$39,4,FALSE))","v":""},"",null,null,null,"x","x","x","x","x","x","x","x","x","x","x","x","x","x","x","x","x","x","x","x","x","x","x","x","x","x","x","x","x","x","x","x","x","x","x","x","x","x",0,null,"x","x","x","x","x","x","x","x","x","x","x","x","x","x","x","x","x","x","x","x","x","x","x","x","x","x","x","x","x","x","x","x","x","x","x","x","x","x",null,0,0,0,0,0,0,0,0,0,0,0,0,0,0,0,0,0,0,0,0,0,0,0,0,0,0,0,0,0,0,0,0,0,0,0,0,0,0,null,{"$f":"IF(VLOOKUP($A24,'Schedule Setup'!$A$4:$E$39,5,FALSE)=0,\"\",VLOOKUP($A24,'Schedule Setup'!$A$4:$E$39,5,FALSE))","v":""},0,"",0,"",0,"",0,"",null,0,"",0,"",0,"",0,"",null,{"$f":"'Schedule Setup'!F22","v":"00:00:00"},{"$f":"'Schedule Setup'!G22","v":"00:00:00"},-2.0833333333333332E-2,"00:30:00"]
[19,{"$f":"IF(VLOOKUP($A25,'Schedule Setup'!$A$4:$E$39,2,FALSE)=0,\"\",VLOOKUP($A25,'Schedule Setup'!$A$4:$E$39,2,FALSE))","v":"."},{"$f":"IF(VLOOKUP($A25,'Schedule Setup'!$A$4:$E$39,4,FALSE)=0,\"\",VLOOKUP($A25,'Schedule Setup'!$A$4:$E$39,4,FALSE))","v":""},"TM",null,null,null,"x","x","x","x","x","x","x","x","x","x","x","x","x","x","x","x","x","x","x","x","x","x","x","x","x","x","x","x","x","x","x","x","x","x","x","x","x","x",0,null,"x","x","x","x","x","x","x","x","x","x","x","x","x","x","x","x","x","x","x","x","x","x","x","x","x","x","x","x","x","x","x","x","x","x","x","x","x","x",null,0,0,0,0,0,0,0,0,0,0,0,0,0,0,0,0,0,0,0,0,0,0,0,0,0,0,0,0,0,0,0,0,0,0,0,0,0,0,null,{"$f":"IF(VLOOKUP($A25,'Schedule Setup'!$A$4:$E$39,5,FALSE)=0,\"\",VLOOKUP($A25,'Schedule Setup'!$A$4:$E$39,5,FALSE))","v":""},0,"",0,"",0,"",0,"",null,0,"",0,"",0,"",0,"",null,{"$f":"'Schedule Setup'!F23","v":"00:00:00"},{"$f":"'Schedule Setup'!G23","v":"00:00:00"},-2.0833333333333332E-2,"00:30:00"]
[20,{"$f":"IF(VLOOKUP($A26,'Schedule Setup'!$A$4:$E$39,2,FALSE)=0,\"\",VLOOKUP($A26,'Schedule Setup'!$A$4:$E$39,2,FALSE))","v":"Sean Duncan"},{"$f":"IF(VLOOKUP($A26,'Schedule Setup'!$A$4:$E$39,4,FALSE)=0,\"\",VLOOKUP($A26,'Schedule Setup'!$A$4:$E$39,4,FALSE))","v":"Team Lead"},"TL",null,null,null,"x","x","x","x","x","x","x","x","x","x","x","x","x","x","x","x","x","x","x","x","x","x","x","x","x","x","x","x","x","x","x","x","x","x","x","x","x","x",0,null,"x","x","x","x","x","x","x","x","x","x","x","x","x","x","x","x","x","x","x","x","x","x","x","x","x","x","x","x","x","x","x","x","x","x","x","x","x","x",null,0,0,0,0,0,0,0,0,0,0,0,0,0,0,0,0,0,0,0,0,0,0,0,0,0,0,0,0,0,0,0,0,0,0,0,0,0,0,null,{"$f":"IF(VLOOKUP($A26,'Schedule Setup'!$A$4:$E$39,5,FALSE)=0,\"\",VLOOKUP($A26,'Schedule Setup'!$A$4:$E$39,5,FALSE))","v":""},0,"",0,"",0,"",0,"",null,0,"",0,"",0,"",0,"",null,{"$f":"'Schedule Setup'!F24","v":"00:00:00"},{"$f":"'Schedule Setup'!G24","v":"00:00:00"},-2.0833333333333332E-2,"00:30:00"]
[21,{"$f":"IF(VLOOKUP($A27,'Schedule Setup'!$A$4:$E$39,2,FALSE)=0,\"\",VLOOKUP($A27,'Schedule Setup'!$A$4:$E$39,2,FALSE))","v":""},{"$f":"IF(VLOOKUP($A27,'Schedule Setup'!$A$4:$E$39,4,FALSE)=0,\"\",VLOOKUP($A27,'Schedule Setup'!$A$4:$E$39,4,FALSE))","v":""},"",null,null,null,"x","x","x","x","x","x","x","x","x","x","x","x","x","x","x","x","x","x","x","x","x","x","x","x","x","x","x","x","x","x","x","x","x","x","x","x","x","x",0,null,"x","x","x","x","x","x","x","x","x","x","x","x","x","x","x","x","x","x","x","x","x","x","x","x","x","x","x","x","x","x","x","x","x","x","x","x","x","x",null,0,0,0,0,0,0,0,0,0,0,0,0,0,0,0,0,0,0,0,0,0,0,0,0,0,0,0,0,0,0,0,0,0,0,0,0,0,0,null,{"$f":"IF(VLOOKUP($A27,'Schedule Setup'!$A$4:$E$39,5,FALSE)=0,\"\",VLOOKUP($A27,'Schedule Setup'!$A$4:$E$39,5,FALSE))","v":""},0,"",0,"",0,"",0,"",null,0,"",0,"",0,"",0,"",null,{"$f":"'Schedule Setup'!F25","v":"00:00:00"},{"$f":"'Schedule Setup'!G25","v":"00:00:00"},-2.0833333333333332E-2,"00:30:00"]
[22,{"$f":"IF(VLOOKUP($A28,'Schedule Setup'!$A$4:$E$39,2,FALSE)=0,\"\",VLOOKUP($A28,'Schedule Setup'!$A$4:$E$39,2,FALSE))","v":""},{"$f":"IF(VLOOKUP($A28,'Schedule Setup'!$A$4:$E$39,4,FALSE)=0,\"\",VLOOKUP($A28,'Schedule Setup'!$A$4:$E$39,4,FALSE))","v":""},"",null,null,null,"x","x","x","x","x","x","x","x","x","x","x","x","x","x","x","x","x","x","x","x","x","x","x","x","x","x","x","x","x","x","x","x","x","x","x","x","x","x",0,null,"x","x","x","x","x","x","x","x","x","x","x","x","x","x","x","x","x","x","x","x","x","x","x","x","x","x","x","x","x","x","x","x","x","x","x","x","x","x",null,0,0,0,0,0,0,0,0,0,0,0,0,0,0,0,0,0,0,0,0,0,0,0,0,0,0,0,0,0,0,0,0,0,0,0,0,0,0,null,{"$f":"IF(VLOOKUP($A28,'Schedule Setup'!$A$4:$E$39,5,FALSE)=0,\"\",VLOOKUP($A28,'Schedule Setup'!$A$4:$E$39,5,FALSE))","v":""},0,"",0,"",0,"",0,"",null,0,"",0,"",0,"",0,"",null,{"$f":"'Schedule Setup'!F26","v":"00:00:00"},{"$f":"'Schedule Setup'!G26","v":"00:00:00"},-2.0833333333333332E-2,"00:30:00"]
[23,{"$f":"IF(VLOOKUP($A29,'Schedule Setup'!$A$4:$E$39,2,FALSE)=0,\"\",VLOOKUP($A29,'Schedule Setup'!$A$4:$E$39,2,FALSE))","v":""},{"$f":"IF(VLOOKUP($A29,'Schedule Setup'!$A$4:$E$39,4,FALSE)=0,\"\",VLOOKUP($A29,'Schedule Setup'!$A$4:$E$39,4,FALSE))","v":""},"",null,null,null,"x","x","x","x","x","x","x","x","x","x","x","x","x","x","x","x","x","x","x","x","x","x","x","x","x","x","x","x","x","x",{"$f":"BZ29","v":"x"},"x","x","x","x","x","x","x",0,null,"x","x","x","x","x","x","x","x","x","x","x","x","x","x","x","x","x","x","x","x","x","x","x","x","x","x","x","x","x","x","x","x","x","x","x","x","x","x",null,0,0,0,0,0,0,0,0,0,0,0,0,0,0,0,0,0,0,0,0,0,0,0,0,0,0,0,0,0,0,0,0,0,0,0,0,0,0,null,{"$f":"IF(VLOOKUP($A29,'Schedule Setup'!$A$4:$E$39,5,FALSE)=0,\"\",VLOOKUP($A29,'Schedule Setup'!$A$4:$E$39,5,FALSE))","v":""},0,"",0,"",0,"",0,"",null,0,"",0,"",0,"",0,"",null,{"$f":"'Schedule Setup'!F27","v":"00:00:00"},{"$f":"'Schedule Setup'!G27","v":"00:00:00"},-2.0833333333333332E-2,"00:30:00"]
[24,{"$f":"IF(VLOOKUP($A30,'Schedule Setup'!$A$4:$E$39,2,FALSE)=0,\"\",VLOOKUP($A30,'Schedule Setup'!$A$4:$E$39,2,FALSE))","v":""},{"$f":"IF(VLOOKUP($A30,'Schedule Setup'!$A$4:$E$39,4,FALSE)=0,\"\",VLOOKUP($A30,'Schedule Setup'!$A$4:$E$39,4,FALSE))","v":""},{"$f":"IF(B30<>\"\",IF(OR(C30=\"General Manager (S)\", C30=\"General Manager (H)\"), \"GM\",IF(C30=\"Acting Manager\",\"AM\",IF(C30=\"Shift Manager\",\"SM\",IF(C30=\"Team Lead\",\"TL\",\"TM\")))),\"\")","v":""},null,null,null,{"$f":"AV30","v":"x"},"x","x","x","x","x","x","x","x","x","x","x","x","x",{"$f":"BJ30","v":"x"},{"$f":"BK30","v":"x"},{"$f":"BL30","v":"x"},{"$f":"BM30","v":"x"},{"$f":"BN30","v":"x"},{"$f":"BO30","v":"x"},{"$f":"BP30","v":"x"},{"$f":"BQ30","v":"x"},{"$f":"BR30","v":"x"},{"$f":"BS30","v":"x"},{"$f":"BT30","v":"x"},{"$f":"BU30","v":"x"},{"$f":"BV30","v":"x"},{"$f":"BW30","v":"x"},{"$f":"BX30","v":"x"},{"$f":"BY30","v":"x"},{"$f":"BZ30","v":"x"},{"$f":"CA30","v":"x"},{"$f":"CB30","v":"x"},{"$f":"CC30","v":"x"},{"$f":"CD30","v":"x"},{"$f":"CE30","v":"x"},{"$f":"CF30","v":"x"},{"$f":"CG30","v":"x"},{"$f":"EC30","v":0},null,{"$f":"IF(AND($EO30<=H$6+0.01,$EP30>H$6+0.01),IF(AND(H$6<$F30-0.01,H$6>=$E30-0.01),$D30,\"\"),\"x\")","v":"x"},{"$f":"IF(AND($EO30<=I$6+0.01,$EP30>I$6+0.01),IF(AND(I$6<$F30-0.01,I$6>=$E30-0.01),$D30,\"\"),\"x\")","v":"x"},{"$f":"IF(AND($EO30<=J$6+0.01,$EP30>J$6+0.01),IF(AND(J$6<$F30-0.01,J$6>=$E30-0.01),$D30,\"\"),\"x\")","v":"x"},{"$f":"IF(AND($EO30<=K$6+0.01,$EP30>K$6+0.01),IF(AND(K$6<$F30-0.01,K$6>=$E30-0.01),$D30,\"\"),\"x\")","v":"x"},{"$f":"IF(AND($EO30<=L$6+0.01,$EP30>L$6+0.01),IF(AND(L$6<$F30-0.01,L$6>=$E30-0.01),$D30,\"\"),\"x\")","v":"x"},{"$f":"IF(AND($EO30<=M$6+0.01,$EP30>M$6+0.01),IF(AND(M$6<$F30-0.01,M$6>=$E30-0.01),$D30,\"\"),\"x\")","v":"x"},{"$f":"IF(AND($EO30<=N$6+0.01,$EP30>N$6+0.01),IF(AND(N$6<$F30-0.01,N$6>=$E30-0.01),$D30,\"\"),\"x\")","v":"x"},{"$f":"IF(AND($EO30<=O$6+0.01,$EP30>O$6+0.01),IF(AND(O$6<$F30-0.01,O$6>=$E30-0.01),$D30,\"\"),\"x\")","v":"x"},{"$f":"IF(AND($EO30<=P$6+0.01,$EP30>P$6+0.01),IF(AND(P$6<$F30-0.01,P$6>=$E30-0.01),$D30,\"\"),\"x\")","v":"x"},{"$f":"IF(AND($EO30<=Q$6+0.01,$EP30>Q$6+0.01),IF(AND(Q$6<$F30-0.01,Q$6>=$E30-0.01),$D30,\"\"),\"x\")","v":"x"},{"$f":"IF(AND($EO30<=R$6+0.01,$EP30>R$6+0.01),IF(AND(R$6<$F30-0.01,R$6>=$E30-0.01),$D30,\"\"),\"x\")","v":"x"},{"$f":"IF(AND($EO30<=S$6+0.01,$EP30>S$6+0.01),IF(AND(S$6<$F30-0.01,S$6>=$E30-0.01),$D30,\"\"),\"x\")","v":"x"},{"$f":"IF(AND($EO30<=T$6+0.01,$EP30>T$6+0.01),IF(AND(T$6<$F30-0.01,T$6>=$E30-0.01),$D30,\"\"),\"x\")","v":"x"},{"$f":"IF(AND($EO30<=U$6+0.01,$EP30>U$6+0.01),IF(AND(U$6<$F30-0.01,U$6>=$E30-0.01),$D30,\"\"),\"x\")","v":"x"},{"$f":"IF(AND($EO30<=V$6+0.01,$EP30>V$6+0.01),IF(AND(V$6<$F30-0.01,V$6>=$E30-0.01),$D30,\"\"),\"x\")","v":"x"},{"$f":"IF(AND($EO30<=W$6+0.01,$EP30>W$6+0.01),IF(AND(W$6<$F30-0.01,W$6>=$E30-0.01),$D30,\"\"),\"x\")","v":"x"},{"$f":"IF(AND($EO30<=X$6+0.01,$EP30>X$6+0.01),IF(AND(X$6<$F30-0.01,X$6>=$E30-0.01),$D30,\"\"),\"x\")","v":"x"},{"$f":"IF(AND($EO30<=Y$6+0.01,$EP30>Y$6+0.01),IF(AND(Y$6<$F30-0.01,Y$6>=$E30-0.01),$D30,\"\"),\"x\")","v":"x"},{"$f":"IF(AND($EO30<=Z$6+0.01,$EP30>Z$6+0.01),IF(AND(Z$6<$F30-0.01,Z$6>=$E30-0.01),$D30,\"\"),\"x\")","v":"x"},{"$f":"IF(AND($EO30<=AA$6+0.01,$EP30>AA$6+0.01),IF(AND(AA$6<$F30-0.01,AA$6>=$E30-0.01),$D30,\"\"),\"x\")","v":"x"},{"$f":"IF(AND($EO30<=AB$6+0.01,$EP30>AB$6+0.01),IF(AND(AB$6<$F30-0.01,AB$6>=$E30-0.01),$D30,\"\"),\"x\")","v":"x"},{"$f":"IF(AND($EO30<=AC$6+0.01,$EP30>AC$6+0.01),IF(AND(AC$6<$F30-0.01,AC$6>=$E30-0.01),$D30,\"\"),\"x\")","v":"x"},{"$f":"IF(AND($EO30<=AD$6+0.01,$EP30>AD$6+0.01),IF(AND(AD$6<$F30-0.01,AD$6>=$E30-0.01),$D30,\"\"),\"x\")","v":"x"},{"$f":"IF(AND($EO30<=AE$6+0.01,$EP30>AE$6+0.01),IF(AND(AE$6<$F30-0.01,AE$6>=$E30-0.01),$D30,\"\"),\"x\")","v":"x"},{"$f":"IF(AND($EO30<=AF$6+0.01,$EP30>AF$6+0.01),IF(AND(AF$6<$F30-0.01,AF$6>=$E30-0.01),$D30,\"\"),\"x\")","v":"x"},{"$f":"IF(AND($EO30<=AG$6+0.01,$EP30>AG$6+0.01),IF(AND(AG$6<$F30-0.01,AG$6>=$E30-0.01),$D30,\"\"),\"x\")","v":"x"},{"$f":"IF(AND($EO30<=AH$6+0.01,$EP30>AH$6+0.01),IF(AND(AH$6<$F30-0.01,AH$6>=$E30-0.01),$D30,\"\"),\"x\")","v":"x"},{"$f":"IF(AND($EO30<=AI$6+0.01,$EP30>AI$6+0.01),IF(AND(AI$6<$F30-0.01,AI$6>=$E30-0.01),$D30,\"\"),\"x\")","v":"x"},{"$f":"IF(AND($EO30<=AJ$6+0.01,$EP30>AJ$6+0.01),IF(AND(AJ$6<$F30-0.01,AJ$6>=$E30-0.01),$D30,\"\"),\"x\")","v":"x"},{"$f":"IF(AND($EO30<=AK$6+0.01,$EP30>AK$6+0.01),IF(AND(AK$6<$F30-0.01,AK$6>=$E30-0.01),$D30,\"\"),\"x\")","v":"x"},{"$f":"IF(AND($EO30<=AL$6+0.01,$EP30>AL$6+0.01),IF(AND(AL$6<$F30-0.01,AL$6>=$E30-0.01),$D30,\"\"),\"x\")","v":"x"},{"$f":"IF(AND($EO30<=AM$6+0.01,$EP30>AM$6+0.01),IF(AND(AM$6<$F30-0.01,AM$6>=$E30-0.01),$D30,\"\"),\"x\")","v":"x"},{"$f":"IF(AND($EO30<=AN$6+0.01,$EP30>AN$6+0.01),IF(AND(AN$6<$F30-0.01,AN$6>=$E30-0.01),$D30,\"\"),\"x\")","v":"x"},{"$f":"IF(AND($EO30<=AO$6+0.01,$EP30>AO$6+0.01),IF(AND(AO$6<$F30-0.01,AO$6>=$E30-0.01),$D30,\"\"),\"x\")","v":"x"},{"$f":"IF(AND($EO30<=AP$6+0.01,$EP30>AP$6+0.01),IF(AND(AP$6<$F30-0.01,AP$6>=$E30-0.01),$D30,\"\"),\"x\")","v":"x"},{"$f":"IF(AND($EO30<=AQ$6+0.01,$EP30>AQ$6+0.01),IF(AND(AQ$6<$F30-0.01,AQ$6>=$E30-0.01),$D30,\"\"),\"x\")","v":"x"},{"$f":"IF(AND($EO30<=AR$6+0.01,$EP30>AR$6+0.01),IF(AND(AR$6<$F30-0.01,AR$6>=$E30-0.01),$D30,\"\"),\"x\")","v":"x"},{"$f":"IF(AND($EO30<=AS$6+0.01,$EP30>AS$6+0.01),IF(AND(AS$6<$F30-0.01,AS$6>=$E30-0.01),$D30,\"\"),\"x\")","v":"x"},null,{"$f":"IF(AND(AV30<>\"\",AV30<>\"x\"),0.5,)","v":0},{"$f":"IF(AND(AW30<>\"\",AW30<>\"x\"),0.5,)","v":0},{"$f":"IF(AND(AX30<>\"\",AX30<>\"x\"),0.5,)","v":0},{"$f":"IF(AND(AY30<>\"\",AY30<>\"x\"),0.5,)","v":0},{"$f":"IF(AND(AZ30<>\"\",AZ30<>\"x\"),0.5,)","v":0},{"$f":"IF(AND(BA30<>\"\",BA30<>\"x\"),0.5,)","v":0},{"$f":"IF(AND(BB30<>\"\",BB30<>\"x\"),0.5,)","v":0},{"$f":"IF(AND(BC30<>\"\",BC30<>\"x\"),0.5,)","v":0},{"$f":"IF(AND(BD30<>\"\",BD30<>\"x\"),0.5,)","v":0},{"$f":"IF(AND(BE30<>\"\",BE30<>\"x\"),0.5,)","v":0},{"$f":"IF(AND(BF30<>\"\",BF30<>\"x\"),0.5,)","v":0},{"$f":"IF(AND(BG30<>\"\",BG30<>\"x\"),0.5,)","v":0},{"$f":"IF(AND(BH30<>\"\",BH30<>\"x\"),0.5,)","v":0},{"$f":"IF(AND(BI30<>\"\",BI30<>\"x\"),0.5,)","v":0},{"$f":"IF(AND(BJ30<>\"\",BJ30<>\"x\"),0.5,)","v":0},{"$f":"IF(AND(BK30<>\"\",BK30<>\"x\"),0.5,)","v":0},{"$f":"IF(AND(BL30<>\"\",BL30<>\"x\"),0.5,)","v":0},{"$f":"IF(AND(BM30<>\"\",BM30<>\"x\"),0.5,)","v":0},{"$f":"IF(AND(BN30<>\"\",BN30<>\"x\"),0.5,)","v":0},{"$f":"IF(AND(BO30<>\"\",BO30<>\"x\"),0.5,)","v":0},{"$f":"IF(AND(BP30<>\"\",BP30<>\"x\"),0.5,)","v":0},{"$f":"IF(AND(BQ30<>\"\",BQ30<>\"x\"),0.5,)","v":0},{"$f":"IF(AND(BR30<>\"\",BR30<>\"x\"),0.5,)","v":0},{"$f":"IF(AND(BS30<>\"\",BS30<>\"x\"),0.5,)","v":0},{"$f":"IF(AND(BT30<>\"\",BT30<>\"x\"),0.5,)","v":0},{"$f":"IF(AND(BU30<>\"\",BU30<>\"x\"),0.5,)","v":0},{"$f":"IF(AND(BV30<>\"\",BV30<>\"x\"),0.5,)","v":0},{"$f":"IF(AND(BW30<>\"\",BW30<>\"x\"),0.5,)","v":0},{"$f":"IF(AND(BX30<>\"\",BX30<>\"x\"),0.5,)","v":0},{"$f":"IF(AND(BY30<>\"\",BY30<>\"x\"),0.5,)","v":0},{"$f":"IF(AND(BZ30<>\"\",BZ30<>\"x\"),0.5,)","v":0},{"$f":"IF(AND(CA30<>\"\",CA30<>\"x\"),0.5,)","v":0},{"$f":"IF(AND(CB30<>\"\",CB30<>\"x\"),0.5,)","v":0},{"$f":"IF(AND(CC30<>\"\",CC30<>\"x\"),0.5,)","v":0},{"$f":"IF(AND(CD30<>\"\",CD30<>\"x\"),0.5,)","v":0},{"$f":"IF(AND(CE30<>\"\",CE30<>\"x\"),0.5,)","v":0},{"$f":"IF(AND(CF30<>\"\",CF30<>\"x\"),0.5,)","v":0},{"$f":"IF(AND(CG30<>\"\",CG30<>\"x\"),0.5,)","v":0},null,{"$f":"IF(VLOOKUP($A30,'Schedule Setup'!$A$4:$E$39,5,FALSE)=0,\"\",VLOOKUP($A30,'Schedule Setup'!$A$4:$E$39,5,FALSE))","v":""},{"$f":"SUM(CI30:CT30)","v":0},{"$f":"IFERROR(DW30*$DV30,\"\")","v":""},{"$f":"SUM(CU30:DF30)","v":0},{"$f":"IFERROR(DY30*$DV30,\"\")","v":""},{"$f":"SUM(DG30:DT30)","v":0},{"$f":"IFERROR(EA30*$DV30,\"\")","v":""},{"$f":"SUM(DW30,DY30,EA30)","v":0},{"$f":"IFERROR(EC30*$DV30,\"\")","v":""},null,{"$f":"IF(DW30>5,(DW30-0.5),DW30)","v":0},{"$f":"IFERROR(EF30*$DV30,\"\")","v":""},{"$f":"IF(DY30>5,(DY30-0.5),DY30)","v":0},{"$f":"IFERROR(EH30*$DV30,\"\")","v":""},{"$f":"IF(EA30>5,(EA30-0.5),EA30)","v":0},{"$f":"IFERROR(EJ30*$DV30,\"\")","v":""},{"$f":"SUM(EF30,EH30,EJ30)","v":0},{"$f":"IFERROR(EL30*$DV30,\"\")","v":""},null,{"$f":"'Schedule Setup'!F28","v":"00:00:00"},{"$f":"'Schedule Setup'!G28","v":"00:00:00"},-2.0833333333333332E-2,"00:30:00"]
[25,{"$f":"IF(VLOOKUP($A31,'Schedule Setup'!$A$4:$E$39,2,FALSE)=0,\"\",VLOOKUP($A31,'Schedule Setup'!$A$4:$E$39,2,FALSE))","v":""},{"$f":"IF(VLOOKUP($A31,'Schedule Setup'!$A$4:$E$39,4,FALSE)=0,\"\",VLOOKUP($A31,'Schedule Setup'!$A$4:$E$39,4,FALSE))","v":""},"",null,null,null,"x","x","x","x","x","x","x","x","x","x","x","x","x","x","x","x","x","x","x","x","x","x","x","x","x","x","x","x","x","x","x","x","x","x","x","x","x","x",0,null,"x","x","x","x","x","x","x","x","x","x","x","x","x","x","x","x","x","x","x","x","x","x","x","x","x","x","x","x","x","x","x","x","x","x","x","x","x","x",null,0,0,0,0,0,0,0,0,0,0,0,0,0,0,0,0,0,0,0,0,0,0,0,0,0,0,0,0,0,0,0,0,0,0,0,0,0,0,null,{"$f":"IF(VLOOKUP($A31,'Schedule Setup'!$A$4:$E$39,5,FALSE)=0,\"\",VLOOKUP($A31,'Schedule Setup'!$A$4:$E$39,5,FALSE))","v":""},0,"",0,"",0,"",0,"",null,0,"",0,"",0,"",0,"",null,{"$f":"'Schedule Setup'!F29","v":"00:00:00"},{"$f":"'Schedule Setup'!G29","v":"00:00:00"},-2.0833333333333332E-2,"00:30:00"]
[26,{"$f":"IF(VLOOKUP($A32,'Schedule Setup'!$A$4:$E$39,2,FALSE)=0,\"\",VLOOKUP($A32,'Schedule Setup'!$A$4:$E$39,2,FALSE))","v":""},{"$f":"IF(VLOOKUP($A32,'Schedule Setup'!$A$4:$E$39,4,FALSE)=0,\"\",VLOOKUP($A32,'Schedule Setup'!$A$4:$E$39,4,FALSE))","v":""},"",null,null,null,"x","x","x","x","x","x","x","x","x","x","x","x","x","x","x","x","x","x","x","x","x","x","x","x","x","x","x","x","x","x","x","x","x","x","x","x","x","x",0,null,"x","x","x","x","x","x","x","x","x","x","x","x","x","x","x","x","x","x","x","x","x","x","x","x","x","x","x","x","x","x","x","x","x","x","x","x","x","x",null,0,0,0,0,0,0,0,0,0,0,0,0,0,0,0,0,0,0,0,0,0,0,0,0,0,0,0,0,0,0,0,0,0,0,0,0,0,0,null,{"$f":"IF(VLOOKUP($A32,'Schedule Setup'!$A$4:$E$39,5,FALSE)=0,\"\",VLOOKUP($A32,'Schedule Setup'!$A$4:$E$39,5,FALSE))","v":""},0,"",0,"",0,"",0,"",null,0,"",0,"",0,"",0,"",null,{"$f":"'Schedule Setup'!F30","v":"00:00:00"},{"$f":"'Schedule Setup'!G30","v":"00:00:00"},-2.0833333333333332E-2,"00:30:00"]
[27,{"$f":"IF(VLOOKUP($A33,'Schedule Setup'!$A$4:$E$39,2,FALSE)=0,\"\",VLOOKUP($A33,'Schedule Setup'!$A$4:$E$39,2,FALSE))","v":""},{"$f":"IF(VLOOKUP($A33,'Schedule Setup'!$A$4:$E$39,4,FALSE)=0,\"\",VLOOKUP($A33,'Schedule Setup'!$A$4:$E$39,4,FALSE))","v":""},"",null,null,null,"x","x","x","x","x","x","x","x","x","x","x","x","x","x","x","x","x","x","x","x","x","x","x","x","x","x","x","x","x","x","x","x","x","x","x","x","x","x",0,null,"x","x","x","x","x","x","x","x","x","x","x","x","x","x","x","x","x","x","x","x","x","x","x","x","x","x","x","x","x","x","x","x","x","x","x","x","x","x",null,0,0,0,0,0,0,0,0,0,0,0,0,0,0,0,0,0,0,0,0,0,0,0,0,0,0,0,0,0,0,0,0,0,0,0,0,0,0,null,{"$f":"IF(VLOOKUP($A33,'Schedule Setup'!$A$4:$E$39,5,FALSE)=0,\"\",VLOOKUP($A33,'Schedule Setup'!$A$4:$E$39,5,FALSE))","v":""},0,"",0,"",0,"",0,"",null,0,"",0,"",0,"",0,"",null,{"$f":"'Schedule Setup'!F31","v":"00:00:00"},{"$f":"'Schedule Setup'!G31","v":"00:00:00"},-2.0833333333333332E-2,"00:30:00"]
[28,{"$f":"IF(VLOOKUP($A34,'Schedule Setup'!$A$4:$E$39,2,FALSE)=0,\"\",VLOOKUP($A34,'Schedule Setup'!$A$4:$E$39,2,FALSE))","v":""},{"$f":"IF(VLOOKUP($A34,'Schedule Setup'!$A$4:$E$39,4,FALSE)=0,\"\",VLOOKUP($A34,'Schedule Setup'!$A$4:$E$39,4,FALSE))","v":""},"",null,null,null,"x","x","x","x","x","x","x","x","x","x","x","x","x","x","x","x","x","x","x","x","x","x","x","x","x","x","x","x","x","x","x","x","x","x","x","x","x","x",0,null,"x","x","x","x","x","x","x","x","x","x","x","x","x","x","x","x","x","x","x","x","x","x","x","x","x","x","x","x","x","x","x","x","x","x","x","x","x","x",null,0,0,0,0,0,0,0,0,0,0,0,0,0,0,0,0,0,0,0,0,0,0,0,0,0,0,0,0,0,0,0,0,0,0,0,0,0,0,null,{"$f":"IF(VLOOKUP($A34,'Schedule Setup'!$A$4:$E$39,5,FALSE)=0,\"\",VLOOKUP($A34,'Schedule Setup'!$A$4:$E$39,5,FALSE))","v":""},0,"",0,"",0,"",0,"",null,0,"",0,"",0,"",0,"",null,{"$f":"'Schedule Setup'!F32","v":"00:00:00"},{"$f":"'Schedule Setup'!G32","v":"00:00:00"},-2.0833333333333332E-2,"00:30:00"]
[29,{"$f":"IF(VLOOKUP($A35,'Schedule Setup'!$A$4:$E$39,2,FALSE)=0,\"\",VLOOKUP($A35,'Schedule Setup'!$A$4:$E$39,2,FALSE))","v":""},{"$f":"IF(VLOOKUP($A35,'Schedule Setup'!$A$4:$E$39,4,FALSE)=0,\"\",VLOOKUP($A35,'Schedule Setup'!$A$4:$E$39,4,FALSE))","v":""},"",null,null,null,"x","x","x","x","x","x","x","x","x","x","x","x","x","x","x","x","x","x","x","x","x","x","x","x","x","x","x","x","x","x","x","x","x","x","x","x","x","x",0,null,"x","x","x","x","x","x","x","x","x","x","x","x","x","x","x","x","x","x","x","x","x","x","x","x","x","x","x","x","x","x","x","x","x","x","x","x","x","x",null,0,0,0,0,0,0,0,0,0,0,0,0,0,0,0,0,0,0,0,0,0,0,0,0,0,0,0,0,0,0,0,0,0,0,0,0,0,0,null,{"$f":"IF(VLOOKUP($A35,'Schedule Setup'!$A$4:$E$39,5,FALSE)=0,\"\",VLOOKUP($A35,'Schedule Setup'!$A$4:$E$39,5,FALSE))","v":""},0,"",0,"",0,"",0,"",null,0,"",0,"",0,"",0,"",null,{"$f":"'Schedule Setup'!F33","v":"00:00:00"},{"$f":"'Schedule Setup'!G33","v":"00:00:00"},-2.0833333333333332E-2,"00:30:00"]
[30,{"$f":"IF(VLOOKUP($A36,'Schedule Setup'!$A$4:$E$39,2,FALSE)=0,\"\",VLOOKUP($A36,'Schedule Setup'!$A$4:$E$39,2,FALSE))","v":""},{"$f":"IF(VLOOKUP($A36,'Schedule Setup'!$A$4:$E$39,4,FALSE)=0,\"\",VLOOKUP($A36,'Schedule Setup'!$A$4:$E$39,4,FALSE))","v":""},"",null,null,null,"x","x","x","x","x","x","x","x","x","x","x","x","x","x","x","x","x","x","x","x","x","x","x","x","x","x","x","x","x","x","x","x","x","x","x","x","x","x",0,null,"x","x","x","x","x","x","x","x","x","x","x","x","x","x","x","x","x","x","x","x","x","x","x","x","x","x","x","x","x","x","x","x","x","x","x","x","x","x",null,0,0,0,0,0,0,0,0,0,0,0,0,0,0,0,0,0,0,0,0,0,0,0,0,0,0,0,0,0,0,0,0,0,0,0,0,0,0,null,{"$f":"IF(VLOOKUP($A36,'Schedule Setup'!$A$4:$E$39,5,FALSE)=0,\"\",VLOOKUP($A36,'Schedule Setup'!$A$4:$E$39,5,FALSE))","v":""},0,"",0,"",0,"",0,"",null,0,"",0,"",0,"",0,"",null,{"$f":"'Schedule Setup'!F34","v":"00:00:00"},{"$f":"'Schedule Setup'!G34","v":"00:00:00"},-2.0833333333333332E-2,"00:30:00"]
[31,{"$f":"IF(VLOOKUP($A37,'Schedule Setup'!$A$4:$E$39,2,FALSE)=0,\"\",VLOOKUP($A37,'Schedule Setup'!$A$4:$E$39,2,FALSE))","v":""},{"$f":"IF(VLOOKUP($A37,'Schedule Setup'!$A$4:$E$39,4,FALSE)=0,\"\",VLOOKUP($A37,'Schedule Setup'!$A$4:$E$39,4,FALSE))","v":""},"",null,null,null,"x","x","x","x","x","x","x","x","x","x","x","x","x","x","x","x","x","x","x","x","x","x","x","x","x","x","x","x","x","x","x","x","x","x","x","x","x","x",0,null,"x","x","x","x","x","x","x","x","x","x","x","x","x","x","x","x","x","x","x","x","x","x","x","x","x","x","x","x","x","x","x","x","x","x","x","x","x","x",null,0,0,0,0,0,0,0,0,0,0,0,0,0,0,0,0,0,0,0,0,0,0,0,0,0,0,0,0,0,0,0,0,0,0,0,0,0,0,null,{"$f":"IF(VLOOKUP($A37,'Schedule Setup'!$A$4:$E$39,5,FALSE)=0,\"\",VLOOKUP($A37,'Schedule Setup'!$A$4:$E$39,5,FALSE))","v":""},0,"",0,"",0,"",0,"",null,0,"",0,"",0,"",0,"",null,{"$f":"'Schedule Setup'!F35","v":"00:00:00"},{"$f":"'Schedule Setup'!G35","v":"00:00:00"},-2.0833333333333332E-2,"00:30:00"]
[32,{"$f":"IF(VLOOKUP($A38,'Schedule Setup'!$A$4:$E$39,2,FALSE)=0,\"\",VLOOKUP($A38,'Schedule Setup'!$A$4:$E$39,2,FALSE))","v":""},{"$f":"IF(VLOOKUP($A38,'Schedule Setup'!$A$4:$E$39,4,FALSE)=0,\"\",VLOOKUP($A38,'Schedule Setup'!$A$4:$E$39,4,FALSE))","v":""},"",null,null,null,"x","x","x","x","x","x","x","x","x","x","x","x","x","x","x","x","x","x","x","x","x","x","x","x","x","x","x","x","x","x","x","x","x","x","x","x","x","x",0,null,"x","x","x","x","x","x","x","x","x","x","x","x","x","x","x","x","x","x","x","x","x","x","x","x","x","x","x","x","x","x","x","x","x","x","x","x","x","x",null,0,0,0,0,0,0,0,0,0,0,0,0,0,0,0,0,0,0,0,0,0,0,0,0,0,0,0,0,0,0,0,0,0,0,0,0,0,0,null,{"$f":"IF(VLOOKUP($A38,'Schedule Setup'!$A$4:$E$39,5,FALSE)=0,\"\",VLOOKUP($A38,'Schedule Setup'!$A$4:$E$39,5,FALSE))","v":""},0,"",0,"",0,"",0,"",null,0,"",0,"",0,"",0,"",null,{"$f":"'Schedule Setup'!F36","v":"00:00:00"},{"$f":"'Schedule Setup'!G36","v":"00:00:00"},-2.0833333333333332E-2,"00:30:00"]
[33,{"$f":"IF(VLOOKUP($A39,'Schedule Setup'!$A$4:$E$39,2,FALSE)=0,\"\",VLOOKUP($A39,'Schedule Setup'!$A$4:$E$39,2,FALSE))","v":""},{"$f":"IF(VLOOKUP($A39,'Schedule Setup'!$A$4:$E$39,4,FALSE)=0,\"\",VLOOKUP($A39,'Schedule Setup'!$A$4:$E$39,4,FALSE))","v":""},"",null,null,null,"x","x","x","x","x","x","x","x","x","x","x","x","x","x","x","x","x","x","x","x","x","x","x","x","x","x","x","x","x","x","x","x","x","x","x","x","x","x",0,null,{"$f":"IF(AND($EO39<=H$6+0.01,$EP39>H$6+0.01),IF(AND(H$6<$F39-0.01,H$6>=$E39-0.01),$D39,\"\"),\"x\")","v":"x"},{"$f":"IF(AND($EO39<=I$6+0.01,$EP39>I$6+0.01),IF(AND(I$6<$F39-0.01,I$6>=$E39-0.01),$D39,\"\"),\"x\")","v":"x"},{"$f":"IF(AND($EO39<=J$6+0.01,$EP39>J$6+0.01),IF(AND(J$6<$F39-0.01,J$6>=$E39-0.01),$D39,\"\"),\"x\")","v":"x"},{"$f":"IF(AND($EO39<=K$6+0.01,$EP39>K$6+0.01),IF(AND(K$6<$F39-0.01,K$6>=$E39-0.01),$D39,\"\"),\"x\")","v":"x"},{"$f":"IF(AND($EO39<=L$6+0.01,$EP39>L$6+0.01),IF(AND(L$6<$F39-0.01,L$6>=$E39-0.01),$D39,\"\"),\"x\")","v":"x"},{"$f":"IF(AND($EO39<=M$6+0.01,$EP39>M$6+0.01),IF(AND(M$6<$F39-0.01,M$6>=$E39-0.01),$D39,\"\"),\"x\")","v":"x"},{"$f":"IF(AND($EO39<=N$6+0.01,$EP39>N$6+0.01),IF(AND(N$6<$F39-0.01,N$6>=$E39-0.01),$D39,\"\"),\"x\")","v":"x"},{"$f":"IF(AND($EO39<=O$6+0.01,$EP39>O$6+0.01),IF(AND(O$6<$F39-0.01,O$6>=$E39-0.01),$D39,\"\"),\"x\")","v":"x"},{"$f":"IF(AND($EO39<=P$6+0.01,$EP39>P$6+0.01),IF(AND(P$6<$F39-0.01,P$6>=$E39-0.01),$D39,\"\"),\"x\")","v":"x"},{"$f":"IF(AND($EO39<=Q$6+0.01,$EP39>Q$6+0.01),IF(AND(Q$6<$F39-0.01,Q$6>=$E39-0.01),$D39,\"\"),\"x\")","v":"x"},{"$f":"IF(AND($EO39<=R$6+0.01,$EP39>R$6+0.01),IF(AND(R$6<$F39-0.01,R$6>=$E39-0.01),$D39,\"\"),\"x\")","v":"x"},{"$f":"IF(AND($EO39<=S$6+0.01,$EP39>S$6+0.01),IF(AND(S$6<$F39-0.01,S$6>=$E39-0.01),$D39,\"\"),\"x\")","v":"x"},{"$f":"IF(AND($EO39<=T$6+0.01,$EP39>T$6+0.01),IF(AND(T$6<$F39-0.01,T$6>=$E39-0.01),$D39,\"\"),\"x\")","v":"x"},{"$f":"IF(AND($EO39<=U$6+0.01,$EP39>U$6+0.01),IF(AND(U$6<$F39-0.01,U$6>=$E39-0.01),$D39,\"\"),\"x\")","v":"x"},{"$f":"IF(AND($EO39<=V$6+0.01,$EP39>V$6+0.01),IF(AND(V$6<$F39-0.01,V$6>=$E39-0.01),$D39,\"\"),\"x\")","v":"x"},{"$f":"IF(AND($EO39<=W$6+0.01,$EP39>W$6+0.01),IF(AND(W$6<$F39-0.01,W$6>=$E39-0.01),$D39,\"\"),\"x\")","v":"x"},{"$f":"IF(AND($EO39<=X$6+0.01,$EP39>X$6+0.01),IF(AND(X$6<$F39-0.01,X$6>=$E39-0.01),$D39,\"\"),\"x\")","v":"x"},{"$f":"IF(AND($EO39<=Y$6+0.01,$EP39>Y$6+0.01),IF(AND(Y$6<$F39-0.01,Y$6>=$E39-0.01),$D39,\"\"),\"x\")","v":"x"},{"$f":"IF(AND($EO39<=Z$6+0.01,$EP39>Z$6+0.01),IF(AND(Z$6<$F39-0.01,Z$6>=$E39-0.01),$D39,\"\"),\"x\")","v":"x"},{"$f":"IF(AND($EO39<=AA$6+0.01,$EP39>AA$6+0.01),IF(AND(AA$6<$F39-0.01,AA$6>=$E39-0.01),$D39,\"\"),\"x\")","v":"x"},{"$f":"IF(AND($EO39<=AB$6+0.01,$EP39>AB$6+0.01),IF(AND(AB$6<$F39-0.01,AB$6>=$E39-0.01),$D39,\"\"),\"x\")","v":"x"},{"$f":"IF(AND($EO39<=AC$6+0.01,$EP39>AC$6+0.01),IF(AND(AC$6<$F39-0.01,AC$6>=$E39-0.01),$D39,\"\"),\"x\")","v":"x"},{"$f":"IF(AND($EO39<=AD$6+0.01,$EP39>AD$6+0.01),IF(AND(AD$6<$F39-0.01,AD$6>=$E39-0.01),$D39,\"\"),\"x\")","v":"x"},{"$f":"IF(AND($EO39<=AE$6+0.01,$EP39>AE$6+0.01),IF(AND(AE$6<$F39-0.01,AE$6>=$E39-0.01),$D39,\"\"),\"x\")","v":"x"},{"$f":"IF(AND($EO39<=AF$6+0.01,$EP39>AF$6+0.01),IF(AND(AF$6<$F39-0.01,AF$6>=$E39-0.01),$D39,\"\"),\"x\")","v":"x"},{"$f":"IF(AND($EO39<=AG$6+0.01,$EP39>AG$6+0.01),IF(AND(AG$6<$F39-0.01,AG$6>=$E39-0.01),$D39,\"\"),\"x\")","v":"x"},{"$f":"IF(AND($EO39<=AH$6+0.01,$EP39>AH$6+0.01),IF(AND(AH$6<$F39-0.01,AH$6>=$E39-0.01),$D39,\"\"),\"x\")","v":"x"},{"$f":"IF(AND($EO39<=AI$6+0.01,$EP39>AI$6+0.01),IF(AND(AI$6<$F39-0.01,AI$6>=$E39-0.01),$D39,\"\"),\"x\")","v":"x"},{"$f":"IF(AND($EO39<=AJ$6+0.01,$EP39>AJ$6+0.01),IF(AND(AJ$6<$F39-0.01,AJ$6>=$E39-0.01),$D39,\"\"),\"x\")","v":"x"},{"$f":"IF(AND($EO39<=AK$6+0.01,$EP39>AK$6+0.01),IF(AND(AK$6<$F39-0.01,AK$6>=$E39-0.01),$D39,\"\"),\"x\")","v":"x"},{"$f":"IF(AND($EO39<=AL$6+0.01,$EP39>AL$6+0.01),IF(AND(AL$6<$F39-0.01,AL$6>=$E39-0.01),$D39,\"\"),\"x\")","v":"x"},{"$f":"IF(AND($EO39<=AM$6+0.01,$EP39>AM$6+0.01),IF(AND(AM$6<$F39-0.01,AM$6>=$E39-0.01),$D39,\"\"),\"x\")","v":"x"},{"$f":"IF(AND($EO39<=AN$6+0.01,$EP39>AN$6+0.01),IF(AND(AN$6<$F39-0.01,AN$6>=$E39-0.01),$D39,\"\"),\"x\")","v":"x"},{"$f":"IF(AND($EO39<=AO$6+0.01,$EP39>AO$6+0.01),IF(AND(AO$6<$F39-0.01,AO$6>=$E39-0.01),$D39,\"\"),\"x\")","v":"x"},{"$f":"IF(AND($EO39<=AP$6+0.01,$EP39>AP$6+0.01),IF(AND(AP$6<$F39-0.01,AP$6>=$E39-0.01),$D39,\"\"),\"x\")","v":"x"},{"$f":"IF(AND($EO39<=AQ$6+0.01,$EP39>AQ$6+0.01),IF(AND(AQ$6<$F39-0.01,AQ$6>=$E39-0.01),$D39,\"\"),\"x\")","v":"x"},{"$f":"IF(AND($EO39<=AR$6+0.01,$EP39>AR$6+0.01),IF(AND(AR$6<$F39-0.01,AR$6>=$E39-0.01),$D39,\"\"),\"x\")","v":"x"},{"$f":"IF(AND($EO39<=AS$6+0.01,$EP39>AS$6+0.01),IF(AND(AS$6<$F39-0.01,AS$6>=$E39-0.01),$D39,\"\"),\"x\")","v":"x"},null,{"$f":"IF(AND(AV39<>\"\",AV39<>\"x\"),0.5,)","v":0},{"$f":"IF(AND(AW39<>\"\",AW39<>\"x\"),0.5,)","v":0},{"$f":"IF(AND(AX39<>\"\",AX39<>\"x\"),0.5,)","v":0},{"$f":"IF(AND(AY39<>\"\",AY39<>\"x\"),0.5,)","v":0},{"$f":"IF(AND(AZ39<>\"\",AZ39<>\"x\"),0.5,)","v":0},{"$f":"IF(AND(BA39<>\"\",BA39<>\"x\"),0.5,)","v":0},{"$f":"IF(AND(BB39<>\"\",BB39<>\"x\"),0.5,)","v":0},{"$f":"IF(AND(BC39<>\"\",BC39<>\"x\"),0.5,)","v":0},{"$f":"IF(AND(BD39<>\"\",BD39<>\"x\"),0.5,)","v":0},{"$f":"IF(AND(BE39<>\"\",BE39<>\"x\"),0.5,)","v":0},{"$f":"IF(AND(BF39<>\"\",BF39<>\"x\"),0.5,)","v":0},{"$f":"IF(AND(BG39<>\"\",BG39<>\"x\"),0.5,)","v":0},{"$f":"IF(AND(BH39<>\"\",BH39<>\"x\"),0.5,)","v":0},{"$f":"IF(AND(BI39<>\"\",BI39<>\"x\"),0.5,)","v":0},{"$f":"IF(AND(BJ39<>\"\",BJ39<>\"x\"),0.5,)","v":0},{"$f":"IF(AND(BK39<>\"\",BK39<>\"x\"),0.5,)","v":0},{"$f":"IF(AND(BL39<>\"\",BL39<>\"x\"),0.5,)","v":0},{"$f":"IF(AND(BM39<>\"\",BM39<>\"x\"),0.5,)","v":0},{"$f":"IF(AND(BN39<>\"\",BN39<>\"x\"),0.5,)","v":0},{"$f":"IF(AND(BO39<>\"\",BO39<>\"x\"),0.5,)","v":0},{"$f":"IF(AND(BP39<>\"\",BP39<>\"x\"),0.5,)","v":0},{"$f":"IF(AND(BQ39<>\"\",BQ39<>\"x\"),0.5,)","v":0},{"$f":"IF(AND(BR39<>\"\",BR39<>\"x\"),0.5,)","v":0},{"$f":"IF(AND(BS39<>\"\",BS39<>\"x\"),0.5,)","v":0},{"$f":"IF(AND(BT39<>\"\",BT39<>\"x\"),0.5,)","v":0},{"$f":"IF(AND(BU39<>\"\",BU39<>\"x\"),0.5,)","v":0},{"$f":"IF(AND(BV39<>\"\",BV39<>\"x\"),0.5,)","v":0},{"$f":"IF(AND(BW39<>\"\",BW39<>\"x\"),0.5,)","v":0},{"$f":"IF(AND(BX39<>\"\",BX39<>\"x\"),0.5,)","v":0},{"$f":"IF(AND(BY39<>\"\",BY39<>\"x\"),0.5,)","v":0},{"$f":"IF(AND(BZ39<>\"\",BZ39<>\"x\"),0.5,)","v":0},{"$f":"IF(AND(CA39<>\"\",CA39<>\"x\"),0.5,)","v":0},{"$f":"IF(AND(CB39<>\"\",CB39<>\"x\"),0.5,)","v":0},{"$f":"IF(AND(CC39<>\"\",CC39<>\"x\"),0.5,)","v":0},{"$f":"IF(AND(CD39<>\"\",CD39<>\"x\"),0.5,)","v":0},{"$f":"IF(AND(CE39<>\"\",CE39<>\"x\"),0.5,)","v":0},{"$f":"IF(AND(CF39<>\"\",CF39<>\"x\"),0.5,)","v":0},{"$f":"IF(AND(CG39<>\"\",CG39<>\"x\"),0.5,)","v":0},null,{"$f":"IF(VLOOKUP($A39,'Schedule Setup'!$A$4:$E$39,5,FALSE)=0,\"\",VLOOKUP($A39,'Schedule Setup'!$A$4:$E$39,5,FALSE))","v":""},{"$f":"SUM(CI39:CT39)","v":0},{"$f":"IFERROR(DW39*$DV39,\"\")","v":""},{"$f":"SUM(CU39:DF39)","v":0},{"$f":"IFERROR(DY39*$DV39,\"\")","v":""},{"$f":"SUM(DG39:DT39)","v":0},{"$f":"IFERROR(EA39*$DV39,\"\")","v":""},{"$f":"SUM(DW39,DY39,EA39)","v":0},{"$f":"IFERROR(EC39*$DV39,\"\")","v":""},null,{"$f":"IF(DW39>5,(DW39-0.5),DW39)","v":0},{"$f":"IFERROR(EF39*$DV39,\"\")","v":""},{"$f":"IF(DY39>5,(DY39-0.5),DY39)","v":0},{"$f":"IFERROR(EH39*$DV39,\"\")","v":""},{"$f":"IF(EA39>5,(EA39-0.5),EA39)","v":0},{"$f":"IFERROR(EJ39*$DV39,\"\")","v":""},{"$f":"SUM(EF39,EH39,EJ39)","v":0},{"$f":"IFERROR(EL39*$DV39,\"\")","v":""},null,{"$f":"'Schedule Setup'!F37","v":"00:00:00"},{"$f":"'Schedule Setup'!G37","v":"00:00:00"},-2.0833333333333332E-2,"00:30:00"]
[34,{"$f":"IF(VLOOKUP($A40,'Schedule Setup'!$A$4:$E$39,2,FALSE)=0,\"\",VLOOKUP($A40,'Schedule Setup'!$A$4:$E$39,2,FALSE))","v":""},{"$f":"IF(VLOOKUP($A40,'Schedule Setup'!$A$4:$E$39,4,FALSE)=0,\"\",VLOOKUP($A40,'Schedule Setup'!$A$4:$E$39,4,FALSE))","v":""},"",null,null,null,"x","x","x","x","x","x","x","x","x","x","x","x","x","x","x","x","x","x","x","x","x","x","x","x","x","x","x","x","x","x","x","x","x","x","x","x","x","x",0,null,"x","x","x","x","x","x","x","x","x","x","x","x","x","x","x","x","x","x","x","x","x","x","x","x","x","x","x","x","x","x","x","x","x","x","x","x","x","x",null,0,0,0,0,0,0,0,0,0,0,0,0,0,0,0,0,0,0,0,0,0,0,0,0,0,0,0,0,0,0,0,0,0,0,0,0,0,0,null,{"$f":"IF(VLOOKUP($A40,'Schedule Setup'!$A$4:$E$39,5,FALSE)=0,\"\",VLOOKUP($A40,'Schedule Setup'!$A$4:$E$39,5,FALSE))","v":""},0,"",0,"",0,"",0,"",null,0,"",0,"",0,"",0,"",null,{"$f":"'Schedule Setup'!F37","v":"00:00:00"},{"$f":"'Schedule Setup'!G37","v":"00:00:00"},-2.0833333333333332E-2,"00:30:00"]
[35,{"$f":"IF(VLOOKUP($A41,'Schedule Setup'!$A$4:$E$39,2,FALSE)=0,\"\",VLOOKUP($A41,'Schedule Setup'!$A$4:$E$39,2,FALSE))","v":""},{"$f":"IF(VLOOKUP($A41,'Schedule Setup'!$A$4:$E$39,4,FALSE)=0,\"\",VLOOKUP($A41,'Schedule Setup'!$A$4:$E$39,4,FALSE))","v":""},"",null,null,null,{"$f":"AV41","v":"x"},"x","x",{"$f":"AY41","v":"x"},"x","x","x","x","x","x","x","x","x","x","x","x","x",{"$f":"BM41","v":"x"},"x","x","x","x","x","x","x","x","x","x","x","x","x","x","x","x","x","x","x","x",0,null,"x","x","x","x","x","x","x","x","x","x","x","x","x","x","x","x","x","x","x","x","x","x","x","x","x","x","x","x","x","x","x","x","x","x","x","x","x","x",null,0,0,0,0,0,0,0,0,0,0,0,0,0,0,0,0,0,0,0,0,0,0,0,0,0,0,0,0,0,0,0,0,0,0,0,0,0,0,null,{"$f":"IF(VLOOKUP($A41,'Schedule Setup'!$A$4:$E$39,5,FALSE)=0,\"\",VLOOKUP($A41,'Schedule Setup'!$A$4:$E$39,5,FALSE))","v":""},0,"",0,"",0,"",0,"",null,0,"",0,"",0,"",0,"",null,{"$f":"'Schedule Setup'!F39","v":"00:00:00"},{"$f":"'Schedule Setup'!G39","v":"00:00:00"},-2.0833333333333332E-2,"00:30:00"]
[null,null,"Totals/Coverage","Totals/Coverage",{"$f":"MIN(E7:E41)","v":"05:00:00"},{"$f":"MAX(F7:F41)","v":"20:30:00"},null,{"$f":"CI42","v":1},{"$f":"CJ42","v":1},1,1,1,1,2,2,2,2,2,2,2,2,2,3,3,3,3,4,4,4,3,3,3,3,3,2,2,2,2,0,0,0,0,0,0,0,{"$f":"SUM(AT7:AT41)","v":35.5},null,null,null,null,null,null,null,null,null,null,null,null,null,null,null,null,null,null,null,null,null,null,null,null,null,null,null,null,null,null,null,null,null,null,null,null,null,null,null,null,{"$f":"COUNTIF(CI7:CI41,0.5)","v":1},{"$f":"COUNTIF(CJ7:CJ41,0.5)","v":1},1,1,1,1,2,2,2,2,2,2,2,2,2,3,3,3,3,4,4,4,3,3,3,3,3,2,2,2,2,0,0,0,0,0,0,0,null,null,{"$f":"SUM(DW7:DW41)","v":9},0,18,0,8.5,0,35.5,0,null,{"$f":"SUM(EF7:EF41)","v":8.5},0,18,0,8.5,0,35,0,null,{"$f":"'Schedule Setup'!F40","v":"07:00:00"},{"$f":"'Schedule Setup'!G40","v":"20:00:00"},"06:30:00","20:30:00"]
[null,{"$f":"O2-8","v":"2014-11-11"},null,null,null,{"$f":"'Schedule Forecast'!A14","v":"Wk 10-21"},null,{"$f":"IFERROR(INDEX(INDIRECT(\"'\"&$F43&\"'!$C:$C\"),MATCH(H$6,INDIRECT(\"'\"&$F43&\"'!$A$1:$A$250\"),0)+1),0)","v":0},0,0,0,35.729999999999997,25.69,56.83,18.399999999999999,23.91,16.72,6010.44,58.49,54.36,43.56,119.31,129.71,{"$f":"IFERROR(INDEX(INDIRECT(\"'\"&$F43&\"'!$C:$C\"),MATCH(X$6,INDIRECT(\"'\"&$F43&\"'!$A$1:$A$250\"),0)+1),0)","v":80.75},63.37,122.04,66.760000000000005,111.53,60.08,49.31,45.61,14.57,36.49,70.37,6.38,16.52,5.59,0,0,0,0,0,0,0,0]
[null,{"$f":"B43-7","v":"2014-11-04"},null,null,null,{"$f":"'Schedule Forecast'!A15","v":"Wk 10-28"},null,0,0,0,0,12.88,40.11,25.6,21.37,4.9000000000000004,23.41,33.29,47.81,40.130000000000003,46.09,56.88,130.05000000000001,{"$f":"IFERROR(INDEX(INDIRECT(\"'\"&$F44&\"'!$C:$C\"),MATCH(X$6,INDIRECT(\"'\"&$F44&\"'!$A$1:$A$250\"),0)+1),0)","v":6.68},18.809999999999999,68.11,173.08,105,154.88999999999999,72.47,75.45,25.7,55.54,28.44,37.29,10.88,6.24,0,0,0,0,0,0,0,0]
[null,{"$f":"B44-7","v":"2014-10-28"},null,null,null,{"$f":"'Schedule Forecast'!A16","v":"Wk 11-4"},null,0,0,0,0,15.97,5.89,14.17,16.07,19.86,35.549999999999997,26.06,51.6,73.64,32.92,75.31,139.82,37.369999999999997,49.16,142.47999999999999,105.74,220.07,79.36,81.040000000000006,32.590000000000003,40.869999999999997,42.17,43.21,13.47,5.89,14.58,0,0,0,0,0,0,0,0]
[null,{"$f":"B45-7","v":"2014-10-21"},null,null,null,{"$f":"'Schedule Forecast'!A17","v":"Wk 11-11"},null,0,0,0,0,{"$f":"IFERROR(INDEX(INDIRECT(\"'\"&$F46&\"'!$C:$C\"),MATCH(L$6,INDIRECT(\"'\"&$F46&\"'!$A$1:$A$250\"),0)+1),0)","v":4.8899999999999997},29.2,33.94,36.75,8.67,4.74,17.559999999999999,31.29,44.31,62.57,62.28,101.69,55.63,65.010000000000005,96.97,92.82,163.56,82.88,63.78,67.67,68.37,34.630000000000003,50.55,13.58,0,2.79,0,0,0,0,0,0,0,0]
[null,{"$f":"((EP42-EO42)*24+(EP88-EO88)*24+(EP134-EO134)*24+(EP180-EO180)*24+(EP226-EO226)*24+(EP272-EO272)*24+(EP318-EO318)*24)","v":90.500000000000085},null,"Open Hours",null,"AVERAGE",null,{"$f":"IFERROR(IF(AND(H$6>=$EO$42,H$6<$EP$42-0.001),AVERAGE(H43:H46),\"\"),\"\")","v":""},"","","",17.3675,25.2225,32.635000000000005,23.147500000000001,14.335000000000001,20.104999999999997,1521.8375000000001,47.297499999999999,53.11,46.285000000000004,78.444999999999993,125.3175,45.107500000000002,49.087499999999991,107.4,109.60000000000001,150.04000000000002,94.302499999999995,66.650000000000006,55.33,37.377499999999998,42.207499999999996,48.142499999999998,17.68,{"$f":"IFERROR(IF(AND(AJ$6>=$EO$42,AJ$6<$EP$42-0.001),AVERAGE(AJ43:AJ46),\"\"),\"\")","v":8.3224999999999998},{"$f":"IFERROR(IF(AND(AK$6>=$EO$42,AK$6<$EP$42-0.001),AVERAGE(AK43:AK46),\"\"),\"\")","v":7.3},"","","","","","","",""]
[null,{"$f":"IF((('Schedule Forecast'!AE23*'Schedule Forecast'!C4/'Shift Schedule'!AC2)-14-B47*2)/(SUM(H48:AS48)+SUM(H94:AS94)+SUM(H140:AS140)+SUM(H186:AS186)+SUM(H232:AS232)+SUM(H278:AS278)+SUM(H324:AS324)-B47*2)>0,(('Schedule Forecast'!AE23*'Schedule Forecast'!C4/'Shift Schedule'!AC2)-14-B47*2)/(SUM(H48:AS48)+SUM(H94:AS94)+SUM(H140:AS140)+SUM(H186:AS186)+SUM(H232:AS232)+SUM(H278:AS278)+SUM(H324:AS324)-B47*2),0)","v":0},null,"P/ over 2",null,null,{"$f":"IFERROR(IF((G47*'Schedule Forecast'!#REF!-$AC$2)>1,(G47*'Schedule Forecast'!#REF!-$AC$2),1),\"\")","v":""},{"$f":"IFERROR(IF((H47*'Schedule Forecast'!$C$4-$AC$2)>1,(H47*'Schedule Forecast'!$C$4-$AC$2),1),\"\")","v":""},{"$f":"IFERROR(IF((I47*'Schedule Forecast'!$C$4-$AC$2)>1,(I47*'Schedule Forecast'!$C$4-$AC$2),1),\"\")","v":""},{"$f":"IFERROR(IF((J47*'Schedule Forecast'!$C$4-$AC$2)>1,(J47*'Schedule Forecast'!$C$4-$AC$2),1),\"\")","v":""},{"$f":"IFERROR(IF((K47*'Schedule Forecast'!$C$4-$AC$2)>1,(K47*'Schedule Forecast'!$C$4-$AC$2),1),\"\")","v":""},{"$f":"IFERROR(IF((L47*'Schedule Forecast'!$C$4-$AC$2)>1,(L47*'Schedule Forecast'!$C$4-$AC$2),1),\"\")","v":1},{"$f":"IFERROR(IF((M47*'Schedule Forecast'!$C$4-$AC$2)>1,(M47*'Schedule Forecast'!$C$4-$AC$2),1),\"\")","v":1},{"$f":"IFERROR(IF((N47*'Schedule Forecast'!$C$4-$AC$2)>1,(N47*'Schedule Forecast'!$C$4-$AC$2),1),\"\")","v":1},{"$f":"IFERROR(IF((O47*'Schedule Forecast'!$C$4-$AC$2)>1,(O47*'Schedule Forecast'!$C$4-$AC$2),1),\"\")","v":1},{"$f":"IFERROR(IF((P47*'Schedule Forecast'!$C$4-$AC$2)>1,(P47*'Schedule Forecast'!$C$4-$AC$2),1),\"\")","v":1},{"$f":"IFERROR(IF((Q47*'Schedule Forecast'!$C$4-$AC$2)>1,(Q47*'Schedule Forecast'!$C$4-$AC$2),1),\"\")","v":1},{"$f":"IFERROR(IF((R47*'Schedule Forecast'!$C$4-$AC$2)>1,(R47*'Schedule Forecast'!$C$4-$AC$2),1),\"\")","v":279.14912500000003},{"$f":"IFERROR(IF((S47*'Schedule Forecast'!$C$4-$AC$2)>1,(S47*'Schedule Forecast'!$C$4-$AC$2),1),\"\")","v":1},{"$f":"IFERROR(IF((T47*'Schedule Forecast'!$C$4-$AC$2)>1,(T47*'Schedule Forecast'!$C$4-$AC$2),1),\"\")","v":1},{"$f":"IFERROR(IF((U47*'Schedule Forecast'!$C$4-$AC$2)>1,(U47*'Schedule Forecast'!$C$4-$AC$2),1),\"\")","v":1},{"$f":"IFERROR(IF((V47*'Schedule Forecast'!$C$4-$AC$2)>1,(V47*'Schedule Forecast'!$C$4-$AC$2),1),\"\")","v":4.9045499999999986},{"$f":"IFERROR(IF((W47*'Schedule Forecast'!$C$4-$AC$2)>1,(W47*'Schedule Forecast'!$C$4-$AC$2),1),\"\")","v":13.810324999999999},{"$f":"IFERROR(IF((X47*'Schedule Forecast'!$C$4-$AC$2)>1,(X47*'Schedule Forecast'!$C$4-$AC$2),1),\"\")","v":1},{"$f":"IFERROR(IF((Y47*'Schedule Forecast'!$C$4-$AC$2)>1,(Y47*'Schedule Forecast'!$C$4-$AC$2),1),\"\")","v":1},{"$f":"IFERROR(IF((Z47*'Schedule Forecast'!$C$4-$AC$2)>1,(Z47*'Schedule Forecast'!$C$4-$AC$2),1),\"\")","v":10.406000000000002},{"$f":"IFERROR(IF((AA47*'Schedule Forecast'!$C$4-$AC$2)>1,(AA47*'Schedule Forecast'!$C$4-$AC$2),1),\"\")","v":10.824000000000002},{"$f":"IFERROR(IF((AB47*'Schedule Forecast'!$C$4-$AC$2)>1,(AB47*'Schedule Forecast'!$C$4-$AC$2),1),\"\")","v":18.507600000000004},{"$f":"IFERROR(IF((AC47*'Schedule Forecast'!$C$4-$AC$2)>1,(AC47*'Schedule Forecast'!$C$4-$AC$2),1),\"\")","v":7.9174749999999996},{"$f":"IFERROR(IF((AD47*'Schedule Forecast'!$C$4-$AC$2)>1,(AD47*'Schedule Forecast'!$C$4-$AC$2),1),\"\")","v":2.6635000000000009},{"$f":"IFERROR(IF((AE47*'Schedule Forecast'!$C$4-$AC$2)>1,(AE47*'Schedule Forecast'!$C$4-$AC$2),1),\"\")","v":1},{"$f":"IFERROR(IF((AF47*'Schedule Forecast'!$C$4-$AC$2)>1,(AF47*'Schedule Forecast'!$C$4-$AC$2),1),\"\")","v":1},{"$f":"IFERROR(IF((AG47*'Schedule Forecast'!$C$4-$AC$2)>1,(AG47*'Schedule Forecast'!$C$4-$AC$2),1),\"\")","v":1},{"$f":"IFERROR(IF((AH47*'Schedule Forecast'!$C$4-$AC$2)>1,(AH47*'Schedule Forecast'!$C$4-$AC$2),1),\"\")","v":1},{"$f":"IFERROR(IF((AI47*'Schedule Forecast'!$C$4-$AC$2)>1,(AI47*'Schedule Forecast'!$C$4-$AC$2),1),\"\")","v":1},{"$f":"IFERROR(IF((AJ47*'Schedule Forecast'!$C$4-$AC$2)>1,(AJ47*'Schedule Forecast'!$C$4-$AC$2),1),\"\")","v":1},{"$f":"IFERROR(IF((AK47*'Schedule Forecast'!$C$4-$AC$2)>1,(AK47*'Schedule Forecast'!$C$4-$AC$2),1),\"\")","v":1},{"$f":"IFERROR(IF((AL47*'Schedule Forecast'!$C$4-$AC$2)>1,(AL47*'Schedule Forecast'!$C$4-$AC$2),1),\"\")","v":""},{"$f":"IFERROR(IF((AM47*'Schedule Forecast'!$C$4-$AC$2)>1,(AM47*'Schedule Forecast'!$C$4-$AC$2),1),\"\")","v":""},{"$f":"IFERROR(IF((AN47*'Schedule Forecast'!$C$4-$AC$2)>1,(AN47*'Schedule Forecast'!$C$4-$AC$2),1),\"\")","v":""},{"$f":"IFERROR(IF((AO47*'Schedule Forecast'!$C$4-$AC$2)>1,(AO47*'Schedule Forecast'!$C$4-$AC$2),1),\"\")","v":""},{"$f":"IFERROR(IF((AP47*'Schedule Forecast'!$C$4-$AC$2)>1,(AP47*'Schedule Forecast'!$C$4-$AC$2),1),\"\")","v":""},{"$f":"IFERROR(IF((AQ47*'Schedule Forecast'!$C$4-$AC$2)>1,(AQ47*'Schedule Forecast'!$C$4-$AC$2),1),\"\")","v":""},{"$f":"IFERROR(IF((AR47*'Schedule Forecast'!$C$4-$AC$2)>1,(AR47*'Schedule Forecast'!$C$4-$AC$2),1),\"\")","v":""},{"$f":"IFERROR(IF((AS47*'Schedule Forecast'!$C$4-$AC$2)>1,(AS47*'Schedule Forecast'!$C$4-$AC$2),1),\"\")","v":""}]
[null,null,null,null,null,null,"Recommended:",{"$f":"IF(H6>=$EO$42,IF(H6<$EP$42-0.01,ROUND(IF(H48>1,(H48*$B$48)+1,H48)*2,0),\"\"),\"\")","v":""},"","","",2,2,2,2,2,2,2,2,2,2,2,2,2,2,2,2,2,2,2,2,2,2,2,2,2,2,{"$f":"IF(AL6>=$EO$42,IF(AL6<$EP$42-0.01,ROUND(IF(AL48>1,(AL48*$B$48)+1,AL48)*2,0),\"\"),\"\")","v":""},{"$f":"IF(AM6>=$EO$42,IF(AM6<$EP$42-0.01,ROUND(IF(AM48>1,(AM48*$B$48)+1,AM48)*2,0),\"\"),\"\")","v":""},"","","","","","",{"$f":"SUM(H49:AS49)/2","v":26}]
[]
[null,"Thursday",null,null,null,null,null,null,null,null,null,null,null,null,null,null,null,null,{"$f":"S5","v":"Today's Date"},{"$f":"T5+1","v":"2014-11-20"},null,null,null,null,null,null,null,null,null,null,null,null,null,null,null,null,null,null,null,null,null,null,null,null,null,null,null,null,null,null,null,null,null,null,null,null,null,null,null,null,null,null,null,null,null,null,null,null,null,null,null,null,null,null,null,null,null,null,null,null,null,null,null,null,null,null,null,null,null,null,null,null,null,null,null,null,null,null,null,null,null,null,null,null,null,null,null,null,null,null,null,null,null,null,null,null,null,null,null,null,null,null,null,null,null,null,"Breakfast",null,"Lunch",null,"Dinner",null,"Total",null,null,"Breakfast",null,"Lunch",null,"Dinner",null,"Total",null,null,"Availability"]
[null,"Employee","Job",null,"Start","End",null,"05:00:00",{"$f":"H52+(0.5/24)","v":"05:30:00"},{"$f":"I52+(0.5/24)","v":"06:00:00"},{"$f":"J52+(0.5/24)","v":"06:30:00"},{"$f":"K52+(0.5/24)","v":"07:00:00"},{"$f":"L52+(0.5/24)","v":"07:30:00"},{"$f":"M52+(0.5/24)","v":"08:00:00"},{"$f":"N52+(0.5/24)","v":"08:30:00"},{"$f":"O52+(0.5/24)","v":"09:00:00"},{"$f":"P52+(0.5/24)","v":"09:30:00"},{"$f":"Q52+(0.5/24)","v":"10:00:00"},{"$f":"R52+(0.5/24)","v":"10:30:00"},{"$f":"S52+(0.5/24)","v":"11:00:00"},{"$f":"T52+(0.5/24)","v":"11:30:00"},{"$f":"U52+(0.5/24)","v":"12:00:00"},{"$f":"V52+(0.5/24)","v":"12:30:00"},{"$f":"W52+(0.5/24)","v":"13:00:00"},{"$f":"X52+(0.5/24)","v":"13:30:00"},{"$f":"Y52+(0.5/24)","v":"14:00:00"},{"$f":"Z52+(0.5/24)","v":"14:30:00"},{"$f":"AA52+(0.5/24)","v":"15:00:00"},{"$f":"AB52+(0.5/24)","v":"15:30:00"},{"$f":"AC52+(0.5/24)","v":"16:00:00"},{"$f":"AD52+(0.5/24)","v":"16:30:00"},{"$f":"AE52+(0.5/24)","v":"17:00:00"},{"$f":"AF52+(0.5/24)","v":"17:30:00"},{"$f":"AG52+(0.5/24)","v":"18:00:00"},{"$f":"AH52+(0.5/24)","v":"18:30:00"},{"$f":"AI52+(0.5/24)","v":"19:00:00"},{"$f":"AJ52+(0.5/24)","v":"19:30:00"},{"$f":"AK52+(0.5/24)","v":"20:00:00"},{"$f":"AL52+(0.5/24)","v":"20:30:00"},{"$f":"AM52+(0.5/24)","v":"21:00:00"},{"$f":"AN52+(0.5/24)","v":"21:30:00"},{"$f":"AO52+(0.5/24)","v":"22:00:00"},{"$f":"AP52+(0.5/24)","v":"22:30:00"},{"$f":"AQ52+(0.5/24)","v":"23:00:00"},{"$f":"AR52+(0.5/24)","v":"23:30:00"},"TOTAL",null,5,null,6,null,7,null,8,null,9,null,10,null,11,null,12,null,1,null,2,null,3,null,4,null,5,null,6,null,7,null,8,null,9,null,10,null,11,null,null,5,null,6,null,7,null,8,null,9,null,10,null,11,null,12,null,1,null,2,null,3,null,4,null,5,null,6,null,7,null,8,null,9,null,10,null,11,null,null,"Rate","Hrs","$","Hrs","$","Hrs","$","Hrs","$",null,"Hrs","$","Hrs","$","Hrs","$","Hrs","$",null,"Start","End","Start-Early","End-Late"]
[1,{"$f":"IF(VLOOKUP($A53,'Schedule Setup'!$A$4:$E$39,2,FALSE)=0,\"\",VLOOKUP($A53,'Schedule Setup'!$A$4:$E$39,2,FALSE))","v":"Shaun Payne"},{"$f":"IF(VLOOKUP($A53,'Schedule Setup'!$A$4:$E$39,4,FALSE)=0,\"\",VLOOKUP($A53,'Schedule Setup'!$A$4:$E$39,4,FALSE))","v":"General Manager (S)"},{"$f":"IF(B53<>\"\",IF(OR(C53=\"General Manager (S)\", C53=\"General Manager (H)\"), \"GM\",IF(C53=\"Acting Manager\",\"AM\",IF(C53=\"Shift Manager\",\"SM\",IF(C53=\"Team Lead\",\"TL\",\"TM\")))),\"\")","v":"GM"},null,null,null,{"$f":"AV53","v":"x"},"x","x","x","x","x","x","x","x","x","x","x","x","x","x","x","x","x","x","x","x","x","x","x","x","x","x","x","x","x","x","x","x","x","x","x","x","x",{"$f":"EC53","v":0},null,{"$f":"IF(AND($EO53<=H$6+0.01,$EP53>H$6+0.01),IF(AND(H$6<$F53-0.01,H$6>=$E53-0.01),$D53,\"\"),\"x\")","v":"x"},{"$f":"IF(AND($EO53<=I$6+0.01,$EP53>I$6+0.01),IF(AND(I$6<$F53-0.01,I$6>=$E53-0.01),$D53,\"\"),\"x\")","v":"x"},{"$f":"IF(AND($EO53<=J$6+0.01,$EP53>J$6+0.01),IF(AND(J$6<$F53-0.01,J$6>=$E53-0.01),$D53,\"\"),\"x\")","v":"x"},{"$f":"IF(AND($EO53<=K$6+0.01,$EP53>K$6+0.01),IF(AND(K$6<$F53-0.01,K$6>=$E53-0.01),$D53,\"\"),\"x\")","v":"x"},{"$f":"IF(AND($EO53<=L$6+0.01,$EP53>L$6+0.01),IF(AND(L$6<$F53-0.01,L$6>=$E53-0.01),$D53,\"\"),\"x\")","v":"x"},{"$f":"IF(AND($EO53<=M$6+0.01,$EP53>M$6+0.01),IF(AND(M$6<$F53-0.01,M$6>=$E53-0.01),$D53,\"\"),\"x\")","v":"x"},{"$f":"IF(AND($EO53<=N$6+0.01,$EP53>N$6+0.01),IF(AND(N$6<$F53-0.01,N$6>=$E53-0.01),$D53,\"\"),\"x\")","v":"x"},{"$f":"IF(AND($EO53<=O$6+0.01,$EP53>O$6+0.01),IF(AND(O$6<$F53-0.01,O$6>=$E53-0.01),$D53,\"\"),\"x\")","v":"x"},{"$f":"IF(AND($EO53<=P$6+0.01,$EP53>P$6+0.01),IF(AND(P$6<$F53-0.01,P$6>=$E53-0.01),$D53,\"\"),\"x\")","v":"x"},{"$f":"IF(AND($EO53<=Q$6+0.01,$EP53>Q$6+0.01),IF(AND(Q$6<$F53-0.01,Q$6>=$E53-0.01),$D53,\"\"),\"x\")","v":"x"},{"$f":"IF(AND($EO53<=R$6+0.01,$EP53>R$6+0.01),IF(AND(R$6<$F53-0.01,R$6>=$E53-0.01),$D53,\"\"),\"x\")","v":"x"},{"$f":"IF(AND($EO53<=S$6+0.01,$EP53>S$6+0.01),IF(AND(S$6<$F53-0.01,S$6>=$E53-0.01),$D53,\"\"),\"x\")","v":"x"},{"$f":"IF(AND($EO53<=T$6+0.01,$EP53>T$6+0.01),IF(AND(T$6<$F53-0.01,T$6>=$E53-0.01),$D53,\"\"),\"x\")","v":"x"},{"$f":"IF(AND($EO53<=U$6+0.01,$EP53>U$6+0.01),IF(AND(U$6<$F53-0.01,U$6>=$E53-0.01),$D53,\"\"),\"x\")","v":"x"},{"$f":"IF(AND($EO53<=V$6+0.01,$EP53>V$6+0.01),IF(AND(V$6<$F53-0.01,V$6>=$E53-0.01),$D53,\"\"),\"x\")","v":"x"},{"$f":"IF(AND($EO53<=W$6+0.01,$EP53>W$6+0.01),IF(AND(W$6<$F53-0.01,W$6>=$E53-0.01),$D53,\"\"),\"x\")","v":"x"},{"$f":"IF(AND($EO53<=X$6+0.01,$EP53>X$6+0.01),IF(AND(X$6<$F53-0.01,X$6>=$E53-0.01),$D53,\"\"),\"x\")","v":"x"},{"$f":"IF(AND($EO53<=Y$6+0.01,$EP53>Y$6+0.01),IF(AND(Y$6<$F53-0.01,Y$6>=$E53-0.01),$D53,\"\"),\"x\")","v":"x"},{"$f":"IF(AND($EO53<=Z$6+0.01,$EP53>Z$6+0.01),IF(AND(Z$6<$F53-0.01,Z$6>=$E53-0.01),$D53,\"\"),\"x\")","v":"x"},{"$f":"IF(AND($EO53<=AA$6+0.01,$EP53>AA$6+0.01),IF(AND(AA$6<$F53-0.01,AA$6>=$E53-0.01),$D53,\"\"),\"x\")","v":"x"},{"$f":"IF(AND($EO53<=AB$6+0.01,$EP53>AB$6+0.01),IF(AND(AB$6<$F53-0.01,AB$6>=$E53-0.01),$D53,\"\"),\"x\")","v":"x"},{"$f":"IF(AND($EO53<=AC$6+0.01,$EP53>AC$6+0.01),IF(AND(AC$6<$F53-0.01,AC$6>=$E53-0.01),$D53,\"\"),\"x\")","v":"x"},{"$f":"IF(AND($EO53<=AD$6+0.01,$EP53>AD$6+0.01),IF(AND(AD$6<$F53-0.01,AD$6>=$E53-0.01),$D53,\"\"),\"x\")","v":"x"},{"$f":"IF(AND($EO53<=AE$6+0.01,$EP53>AE$6+0.01),IF(AND(AE$6<$F53-0.01,AE$6>=$E53-0.01),$D53,\"\"),\"x\")","v":"x"},{"$f":"IF(AND($EO53<=AF$6+0.01,$EP53>AF$6+0.01),IF(AND(AF$6<$F53-0.01,AF$6>=$E53-0.01),$D53,\"\"),\"x\")","v":"x"},{"$f":"IF(AND($EO53<=AG$6+0.01,$EP53>AG$6+0.01),IF(AND(AG$6<$F53-0.01,AG$6>=$E53-0.01),$D53,\"\"),\"x\")","v":"x"},{"$f":"IF(AND($EO53<=AH$6+0.01,$EP53>AH$6+0.01),IF(AND(AH$6<$F53-0.01,AH$6>=$E53-0.01),$D53,\"\"),\"x\")","v":"x"},{"$f":"IF(AND($EO53<=AI$6+0.01,$EP53>AI$6+0.01),IF(AND(AI$6<$F53-0.01,AI$6>=$E53-0.01),$D53,\"\"),\"x\")","v":"x"},{"$f":"IF(AND($EO53<=AJ$6+0.01,$EP53>AJ$6+0.01),IF(AND(AJ$6<$F53-0.01,AJ$6>=$E53-0.01),$D53,\"\"),\"x\")","v":"x"},{"$f":"IF(AND($EO53<=AK$6+0.01,$EP53>AK$6+0.01),IF(AND(AK$6<$F53-0.01,AK$6>=$E53-0.01),$D53,\"\"),\"x\")","v":"x"},{"$f":"IF(AND($EO53<=AL$6+0.01,$EP53>AL$6+0.01),IF(AND(AL$6<$F53-0.01,AL$6>=$E53-0.01),$D53,\"\"),\"x\")","v":"x"},{"$f":"IF(AND($EO53<=AM$6+0.01,$EP53>AM$6+0.01),IF(AND(AM$6<$F53-0.01,AM$6>=$E53-0.01),$D53,\"\"),\"x\")","v":"x"},{"$f":"IF(AND($EO53<=AN$6+0.01,$EP53>AN$6+0.01),IF(AND(AN$6<$F53-0.01,AN$6>=$E53-0.01),$D53,\"\"),\"x\")","v":"x"},{"$f":"IF(AND($EO53<=AO$6+0.01,$EP53>AO$6+0.01),IF(AND(AO$6<$F53-0.01,AO$6>=$E53-0.01),$D53,\"\"),\"x\")","v":"x"},{"$f":"IF(AND($EO53<=AP$6+0.01,$EP53>AP$6+0.01),IF(AND(AP$6<$F53-0.01,AP$6>=$E53-0.01),$D53,\"\"),\"x\")","v":"x"},{"$f":"IF(AND($EO53<=AQ$6+0.01,$EP53>AQ$6+0.01),IF(AND(AQ$6<$F53-0.01,AQ$6>=$E53-0.01),$D53,\"\"),\"x\")","v":"x"},{"$f":"IF(AND($EO53<=AR$6+0.01,$EP53>AR$6+0.01),IF(AND(AR$6<$F53-0.01,AR$6>=$E53-0.01),$D53,\"\"),\"x\")","v":"x"},{"$f":"IF(AND($EO53<=AS$6+0.01,$EP53>AS$6+0.01),IF(AND(AS$6<$F53-0.01,AS$6>=$E53-0.01),$D53,\"\"),\"x\")","v":"x"},null,{"$f":"IF(AND(AV53<>\"\",AV53<>\"x\"),0.5,)","v":0},{"$f":"IF(AND(AW53<>\"\",AW53<>\"x\"),0.5,)","v":0},{"$f":"IF(AND(AX53<>\"\",AX53<>\"x\"),0.5,)","v":0},{"$f":"IF(AND(AY53<>\"\",AY53<>\"x\"),0.5,)","v":0},{"$f":"IF(AND(AZ53<>\"\",AZ53<>\"x\"),0.5,)","v":0},{"$f":"IF(AND(BA53<>\"\",BA53<>\"x\"),0.5,)","v":0},{"$f":"IF(AND(BB53<>\"\",BB53<>\"x\"),0.5,)","v":0},{"$f":"IF(AND(BC53<>\"\",BC53<>\"x\"),0.5,)","v":0},{"$f":"IF(AND(BD53<>\"\",BD53<>\"x\"),0.5,)","v":0},{"$f":"IF(AND(BE53<>\"\",BE53<>\"x\"),0.5,)","v":0},{"$f":"IF(AND(BF53<>\"\",BF53<>\"x\"),0.5,)","v":0},{"$f":"IF(AND(BG53<>\"\",BG53<>\"x\"),0.5,)","v":0},{"$f":"IF(AND(BH53<>\"\",BH53<>\"x\"),0.5,)","v":0},{"$f":"IF(AND(BI53<>\"\",BI53<>\"x\"),0.5,)","v":0},{"$f":"IF(AND(BJ53<>\"\",BJ53<>\"x\"),0.5,)","v":0},{"$f":"IF(AND(BK53<>\"\",BK53<>\"x\"),0.5,)","v":0},{"$f":"IF(AND(BL53<>\"\",BL53<>\"x\"),0.5,)","v":0},{"$f":"IF(AND(BM53<>\"\",BM53<>\"x\"),0.5,)","v":0},{"$f":"IF(AND(BN53<>\"\",BN53<>\"x\"),0.5,)","v":0},{"$f":"IF(AND(BO53<>\"\",BO53<>\"x\"),0.5,)","v":0},{"$f":"IF(AND(BP53<>\"\",BP53<>\"x\"),0.5,)","v":0},{"$f":"IF(AND(BQ53<>\"\",BQ53<>\"x\"),0.5,)","v":0},{"$f":"IF(AND(BR53<>\"\",BR53<>\"x\"),0.5,)","v":0},{"$f":"IF(AND(BS53<>\"\",BS53<>\"x\"),0.5,)","v":0},{"$f":"IF(AND(BT53<>\"\",BT53<>\"x\"),0.5,)","v":0},{"$f":"IF(AND(BU53<>\"\",BU53<>\"x\"),0.5,)","v":0},{"$f":"IF(AND(BV53<>\"\",BV53<>\"x\"),0.5,)","v":0},{"$f":"IF(AND(BW53<>\"\",BW53<>\"x\"),0.5,)","v":0},{"$f":"IF(AND(BX53<>\"\",BX53<>\"x\"),0.5,)","v":0},{"$f":"IF(AND(BY53<>\"\",BY53<>\"x\"),0.5,)","v":0},{"$f":"IF(AND(BZ53<>\"\",BZ53<>\"x\"),0.5,)","v":0},{"$f":"IF(AND(CA53<>\"\",CA53<>\"x\"),0.5,)","v":0},{"$f":"IF(AND(CB53<>\"\",CB53<>\"x\"),0.5,)","v":0},{"$f":"IF(AND(CC53<>\"\",CC53<>\"x\"),0.5,)","v":0},{"$f":"IF(AND(CD53<>\"\",CD53<>\"x\"),0.5,)","v":0},{"$f":"IF(AND(CE53<>\"\",CE53<>\"x\"),0.5,)","v":0},{"$f":"IF(AND(CF53<>\"\",CF53<>\"x\"),0.5,)","v":0},{"$f":"IF(AND(CG53<>\"\",CG53<>\"x\"),0.5,)","v":0},null,{"$f":"IF(VLOOKUP($A53,'Schedule Setup'!$A$4:$E$39,5,FALSE)=0,\"\",VLOOKUP($A53,'Schedule Setup'!$A$4:$E$39,5,FALSE))","v":""},{"$f":"SUM(CI53:CT53)","v":0},{"$f":"IFERROR(DW53*$DV53,\"\")","v":""},{"$f":"SUM(CU53:DF53)","v":0},{"$f":"IFERROR(DY53*$DV53,\"\")","v":""},{"$f":"SUM(DG53:DT53)","v":0},{"$f":"IFERROR(EA53*$DV53,\"\")","v":""},{"$f":"SUM(DW53,DY53,EA53)","v":0},{"$f":"IFERROR(EC53*$DV53,\"\")","v":""},null,{"$f":"IF(DW53>5,(DW53-0.5),DW53)","v":0},{"$f":"IFERROR(EF53*$DV53,\"\")","v":""},{"$f":"IF(DY53>5,(DY53-0.5),DY53)","v":0},{"$f":"IFERROR(EH53*$DV53,\"\")","v":""},{"$f":"IF(EA53>5,(EA53-0.5),EA53)","v":0},{"$f":"IFERROR(EJ53*$DV53,\"\")","v":""},{"$f":"SUM(EF53,EH53,EJ53)","v":0},{"$f":"IFERROR(EL53*$DV53,\"\")","v":""},null,{"$f":"'Schedule Setup'!H5","v":"UnAvail"},{"$f":"'Schedule Setup'!I5","v":"UnAvail"},{"$f":"EO53-(0.5/24)","v":{"$error":"#VALUE!"}},{"$f":"EP53+(0.5/24)","v":{"$error":"#VALUE!"}}]
[{"$f":"A53+1","v":2},{"$f":"IF(VLOOKUP($A54,'Schedule Setup'!$A$4:$E$39,2,FALSE)=0,\"\",VLOOKUP($A54,'Schedule Setup'!$A$4:$E$39,2,FALSE))","v":"Clay Huycke-McCall"},{"$f":"IF(VLOOKUP($A54,'Schedule Setup'!$A$4:$E$39,4,FALSE)=0,\"\",VLOOKUP($A54,'Schedule Setup'!$A$4:$E$39,4,FALSE))","v":"Shift Manager"},{"$f":"IF(B54<>\"\",IF(OR(C54=\"General Manager (S)\", C54=\"General Manager (H)\"), \"GM\",IF(C54=\"Acting Manager\",\"AM\",IF(C54=\"Shift Manager\",\"SM\",IF(C54=\"Team Lead\",\"TL\",\"TM\")))),\"\")","v":"SM"},null,null,null,"x","x","x","x","x","x","x","x","x","x","x","x","x","x","x","x","x","x","x","x","x","x","x","x","x","x","x","x","x","x","x","x","x","x","x","x","x","x",{"$f":"EC54","v":0},null,"x","x","x","x","x","x","x","x","x","x","x","x","x","x","x","x","x","x","x","x","x","x","x","x","x","x","x","x","x","x","x","x","x","x","x","x","x","x",null,{"$f":"IF(AND(AV54<>\"\",AV54<>\"x\"),0.5,)","v":0},0,0,0,0,0,0,0,0,0,0,0,0,0,0,0,0,0,0,0,0,0,0,0,0,0,0,0,0,0,0,0,0,0,0,0,0,0,null,{"$f":"IF(VLOOKUP($A54,'Schedule Setup'!$A$4:$E$39,5,FALSE)=0,\"\",VLOOKUP($A54,'Schedule Setup'!$A$4:$E$39,5,FALSE))","v":""},0,"",0,"",0,"",{"$f":"SUM(DW54,DY54,EA54)","v":0},"",null,{"$f":"IF(DW54>5,(DW54-0.5),DW54)","v":0},"",{"$f":"IF(DY54>5,(DY54-0.5),DY54)","v":0},"",0,"",{"$f":"SUM(EF54,EH54,EJ54)","v":0},"",null,{"$f":"'Schedule Setup'!H6","v":"Req. Off"},{"$f":"'Schedule Setup'!I6","v":"Req. Off"},{"$f":"EO54-(0.5/24)","v":{"$error":"#VALUE!"}},{"$f":"EP54+(0.5/24)","v":{"$error":"#VALUE!"}}]
[{"$f":"A54+1","v":3},{"$f":"IF(VLOOKUP($A55,'Schedule Setup'!$A$4:$E$39,2,FALSE)=0,\"\",VLOOKUP($A55,'Schedule Setup'!$A$4:$E$39,2,FALSE))","v":"Shaina Hunt"},{"$f":"IF(VLOOKUP($A55,'Schedule Setup'!$A$4:$E$39,4,FALSE)=0,\"\",VLOOKUP($A55,'Schedule Setup'!$A$4:$E$39,4,FALSE))","v":"Shift Manager"},"SM","06:00:00","14:30:00",null,"x","x","SM","SM","SM","SM","SM","SM","SM","SM","SM","SM","SM","SM","SM","SM","SM","SM","SM","","","","","","","","","","","","","x","x","x","x","x","x","x",8.5,null,"x","x","SM","SM","SM","SM","SM","SM","SM","SM","SM","SM","SM","SM","SM","SM","SM","SM","SM","","","","","","","","","","","","","x","x","x","x","x","x","x",null,0,0,0.5,0.5,0.5,0.5,0.5,0.5,0.5,0.5,0.5,0.5,0.5,0.5,0.5,0.5,0.5,0.5,0.5,0,0,0,0,0,0,0,0,0,0,0,0,0,0,0,0,0,0,0,null,{"$f":"IF(VLOOKUP($A55,'Schedule Setup'!$A$4:$E$39,5,FALSE)=0,\"\",VLOOKUP($A55,'Schedule Setup'!$A$4:$E$39,5,FALSE))","v":""},5,"",3.5,"",0,"",{"$f":"SUM(DW55,DY55,EA55)","v":8.5},"",null,5,"",3.5,"",0,"",8.5,"",null,{"$f":"'Schedule Setup'!H7","v":"06:00:00"},{"$f":"'Schedule Setup'!I7","v":"20:30:00"},"05:30:00","21:00:00"]
[4,{"$f":"IF(VLOOKUP($A56,'Schedule Setup'!$A$4:$E$39,2,FALSE)=0,\"\",VLOOKUP($A56,'Schedule Setup'!$A$4:$E$39,2,FALSE))","v":"Christian Fink"},{"$f":"IF(VLOOKUP($A56,'Schedule Setup'!$A$4:$E$39,4,FALSE)=0,\"\",VLOOKUP($A56,'Schedule Setup'!$A$4:$E$39,4,FALSE))","v":"Team Lead"},"TL","12:30:00","20:30:00",null,"x","x","","","","","","","","","","","","","","TL","TL","TL","TL","TL","TL","TL","TL","TL","TL","TL","TL","TL","TL","TL","TL","x","x","x","x","x","x","x",8,null,"x","x","","","","","","","","","","","","","","TL","TL","TL","TL","TL","TL","TL","TL","TL","TL","TL","TL","TL","TL","TL","TL","x","x","x","x","x","x","x",null,0,0,0,0,0,0,0,0,0,0,0,0,0,0,0,0.5,0.5,0.5,0.5,0.5,0.5,0.5,0.5,0.5,0.5,0.5,0.5,0.5,0.5,0.5,0.5,0,0,0,0,0,0,0,null,{"$f":"IF(VLOOKUP($A56,'Schedule Setup'!$A$4:$E$39,5,FALSE)=0,\"\",VLOOKUP($A56,'Schedule Setup'!$A$4:$E$39,5,FALSE))","v":""},0,"",4.5,"",3.5,"",8,"",null,0,"",4.5,"",3.5,"",8,"",null,{"$f":"'Schedule Setup'!H8","v":"06:00:00"},{"$f":"'Schedule Setup'!I8","v":"20:30:00"},"05:30:00","21:00:00"]
[5,{"$f":"IF(VLOOKUP($A57,'Schedule Setup'!$A$4:$E$39,2,FALSE)=0,\"\",VLOOKUP($A57,'Schedule Setup'!$A$4:$E$39,2,FALSE))","v":"Brendan Frye"},{"$f":"IF(VLOOKUP($A57,'Schedule Setup'!$A$4:$E$39,4,FALSE)=0,\"\",VLOOKUP($A57,'Schedule Setup'!$A$4:$E$39,4,FALSE))","v":"Team Member"},"TM","08:00:00","16:00:00",null,"x","x","x","x","","","TM","TM","TM","TM","TM","TM","TM","TM","TM","TM","TM","TM","TM","TM","TM","TM","","","","","","","","","","x","x","x","x","x","x","x",8,null,"x","x","x","x","","","TM","TM","TM","TM","TM","TM","TM","TM","TM","TM","TM","TM","TM","TM","TM","TM","","","","","","","","","","x","x","x","x","x","x","x",null,0,0,0,0,0,0,0.5,0.5,0.5,0.5,0.5,0.5,0.5,0.5,0.5,0.5,0.5,0.5,0.5,0.5,0.5,0.5,0,0,0,0,0,0,0,0,0,0,0,0,0,0,0,0,null,{"$f":"IF(VLOOKUP($A57,'Schedule Setup'!$A$4:$E$39,5,FALSE)=0,\"\",VLOOKUP($A57,'Schedule Setup'!$A$4:$E$39,5,FALSE))","v":""},3,"",5,"",0,"",8,"",null,3,"",5,"",0,"",8,"",null,{"$f":"'Schedule Setup'!H9","v":"07:00:00"},{"$f":"'Schedule Setup'!I9","v":"20:30:00"},"06:30:00","21:00:00"]
[6,{"$f":"IF(VLOOKUP($A58,'Schedule Setup'!$A$4:$E$39,2,FALSE)=0,\"\",VLOOKUP($A58,'Schedule Setup'!$A$4:$E$39,2,FALSE))","v":"Jordan Galli"},{"$f":"IF(VLOOKUP($A58,'Schedule Setup'!$A$4:$E$39,4,FALSE)=0,\"\",VLOOKUP($A58,'Schedule Setup'!$A$4:$E$39,4,FALSE))","v":"Team Member"},"TM","14:30:00","20:30:00",null,"x","x","x","x","","","","","","","","","","","","","","","","TM","TM","TM","TM","TM","TM","TM","TM","TM","TM","TM","TM","x","x","x","x","x","x","x",6,null,"x","x","x","x","","","","","","","","","","","","","","","","TM","TM","TM","TM","TM","TM","TM","TM","TM","TM","TM","TM","x","x","x","x","x","x","x",null,0,0,0,0,0,0,0,0,0,0,0,0,0,0,0,0,0,0,0,0.5,0.5,0.5,0.5,0.5,0.5,0.5,0.5,0.5,0.5,0.5,0.5,0,0,0,0,0,0,0,null,{"$f":"IF(VLOOKUP($A58,'Schedule Setup'!$A$4:$E$39,5,FALSE)=0,\"\",VLOOKUP($A58,'Schedule Setup'!$A$4:$E$39,5,FALSE))","v":""},0,"",2.5,"",3.5,"",6,"",null,0,"",2.5,"",3.5,"",6,"",null,{"$f":"'Schedule Setup'!H10","v":"07:00:00"},{"$f":"'Schedule Setup'!I10","v":"20:30:00"},"06:30:00","21:00:00"]
[7,{"$f":"IF(VLOOKUP($A59,'Schedule Setup'!$A$4:$E$39,2,FALSE)=0,\"\",VLOOKUP($A59,'Schedule Setup'!$A$4:$E$39,2,FALSE))","v":"Madelyn Hickey"},{"$f":"IF(VLOOKUP($A59,'Schedule Setup'!$A$4:$E$39,4,FALSE)=0,\"\",VLOOKUP($A59,'Schedule Setup'!$A$4:$E$39,4,FALSE))","v":"Team Member"},"TM",null,null,null,"x","x","x","x","x","x","x","x","x","x","x","x","x","x","x","x","x","x","x","x","x","x","x","x","x","x","x",{"$f":"BW59","v":"x"},"x","x","x","x","x","x","x","x","x","x",0,null,"x","x","x","x","x","x","x","x","x","x","x","x","x","x","x","x","x","x","x","x","x","x","x","x","x","x","x","x","x","x","x","x","x","x","x","x","x","x",null,0,0,0,0,0,0,0,0,0,0,0,0,0,0,0,0,0,0,0,0,0,0,0,0,0,0,0,0,0,0,0,0,0,0,0,0,0,0,null,{"$f":"IF(VLOOKUP($A59,'Schedule Setup'!$A$4:$E$39,5,FALSE)=0,\"\",VLOOKUP($A59,'Schedule Setup'!$A$4:$E$39,5,FALSE))","v":""},0,"",0,"",0,"",0,"",null,0,"",0,"",0,"",0,"",null,{"$f":"'Schedule Setup'!H11","v":"UnAvail"},{"$f":"'Schedule Setup'!I11","v":"UnAvail"},{"$error":"#VALUE!"},{"$error":"#VALUE!"}]
[8,{"$f":"IF(VLOOKUP($A60,'Schedule Setup'!$A$4:$E$39,2,FALSE)=0,\"\",VLOOKUP($A60,'Schedule Setup'!$A$4:$E$39,2,FALSE))","v":""},{"$f":"IF(VLOOKUP($A60,'Schedule Setup'!$A$4:$E$39,4,FALSE)=0,\"\",VLOOKUP($A60,'Schedule Setup'!$A$4:$E$39,4,FALSE))","v":""},"",null,null,null,{"$f":"AV60","v":"x"},"x","x","x","x","x","x","x","x","x","x","x","x","x","x","x",{"$f":"BL60","v":"x"},"x","x","x","x","x","x","x","x","x","x","x","x","x","x","x","x","x","x","x","x","x",0,null,"x","x","x","x","x","x","x","x","x","x","x","x","x","x","x","x","x","x","x","x","x","x","x","x","x","x","x","x","x","x","x","x","x",{"$f":"IF(AND($EO60<=AO$6+0.01,$EP60>AO$6+0.01),IF(AND(AO$6<$F60-0.01,AO$6>=$E60-0.01),$D60,\"\"),\"x\")","v":"x"},"x","x","x","x",null,0,0,0,0,0,0,0,0,0,0,0,0,0,0,0,0,0,0,0,0,0,0,0,0,0,0,0,0,0,0,0,0,0,0,0,0,0,0,null,{"$f":"IF(VLOOKUP($A60,'Schedule Setup'!$A$4:$E$39,5,FALSE)=0,\"\",VLOOKUP($A60,'Schedule Setup'!$A$4:$E$39,5,FALSE))","v":""},0,{"$f":"IFERROR(DW60*$DV60,\"\")","v":""},0,"",0,"",0,"",null,0,"",0,"",0,"",0,"",null,{"$f":"'Schedule Setup'!H12","v":"00:00:00"},{"$f":"'Schedule Setup'!I12","v":"00:00:00"},-2.0833333333333332E-2,"00:30:00"]
[9,{"$f":"IF(VLOOKUP($A61,'Schedule Setup'!$A$4:$E$39,2,FALSE)=0,\"\",VLOOKUP($A61,'Schedule Setup'!$A$4:$E$39,2,FALSE))","v":""},{"$f":"IF(VLOOKUP($A61,'Schedule Setup'!$A$4:$E$39,4,FALSE)=0,\"\",VLOOKUP($A61,'Schedule Setup'!$A$4:$E$39,4,FALSE))","v":""},"",null,null,null,"x","x","x","x","x","x","x","x","x","x","x","x","x","x","x","x","x","x","x","x","x","x","x","x","x","x","x","x","x","x","x","x","x","x","x","x","x","x",0,null,"x","x","x","x","x","x","x","x","x","x","x","x","x","x","x","x","x","x","x","x","x","x","x","x","x","x","x","x","x","x","x","x","x",{"$f":"IF(AND($EO61<=AO$6+0.01,$EP61>AO$6+0.01),IF(AND(AO$6<$F61-0.01,AO$6>=$E61-0.01),$D61,\"\"),\"x\")","v":"x"},"x","x","x","x",null,0,0,0,0,0,0,0,0,0,0,0,0,0,0,0,0,0,0,0,0,0,0,0,0,0,0,0,0,0,0,0,0,0,0,0,0,0,0,null,{"$f":"IF(VLOOKUP($A61,'Schedule Setup'!$A$4:$E$39,5,FALSE)=0,\"\",VLOOKUP($A61,'Schedule Setup'!$A$4:$E$39,5,FALSE))","v":""},0,{"$f":"IFERROR(DW61*$DV61,\"\")","v":""},0,"",0,"",0,"",null,0,"",0,"",0,"",0,"",null,{"$f":"'Schedule Setup'!H13","v":"00:00:00"},{"$f":"'Schedule Setup'!I13","v":"00:00:00"},-2.0833333333333332E-2,"00:30:00"]
[10,{"$f":"IF(VLOOKUP($A62,'Schedule Setup'!$A$4:$E$39,2,FALSE)=0,\"\",VLOOKUP($A62,'Schedule Setup'!$A$4:$E$39,2,FALSE))","v":""},{"$f":"IF(VLOOKUP($A62,'Schedule Setup'!$A$4:$E$39,4,FALSE)=0,\"\",VLOOKUP($A62,'Schedule Setup'!$A$4:$E$39,4,FALSE))","v":""},"",null,null,null,"x","x","x","x","x","x","x","x","x","x","x","x","x","x","x","x","x","x","x","x","x","x","x","x","x","x","x","x","x","x","x","x","x","x","x","x","x","x",0,null,"x","x","x","x","x","x","x","x","x","x","x","x","x","x","x","x","x","x","x","x","x","x","x","x","x","x","x","x","x","x","x","x","x","x","x","x","x","x",null,0,0,0,0,0,0,0,0,0,0,0,0,0,0,0,0,0,0,0,0,0,0,0,0,0,0,0,0,0,0,0,0,0,0,0,0,0,0,null,{"$f":"IF(VLOOKUP($A62,'Schedule Setup'!$A$4:$E$39,5,FALSE)=0,\"\",VLOOKUP($A62,'Schedule Setup'!$A$4:$E$39,5,FALSE))","v":""},0,"",0,"",0,"",0,"",null,0,"",0,"",0,"",0,"",null,{"$f":"'Schedule Setup'!H14","v":"00:00:00"},{"$f":"'Schedule Setup'!I14","v":"00:00:00"},-2.0833333333333332E-2,"00:30:00"]
[11,{"$f":"IF(VLOOKUP($A63,'Schedule Setup'!$A$4:$E$39,2,FALSE)=0,\"\",VLOOKUP($A63,'Schedule Setup'!$A$4:$E$39,2,FALSE))","v":""},{"$f":"IF(VLOOKUP($A63,'Schedule Setup'!$A$4:$E$39,4,FALSE)=0,\"\",VLOOKUP($A63,'Schedule Setup'!$A$4:$E$39,4,FALSE))","v":""},"",null,null,null,"x","x","x","x","x","x","x","x","x","x","x","x","x","x","x","x","x","x","x","x","x","x","x","x","x","x","x","x","x","x","x","x","x","x","x","x","x","x",0,null,"x","x","x","x","x","x","x","x","x","x","x","x","x","x","x","x","x","x","x","x","x","x","x","x","x","x","x","x","x","x","x","x","x","x","x","x","x","x",null,0,0,0,0,0,0,0,0,0,0,0,0,0,0,0,0,0,0,0,0,0,0,0,0,0,0,0,0,0,0,0,0,0,0,0,0,0,0,null,{"$f":"IF(VLOOKUP($A63,'Schedule Setup'!$A$4:$E$39,5,FALSE)=0,\"\",VLOOKUP($A63,'Schedule Setup'!$A$4:$E$39,5,FALSE))","v":""},0,"",0,"",0,"",0,"",null,0,"",0,"",0,"",0,"",null,{"$f":"'Schedule Setup'!H15","v":"00:00:00"},{"$f":"'Schedule Setup'!I15","v":"00:00:00"},-2.0833333333333332E-2,"00:30:00"]
[12,{"$f":"IF(VLOOKUP($A64,'Schedule Setup'!$A$4:$E$39,2,FALSE)=0,\"\",VLOOKUP($A64,'Schedule Setup'!$A$4:$E$39,2,FALSE))","v":""},{"$f":"IF(VLOOKUP($A64,'Schedule Setup'!$A$4:$E$39,4,FALSE)=0,\"\",VLOOKUP($A64,'Schedule Setup'!$A$4:$E$39,4,FALSE))","v":""},"",null,null,null,"x","x","x","x","x","x","x","x","x","x","x","x","x","x","x","x","x","x","x","x","x","x","x","x","x","x","x","x","x","x","x","x","x","x","x","x","x","x",0,null,"x","x","x","x","x","x","x","x","x","x","x","x","x","x","x","x","x","x","x","x","x","x","x","x","x","x","x","x","x","x","x","x","x","x","x","x","x","x",null,0,0,0,0,0,0,0,0,0,0,0,0,0,0,0,0,0,0,0,0,0,0,0,0,0,0,0,0,0,0,0,0,0,0,0,0,0,0,null,{"$f":"IF(VLOOKUP($A64,'Schedule Setup'!$A$4:$E$39,5,FALSE)=0,\"\",VLOOKUP($A64,'Schedule Setup'!$A$4:$E$39,5,FALSE))","v":""},0,"",0,"",0,"",0,"",null,0,"",0,"",0,"",0,"",null,{"$f":"'Schedule Setup'!H16","v":"00:00:00"},{"$f":"'Schedule Setup'!I16","v":"00:00:00"},-2.0833333333333332E-2,"00:30:00"]
[13,{"$f":"IF(VLOOKUP($A65,'Schedule Setup'!$A$4:$E$39,2,FALSE)=0,\"\",VLOOKUP($A65,'Schedule Setup'!$A$4:$E$39,2,FALSE))","v":""},{"$f":"IF(VLOOKUP($A65,'Schedule Setup'!$A$4:$E$39,4,FALSE)=0,\"\",VLOOKUP($A65,'Schedule Setup'!$A$4:$E$39,4,FALSE))","v":""},"",null,null,null,"x","x","x","x","x","x","x","x","x","x","x","x","x","x","x","x","x","x","x","x","x","x","x","x","x","x","x","x","x","x","x","x","x","x","x","x","x","x",0,null,"x","x","x","x","x","x","x","x","x","x","x","x","x","x","x","x","x","x","x","x","x","x","x","x","x","x","x","x","x","x","x","x","x","x","x","x","x","x",null,0,0,0,0,0,0,0,0,0,0,0,0,0,0,0,0,0,0,0,0,0,0,0,0,0,0,0,0,0,0,0,0,0,0,0,0,0,0,null,{"$f":"IF(VLOOKUP($A65,'Schedule Setup'!$A$4:$E$39,5,FALSE)=0,\"\",VLOOKUP($A65,'Schedule Setup'!$A$4:$E$39,5,FALSE))","v":""},0,"",0,"",0,"",0,"",null,0,"",0,"",0,"",0,"",null,{"$f":"'Schedule Setup'!H17","v":"00:00:00"},{"$f":"'Schedule Setup'!I17","v":"00:00:00"},-2.0833333333333332E-2,"00:30:00"]
[14,{"$f":"IF(VLOOKUP($A66,'Schedule Setup'!$A$4:$E$39,2,FALSE)=0,\"\",VLOOKUP($A66,'Schedule Setup'!$A$4:$E$39,2,FALSE))","v":"Matt Louden"},{"$f":"IF(VLOOKUP($A66,'Schedule Setup'!$A$4:$E$39,4,FALSE)=0,\"\",VLOOKUP($A66,'Schedule Setup'!$A$4:$E$39,4,FALSE))","v":"Team Member"},"TM",null,null,null,"x","x","x","x","","","","","","","","","","","","","","","","","","","","x","x","x","x","x","x","x","x","x","x","x","x","x","x","x",0,null,"x","x","x","x","","","","","","","","","","","","","","","","","","","","x","x","x","x","x","x","x","x","x","x","x","x","x","x","x",null,0,0,0,0,0,0,0,0,0,0,0,0,0,0,0,0,0,0,0,0,0,0,0,0,0,0,0,0,0,0,0,0,0,0,0,0,0,0,null,{"$f":"IF(VLOOKUP($A66,'Schedule Setup'!$A$4:$E$39,5,FALSE)=0,\"\",VLOOKUP($A66,'Schedule Setup'!$A$4:$E$39,5,FALSE))","v":""},0,"",0,"",0,"",0,"",null,0,"",0,"",0,"",0,"",null,{"$f":"'Schedule Setup'!H18","v":"07:00:00"},{"$f":"'Schedule Setup'!I18","v":"16:30:00"},"06:30:00","17:00:00"]
[15,{"$f":"IF(VLOOKUP($A67,'Schedule Setup'!$A$4:$E$39,2,FALSE)=0,\"\",VLOOKUP($A67,'Schedule Setup'!$A$4:$E$39,2,FALSE))","v":"Ani Reyes"},{"$f":"IF(VLOOKUP($A67,'Schedule Setup'!$A$4:$E$39,4,FALSE)=0,\"\",VLOOKUP($A67,'Schedule Setup'!$A$4:$E$39,4,FALSE))","v":"Team Member"},"TM","15:00:00","18:30:00",null,"x","x","x","x","x","x","x","x","x","x","x","x","x","x","x","x","x","x","x","x","x","TM","TM","TM","TM","TM","TM","","","","","x","x","x","x","x","x","x",3,null,"x","x","x","x","x","x","x","x","x","x","x","x","x","x","x","x","x","x","x","x","x","TM","TM","TM","TM","TM","TM","","","","","x","x","x","x","x","x","x",null,0,0,0,0,0,0,0,0,0,0,0,0,0,0,0,0,0,0,0,0,0,0.5,0.5,0.5,0.5,0.5,0.5,0,0,0,0,0,0,0,0,0,0,0,null,{"$f":"IF(VLOOKUP($A67,'Schedule Setup'!$A$4:$E$39,5,FALSE)=0,\"\",VLOOKUP($A67,'Schedule Setup'!$A$4:$E$39,5,FALSE))","v":""},0,"",1.5,"",1.5,"",3,"",null,0,"",1.5,"",1.5,"",3,"",null,{"$f":"'Schedule Setup'!H19","v":"15:30:00"},{"$f":"'Schedule Setup'!I19","v":"20:30:00"},"15:00:00","21:00:00"]
[16,{"$f":"IF(VLOOKUP($A68,'Schedule Setup'!$A$4:$E$39,2,FALSE)=0,\"\",VLOOKUP($A68,'Schedule Setup'!$A$4:$E$39,2,FALSE))","v":"Andrew Philips"},{"$f":"IF(VLOOKUP($A68,'Schedule Setup'!$A$4:$E$39,4,FALSE)=0,\"\",VLOOKUP($A68,'Schedule Setup'!$A$4:$E$39,4,FALSE))","v":"Team Member"},"TM",null,null,null,"x","x","x","x","x","x","x","x","x","x","x","x","x","x","x","x","x","x","x","x","x","x","","","","","","","","","","x","x","x","x","x","x","x",0,null,"x","x","x","x","x","x","x","x","x","x","x","x","x","x","x","x",{"$f":"IF(AND($EO68<=X$6+0.01,$EP68>X$6+0.01),IF(AND(X$6<$F68-0.01,X$6>=$E68-0.01),$D68,\"\"),\"x\")","v":"x"},{"$f":"IF(AND($EO68<=Y$6+0.01,$EP68>Y$6+0.01),IF(AND(Y$6<$F68-0.01,Y$6>=$E68-0.01),$D68,\"\"),\"x\")","v":"x"},{"$f":"IF(AND($EO68<=Z$6+0.01,$EP68>Z$6+0.01),IF(AND(Z$6<$F68-0.01,Z$6>=$E68-0.01),$D68,\"\"),\"x\")","v":"x"},{"$f":"IF(AND($EO68<=AA$6+0.01,$EP68>AA$6+0.01),IF(AND(AA$6<$F68-0.01,AA$6>=$E68-0.01),$D68,\"\"),\"x\")","v":"x"},{"$f":"IF(AND($EO68<=AB$6+0.01,$EP68>AB$6+0.01),IF(AND(AB$6<$F68-0.01,AB$6>=$E68-0.01),$D68,\"\"),\"x\")","v":"x"},{"$f":"IF(AND($EO68<=AC$6+0.01,$EP68>AC$6+0.01),IF(AND(AC$6<$F68-0.01,AC$6>=$E68-0.01),$D68,\"\"),\"x\")","v":"x"},{"$f":"IF(AND($EO68<=AD$6+0.01,$EP68>AD$6+0.01),IF(AND(AD$6<$F68-0.01,AD$6>=$E68-0.01),$D68,\"\"),\"x\")","v":""},{"$f":"IF(AND($EO68<=AE$6+0.01,$EP68>AE$6+0.01),IF(AND(AE$6<$F68-0.01,AE$6>=$E68-0.01),$D68,\"\"),\"x\")","v":""},{"$f":"IF(AND($EO68<=AF$6+0.01,$EP68>AF$6+0.01),IF(AND(AF$6<$F68-0.01,AF$6>=$E68-0.01),$D68,\"\"),\"x\")","v":""},{"$f":"IF(AND($EO68<=AG$6+0.01,$EP68>AG$6+0.01),IF(AND(AG$6<$F68-0.01,AG$6>=$E68-0.01),$D68,\"\"),\"x\")","v":""},{"$f":"IF(AND($EO68<=AH$6+0.01,$EP68>AH$6+0.01),IF(AND(AH$6<$F68-0.01,AH$6>=$E68-0.01),$D68,\"\"),\"x\")","v":""},{"$f":"IF(AND($EO68<=AI$6+0.01,$EP68>AI$6+0.01),IF(AND(AI$6<$F68-0.01,AI$6>=$E68-0.01),$D68,\"\"),\"x\")","v":""},{"$f":"IF(AND($EO68<=AJ$6+0.01,$EP68>AJ$6+0.01),IF(AND(AJ$6<$F68-0.01,AJ$6>=$E68-0.01),$D68,\"\"),\"x\")","v":""},{"$f":"IF(AND($EO68<=AK$6+0.01,$EP68>AK$6+0.01),IF(AND(AK$6<$F68-0.01,AK$6>=$E68-0.01),$D68,\"\"),\"x\")","v":""},{"$f":"IF(AND($EO68<=AL$6+0.01,$EP68>AL$6+0.01),IF(AND(AL$6<$F68-0.01,AL$6>=$E68-0.01),$D68,\"\"),\"x\")","v":""},{"$f":"IF(AND($EO68<=AM$6+0.01,$EP68>AM$6+0.01),IF(AND(AM$6<$F68-0.01,AM$6>=$E68-0.01),$D68,\"\"),\"x\")","v":"x"},{"$f":"IF(AND($EO68<=AN$6+0.01,$EP68>AN$6+0.01),IF(AND(AN$6<$F68-0.01,AN$6>=$E68-0.01),$D68,\"\"),\"x\")","v":"x"},"x","x","x","x","x",null,0,0,0,0,0,0,0,0,0,0,0,0,0,0,0,0,0,0,0,0,0,0,0,0,0,0,0,0,0,0,0,0,0,0,0,0,0,0,null,{"$f":"IF(VLOOKUP($A68,'Schedule Setup'!$A$4:$E$39,5,FALSE)=0,\"\",VLOOKUP($A68,'Schedule Setup'!$A$4:$E$39,5,FALSE))","v":""},0,"",0,"",0,"",0,"",null,0,"",0,"",0,"",0,"",null,{"$f":"'Schedule Setup'!H20","v":"16:00:00"},{"$f":"'Schedule Setup'!I20","v":"20:30:00"},{"$f":"EO68-(0.5/24)","v":"15:30:00"},{"$f":"EP68+(0.5/24)","v":"21:00:00"}]
[17,{"$f":"IF(VLOOKUP($A69,'Schedule Setup'!$A$4:$E$39,2,FALSE)=0,\"\",VLOOKUP($A69,'Schedule Setup'!$A$4:$E$39,2,FALSE))","v":""},{"$f":"IF(VLOOKUP($A69,'Schedule Setup'!$A$4:$E$39,4,FALSE)=0,\"\",VLOOKUP($A69,'Schedule Setup'!$A$4:$E$39,4,FALSE))","v":""},"",null,null,null,"x","x","x","x","x","x","x","x","x","x","x","x","x","x","x","x","x","x","x","x","x","x","x","x","x","x","x","x","x","x","x","x","x","x","x","x","x","x",0,null,{"$f":"IF(AND($EO69<=H$6+0.01,$EP69>H$6+0.01),IF(AND(H$6<$F69-0.01,H$6>=$E69-0.01),$D69,\"\"),\"x\")","v":"x"},{"$f":"IF(AND($EO69<=I$6+0.01,$EP69>I$6+0.01),IF(AND(I$6<$F69-0.01,I$6>=$E69-0.01),$D69,\"\"),\"x\")","v":"x"},{"$f":"IF(AND($EO69<=J$6+0.01,$EP69>J$6+0.01),IF(AND(J$6<$F69-0.01,J$6>=$E69-0.01),$D69,\"\"),\"x\")","v":"x"},{"$f":"IF(AND($EO69<=K$6+0.01,$EP69>K$6+0.01),IF(AND(K$6<$F69-0.01,K$6>=$E69-0.01),$D69,\"\"),\"x\")","v":"x"},{"$f":"IF(AND($EO69<=L$6+0.01,$EP69>L$6+0.01),IF(AND(L$6<$F69-0.01,L$6>=$E69-0.01),$D69,\"\"),\"x\")","v":"x"},{"$f":"IF(AND($EO69<=M$6+0.01,$EP69>M$6+0.01),IF(AND(M$6<$F69-0.01,M$6>=$E69-0.01),$D69,\"\"),\"x\")","v":"x"},{"$f":"IF(AND($EO69<=N$6+0.01,$EP69>N$6+0.01),IF(AND(N$6<$F69-0.01,N$6>=$E69-0.01),$D69,\"\"),\"x\")","v":"x"},{"$f":"IF(AND($EO69<=O$6+0.01,$EP69>O$6+0.01),IF(AND(O$6<$F69-0.01,O$6>=$E69-0.01),$D69,\"\"),\"x\")","v":"x"},{"$f":"IF(AND($EO69<=P$6+0.01,$EP69>P$6+0.01),IF(AND(P$6<$F69-0.01,P$6>=$E69-0.01),$D69,\"\"),\"x\")","v":"x"},{"$f":"IF(AND($EO69<=Q$6+0.01,$EP69>Q$6+0.01),IF(AND(Q$6<$F69-0.01,Q$6>=$E69-0.01),$D69,\"\"),\"x\")","v":"x"},{"$f":"IF(AND($EO69<=R$6+0.01,$EP69>R$6+0.01),IF(AND(R$6<$F69-0.01,R$6>=$E69-0.01),$D69,\"\"),\"x\")","v":"x"},{"$f":"IF(AND($EO69<=S$6+0.01,$EP69>S$6+0.01),IF(AND(S$6<$F69-0.01,S$6>=$E69-0.01),$D69,\"\"),\"x\")","v":"x"},{"$f":"IF(AND($EO69<=T$6+0.01,$EP69>T$6+0.01),IF(AND(T$6<$F69-0.01,T$6>=$E69-0.01),$D69,\"\"),\"x\")","v":"x"},{"$f":"IF(AND($EO69<=U$6+0.01,$EP69>U$6+0.01),IF(AND(U$6<$F69-0.01,U$6>=$E69-0.01),$D69,\"\"),\"x\")","v":"x"},{"$f":"IF(AND($EO69<=V$6+0.01,$EP69>V$6+0.01),IF(AND(V$6<$F69-0.01,V$6>=$E69-0.01),$D69,\"\"),\"x\")","v":"x"},{"$f":"IF(AND($EO69<=W$6+0.01,$EP69>W$6+0.01),IF(AND(W$6<$F69-0.01,W$6>=$E69-0.01),$D69,\"\"),\"x\")","v":"x"},"x","x","x","x","x","x","x","x","x","x","x","x","x","x","x","x","x","x","x","x","x","x",null,0,0,0,0,0,0,0,0,0,0,0,0,0,0,0,0,0,0,0,0,0,0,0,0,0,0,0,0,0,0,0,0,0,0,0,0,0,0,null,{"$f":"IF(VLOOKUP($A69,'Schedule Setup'!$A$4:$E$39,5,FALSE)=0,\"\",VLOOKUP($A69,'Schedule Setup'!$A$4:$E$39,5,FALSE))","v":""},0,"",0,"",0,"",0,"",null,0,"",0,"",0,"",0,"",null,{"$f":"'Schedule Setup'!H21","v":"00:00:00"},{"$f":"'Schedule Setup'!I21","v":"00:00:00"},-2.0833333333333332E-2,"00:30:00"]
[18,{"$f":"IF(VLOOKUP($A70,'Schedule Setup'!$A$4:$E$39,2,FALSE)=0,\"\",VLOOKUP($A70,'Schedule Setup'!$A$4:$E$39,2,FALSE))","v":""},{"$f":"IF(VLOOKUP($A70,'Schedule Setup'!$A$4:$E$39,4,FALSE)=0,\"\",VLOOKUP($A70,'Schedule Setup'!$A$4:$E$39,4,FALSE))","v":""},"",null,null,null,"x","x","x","x","x","x","x","x","x","x","x","x","x","x","x","x","x","x","x","x","x","x","x","x","x","x","x","x","x","x","x","x","x","x","x","x","x","x",0,null,"x","x","x","x","x","x","x","x","x","x","x","x","x","x","x","x","x","x","x","x","x","x","x","x","x","x","x","x","x","x","x","x","x","x","x","x","x","x",null,0,0,0,0,0,0,0,0,0,0,0,0,0,0,0,0,0,0,0,0,0,0,0,0,0,0,0,0,0,0,0,0,0,0,0,0,0,0,null,{"$f":"IF(VLOOKUP($A70,'Schedule Setup'!$A$4:$E$39,5,FALSE)=0,\"\",VLOOKUP($A70,'Schedule Setup'!$A$4:$E$39,5,FALSE))","v":""},0,"",0,"",0,"",0,"",null,0,"",0,"",0,"",0,"",null,{"$f":"'Schedule Setup'!H22","v":"00:00:00"},{"$f":"'Schedule Setup'!I22","v":"00:00:00"},-2.0833333333333332E-2,"00:30:00"]
[19,{"$f":"IF(VLOOKUP($A71,'Schedule Setup'!$A$4:$E$39,2,FALSE)=0,\"\",VLOOKUP($A71,'Schedule Setup'!$A$4:$E$39,2,FALSE))","v":"."},{"$f":"IF(VLOOKUP($A71,'Schedule Setup'!$A$4:$E$39,4,FALSE)=0,\"\",VLOOKUP($A71,'Schedule Setup'!$A$4:$E$39,4,FALSE))","v":""},"TM",null,null,null,"x","x","x","x","x","x","x","x","x","x","x","x","x","x","x","x","x","x","x","x","x","x","x","x","x","x","x","x","x","x","x","x","x","x","x","x","x","x",0,null,"x","x","x","x","x","x","x","x","x","x","x","x","x","x","x","x","x","x","x","x","x","x","x","x","x","x","x","x","x","x","x","x","x","x","x","x","x","x",null,0,0,0,0,0,0,0,0,0,0,0,0,0,0,0,0,0,0,0,0,0,0,0,0,0,0,0,0,0,0,0,0,0,0,0,0,0,0,null,{"$f":"IF(VLOOKUP($A71,'Schedule Setup'!$A$4:$E$39,5,FALSE)=0,\"\",VLOOKUP($A71,'Schedule Setup'!$A$4:$E$39,5,FALSE))","v":""},0,"",0,"",0,"",0,"",null,0,"",0,"",0,"",0,"",null,{"$f":"'Schedule Setup'!H23","v":"00:00:00"},{"$f":"'Schedule Setup'!I23","v":"00:00:00"},-2.0833333333333332E-2,"00:30:00"]
[20,{"$f":"IF(VLOOKUP($A72,'Schedule Setup'!$A$4:$E$39,2,FALSE)=0,\"\",VLOOKUP($A72,'Schedule Setup'!$A$4:$E$39,2,FALSE))","v":"Sean Duncan"},{"$f":"IF(VLOOKUP($A72,'Schedule Setup'!$A$4:$E$39,4,FALSE)=0,\"\",VLOOKUP($A72,'Schedule Setup'!$A$4:$E$39,4,FALSE))","v":"Team Lead"},"TL",null,null,null,"x","x","x","x","x","x","x","x","x","x","x","x","x","x","x","x","x","x","x","x","x","x","x","x","x","x","x","x","x","x","x","x","x","x","x","x","x","x",0,null,"x","x","x","x","x","x","x","x","x","x","x","x","x","x","x","x","x","x","x","x","x","x","x","x","x","x","x","x","x","x","x","x","x","x","x","x","x","x",null,0,0,0,0,0,0,0,0,0,0,0,0,0,0,0,0,0,0,0,0,0,0,0,0,0,0,0,0,0,0,0,0,0,0,0,0,0,0,null,{"$f":"IF(VLOOKUP($A72,'Schedule Setup'!$A$4:$E$39,5,FALSE)=0,\"\",VLOOKUP($A72,'Schedule Setup'!$A$4:$E$39,5,FALSE))","v":""},0,"",0,"",0,"",0,"",null,0,"",0,"",0,"",0,"",null,{"$f":"'Schedule Setup'!H24","v":"00:00:00"},{"$f":"'Schedule Setup'!I24","v":"00:00:00"},-2.0833333333333332E-2,"00:30:00"]
[21,{"$f":"IF(VLOOKUP($A73,'Schedule Setup'!$A$4:$E$39,2,FALSE)=0,\"\",VLOOKUP($A73,'Schedule Setup'!$A$4:$E$39,2,FALSE))","v":""},{"$f":"IF(VLOOKUP($A73,'Schedule Setup'!$A$4:$E$39,4,FALSE)=0,\"\",VLOOKUP($A73,'Schedule Setup'!$A$4:$E$39,4,FALSE))","v":""},"",null,null,null,"x","x","x","x","x","x","x","x","x","x","x","x","x","x","x","x","x","x","x","x","x","x","x","x","x","x","x","x","x","x","x","x","x","x","x","x","x","x",0,null,"x","x","x","x","x","x","x","x","x","x","x","x","x","x","x","x","x","x","x","x","x","x","x","x","x","x","x","x","x","x","x","x","x","x","x","x","x","x",null,0,0,0,0,0,0,0,0,0,0,0,0,0,0,0,0,0,0,0,0,0,0,0,0,0,0,0,0,0,0,0,0,0,0,0,0,0,0,null,{"$f":"IF(VLOOKUP($A73,'Schedule Setup'!$A$4:$E$39,5,FALSE)=0,\"\",VLOOKUP($A73,'Schedule Setup'!$A$4:$E$39,5,FALSE))","v":""},0,"",0,"",0,"",0,"",null,0,"",0,"",0,"",0,"",null,{"$f":"'Schedule Setup'!H25","v":"00:00:00"},{"$f":"'Schedule Setup'!I25","v":"00:00:00"},-2.0833333333333332E-2,"00:30:00"]
[22,{"$f":"IF(VLOOKUP($A74,'Schedule Setup'!$A$4:$E$39,2,FALSE)=0,\"\",VLOOKUP($A74,'Schedule Setup'!$A$4:$E$39,2,FALSE))","v":""},{"$f":"IF(VLOOKUP($A74,'Schedule Setup'!$A$4:$E$39,4,FALSE)=0,\"\",VLOOKUP($A74,'Schedule Setup'!$A$4:$E$39,4,FALSE))","v":""},"",null,null,null,"x","x","x","x","x","x","x","x","x","x","x","x","x","x","x","x","x","x","x","x","x","x","x","x","x","x","x","x","x","x","x","x","x","x","x","x","x","x",0,null,"x","x","x","x","x","x","x","x","x","x","x","x","x","x","x","x","x","x","x","x","x","x","x","x","x","x","x","x","x","x","x","x","x","x","x","x","x","x",null,0,0,0,0,0,0,0,0,0,0,0,0,0,0,0,0,0,0,0,0,0,0,0,0,0,0,0,0,0,0,0,0,0,0,0,0,0,0,null,{"$f":"IF(VLOOKUP($A74,'Schedule Setup'!$A$4:$E$39,5,FALSE)=0,\"\",VLOOKUP($A74,'Schedule Setup'!$A$4:$E$39,5,FALSE))","v":""},0,"",0,"",0,"",0,"",null,0,"",0,"",0,"",0,"",null,{"$f":"'Schedule Setup'!H26","v":"00:00:00"},{"$f":"'Schedule Setup'!I26","v":"00:00:00"},-2.0833333333333332E-2,"00:30:00"]
[23,{"$f":"IF(VLOOKUP($A75,'Schedule Setup'!$A$4:$E$39,2,FALSE)=0,\"\",VLOOKUP($A75,'Schedule Setup'!$A$4:$E$39,2,FALSE))","v":""},{"$f":"IF(VLOOKUP($A75,'Schedule Setup'!$A$4:$E$39,4,FALSE)=0,\"\",VLOOKUP($A75,'Schedule Setup'!$A$4:$E$39,4,FALSE))","v":""},"",null,null,null,"x","x","x","x","x","x","x","x","x","x","x","x","x","x","x","x","x","x","x","x","x","x","x","x","x","x","x","x","x","x",{"$f":"BZ75","v":"x"},"x","x","x","x","x","x","x",0,null,"x","x","x","x","x","x","x","x","x","x","x","x","x","x","x","x","x","x","x","x","x","x","x","x","x","x","x","x","x","x","x","x","x","x","x","x","x","x",null,0,0,0,0,0,0,0,0,0,0,0,0,0,0,0,0,0,0,0,0,0,0,0,0,0,0,0,0,0,0,0,0,0,0,0,0,0,0,null,{"$f":"IF(VLOOKUP($A75,'Schedule Setup'!$A$4:$E$39,5,FALSE)=0,\"\",VLOOKUP($A75,'Schedule Setup'!$A$4:$E$39,5,FALSE))","v":""},0,"",0,"",0,"",0,"",null,0,"",0,"",0,"",0,"",null,{"$f":"'Schedule Setup'!H27","v":"00:00:00"},{"$f":"'Schedule Setup'!I27","v":"00:00:00"},-2.0833333333333332E-2,"00:30:00"]
[24,{"$f":"IF(VLOOKUP($A76,'Schedule Setup'!$A$4:$E$39,2,FALSE)=0,\"\",VLOOKUP($A76,'Schedule Setup'!$A$4:$E$39,2,FALSE))","v":""},{"$f":"IF(VLOOKUP($A76,'Schedule Setup'!$A$4:$E$39,4,FALSE)=0,\"\",VLOOKUP($A76,'Schedule Setup'!$A$4:$E$39,4,FALSE))","v":""},"",null,null,null,"x","x","x","x","x","x","x","x","x","x","x","x","x","x","x","x",{"$f":"BL76","v":"x"},"x","x","x","x","x","x","x","x","x","x","x","x","x","x","x","x","x","x","x","x","x",0,null,"x","x","x","x","x","x","x","x","x","x","x","x","x","x","x","x","x","x","x","x","x","x","x","x","x","x","x","x","x","x","x","x","x","x","x","x","x","x",null,0,0,0,0,0,0,0,0,0,0,0,0,0,0,0,0,0,0,0,0,0,0,0,0,0,0,0,0,0,0,0,0,0,0,0,0,0,0,null,{"$f":"IF(VLOOKUP($A76,'Schedule Setup'!$A$4:$E$39,5,FALSE)=0,\"\",VLOOKUP($A76,'Schedule Setup'!$A$4:$E$39,5,FALSE))","v":""},0,"",0,"",0,"",0,"",null,0,"",0,"",0,"",0,"",null,{"$f":"'Schedule Setup'!H28","v":"00:00:00"},{"$f":"'Schedule Setup'!I28","v":"00:00:00"},-2.0833333333333332E-2,"00:30:00"]
[25,{"$f":"IF(VLOOKUP($A77,'Schedule Setup'!$A$4:$E$39,2,FALSE)=0,\"\",VLOOKUP($A77,'Schedule Setup'!$A$4:$E$39,2,FALSE))","v":""},{"$f":"IF(VLOOKUP($A77,'Schedule Setup'!$A$4:$E$39,4,FALSE)=0,\"\",VLOOKUP($A77,'Schedule Setup'!$A$4:$E$39,4,FALSE))","v":""},{"$f":"IF(B77<>\"\",IF(OR(C77=\"General Manager (S)\", C77=\"General Manager (H)\"), \"GM\",IF(C77=\"Acting Manager\",\"AM\",IF(C77=\"Shift Manager\",\"SM\",IF(C77=\"Team Lead\",\"TL\",\"TM\")))),\"\")","v":""},null,null,null,{"$f":"AV77","v":"x"},"x","x","x","x","x","x","x","x","x","x","x","x","x","x","x",{"$f":"BL77","v":"x"},{"$f":"BM77","v":"x"},{"$f":"BN77","v":"x"},{"$f":"BO77","v":"x"},{"$f":"BP77","v":"x"},{"$f":"BQ77","v":"x"},{"$f":"BR77","v":"x"},{"$f":"BS77","v":"x"},{"$f":"BT77","v":"x"},{"$f":"BU77","v":"x"},{"$f":"BV77","v":"x"},{"$f":"BW77","v":"x"},{"$f":"BX77","v":"x"},{"$f":"BY77","v":"x"},{"$f":"BZ77","v":"x"},{"$f":"CA77","v":"x"},{"$f":"CB77","v":"x"},{"$f":"CC77","v":"x"},{"$f":"CD77","v":"x"},{"$f":"CE77","v":"x"},{"$f":"CF77","v":"x"},{"$f":"CG77","v":"x"},{"$f":"EC77","v":0},null,{"$f":"IF(AND($EO77<=H$6+0.01,$EP77>H$6+0.01),IF(AND(H$6<$F77-0.01,H$6>=$E77-0.01),$D77,\"\"),\"x\")","v":"x"},{"$f":"IF(AND($EO77<=I$6+0.01,$EP77>I$6+0.01),IF(AND(I$6<$F77-0.01,I$6>=$E77-0.01),$D77,\"\"),\"x\")","v":"x"},{"$f":"IF(AND($EO77<=J$6+0.01,$EP77>J$6+0.01),IF(AND(J$6<$F77-0.01,J$6>=$E77-0.01),$D77,\"\"),\"x\")","v":"x"},{"$f":"IF(AND($EO77<=K$6+0.01,$EP77>K$6+0.01),IF(AND(K$6<$F77-0.01,K$6>=$E77-0.01),$D77,\"\"),\"x\")","v":"x"},{"$f":"IF(AND($EO77<=L$6+0.01,$EP77>L$6+0.01),IF(AND(L$6<$F77-0.01,L$6>=$E77-0.01),$D77,\"\"),\"x\")","v":"x"},{"$f":"IF(AND($EO77<=M$6+0.01,$EP77>M$6+0.01),IF(AND(M$6<$F77-0.01,M$6>=$E77-0.01),$D77,\"\"),\"x\")","v":"x"},{"$f":"IF(AND($EO77<=N$6+0.01,$EP77>N$6+0.01),IF(AND(N$6<$F77-0.01,N$6>=$E77-0.01),$D77,\"\"),\"x\")","v":"x"},{"$f":"IF(AND($EO77<=O$6+0.01,$EP77>O$6+0.01),IF(AND(O$6<$F77-0.01,O$6>=$E77-0.01),$D77,\"\"),\"x\")","v":"x"},{"$f":"IF(AND($EO77<=P$6+0.01,$EP77>P$6+0.01),IF(AND(P$6<$F77-0.01,P$6>=$E77-0.01),$D77,\"\"),\"x\")","v":"x"},{"$f":"IF(AND($EO77<=Q$6+0.01,$EP77>Q$6+0.01),IF(AND(Q$6<$F77-0.01,Q$6>=$E77-0.01),$D77,\"\"),\"x\")","v":"x"},{"$f":"IF(AND($EO77<=R$6+0.01,$EP77>R$6+0.01),IF(AND(R$6<$F77-0.01,R$6>=$E77-0.01),$D77,\"\"),\"x\")","v":"x"},{"$f":"IF(AND($EO77<=S$6+0.01,$EP77>S$6+0.01),IF(AND(S$6<$F77-0.01,S$6>=$E77-0.01),$D77,\"\"),\"x\")","v":"x"},{"$f":"IF(AND($EO77<=T$6+0.01,$EP77>T$6+0.01),IF(AND(T$6<$F77-0.01,T$6>=$E77-0.01),$D77,\"\"),\"x\")","v":"x"},{"$f":"IF(AND($EO77<=U$6+0.01,$EP77>U$6+0.01),IF(AND(U$6<$F77-0.01,U$6>=$E77-0.01),$D77,\"\"),\"x\")","v":"x"},{"$f":"IF(AND($EO77<=V$6+0.01,$EP77>V$6+0.01),IF(AND(V$6<$F77-0.01,V$6>=$E77-0.01),$D77,\"\"),\"x\")","v":"x"},{"$f":"IF(AND($EO77<=W$6+0.01,$EP77>W$6+0.01),IF(AND(W$6<$F77-0.01,W$6>=$E77-0.01),$D77,\"\"),\"x\")","v":"x"},{"$f":"IF(AND($EO77<=X$6+0.01,$EP77>X$6+0.01),IF(AND(X$6<$F77-0.01,X$6>=$E77-0.01),$D77,\"\"),\"x\")","v":"x"},{"$f":"IF(AND($EO77<=Y$6+0.01,$EP77>Y$6+0.01),IF(AND(Y$6<$F77-0.01,Y$6>=$E77-0.01),$D77,\"\"),\"x\")","v":"x"},{"$f":"IF(AND($EO77<=Z$6+0.01,$EP77>Z$6+0.01),IF(AND(Z$6<$F77-0.01,Z$6>=$E77-0.01),$D77,\"\"),\"x\")","v":"x"},{"$f":"IF(AND($EO77<=AA$6+0.01,$EP77>AA$6+0.01),IF(AND(AA$6<$F77-0.01,AA$6>=$E77-0.01),$D77,\"\"),\"x\")","v":"x"},{"$f":"IF(AND($EO77<=AB$6+0.01,$EP77>AB$6+0.01),IF(AND(AB$6<$F77-0.01,AB$6>=$E77-0.01),$D77,\"\"),\"x\")","v":"x"},{"$f":"IF(AND($EO77<=AC$6+0.01,$EP77>AC$6+0.01),IF(AND(AC$6<$F77-0.01,AC$6>=$E77-0.01),$D77,\"\"),\"x\")","v":"x"},{"$f":"IF(AND($EO77<=AD$6+0.01,$EP77>AD$6+0.01),IF(AND(AD$6<$F77-0.01,AD$6>=$E77-0.01),$D77,\"\"),\"x\")","v":"x"},{"$f":"IF(AND($EO77<=AE$6+0.01,$EP77>AE$6+0.01),IF(AND(AE$6<$F77-0.01,AE$6>=$E77-0.01),$D77,\"\"),\"x\")","v":"x"},{"$f":"IF(AND($EO77<=AF$6+0.01,$EP77>AF$6+0.01),IF(AND(AF$6<$F77-0.01,AF$6>=$E77-0.01),$D77,\"\"),\"x\")","v":"x"},{"$f":"IF(AND($EO77<=AG$6+0.01,$EP77>AG$6+0.01),IF(AND(AG$6<$F77-0.01,AG$6>=$E77-0.01),$D77,\"\"),\"x\")","v":"x"},{"$f":"IF(AND($EO77<=AH$6+0.01,$EP77>AH$6+0.01),IF(AND(AH$6<$F77-0.01,AH$6>=$E77-0.01),$D77,\"\"),\"x\")","v":"x"},{"$f":"IF(AND($EO77<=AI$6+0.01,$EP77>AI$6+0.01),IF(AND(AI$6<$F77-0.01,AI$6>=$E77-0.01),$D77,\"\"),\"x\")","v":"x"},{"$f":"IF(AND($EO77<=AJ$6+0.01,$EP77>AJ$6+0.01),IF(AND(AJ$6<$F77-0.01,AJ$6>=$E77-0.01),$D77,\"\"),\"x\")","v":"x"},{"$f":"IF(AND($EO77<=AK$6+0.01,$EP77>AK$6+0.01),IF(AND(AK$6<$F77-0.01,AK$6>=$E77-0.01),$D77,\"\"),\"x\")","v":"x"},{"$f":"IF(AND($EO77<=AL$6+0.01,$EP77>AL$6+0.01),IF(AND(AL$6<$F77-0.01,AL$6>=$E77-0.01),$D77,\"\"),\"x\")","v":"x"},{"$f":"IF(AND($EO77<=AM$6+0.01,$EP77>AM$6+0.01),IF(AND(AM$6<$F77-0.01,AM$6>=$E77-0.01),$D77,\"\"),\"x\")","v":"x"},{"$f":"IF(AND($EO77<=AN$6+0.01,$EP77>AN$6+0.01),IF(AND(AN$6<$F77-0.01,AN$6>=$E77-0.01),$D77,\"\"),\"x\")","v":"x"},{"$f":"IF(AND($EO77<=AO$6+0.01,$EP77>AO$6+0.01),IF(AND(AO$6<$F77-0.01,AO$6>=$E77-0.01),$D77,\"\"),\"x\")","v":"x"},{"$f":"IF(AND($EO77<=AP$6+0.01,$EP77>AP$6+0.01),IF(AND(AP$6<$F77-0.01,AP$6>=$E77-0.01),$D77,\"\"),\"x\")","v":"x"},{"$f":"IF(AND($EO77<=AQ$6+0.01,$EP77>AQ$6+0.01),IF(AND(AQ$6<$F77-0.01,AQ$6>=$E77-0.01),$D77,\"\"),\"x\")","v":"x"},{"$f":"IF(AND($EO77<=AR$6+0.01,$EP77>AR$6+0.01),IF(AND(AR$6<$F77-0.01,AR$6>=$E77-0.01),$D77,\"\"),\"x\")","v":"x"},{"$f":"IF(AND($EO77<=AS$6+0.01,$EP77>AS$6+0.01),IF(AND(AS$6<$F77-0.01,AS$6>=$E77-0.01),$D77,\"\"),\"x\")","v":"x"},null,{"$f":"IF(AND(AV77<>\"\",AV77<>\"x\"),0.5,)","v":0},{"$f":"IF(AND(AW77<>\"\",AW77<>\"x\"),0.5,)","v":0},{"$f":"IF(AND(AX77<>\"\",AX77<>\"x\"),0.5,)","v":0},{"$f":"IF(AND(AY77<>\"\",AY77<>\"x\"),0.5,)","v":0},{"$f":"IF(AND(AZ77<>\"\",AZ77<>\"x\"),0.5,)","v":0},{"$f":"IF(AND(BA77<>\"\",BA77<>\"x\"),0.5,)","v":0},{"$f":"IF(AND(BB77<>\"\",BB77<>\"x\"),0.5,)","v":0},{"$f":"IF(AND(BC77<>\"\",BC77<>\"x\"),0.5,)","v":0},{"$f":"IF(AND(BD77<>\"\",BD77<>\"x\"),0.5,)","v":0},{"$f":"IF(AND(BE77<>\"\",BE77<>\"x\"),0.5,)","v":0},{"$f":"IF(AND(BF77<>\"\",BF77<>\"x\"),0.5,)","v":0},{"$f":"IF(AND(BG77<>\"\",BG77<>\"x\"),0.5,)","v":0},{"$f":"IF(AND(BH77<>\"\",BH77<>\"x\"),0.5,)","v":0},{"$f":"IF(AND(BI77<>\"\",BI77<>\"x\"),0.5,)","v":0},{"$f":"IF(AND(BJ77<>\"\",BJ77<>\"x\"),0.5,)","v":0},{"$f":"IF(AND(BK77<>\"\",BK77<>\"x\"),0.5,)","v":0},{"$f":"IF(AND(BL77<>\"\",BL77<>\"x\"),0.5,)","v":0},{"$f":"IF(AND(BM77<>\"\",BM77<>\"x\"),0.5,)","v":0},{"$f":"IF(AND(BN77<>\"\",BN77<>\"x\"),0.5,)","v":0},{"$f":"IF(AND(BO77<>\"\",BO77<>\"x\"),0.5,)","v":0},{"$f":"IF(AND(BP77<>\"\",BP77<>\"x\"),0.5,)","v":0},{"$f":"IF(AND(BQ77<>\"\",BQ77<>\"x\"),0.5,)","v":0},{"$f":"IF(AND(BR77<>\"\",BR77<>\"x\"),0.5,)","v":0},{"$f":"IF(AND(BS77<>\"\",BS77<>\"x\"),0.5,)","v":0},{"$f":"IF(AND(BT77<>\"\",BT77<>\"x\"),0.5,)","v":0},{"$f":"IF(AND(BU77<>\"\",BU77<>\"x\"),0.5,)","v":0},{"$f":"IF(AND(BV77<>\"\",BV77<>\"x\"),0.5,)","v":0},{"$f":"IF(AND(BW77<>\"\",BW77<>\"x\"),0.5,)","v":0},{"$f":"IF(AND(BX77<>\"\",BX77<>\"x\"),0.5,)","v":0},{"$f":"IF(AND(BY77<>\"\",BY77<>\"x\"),0.5,)","v":0},{"$f":"IF(AND(BZ77<>\"\",BZ77<>\"x\"),0.5,)","v":0},{"$f":"IF(AND(CA77<>\"\",CA77<>\"x\"),0.5,)","v":0},{"$f":"IF(AND(CB77<>\"\",CB77<>\"x\"),0.5,)","v":0},{"$f":"IF(AND(CC77<>\"\",CC77<>\"x\"),0.5,)","v":0},{"$f":"IF(AND(CD77<>\"\",CD77<>\"x\"),0.5,)","v":0},{"$f":"IF(AND(CE77<>\"\",CE77<>\"x\"),0.5,)","v":0},{"$f":"IF(AND(CF77<>\"\",CF77<>\"x\"),0.5,)","v":0},{"$f":"IF(AND(CG77<>\"\",CG77<>\"x\"),0.5,)","v":0},null,{"$f":"IF(VLOOKUP($A77,'Schedule Setup'!$A$4:$E$39,5,FALSE)=0,\"\",VLOOKUP($A77,'Schedule Setup'!$A$4:$E$39,5,FALSE))","v":""},{"$f":"SUM(CI77:CT77)","v":0},{"$f":"IFERROR(DW77*$DV77,\"\")","v":""},{"$f":"SUM(CU77:DF77)","v":0},{"$f":"IFERROR(DY77*$DV77,\"\")","v":""},{"$f":"SUM(DG77:DT77)","v":0},{"$f":"IFERROR(EA77*$DV77,\"\")","v":""},{"$f":"SUM(DW77,DY77,EA77)","v":0},{"$f":"IFERROR(EC77*$DV77,\"\")","v":""},null,{"$f":"IF(DW77>5,(DW77-0.5),DW77)","v":0},{"$f":"IFERROR(EF77*$DV77,\"\")","v":""},{"$f":"IF(DY77>5,(DY77-0.5),DY77)","v":0},{"$f":"IFERROR(EH77*$DV77,\"\")","v":""},{"$f":"IF(EA77>5,(EA77-0.5),EA77)","v":0},{"$f":"IFERROR(EJ77*$DV77,\"\")","v":""},{"$f":"SUM(EF77,EH77,EJ77)","v":0},{"$f":"IFERROR(EL77*$DV77,\"\")","v":""},null,{"$f":"'Schedule Setup'!H29","v":"00:00:00"},{"$f":"'Schedule Setup'!I29","v":"00:00:00"},-2.0833333333333332E-2,"00:30:00"]
[26,{"$f":"IF(VLOOKUP($A78,'Schedule Setup'!$A$4:$E$39,2,FALSE)=0,\"\",VLOOKUP($A78,'Schedule Setup'!$A$4:$E$39,2,FALSE))","v":""},{"$f":"IF(VLOOKUP($A78,'Schedule Setup'!$A$4:$E$39,4,FALSE)=0,\"\",VLOOKUP($A78,'Schedule Setup'!$A$4:$E$39,4,FALSE))","v":""},"",null,null,null,"x","x","x","x","x","x","x","x","x","x","x","x","x","x","x","x","x","x","x","x","x","x","x","x","x","x","x","x","x","x","x","x","x","x","x","x","x","x",0,null,"x","x","x","x","x","x","x","x","x","x","x","x","x","x","x","x","x","x","x","x","x","x","x","x","x","x","x","x","x","x","x","x","x","x","x","x","x","x",null,0,0,0,0,0,0,0,0,0,0,0,0,0,0,0,0,0,0,0,0,0,0,0,0,0,0,0,0,0,0,0,0,0,0,0,0,0,0,null,{"$f":"IF(VLOOKUP($A78,'Schedule Setup'!$A$4:$E$39,5,FALSE)=0,\"\",VLOOKUP($A78,'Schedule Setup'!$A$4:$E$39,5,FALSE))","v":""},0,"",0,"",0,"",0,"",null,0,"",0,"",0,"",0,"",null,{"$f":"'Schedule Setup'!H30","v":"00:00:00"},{"$f":"'Schedule Setup'!I30","v":"00:00:00"},-2.0833333333333332E-2,"00:30:00"]
[27,{"$f":"IF(VLOOKUP($A79,'Schedule Setup'!$A$4:$E$39,2,FALSE)=0,\"\",VLOOKUP($A79,'Schedule Setup'!$A$4:$E$39,2,FALSE))","v":""},{"$f":"IF(VLOOKUP($A79,'Schedule Setup'!$A$4:$E$39,4,FALSE)=0,\"\",VLOOKUP($A79,'Schedule Setup'!$A$4:$E$39,4,FALSE))","v":""},"",null,null,null,"x","x","x","x","x","x","x","x","x","x","x","x","x","x","x","x","x","x","x","x","x","x","x","x","x","x","x","x","x","x","x","x","x","x","x","x","x","x",0,null,"x","x","x","x","x","x","x","x","x","x","x","x","x","x","x","x","x","x","x","x","x","x","x","x","x","x","x","x","x","x","x","x","x","x","x","x","x","x",null,0,0,0,0,0,0,0,0,0,0,0,0,0,0,0,0,0,0,0,0,0,0,0,0,0,0,0,0,0,0,0,0,0,0,0,0,0,0,null,{"$f":"IF(VLOOKUP($A79,'Schedule Setup'!$A$4:$E$39,5,FALSE)=0,\"\",VLOOKUP($A79,'Schedule Setup'!$A$4:$E$39,5,FALSE))","v":""},0,"",0,"",0,"",0,"",null,0,"",0,"",0,"",0,"",null,{"$f":"'Schedule Setup'!H31","v":"00:00:00"},{"$f":"'Schedule Setup'!I31","v":"00:00:00"},-2.0833333333333332E-2,"00:30:00"]
[28,{"$f":"IF(VLOOKUP($A80,'Schedule Setup'!$A$4:$E$39,2,FALSE)=0,\"\",VLOOKUP($A80,'Schedule Setup'!$A$4:$E$39,2,FALSE))","v":""},{"$f":"IF(VLOOKUP($A80,'Schedule Setup'!$A$4:$E$39,4,FALSE)=0,\"\",VLOOKUP($A80,'Schedule Setup'!$A$4:$E$39,4,FALSE))","v":""},"",null,null,null,"x","x","x","x","x","x","x","x","x","x","x","x","x","x","x","x","x","x","x","x","x","x","x","x","x","x","x","x","x","x","x","x","x","x","x","x","x","x",0,null,"x","x","x","x","x","x","x","x","x","x","x","x","x","x","x","x","x","x","x","x","x","x","x","x","x","x","x","x","x","x","x","x","x","x","x","x","x","x",null,0,0,0,0,0,0,0,0,0,0,0,0,0,0,0,0,0,0,0,0,0,0,0,0,0,0,0,0,0,0,0,0,0,0,0,0,0,0,null,{"$f":"IF(VLOOKUP($A80,'Schedule Setup'!$A$4:$E$39,5,FALSE)=0,\"\",VLOOKUP($A80,'Schedule Setup'!$A$4:$E$39,5,FALSE))","v":""},0,"",0,"",0,"",0,"",null,0,"",0,"",0,"",0,"",null,{"$f":"'Schedule Setup'!H32","v":"00:00:00"},{"$f":"'Schedule Setup'!I32","v":"00:00:00"},-2.0833333333333332E-2,"00:30:00"]
[29,{"$f":"IF(VLOOKUP($A81,'Schedule Setup'!$A$4:$E$39,2,FALSE)=0,\"\",VLOOKUP($A81,'Schedule Setup'!$A$4:$E$39,2,FALSE))","v":""},{"$f":"IF(VLOOKUP($A81,'Schedule Setup'!$A$4:$E$39,4,FALSE)=0,\"\",VLOOKUP($A81,'Schedule Setup'!$A$4:$E$39,4,FALSE))","v":""},"",null,null,null,"x","x","x","x","x","x","x","x","x","x","x","x","x","x","x","x","x","x","x","x","x","x","x","x","x","x","x","x","x","x","x","x","x","x","x","x","x","x",0,null,"x","x","x","x","x","x","x","x","x","x","x","x","x","x","x","x","x","x","x","x","x","x","x","x","x","x","x","x","x","x","x","x","x","x","x","x","x","x",null,0,0,0,0,0,0,0,0,0,0,0,0,0,0,0,0,0,0,0,0,0,0,0,0,0,0,0,0,0,0,0,0,0,0,0,0,0,0,null,{"$f":"IF(VLOOKUP($A81,'Schedule Setup'!$A$4:$E$39,5,FALSE)=0,\"\",VLOOKUP($A81,'Schedule Setup'!$A$4:$E$39,5,FALSE))","v":""},0,"",0,"",0,"",0,"",null,0,"",0,"",0,"",0,"",null,{"$f":"'Schedule Setup'!H33","v":"00:00:00"},{"$f":"'Schedule Setup'!I33","v":"00:00:00"},-2.0833333333333332E-2,"00:30:00"]
[30,{"$f":"IF(VLOOKUP($A82,'Schedule Setup'!$A$4:$E$39,2,FALSE)=0,\"\",VLOOKUP($A82,'Schedule Setup'!$A$4:$E$39,2,FALSE))","v":""},{"$f":"IF(VLOOKUP($A82,'Schedule Setup'!$A$4:$E$39,4,FALSE)=0,\"\",VLOOKUP($A82,'Schedule Setup'!$A$4:$E$39,4,FALSE))","v":""},"",null,null,null,"x","x","x","x","x","x","x","x","x","x","x","x","x","x","x","x","x","x","x","x","x","x","x","x","x","x","x","x","x","x","x","x","x","x","x","x","x","x",0,null,"x","x","x","x","x","x","x","x","x","x","x","x","x","x","x","x","x","x","x","x","x","x","x","x","x","x","x","x","x","x","x","x","x","x","x","x","x","x",null,0,0,0,0,0,0,0,0,0,0,0,0,0,0,0,0,0,0,0,0,0,0,0,0,0,0,0,0,0,0,0,0,0,0,0,0,0,0,null,{"$f":"IF(VLOOKUP($A82,'Schedule Setup'!$A$4:$E$39,5,FALSE)=0,\"\",VLOOKUP($A82,'Schedule Setup'!$A$4:$E$39,5,FALSE))","v":""},0,"",0,"",0,"",0,"",null,0,"",0,"",0,"",0,"",null,{"$f":"'Schedule Setup'!H34","v":"00:00:00"},{"$f":"'Schedule Setup'!I34","v":"00:00:00"},-2.0833333333333332E-2,"00:30:00"]
[31,{"$f":"IF(VLOOKUP($A83,'Schedule Setup'!$A$4:$E$39,2,FALSE)=0,\"\",VLOOKUP($A83,'Schedule Setup'!$A$4:$E$39,2,FALSE))","v":""},{"$f":"IF(VLOOKUP($A83,'Schedule Setup'!$A$4:$E$39,4,FALSE)=0,\"\",VLOOKUP($A83,'Schedule Setup'!$A$4:$E$39,4,FALSE))","v":""},"",null,null,null,"x","x","x","x","x","x","x","x","x","x","x","x","x","x","x","x","x","x","x","x","x","x","x","x","x","x","x","x","x","x","x","x","x","x","x","x","x","x",0,null,"x","x","x","x","x","x","x","x","x","x","x","x","x","x","x","x","x","x","x","x","x","x","x","x","x","x","x","x","x","x","x","x","x","x","x","x","x","x",null,0,0,0,0,0,0,0,0,0,0,0,0,0,0,0,0,0,0,0,0,0,0,0,0,0,0,0,0,0,0,0,0,0,0,0,0,0,0,null,{"$f":"IF(VLOOKUP($A83,'Schedule Setup'!$A$4:$E$39,5,FALSE)=0,\"\",VLOOKUP($A83,'Schedule Setup'!$A$4:$E$39,5,FALSE))","v":""},0,"",0,"",0,"",0,"",null,0,"",0,"",0,"",0,"",null,{"$f":"'Schedule Setup'!H35","v":"00:00:00"},{"$f":"'Schedule Setup'!I35","v":"00:00:00"},-2.0833333333333332E-2,"00:30:00"]
[32,{"$f":"IF(VLOOKUP($A84,'Schedule Setup'!$A$4:$E$39,2,FALSE)=0,\"\",VLOOKUP($A84,'Schedule Setup'!$A$4:$E$39,2,FALSE))","v":""},{"$f":"IF(VLOOKUP($A84,'Schedule Setup'!$A$4:$E$39,4,FALSE)=0,\"\",VLOOKUP($A84,'Schedule Setup'!$A$4:$E$39,4,FALSE))","v":""},"",null,null,null,"x","x","x","x","x","x","x","x","x","x","x","x","x","x","x","x","x","x","x","x","x","x","x","x","x","x","x","x","x","x","x","x","x","x","x","x","x","x",0,null,"x","x","x","x","x","x","x","x","x","x","x","x","x","x","x","x","x","x","x","x","x","x","x","x","x","x","x","x","x","x","x","x","x","x","x","x","x","x",null,0,0,0,0,0,0,0,0,0,0,0,0,0,0,0,0,0,0,0,0,0,0,0,0,0,0,0,0,0,0,0,0,0,0,0,0,0,0,null,{"$f":"IF(VLOOKUP($A84,'Schedule Setup'!$A$4:$E$39,5,FALSE)=0,\"\",VLOOKUP($A84,'Schedule Setup'!$A$4:$E$39,5,FALSE))","v":""},0,"",0,"",0,"",0,"",null,0,"",0,"",0,"",0,"",null,{"$f":"'Schedule Setup'!H36","v":"00:00:00"},{"$f":"'Schedule Setup'!I36","v":"00:00:00"},-2.0833333333333332E-2,"00:30:00"]
[33,{"$f":"IF(VLOOKUP($A85,'Schedule Setup'!$A$4:$E$39,2,FALSE)=0,\"\",VLOOKUP($A85,'Schedule Setup'!$A$4:$E$39,2,FALSE))","v":""},{"$f":"IF(VLOOKUP($A85,'Schedule Setup'!$A$4:$E$39,4,FALSE)=0,\"\",VLOOKUP($A85,'Schedule Setup'!$A$4:$E$39,4,FALSE))","v":""},"",null,null,null,"x","x","x","x","x","x","x","x","x","x","x","x","x","x","x","x","x","x","x","x","x","x","x","x","x","x","x","x","x","x","x","x","x","x","x","x","x","x",0,null,"x","x","x","x","x","x","x","x","x","x","x","x","x","x","x","x","x","x","x","x","x","x","x","x","x","x","x","x","x","x","x","x","x","x","x","x","x","x",null,0,0,0,0,0,0,0,0,0,0,0,0,0,0,0,0,0,0,0,0,0,0,0,0,0,0,0,0,0,0,0,0,0,0,0,0,0,0,null,{"$f":"IF(VLOOKUP($A85,'Schedule Setup'!$A$4:$E$39,5,FALSE)=0,\"\",VLOOKUP($A85,'Schedule Setup'!$A$4:$E$39,5,FALSE))","v":""},0,"",0,"",0,"",0,"",null,0,"",0,"",0,"",0,"",null,{"$f":"'Schedule Setup'!H37","v":"00:00:00"},{"$f":"'Schedule Setup'!I37","v":"00:00:00"},-2.0833333333333332E-2,"00:30:00"]
[34,{"$f":"IF(VLOOKUP($A86,'Schedule Setup'!$A$4:$E$39,2,FALSE)=0,\"\",VLOOKUP($A86,'Schedule Setup'!$A$4:$E$39,2,FALSE))","v":""},{"$f":"IF(VLOOKUP($A86,'Schedule Setup'!$A$4:$E$39,4,FALSE)=0,\"\",VLOOKUP($A86,'Schedule Setup'!$A$4:$E$39,4,FALSE))","v":""},"",null,null,null,"x","x","x","x","x","x","x","x","x","x","x","x","x","x","x","x","x","x","x","x","x","x","x","x","x","x","x","x","x","x","x","x","x","x","x","x","x","x",0,null,"x","x","x","x","x","x","x","x","x","x","x","x","x","x","x","x","x","x","x","x","x","x","x","x","x","x","x","x","x","x","x","x","x","x","x","x","x","x",null,0,0,0,0,0,0,0,0,0,0,0,0,0,0,0,0,0,0,0,0,0,0,0,0,0,0,0,0,0,0,0,0,0,0,0,0,0,0,null,{"$f":"IF(VLOOKUP($A86,'Schedule Setup'!$A$4:$E$39,5,FALSE)=0,\"\",VLOOKUP($A86,'Schedule Setup'!$A$4:$E$39,5,FALSE))","v":""},0,"",0,"",0,"",0,"",null,0,"",0,"",0,"",0,"",null,{"$f":"'Schedule Setup'!H38","v":"00:00:00"},{"$f":"'Schedule Setup'!I38","v":"00:00:00"},-2.0833333333333332E-2,"00:30:00"]
[35,{"$f":"IF(VLOOKUP($A87,'Schedule Setup'!$A$4:$E$39,2,FALSE)=0,\"\",VLOOKUP($A87,'Schedule Setup'!$A$4:$E$39,2,FALSE))","v":""},{"$f":"IF(VLOOKUP($A87,'Schedule Setup'!$A$4:$E$39,4,FALSE)=0,\"\",VLOOKUP($A87,'Schedule Setup'!$A$4:$E$39,4,FALSE))","v":""},"",null,null,null,"x","x","x","x","x","x","x","x","x","x","x","x","x",{"$f":"BI87","v":"x"},"x","x","x","x","x","x","x","x","x","x","x","x","x","x","x","x","x","x","x","x","x","x","x","x",0,null,"x","x","x","x","x","x","x","x","x","x","x","x","x","x","x","x","x","x","x","x","x","x","x","x","x","x","x","x","x","x","x","x","x","x","x","x","x","x",null,0,0,0,0,0,0,0,0,0,0,0,0,0,0,0,0,0,0,0,0,0,0,0,0,0,0,0,0,0,0,0,0,0,0,0,0,0,0,null,{"$f":"IF(VLOOKUP($A87,'Schedule Setup'!$A$4:$E$39,5,FALSE)=0,\"\",VLOOKUP($A87,'Schedule Setup'!$A$4:$E$39,5,FALSE))","v":""},0,"",0,"",0,"",0,"",null,0,"",0,"",0,"",0,"",null,{"$f":"'Schedule Setup'!H39","v":"00:00:00"},{"$f":"'Schedule Setup'!I39","v":"00:00:00"},-2.0833333333333332E-2,"00:30:00"]
[null,null,null,"Totals/Coverage",{"$f":"MIN(E53:E87)","v":"06:00:00"},{"$f":"MAX(F53:F87)","v":"20:30:00"},null,{"$f":"CI88","v":0},{"$f":"CJ88","v":0},{"$f":"CK88","v":1},{"$f":"CL88","v":1},{"$f":"CM88","v":1},{"$f":"CN88","v":1},{"$f":"CO88","v":2},{"$f":"CP88","v":2},{"$f":"CQ88","v":2},{"$f":"CR88","v":2},{"$f":"CS88","v":2},{"$f":"CT88","v":2},{"$f":"CU88","v":2},{"$f":"CV88","v":2},{"$f":"CW88","v":2},{"$f":"CX88","v":3},{"$f":"CY88","v":3},{"$f":"CZ88","v":3},{"$f":"DA88","v":3},{"$f":"DB88","v":3},{"$f":"DC88","v":3},{"$f":"DD88","v":4},{"$f":"DE88","v":3},{"$f":"DF88","v":3},{"$f":"DG88","v":3},{"$f":"DH88","v":3},{"$f":"DI88","v":3},{"$f":"DJ88","v":2},{"$f":"DK88","v":2},{"$f":"DL88","v":2},{"$f":"DM88","v":2},{"$f":"DN88","v":0},{"$f":"DO88","v":0},{"$f":"DP88","v":0},{"$f":"DQ88","v":0},{"$f":"DR88","v":0},{"$f":"DS88","v":0},{"$f":"DT88","v":0},{"$f":"SUM(AT53:AT87)","v":33.5},null,null,null,null,null,null,null,null,null,null,null,null,null,null,null,null,null,null,null,null,null,null,null,null,null,null,null,null,null,null,null,null,null,null,null,null,null,null,null,null,{"$f":"COUNTIF(CI53:CI87,0.5)","v":0},0,1,1,1,1,2,2,2,2,2,2,2,2,2,3,3,3,3,3,3,4,3,3,3,3,3,2,2,2,2,0,0,0,0,0,0,0,null,null,{"$f":"SUM(DW53:DW87)","v":8},0,17,0,8.5,0,33.5,0,null,{"$f":"SUM(EF53:EF87)","v":8},0,17,0,8.5,0,33.5,0,null,{"$f":"'Schedule Setup'!H40","v":"07:00:00"},{"$f":"'Schedule Setup'!I40","v":"20:00:00"},"06:30:00","20:30:00"]
[null,null,null,null,null,{"$f":"'Schedule Forecast'!A14","v":"Wk 10-21"},null,{"$f":"IFERROR(INDEX(INDIRECT(\"'\"&$F89&\"'!$D:$D\"),MATCH(H$6,INDIRECT(\"'\"&$F89&\"'!$A$1:$A$250\"),0)+1),0)","v":0},0,0,0,105.32,11.67,22.59,14.52,18.77,12.94,{"$f":"IFERROR(INDEX(INDIRECT(\"'\"&$F89&\"'!$D:$D\"),MATCH(R$6,INDIRECT(\"'\"&$F89&\"'!$A$1:$A$250\"),0)+1),0)","v":40.89},9.93,42.84,73.94,100.63,190.82,56.68,109.29,101.82,68.19,{"$f":"IFERROR(INDEX(INDIRECT(\"'\"&$F89&\"'!$D:$D\"),MATCH(AB$6,INDIRECT(\"'\"&$F89&\"'!$A$1:$A$250\"),0)+1),0)","v":162.41},141.52000000000001,26.76,82.34,55.52,20.56,18.07,34.840000000000003,54.15,21.66,{"$f":"IFERROR(INDEX(INDIRECT(\"'\"&$F89&\"'!$D:$D\"),MATCH(AL$6,INDIRECT(\"'\"&$F89&\"'!$A$1:$A$250\"),0)+1),0)","v":0},0,0,0,0,0,0,0]
[null,null,null,null,null,{"$f":"'Schedule Forecast'!A15","v":"Wk 10-28"},null,0,0,0,0,12.63,18.059999999999999,6.64,37.229999999999997,140.58000000000001,23.61,31.13,10.58,26.04,41.96,38.380000000000003,155.66,32.57,51.75,41.17,127.8,223.24,163.81,44.21,54.48,60.55,39.340000000000003,32.83,53.06,60.51,10.83,0,0,0,0,0,0,0,0]
[null,null,null,null,null,{"$f":"'Schedule Forecast'!A16","v":"Wk 11-4"},null,0,0,0,0,52.19,11.48,17.66,241.99,8.43,4.79,31.74,44.23,22.45,94.23,49.06,159.83000000000001,66.37,111.06,90.36,75.17,94.16,47,63.44,54.48,89.13,46.65,37.020000000000003,35.58,34.75,35.729999999999997,0,0,0,0,0,0,0,0]
[null,null,null,null,null,{"$f":"'Schedule Forecast'!A17","v":"Wk 11-11"},null,0,0,0,0,39.53,29.4,110.19,25.46,19.920000000000002,98.27,20.059999999999999,10.68,44.12,89.09,79.66,143.19999999999999,40.520000000000003,46.96,80.3,81.73,152.84,114.88,113.22,57.64,80.45,80.31,30.85,37.83,68.709999999999994,64.02,8.68,0,0,0,0,0,0,0]
[null,null,null,null,null,"AVERAGE",null,{"$f":"IFERROR(IF(AND(H$6>=$EO$88,H$6<$EP$88-0.001),AVERAGE(H89:H92),\"\"),\"\")","v":""},"","","",52.417499999999997,17.652499999999996,39.269999999999996,79.8,46.925000000000011,34.902499999999996,30.954999999999998,18.854999999999997,33.862499999999997,74.805000000000007,66.932500000000005,162.3775,49.035000000000004,79.765000000000001,78.412500000000009,88.222500000000011,158.16249999999999,116.80250000000001,61.907499999999999,62.234999999999999,71.412499999999994,46.715000000000003,29.692500000000003,40.327500000000001,54.53,33.06,"","","","","","","",""]
[null,null,null,null,null,null,null,{"$f":"IFERROR(IF((H93*'Schedule Forecast'!$C$4-$AC$2)>1,(H93*'Schedule Forecast'!$C$4-$AC$2),1),\"\")","v":""},{"$f":"IFERROR(IF((I93*'Schedule Forecast'!$C$4-$AC$2)>1,(I93*'Schedule Forecast'!$C$4-$AC$2),1),\"\")","v":""},{"$f":"IFERROR(IF((J93*'Schedule Forecast'!$C$4-$AC$2)>1,(J93*'Schedule Forecast'!$C$4-$AC$2),1),\"\")","v":""},{"$f":"IFERROR(IF((K93*'Schedule Forecast'!$C$4-$AC$2)>1,(K93*'Schedule Forecast'!$C$4-$AC$2),1),\"\")","v":""},{"$f":"IFERROR(IF((L93*'Schedule Forecast'!$C$4-$AC$2)>1,(L93*'Schedule Forecast'!$C$4-$AC$2),1),\"\")","v":1},{"$f":"IFERROR(IF((M93*'Schedule Forecast'!$C$4-$AC$2)>1,(M93*'Schedule Forecast'!$C$4-$AC$2),1),\"\")","v":1},{"$f":"IFERROR(IF((N93*'Schedule Forecast'!$C$4-$AC$2)>1,(N93*'Schedule Forecast'!$C$4-$AC$2),1),\"\")","v":1},{"$f":"IFERROR(IF((O93*'Schedule Forecast'!$C$4-$AC$2)>1,(O93*'Schedule Forecast'!$C$4-$AC$2),1),\"\")","v":5.161999999999999},{"$f":"IFERROR(IF((P93*'Schedule Forecast'!$C$4-$AC$2)>1,(P93*'Schedule Forecast'!$C$4-$AC$2),1),\"\")","v":1},{"$f":"IFERROR(IF((Q93*'Schedule Forecast'!$C$4-$AC$2)>1,(Q93*'Schedule Forecast'!$C$4-$AC$2),1),\"\")","v":1},{"$f":"IFERROR(IF((R93*'Schedule Forecast'!$C$4-$AC$2)>1,(R93*'Schedule Forecast'!$C$4-$AC$2),1),\"\")","v":1},{"$f":"IFERROR(IF((S93*'Schedule Forecast'!$C$4-$AC$2)>1,(S93*'Schedule Forecast'!$C$4-$AC$2),1),\"\")","v":1},{"$f":"IFERROR(IF((T93*'Schedule Forecast'!$C$4-$AC$2)>1,(T93*'Schedule Forecast'!$C$4-$AC$2),1),\"\")","v":1},{"$f":"IFERROR(IF((U93*'Schedule Forecast'!$C$4-$AC$2)>1,(U93*'Schedule Forecast'!$C$4-$AC$2),1),\"\")","v":4.2129500000000011},{"$f":"IFERROR(IF((V93*'Schedule Forecast'!$C$4-$AC$2)>1,(V93*'Schedule Forecast'!$C$4-$AC$2),1),\"\")","v":2.717175000000001},{"$f":"IFERROR(IF((W93*'Schedule Forecast'!$C$4-$AC$2)>1,(W93*'Schedule Forecast'!$C$4-$AC$2),1),\"\")","v":20.851724999999998},{"$f":"IFERROR(IF((X93*'Schedule Forecast'!$C$4-$AC$2)>1,(X93*'Schedule Forecast'!$C$4-$AC$2),1),\"\")","v":1},{"$f":"IFERROR(IF((Y93*'Schedule Forecast'!$C$4-$AC$2)>1,(Y93*'Schedule Forecast'!$C$4-$AC$2),1),\"\")","v":5.1553500000000003},{"$f":"IFERROR(IF((Z93*'Schedule Forecast'!$C$4-$AC$2)>1,(Z93*'Schedule Forecast'!$C$4-$AC$2),1),\"\")","v":4.8983750000000015},{"$f":"IFERROR(IF((AA93*'Schedule Forecast'!$C$4-$AC$2)>1,(AA93*'Schedule Forecast'!$C$4-$AC$2),1),\"\")","v":6.7622750000000025},{"$f":"IFERROR(IF((AB93*'Schedule Forecast'!$C$4-$AC$2)>1,(AB93*'Schedule Forecast'!$C$4-$AC$2),1),\"\")","v":20.050874999999998},{"$f":"IFERROR(IF((AC93*'Schedule Forecast'!$C$4-$AC$2)>1,(AC93*'Schedule Forecast'!$C$4-$AC$2),1),\"\")","v":12.192475000000002},{"$f":"IFERROR(IF((AD93*'Schedule Forecast'!$C$4-$AC$2)>1,(AD93*'Schedule Forecast'!$C$4-$AC$2),1),\"\")","v":1.7624250000000004},{"$f":"IFERROR(IF((AE93*'Schedule Forecast'!$C$4-$AC$2)>1,(AE93*'Schedule Forecast'!$C$4-$AC$2),1),\"\")","v":1.8246500000000001},{"$f":"IFERROR(IF((AF93*'Schedule Forecast'!$C$4-$AC$2)>1,(AF93*'Schedule Forecast'!$C$4-$AC$2),1),\"\")","v":3.5683749999999996},{"$f":"IFERROR(IF((AG93*'Schedule Forecast'!$C$4-$AC$2)>1,(AG93*'Schedule Forecast'!$C$4-$AC$2),1),\"\")","v":1},{"$f":"IFERROR(IF((AH93*'Schedule Forecast'!$C$4-$AC$2)>1,(AH93*'Schedule Forecast'!$C$4-$AC$2),1),\"\")","v":1},{"$f":"IFERROR(IF((AI93*'Schedule Forecast'!$C$4-$AC$2)>1,(AI93*'Schedule Forecast'!$C$4-$AC$2),1),\"\")","v":1},{"$f":"IFERROR(IF((AJ93*'Schedule Forecast'!$C$4-$AC$2)>1,(AJ93*'Schedule Forecast'!$C$4-$AC$2),1),\"\")","v":1},{"$f":"IFERROR(IF((AK93*'Schedule Forecast'!$C$4-$AC$2)>1,(AK93*'Schedule Forecast'!$C$4-$AC$2),1),\"\")","v":1},{"$f":"IFERROR(IF((AL93*'Schedule Forecast'!$C$4-$AC$2)>1,(AL93*'Schedule Forecast'!$C$4-$AC$2),1),\"\")","v":""},{"$f":"IFERROR(IF((AM93*'Schedule Forecast'!$C$4-$AC$2)>1,(AM93*'Schedule Forecast'!$C$4-$AC$2),1),\"\")","v":""},{"$f":"IFERROR(IF((AN93*'Schedule Forecast'!$C$4-$AC$2)>1,(AN93*'Schedule Forecast'!$C$4-$AC$2),1),\"\")","v":""},{"$f":"IFERROR(IF((AO93*'Schedule Forecast'!$C$4-$AC$2)>1,(AO93*'Schedule Forecast'!$C$4-$AC$2),1),\"\")","v":""},{"$f":"IFERROR(IF((AP93*'Schedule Forecast'!$C$4-$AC$2)>1,(AP93*'Schedule Forecast'!$C$4-$AC$2),1),\"\")","v":""},{"$f":"IFERROR(IF((AQ93*'Schedule Forecast'!$C$4-$AC$2)>1,(AQ93*'Schedule Forecast'!$C$4-$AC$2),1),\"\")","v":""},{"$f":"IFERROR(IF((AR93*'Schedule Forecast'!$C$4-$AC$2)>1,(AR93*'Schedule Forecast'!$C$4-$AC$2),1),\"\")","v":""},{"$f":"IFERROR(IF((AS93*'Schedule Forecast'!$C$4-$AC$2)>1,(AS93*'Schedule Forecast'!$C$4-$AC$2),1),\"\")","v":""}]
[null,null,null,null,null,null,"Recommended:",{"$f":"IF(H52>=$EO$88,IF(H52<$EP$88-0.01,ROUND(IF(H94>1,(H94*$B$48)+1,H94)*2,0),\"\"),\"\")","v":""},"","","",2,2,2,2,2,2,2,2,2,2,2,2,2,2,2,2,2,2,2,2,2,2,2,2,2,2,"","","","","","","","",{"$f":"SUM(H95:AS95)/2","v":26}]
[]
[null,"Friday",null,null,null,null,null,null,null,null,null,null,null,null,null,null,null,null,{"$f":"S51","v":"Today's Date"},{"$f":"T5+2","v":"2014-11-21"},null,null,null,null,null,null,null,null,null,null,null,null,null,null,null,null,null,null,null,null,null,null,null,null,null,null,null,null,null,null,null,null,null,null,null,null,null,null,null,null,null,null,null,null,null,null,null,null,null,null,null,null,null,null,null,null,null,null,null,null,null,null,null,null,null,null,null,null,null,null,null,null,null,null,null,null,null,null,null,null,null,null,null,null,null,null,null,null,null,null,null,null,null,null,null,null,null,null,null,null,null,null,null,null,null,null,"Breakfast",null,"Lunch",null,"Dinner",null,"Total",null,null,"Breakfast",null,"Lunch",null,"Dinner",null,"Total",null,null,"Availability"]
[null,"Employee","Job",null,"Start","End",null,"05:00:00",{"$f":"H98+(0.5/24)","v":"05:30:00"},{"$f":"I98+(0.5/24)","v":"06:00:00"},{"$f":"J98+(0.5/24)","v":"06:30:00"},{"$f":"K98+(0.5/24)","v":"07:00:00"},{"$f":"L98+(0.5/24)","v":"07:30:00"},{"$f":"M98+(0.5/24)","v":"08:00:00"},{"$f":"N98+(0.5/24)","v":"08:30:00"},{"$f":"O98+(0.5/24)","v":"09:00:00"},{"$f":"P98+(0.5/24)","v":"09:30:00"},{"$f":"Q98+(0.5/24)","v":"10:00:00"},{"$f":"R98+(0.5/24)","v":"10:30:00"},{"$f":"S98+(0.5/24)","v":"11:00:00"},{"$f":"T98+(0.5/24)","v":"11:30:00"},{"$f":"U98+(0.5/24)","v":"12:00:00"},{"$f":"V98+(0.5/24)","v":"12:30:00"},{"$f":"W98+(0.5/24)","v":"13:00:00"},{"$f":"X98+(0.5/24)","v":"13:30:00"},{"$f":"Y98+(0.5/24)","v":"14:00:00"},{"$f":"Z98+(0.5/24)","v":"14:30:00"},{"$f":"AA98+(0.5/24)","v":"15:00:00"},{"$f":"AB98+(0.5/24)","v":"15:30:00"},{"$f":"AC98+(0.5/24)","v":"16:00:00"},{"$f":"AD98+(0.5/24)","v":"16:30:00"},{"$f":"AE98+(0.5/24)","v":"17:00:00"},{"$f":"AF98+(0.5/24)","v":"17:30:00"},{"$f":"AG98+(0.5/24)","v":"18:00:00"},{"$f":"AH98+(0.5/24)","v":"18:30:00"},{"$f":"AI98+(0.5/24)","v":"19:00:00"},{"$f":"AJ98+(0.5/24)","v":"19:30:00"},{"$f":"AK98+(0.5/24)","v":"20:00:00"},{"$f":"AL98+(0.5/24)","v":"20:30:00"},{"$f":"AM98+(0.5/24)","v":"21:00:00"},{"$f":"AN98+(0.5/24)","v":"21:30:00"},{"$f":"AO98+(0.5/24)","v":"22:00:00"},{"$f":"AP98+(0.5/24)","v":"22:30:00"},{"$f":"AQ98+(0.5/24)","v":"23:00:00"},{"$f":"AR98+(0.5/24)","v":"23:30:00"},"TOTAL",null,5,null,6,null,7,null,8,null,9,null,10,null,11,null,12,null,1,null,2,null,3,null,4,null,5,null,6,null,7,null,8,null,9,null,10,null,11,null,null,5,null,6,null,7,null,8,null,9,null,10,null,11,null,12,null,1,null,2,null,3,null,4,null,5,null,6,null,7,null,8,null,9,null,10,null,11,null,null,"Rate","Hrs","$","Hrs","$","Hrs","$","Hrs","$",null,"Hrs","$","Hrs","$","Hrs","$","Hrs","$",null,"Start","End","Start-Early","End-Late"]
[1,{"$f":"IF(VLOOKUP($A99,'Schedule Setup'!$A$4:$E$39,2,FALSE)=0,\"\",VLOOKUP($A99,'Schedule Setup'!$A$4:$E$39,2,FALSE))","v":"Shaun Payne"},{"$f":"IF(VLOOKUP($A99,'Schedule Setup'!$A$4:$E$39,4,FALSE)=0,\"\",VLOOKUP($A99,'Schedule Setup'!$A$4:$E$39,4,FALSE))","v":"General Manager (S)"},{"$f":"IF(B99<>\"\",IF(OR(C99=\"General Manager (S)\", C99=\"General Manager (H)\"), \"GM\",IF(C99=\"Acting Manager\",\"AM\",IF(C99=\"Shift Manager\",\"SM\",IF(C99=\"Team Lead\",\"TL\",\"TM\")))),\"\")","v":"GM"},null,null,null,{"$f":"AV99","v":"x"},"x","x","x","x","x","x","x","x","x","x","x","x","x","x","x","x","x","x","x","x","x","x","x","x","x","x","x","x","x","x","x","x","x","x","x","x","x",{"$f":"EC99","v":0},null,{"$f":"IF(AND($EO99<=H$6+0.01,$EP99>H$6+0.01),IF(AND(H$6<$F99-0.01,H$6>=$E99-0.01),$D99,\"\"),\"x\")","v":"x"},{"$f":"IF(AND($EO99<=I$6+0.01,$EP99>I$6+0.01),IF(AND(I$6<$F99-0.01,I$6>=$E99-0.01),$D99,\"\"),\"x\")","v":"x"},{"$f":"IF(AND($EO99<=J$6+0.01,$EP99>J$6+0.01),IF(AND(J$6<$F99-0.01,J$6>=$E99-0.01),$D99,\"\"),\"x\")","v":"x"},{"$f":"IF(AND($EO99<=K$6+0.01,$EP99>K$6+0.01),IF(AND(K$6<$F99-0.01,K$6>=$E99-0.01),$D99,\"\"),\"x\")","v":"x"},{"$f":"IF(AND($EO99<=L$6+0.01,$EP99>L$6+0.01),IF(AND(L$6<$F99-0.01,L$6>=$E99-0.01),$D99,\"\"),\"x\")","v":"x"},{"$f":"IF(AND($EO99<=M$6+0.01,$EP99>M$6+0.01),IF(AND(M$6<$F99-0.01,M$6>=$E99-0.01),$D99,\"\"),\"x\")","v":"x"},{"$f":"IF(AND($EO99<=N$6+0.01,$EP99>N$6+0.01),IF(AND(N$6<$F99-0.01,N$6>=$E99-0.01),$D99,\"\"),\"x\")","v":"x"},{"$f":"IF(AND($EO99<=O$6+0.01,$EP99>O$6+0.01),IF(AND(O$6<$F99-0.01,O$6>=$E99-0.01),$D99,\"\"),\"x\")","v":"x"},{"$f":"IF(AND($EO99<=P$6+0.01,$EP99>P$6+0.01),IF(AND(P$6<$F99-0.01,P$6>=$E99-0.01),$D99,\"\"),\"x\")","v":"x"},{"$f":"IF(AND($EO99<=Q$6+0.01,$EP99>Q$6+0.01),IF(AND(Q$6<$F99-0.01,Q$6>=$E99-0.01),$D99,\"\"),\"x\")","v":"x"},{"$f":"IF(AND($EO99<=R$6+0.01,$EP99>R$6+0.01),IF(AND(R$6<$F99-0.01,R$6>=$E99-0.01),$D99,\"\"),\"x\")","v":"x"},{"$f":"IF(AND($EO99<=S$6+0.01,$EP99>S$6+0.01),IF(AND(S$6<$F99-0.01,S$6>=$E99-0.01),$D99,\"\"),\"x\")","v":"x"},{"$f":"IF(AND($EO99<=T$6+0.01,$EP99>T$6+0.01),IF(AND(T$6<$F99-0.01,T$6>=$E99-0.01),$D99,\"\"),\"x\")","v":"x"},{"$f":"IF(AND($EO99<=U$6+0.01,$EP99>U$6+0.01),IF(AND(U$6<$F99-0.01,U$6>=$E99-0.01),$D99,\"\"),\"x\")","v":"x"},{"$f":"IF(AND($EO99<=V$6+0.01,$EP99>V$6+0.01),IF(AND(V$6<$F99-0.01,V$6>=$E99-0.01),$D99,\"\"),\"x\")","v":"x"},{"$f":"IF(AND($EO99<=W$6+0.01,$EP99>W$6+0.01),IF(AND(W$6<$F99-0.01,W$6>=$E99-0.01),$D99,\"\"),\"x\")","v":"x"},{"$f":"IF(AND($EO99<=X$6+0.01,$EP99>X$6+0.01),IF(AND(X$6<$F99-0.01,X$6>=$E99-0.01),$D99,\"\"),\"x\")","v":"x"},{"$f":"IF(AND($EO99<=Y$6+0.01,$EP99>Y$6+0.01),IF(AND(Y$6<$F99-0.01,Y$6>=$E99-0.01),$D99,\"\"),\"x\")","v":"x"},{"$f":"IF(AND($EO99<=Z$6+0.01,$EP99>Z$6+0.01),IF(AND(Z$6<$F99-0.01,Z$6>=$E99-0.01),$D99,\"\"),\"x\")","v":"x"},{"$f":"IF(AND($EO99<=AA$6+0.01,$EP99>AA$6+0.01),IF(AND(AA$6<$F99-0.01,AA$6>=$E99-0.01),$D99,\"\"),\"x\")","v":"x"},{"$f":"IF(AND($EO99<=AB$6+0.01,$EP99>AB$6+0.01),IF(AND(AB$6<$F99-0.01,AB$6>=$E99-0.01),$D99,\"\"),\"x\")","v":"x"},{"$f":"IF(AND($EO99<=AC$6+0.01,$EP99>AC$6+0.01),IF(AND(AC$6<$F99-0.01,AC$6>=$E99-0.01),$D99,\"\"),\"x\")","v":"x"},{"$f":"IF(AND($EO99<=AD$6+0.01,$EP99>AD$6+0.01),IF(AND(AD$6<$F99-0.01,AD$6>=$E99-0.01),$D99,\"\"),\"x\")","v":"x"},{"$f":"IF(AND($EO99<=AE$6+0.01,$EP99>AE$6+0.01),IF(AND(AE$6<$F99-0.01,AE$6>=$E99-0.01),$D99,\"\"),\"x\")","v":"x"},{"$f":"IF(AND($EO99<=AF$6+0.01,$EP99>AF$6+0.01),IF(AND(AF$6<$F99-0.01,AF$6>=$E99-0.01),$D99,\"\"),\"x\")","v":"x"},{"$f":"IF(AND($EO99<=AG$6+0.01,$EP99>AG$6+0.01),IF(AND(AG$6<$F99-0.01,AG$6>=$E99-0.01),$D99,\"\"),\"x\")","v":"x"},{"$f":"IF(AND($EO99<=AH$6+0.01,$EP99>AH$6+0.01),IF(AND(AH$6<$F99-0.01,AH$6>=$E99-0.01),$D99,\"\"),\"x\")","v":"x"},{"$f":"IF(AND($EO99<=AI$6+0.01,$EP99>AI$6+0.01),IF(AND(AI$6<$F99-0.01,AI$6>=$E99-0.01),$D99,\"\"),\"x\")","v":"x"},{"$f":"IF(AND($EO99<=AJ$6+0.01,$EP99>AJ$6+0.01),IF(AND(AJ$6<$F99-0.01,AJ$6>=$E99-0.01),$D99,\"\"),\"x\")","v":"x"},{"$f":"IF(AND($EO99<=AK$6+0.01,$EP99>AK$6+0.01),IF(AND(AK$6<$F99-0.01,AK$6>=$E99-0.01),$D99,\"\"),\"x\")","v":"x"},{"$f":"IF(AND($EO99<=AL$6+0.01,$EP99>AL$6+0.01),IF(AND(AL$6<$F99-0.01,AL$6>=$E99-0.01),$D99,\"\"),\"x\")","v":"x"},{"$f":"IF(AND($EO99<=AM$6+0.01,$EP99>AM$6+0.01),IF(AND(AM$6<$F99-0.01,AM$6>=$E99-0.01),$D99,\"\"),\"x\")","v":"x"},{"$f":"IF(AND($EO99<=AN$6+0.01,$EP99>AN$6+0.01),IF(AND(AN$6<$F99-0.01,AN$6>=$E99-0.01),$D99,\"\"),\"x\")","v":"x"},{"$f":"IF(AND($EO99<=AO$6+0.01,$EP99>AO$6+0.01),IF(AND(AO$6<$F99-0.01,AO$6>=$E99-0.01),$D99,\"\"),\"x\")","v":"x"},{"$f":"IF(AND($EO99<=AP$6+0.01,$EP99>AP$6+0.01),IF(AND(AP$6<$F99-0.01,AP$6>=$E99-0.01),$D99,\"\"),\"x\")","v":"x"},{"$f":"IF(AND($EO99<=AQ$6+0.01,$EP99>AQ$6+0.01),IF(AND(AQ$6<$F99-0.01,AQ$6>=$E99-0.01),$D99,\"\"),\"x\")","v":"x"},{"$f":"IF(AND($EO99<=AR$6+0.01,$EP99>AR$6+0.01),IF(AND(AR$6<$F99-0.01,AR$6>=$E99-0.01),$D99,\"\"),\"x\")","v":"x"},{"$f":"IF(AND($EO99<=AS$6+0.01,$EP99>AS$6+0.01),IF(AND(AS$6<$F99-0.01,AS$6>=$E99-0.01),$D99,\"\"),\"x\")","v":"x"},null,{"$f":"IF(AND(AV99<>\"\",AV99<>\"x\"),0.5,)","v":0},{"$f":"IF(AND(AW99<>\"\",AW99<>\"x\"),0.5,)","v":0},{"$f":"IF(AND(AX99<>\"\",AX99<>\"x\"),0.5,)","v":0},{"$f":"IF(AND(AY99<>\"\",AY99<>\"x\"),0.5,)","v":0},{"$f":"IF(AND(AZ99<>\"\",AZ99<>\"x\"),0.5,)","v":0},{"$f":"IF(AND(BA99<>\"\",BA99<>\"x\"),0.5,)","v":0},{"$f":"IF(AND(BB99<>\"\",BB99<>\"x\"),0.5,)","v":0},{"$f":"IF(AND(BC99<>\"\",BC99<>\"x\"),0.5,)","v":0},{"$f":"IF(AND(BD99<>\"\",BD99<>\"x\"),0.5,)","v":0},{"$f":"IF(AND(BE99<>\"\",BE99<>\"x\"),0.5,)","v":0},{"$f":"IF(AND(BF99<>\"\",BF99<>\"x\"),0.5,)","v":0},{"$f":"IF(AND(BG99<>\"\",BG99<>\"x\"),0.5,)","v":0},{"$f":"IF(AND(BH99<>\"\",BH99<>\"x\"),0.5,)","v":0},{"$f":"IF(AND(BI99<>\"\",BI99<>\"x\"),0.5,)","v":0},{"$f":"IF(AND(BJ99<>\"\",BJ99<>\"x\"),0.5,)","v":0},{"$f":"IF(AND(BK99<>\"\",BK99<>\"x\"),0.5,)","v":0},{"$f":"IF(AND(BL99<>\"\",BL99<>\"x\"),0.5,)","v":0},{"$f":"IF(AND(BM99<>\"\",BM99<>\"x\"),0.5,)","v":0},{"$f":"IF(AND(BN99<>\"\",BN99<>\"x\"),0.5,)","v":0},{"$f":"IF(AND(BO99<>\"\",BO99<>\"x\"),0.5,)","v":0},{"$f":"IF(AND(BP99<>\"\",BP99<>\"x\"),0.5,)","v":0},{"$f":"IF(AND(BQ99<>\"\",BQ99<>\"x\"),0.5,)","v":0},{"$f":"IF(AND(BR99<>\"\",BR99<>\"x\"),0.5,)","v":0},{"$f":"IF(AND(BS99<>\"\",BS99<>\"x\"),0.5,)","v":0},{"$f":"IF(AND(BT99<>\"\",BT99<>\"x\"),0.5,)","v":0},{"$f":"IF(AND(BU99<>\"\",BU99<>\"x\"),0.5,)","v":0},{"$f":"IF(AND(BV99<>\"\",BV99<>\"x\"),0.5,)","v":0},{"$f":"IF(AND(BW99<>\"\",BW99<>\"x\"),0.5,)","v":0},{"$f":"IF(AND(BX99<>\"\",BX99<>\"x\"),0.5,)","v":0},{"$f":"IF(AND(BY99<>\"\",BY99<>\"x\"),0.5,)","v":0},{"$f":"IF(AND(BZ99<>\"\",BZ99<>\"x\"),0.5,)","v":0},{"$f":"IF(AND(CA99<>\"\",CA99<>\"x\"),0.5,)","v":0},{"$f":"IF(AND(CB99<>\"\",CB99<>\"x\"),0.5,)","v":0},{"$f":"IF(AND(CC99<>\"\",CC99<>\"x\"),0.5,)","v":0},{"$f":"IF(AND(CD99<>\"\",CD99<>\"x\"),0.5,)","v":0},{"$f":"IF(AND(CE99<>\"\",CE99<>\"x\"),0.5,)","v":0},{"$f":"IF(AND(CF99<>\"\",CF99<>\"x\"),0.5,)","v":0},{"$f":"IF(AND(CG99<>\"\",CG99<>\"x\"),0.5,)","v":0},null,{"$f":"IF(VLOOKUP($A99,'Schedule Setup'!$A$4:$E$39,5,FALSE)=0,\"\",VLOOKUP($A99,'Schedule Setup'!$A$4:$E$39,5,FALSE))","v":""},{"$f":"SUM(CI99:CT99)","v":0},{"$f":"IFERROR(DW99*$DV99,\"\")","v":""},{"$f":"SUM(CU99:DF99)","v":0},{"$f":"IFERROR(DY99*$DV99,\"\")","v":""},{"$f":"SUM(DG99:DT99)","v":0},{"$f":"IFERROR(EA99*$DV99,\"\")","v":""},{"$f":"SUM(DW99,DY99,EA99)","v":0},{"$f":"IFERROR(EC99*$DV99,\"\")","v":""},null,{"$f":"IF(DW99>5,(DW99-0.5),DW99)","v":0},{"$f":"IFERROR(EF99*$DV99,\"\")","v":""},{"$f":"IF(DY99>5,(DY99-0.5),DY99)","v":0},{"$f":"IFERROR(EH99*$DV99,\"\")","v":""},{"$f":"IF(EA99>5,(EA99-0.5),EA99)","v":0},{"$f":"IFERROR(EJ99*$DV99,\"\")","v":""},{"$f":"SUM(EF99,EH99,EJ99)","v":0},{"$f":"IFERROR(EL99*$DV99,\"\")","v":""},null,{"$f":"'Schedule Setup'!J5","v":"UnAvail"},{"$f":"'Schedule Setup'!K5","v":"UnAvail"},{"$f":"EO99-(0.5/24)","v":{"$error":"#VALUE!"}},{"$f":"EP99+(0.5/24)","v":{"$error":"#VALUE!"}}]
[{"$f":"A99+1","v":2},{"$f":"IF(VLOOKUP($A100,'Schedule Setup'!$A$4:$E$39,2,FALSE)=0,\"\",VLOOKUP($A100,'Schedule Setup'!$A$4:$E$39,2,FALSE))","v":"Clay Huycke-McCall"},{"$f":"IF(VLOOKUP($A100,'Schedule Setup'!$A$4:$E$39,4,FALSE)=0,\"\",VLOOKUP($A100,'Schedule Setup'!$A$4:$E$39,4,FALSE))","v":"Shift Manager"},{"$f":"IF(B100<>\"\",IF(OR(C100=\"General Manager (S)\", C100=\"General Manager (H)\"), \"GM\",IF(C100=\"Acting Manager\",\"AM\",IF(C100=\"Shift Manager\",\"SM\",IF(C100=\"Team Lead\",\"TL\",\"TM\")))),\"\")","v":"SM"},null,null,null,"x","x","x","x","x","x","x","x","x","x","x","x","x","x","x","x","x","x","x","x","x","x","x","x","x","x","x","x","x","x","x","x","x","x","x","x","x","x",{"$f":"EC100","v":0},null,"x","x","x","x","x","x","x","x","x","x","x","x","x","x","x","x","x","x","x","x","x","x","x","x","x","x","x","x","x","x","x","x","x","x","x","x","x","x",null,{"$f":"IF(AND(AV100<>\"\",AV100<>\"x\"),0.5,)","v":0},0,0,0,0,0,0,0,0,0,0,0,0,0,0,0,0,0,0,0,0,0,0,0,0,0,0,0,0,0,0,0,0,0,0,0,0,0,null,{"$f":"IF(VLOOKUP($A100,'Schedule Setup'!$A$4:$E$39,5,FALSE)=0,\"\",VLOOKUP($A100,'Schedule Setup'!$A$4:$E$39,5,FALSE))","v":""},0,"",0,"",0,"",{"$f":"SUM(DW100,DY100,EA100)","v":0},"",null,{"$f":"IF(DW100>5,(DW100-0.5),DW100)","v":0},"",{"$f":"IF(DY100>5,(DY100-0.5),DY100)","v":0},"",0,"",{"$f":"SUM(EF100,EH100,EJ100)","v":0},"",null,{"$f":"'Schedule Setup'!J6","v":"Req. Off"},{"$f":"'Schedule Setup'!K6","v":"Req. Off"},{"$f":"EO100-(0.5/24)","v":{"$error":"#VALUE!"}},{"$f":"EP100+(0.5/24)","v":{"$error":"#VALUE!"}}]
[{"$f":"A100+1","v":3},{"$f":"IF(VLOOKUP($A101,'Schedule Setup'!$A$4:$E$39,2,FALSE)=0,\"\",VLOOKUP($A101,'Schedule Setup'!$A$4:$E$39,2,FALSE))","v":"Shaina Hunt"},{"$f":"IF(VLOOKUP($A101,'Schedule Setup'!$A$4:$E$39,4,FALSE)=0,\"\",VLOOKUP($A101,'Schedule Setup'!$A$4:$E$39,4,FALSE))","v":"Shift Manager"},"SM","06:00:00","14:00:00",null,"x","x","SM","SM","SM","SM","SM","SM","SM","SM","SM","SM","SM","SM","SM","SM","SM","SM","","","","","","","","","","","","","","","","x","x","x","x","x",8,null,"x","x","SM","SM","SM","SM","SM","SM","SM","SM","SM","SM","SM","SM","SM","SM","SM","SM","","","","","","","","","","","","","","","","x","x","x","x","x",null,0,0,0.5,0.5,0.5,0.5,0.5,0.5,0.5,0.5,0.5,0.5,0.5,0.5,0.5,0.5,0.5,0.5,0,0,0,0,0,0,0,0,0,0,0,0,0,0,0,0,0,0,0,0,null,{"$f":"IF(VLOOKUP($A101,'Schedule Setup'!$A$4:$E$39,5,FALSE)=0,\"\",VLOOKUP($A101,'Schedule Setup'!$A$4:$E$39,5,FALSE))","v":""},5,"",3,"",0,"",{"$f":"SUM(DW101,DY101,EA101)","v":8},"",null,5,"",3,"",0,"",8,"",null,{"$f":"'Schedule Setup'!J7","v":"06:00:00"},{"$f":"'Schedule Setup'!K7","v":"21:30:00"},"05:30:00","22:00:00"]
[4,{"$f":"IF(VLOOKUP($A102,'Schedule Setup'!$A$4:$E$39,2,FALSE)=0,\"\",VLOOKUP($A102,'Schedule Setup'!$A$4:$E$39,2,FALSE))","v":"Christian Fink"},{"$f":"IF(VLOOKUP($A102,'Schedule Setup'!$A$4:$E$39,4,FALSE)=0,\"\",VLOOKUP($A102,'Schedule Setup'!$A$4:$E$39,4,FALSE))","v":"Team Lead"},"TL","13:30:00","21:30:00",null,"x","x","","","","","","","","","","","","","","","","TL","TL","TL","TL","TL","TL","TL","TL","TL","TL","TL","TL","TL","TL","TL","TL","x","x","x","x","x",8,null,"x","x","","","","","","","","","","","","","","","","TL","TL","TL","TL","TL","TL","TL","TL","TL","TL","TL","TL","TL","TL","TL","TL","x","x","x","x","x",null,0,0,0,0,0,0,0,0,0,0,0,0,0,0,0,0,0,0.5,0.5,0.5,0.5,0.5,0.5,0.5,0.5,0.5,0.5,0.5,0.5,0.5,0.5,0.5,0.5,0,0,0,0,0,null,{"$f":"IF(VLOOKUP($A102,'Schedule Setup'!$A$4:$E$39,5,FALSE)=0,\"\",VLOOKUP($A102,'Schedule Setup'!$A$4:$E$39,5,FALSE))","v":""},0,"",3.5,"",4.5,"",8,"",null,0,"",3.5,"",4.5,"",8,"",null,{"$f":"'Schedule Setup'!J8","v":"06:00:00"},{"$f":"'Schedule Setup'!K8","v":"21:30:00"},"05:30:00","22:00:00"]
[5,{"$f":"IF(VLOOKUP($A103,'Schedule Setup'!$A$4:$E$39,2,FALSE)=0,\"\",VLOOKUP($A103,'Schedule Setup'!$A$4:$E$39,2,FALSE))","v":"Brendan Frye"},{"$f":"IF(VLOOKUP($A103,'Schedule Setup'!$A$4:$E$39,4,FALSE)=0,\"\",VLOOKUP($A103,'Schedule Setup'!$A$4:$E$39,4,FALSE))","v":"Team Member"},"TM","14:30:00","21:30:00",null,"x","x","x","x","","","","","","","","","","","","","","","","TM","TM","TM","TM","TM","TM","TM","TM","TM","TM","TM","TM","TM","TM","x","x","x","x","x",7,null,"x","x","x","x","","","","","","","","","","","","","","","","TM","TM","TM","TM","TM","TM","TM","TM","TM","TM","TM","TM","TM","TM","x","x","x","x","x",null,0,0,0,0,0,0,0,0,0,0,0,0,0,0,0,0,0,0,0,0.5,0.5,0.5,0.5,0.5,0.5,0.5,0.5,0.5,0.5,0.5,0.5,0.5,0.5,0,0,0,0,0,null,{"$f":"IF(VLOOKUP($A103,'Schedule Setup'!$A$4:$E$39,5,FALSE)=0,\"\",VLOOKUP($A103,'Schedule Setup'!$A$4:$E$39,5,FALSE))","v":""},0,"",2.5,"",4.5,"",7,"",null,0,"",2.5,"",4.5,"",7,"",null,{"$f":"'Schedule Setup'!J9","v":"07:00:00"},{"$f":"'Schedule Setup'!K9","v":"21:30:00"},"06:30:00","22:00:00"]
[6,{"$f":"IF(VLOOKUP($A104,'Schedule Setup'!$A$4:$E$39,2,FALSE)=0,\"\",VLOOKUP($A104,'Schedule Setup'!$A$4:$E$39,2,FALSE))","v":"Jordan Galli"},{"$f":"IF(VLOOKUP($A104,'Schedule Setup'!$A$4:$E$39,4,FALSE)=0,\"\",VLOOKUP($A104,'Schedule Setup'!$A$4:$E$39,4,FALSE))","v":"Team Member"},"TM","08:00:00","16:00:00",null,"x","x","x","x","","","TM","TM","TM","TM","TM","TM","TM","TM","TM","TM","TM","TM","TM","TM","TM","TM","","","","","","","","","","","","x","x","x","x","x",8,null,"x","x","x","x","","","TM","TM","TM","TM","TM","TM","TM","TM","TM","TM","TM","TM","TM","TM","TM","TM","","","","","","","","","","","","x","x","x","x","x",null,0,0,0,0,0,0,0.5,0.5,0.5,0.5,0.5,0.5,0.5,0.5,0.5,0.5,0.5,0.5,0.5,0.5,0.5,0.5,0,0,0,0,0,0,0,0,0,0,0,0,0,0,0,0,null,{"$f":"IF(VLOOKUP($A104,'Schedule Setup'!$A$4:$E$39,5,FALSE)=0,\"\",VLOOKUP($A104,'Schedule Setup'!$A$4:$E$39,5,FALSE))","v":""},3,"",5,"",0,"",8,"",null,3,"",5,"",0,"",8,"",null,{"$f":"'Schedule Setup'!J10","v":"07:00:00"},{"$f":"'Schedule Setup'!K10","v":"21:30:00"},"06:30:00","22:00:00"]
[7,{"$f":"IF(VLOOKUP($A105,'Schedule Setup'!$A$4:$E$39,2,FALSE)=0,\"\",VLOOKUP($A105,'Schedule Setup'!$A$4:$E$39,2,FALSE))","v":"Madelyn Hickey"},{"$f":"IF(VLOOKUP($A105,'Schedule Setup'!$A$4:$E$39,4,FALSE)=0,\"\",VLOOKUP($A105,'Schedule Setup'!$A$4:$E$39,4,FALSE))","v":"Team Member"},"TM",null,null,null,"x","x","x","x","x","x","x","x","x","x","x","x","x","x","x","x","x","x","x","x","x","x","x","x","x","x","x",{"$f":"BW105","v":"x"},"x","x","x","x","x","x","x","x","x","x",0,null,"x","x","x","x","x","x","x","x","x","x","x","x","x","x","x","x","x","x","x","x","x","x","x","x","x","x","x","x","x","x","x","x","x","x","x","x","x","x",null,0,0,0,0,0,0,0,0,0,0,0,0,0,0,0,0,0,0,0,0,0,0,0,0,0,0,0,0,0,0,0,0,0,0,0,0,0,0,null,{"$f":"IF(VLOOKUP($A105,'Schedule Setup'!$A$4:$E$39,5,FALSE)=0,\"\",VLOOKUP($A105,'Schedule Setup'!$A$4:$E$39,5,FALSE))","v":""},0,"",0,"",0,"",0,"",null,0,"",0,"",0,"",0,"",null,{"$f":"'Schedule Setup'!J11","v":"UnAvail"},{"$f":"'Schedule Setup'!K11","v":"UnAvail"},{"$error":"#VALUE!"},{"$error":"#VALUE!"}]
[8,{"$f":"IF(VLOOKUP($A106,'Schedule Setup'!$A$4:$E$39,2,FALSE)=0,\"\",VLOOKUP($A106,'Schedule Setup'!$A$4:$E$39,2,FALSE))","v":""},{"$f":"IF(VLOOKUP($A106,'Schedule Setup'!$A$4:$E$39,4,FALSE)=0,\"\",VLOOKUP($A106,'Schedule Setup'!$A$4:$E$39,4,FALSE))","v":""},"",null,null,null,{"$f":"AV106","v":"x"},"x","x","x","x","x","x","x","x","x","x","x","x","x","x","x",{"$f":"BL106","v":"x"},"x","x","x","x","x","x","x","x","x","x","x","x","x","x","x","x","x","x","x","x","x",0,null,"x","x","x","x","x","x","x","x","x","x","x","x","x","x","x","x","x","x","x","x","x","x","x","x","x","x","x","x","x","x","x","x","x",{"$f":"IF(AND($EO106<=AO$6+0.01,$EP106>AO$6+0.01),IF(AND(AO$6<$F106-0.01,AO$6>=$E106-0.01),$D106,\"\"),\"x\")","v":"x"},"x","x","x","x",null,0,0,0,0,0,0,0,0,0,0,0,0,0,0,0,0,0,0,0,0,0,0,0,0,0,0,0,0,0,0,0,0,0,0,0,0,0,0,null,{"$f":"IF(VLOOKUP($A106,'Schedule Setup'!$A$4:$E$39,5,FALSE)=0,\"\",VLOOKUP($A106,'Schedule Setup'!$A$4:$E$39,5,FALSE))","v":""},0,{"$f":"IFERROR(DW106*$DV106,\"\")","v":""},0,"",0,"",0,"",null,0,"",0,"",0,"",0,"",null,{"$f":"'Schedule Setup'!J12","v":"00:00:00"},{"$f":"'Schedule Setup'!K12","v":"00:00:00"},-2.0833333333333332E-2,"00:30:00"]
[9,{"$f":"IF(VLOOKUP($A107,'Schedule Setup'!$A$4:$E$39,2,FALSE)=0,\"\",VLOOKUP($A107,'Schedule Setup'!$A$4:$E$39,2,FALSE))","v":""},{"$f":"IF(VLOOKUP($A107,'Schedule Setup'!$A$4:$E$39,4,FALSE)=0,\"\",VLOOKUP($A107,'Schedule Setup'!$A$4:$E$39,4,FALSE))","v":""},"",null,null,null,"x","x","x","x","x","x","x","x","x","x","x","x","x","x","x","x","x","x","x","x","x","x","x","x","x","x","x","x","x","x","x","x","x","x","x","x","x","x",0,null,"x","x","x","x","x","x","x","x","x","x","x","x","x","x","x","x","x","x","x","x","x","x","x","x","x","x","x","x","x","x","x","x","x",{"$f":"IF(AND($EO107<=AO$6+0.01,$EP107>AO$6+0.01),IF(AND(AO$6<$F107-0.01,AO$6>=$E107-0.01),$D107,\"\"),\"x\")","v":"x"},"x","x","x","x",null,0,0,0,0,0,0,0,0,0,0,0,0,0,0,0,0,0,0,0,0,0,0,0,0,0,0,0,0,0,0,0,0,0,0,0,0,0,0,null,{"$f":"IF(VLOOKUP($A107,'Schedule Setup'!$A$4:$E$39,5,FALSE)=0,\"\",VLOOKUP($A107,'Schedule Setup'!$A$4:$E$39,5,FALSE))","v":""},0,{"$f":"IFERROR(DW107*$DV107,\"\")","v":""},0,"",0,"",0,"",null,0,"",0,"",0,"",0,"",null,{"$f":"'Schedule Setup'!J13","v":"00:00:00"},{"$f":"'Schedule Setup'!K13","v":"00:00:00"},-2.0833333333333332E-2,"00:30:00"]
[10,{"$f":"IF(VLOOKUP($A108,'Schedule Setup'!$A$4:$E$39,2,FALSE)=0,\"\",VLOOKUP($A108,'Schedule Setup'!$A$4:$E$39,2,FALSE))","v":""},{"$f":"IF(VLOOKUP($A108,'Schedule Setup'!$A$4:$E$39,4,FALSE)=0,\"\",VLOOKUP($A108,'Schedule Setup'!$A$4:$E$39,4,FALSE))","v":""},"",null,null,null,"x","x","x","x","x","x","x","x","x","x","x","x","x","x","x","x","x","x","x","x","x","x","x","x","x","x","x","x","x","x","x","x","x","x","x","x","x","x",0,null,"x","x","x","x","x","x","x","x","x","x","x","x","x","x","x","x","x","x","x","x","x","x","x","x","x","x","x","x","x","x","x","x","x","x","x","x","x","x",null,0,0,0,0,0,0,0,0,0,0,0,0,0,0,0,0,0,0,0,0,0,0,0,0,0,0,0,0,0,0,0,0,0,0,0,0,0,0,null,{"$f":"IF(VLOOKUP($A108,'Schedule Setup'!$A$4:$E$39,5,FALSE)=0,\"\",VLOOKUP($A108,'Schedule Setup'!$A$4:$E$39,5,FALSE))","v":""},0,"",0,"",0,"",0,"",null,0,"",0,"",0,"",0,"",null,{"$f":"'Schedule Setup'!J14","v":"00:00:00"},{"$f":"'Schedule Setup'!K14","v":"00:00:00"},-2.0833333333333332E-2,"00:30:00"]
[11,{"$f":"IF(VLOOKUP($A109,'Schedule Setup'!$A$4:$E$39,2,FALSE)=0,\"\",VLOOKUP($A109,'Schedule Setup'!$A$4:$E$39,2,FALSE))","v":""},{"$f":"IF(VLOOKUP($A109,'Schedule Setup'!$A$4:$E$39,4,FALSE)=0,\"\",VLOOKUP($A109,'Schedule Setup'!$A$4:$E$39,4,FALSE))","v":""},"",null,null,null,"x","x","x","x","x","x","x","x","x","x","x","x","x","x","x","x","x","x","x","x","x","x","x","x","x","x","x","x","x","x","x","x","x","x","x","x","x","x",0,null,"x","x","x","x","x","x","x","x","x","x","x","x","x","x","x","x","x","x","x","x","x","x","x","x","x","x","x","x","x","x","x","x","x","x","x","x","x","x",null,0,0,0,0,0,0,0,0,0,0,0,0,0,0,0,0,0,0,0,0,0,0,0,0,0,0,0,0,0,0,0,0,0,0,0,0,0,0,null,{"$f":"IF(VLOOKUP($A109,'Schedule Setup'!$A$4:$E$39,5,FALSE)=0,\"\",VLOOKUP($A109,'Schedule Setup'!$A$4:$E$39,5,FALSE))","v":""},0,"",0,"",0,"",0,"",null,0,"",0,"",0,"",0,"",null,{"$f":"'Schedule Setup'!J15","v":"00:00:00"},{"$f":"'Schedule Setup'!K15","v":"00:00:00"},-2.0833333333333332E-2,"00:30:00"]
[12,{"$f":"IF(VLOOKUP($A110,'Schedule Setup'!$A$4:$E$39,2,FALSE)=0,\"\",VLOOKUP($A110,'Schedule Setup'!$A$4:$E$39,2,FALSE))","v":""},{"$f":"IF(VLOOKUP($A110,'Schedule Setup'!$A$4:$E$39,4,FALSE)=0,\"\",VLOOKUP($A110,'Schedule Setup'!$A$4:$E$39,4,FALSE))","v":""},"",null,null,null,"x","x","x","x","x","x","x","x","x","x","x","x","x","x","x","x","x","x","x","x","x","x","x","x","x","x","x","x","x","x","x","x","x","x","x","x","x","x",0,null,"x","x","x","x","x","x","x","x","x","x","x","x","x","x","x","x","x","x","x","x","x","x","x","x","x","x","x","x","x","x","x","x","x","x","x","x","x","x",null,0,0,0,0,0,0,0,0,0,0,0,0,0,0,0,0,0,0,0,0,0,0,0,0,0,0,0,0,0,0,0,0,0,0,0,0,0,0,null,{"$f":"IF(VLOOKUP($A110,'Schedule Setup'!$A$4:$E$39,5,FALSE)=0,\"\",VLOOKUP($A110,'Schedule Setup'!$A$4:$E$39,5,FALSE))","v":""},0,"",0,"",0,"",0,"",null,0,"",0,"",0,"",0,"",null,{"$f":"'Schedule Setup'!J16","v":"00:00:00"},{"$f":"'Schedule Setup'!K16","v":"00:00:00"},-2.0833333333333332E-2,"00:30:00"]
[13,{"$f":"IF(VLOOKUP($A111,'Schedule Setup'!$A$4:$E$39,2,FALSE)=0,\"\",VLOOKUP($A111,'Schedule Setup'!$A$4:$E$39,2,FALSE))","v":""},{"$f":"IF(VLOOKUP($A111,'Schedule Setup'!$A$4:$E$39,4,FALSE)=0,\"\",VLOOKUP($A111,'Schedule Setup'!$A$4:$E$39,4,FALSE))","v":""},"",null,null,null,"x","x","x","x","x","x","x","x","x","x","x","x","x","x","x","x","x","x","x","x","x","x","x","x","x","x","x","x","x","x","x","x","x","x","x","x","x","x",0,null,"x","x","x","x","x","x","x","x","x","x","x","x","x","x","x","x","x","x","x","x","x","x","x","x","x","x","x","x","x","x","x","x","x","x","x","x","x","x",null,0,0,0,0,0,0,0,0,0,0,0,0,0,0,0,0,0,0,0,0,0,0,0,0,0,0,0,0,0,0,0,0,0,0,0,0,0,0,null,{"$f":"IF(VLOOKUP($A111,'Schedule Setup'!$A$4:$E$39,5,FALSE)=0,\"\",VLOOKUP($A111,'Schedule Setup'!$A$4:$E$39,5,FALSE))","v":""},0,"",0,"",0,"",0,"",null,0,"",0,"",0,"",0,"",null,{"$f":"'Schedule Setup'!J17","v":"00:00:00"},{"$f":"'Schedule Setup'!K17","v":"00:00:00"},-2.0833333333333332E-2,"00:30:00"]
[14,{"$f":"IF(VLOOKUP($A112,'Schedule Setup'!$A$4:$E$39,2,FALSE)=0,\"\",VLOOKUP($A112,'Schedule Setup'!$A$4:$E$39,2,FALSE))","v":"Matt Louden"},{"$f":"IF(VLOOKUP($A112,'Schedule Setup'!$A$4:$E$39,4,FALSE)=0,\"\",VLOOKUP($A112,'Schedule Setup'!$A$4:$E$39,4,FALSE))","v":"Team Member"},"TM","11:30:00","16:30:00",null,"x","x","x","x","","","","","","","","","","TM","TM","TM","TM","TM","TM","TM","TM","TM","TM","","","","","","","","","","","x","x","x","x","x",5,null,"x","x","x","x","","","","","","","","","","TM","TM","TM","TM","TM","TM","TM","TM","TM","TM","","","","","","","","","","","x","x","x","x","x",null,0,0,0,0,0,0,0,0,0,0,0,0,0,0.5,0.5,0.5,0.5,0.5,0.5,0.5,0.5,0.5,0.5,0,0,0,0,0,0,0,0,0,0,0,0,0,0,0,null,{"$f":"IF(VLOOKUP($A112,'Schedule Setup'!$A$4:$E$39,5,FALSE)=0,\"\",VLOOKUP($A112,'Schedule Setup'!$A$4:$E$39,5,FALSE))","v":""},0,"",5,"",0,"",5,"",null,0,"",5,"",0,"",5,"",null,{"$f":"'Schedule Setup'!J18","v":"07:00:00"},{"$f":"'Schedule Setup'!K18","v":"21:30:00"},"06:30:00","22:00:00"]
[15,{"$f":"IF(VLOOKUP($A113,'Schedule Setup'!$A$4:$E$39,2,FALSE)=0,\"\",VLOOKUP($A113,'Schedule Setup'!$A$4:$E$39,2,FALSE))","v":"Ani Reyes"},{"$f":"IF(VLOOKUP($A113,'Schedule Setup'!$A$4:$E$39,4,FALSE)=0,\"\",VLOOKUP($A113,'Schedule Setup'!$A$4:$E$39,4,FALSE))","v":"Team Member"},"TM","15:30:00","19:30:00",null,"x","x","x","x","x","x","x","x","x","x","x","x","x","x","x","x","x","x","x","x","x","TM","TM","TM","TM","TM","TM","TM","TM","","","","","x","x","x","x","x",4,null,"x","x","x","x","x","x","x","x","x","x","x","x","x","x","x","x","x","x","x","x","x","TM","TM","TM","TM","TM","TM","TM","TM","","","","","x","x","x","x","x",null,0,0,0,0,0,0,0,0,0,0,0,0,0,0,0,0,0,0,0,0,0,0.5,0.5,0.5,0.5,0.5,0.5,0.5,0.5,0,0,0,0,0,0,0,0,0,null,{"$f":"IF(VLOOKUP($A113,'Schedule Setup'!$A$4:$E$39,5,FALSE)=0,\"\",VLOOKUP($A113,'Schedule Setup'!$A$4:$E$39,5,FALSE))","v":""},0,"",1.5,"",2.5,"",4,"",null,0,"",1.5,"",2.5,"",4,"",null,{"$f":"'Schedule Setup'!J19","v":"15:30:00"},{"$f":"'Schedule Setup'!K19","v":"21:30:00"},"15:00:00","22:00:00"]
[16,{"$f":"IF(VLOOKUP($A114,'Schedule Setup'!$A$4:$E$39,2,FALSE)=0,\"\",VLOOKUP($A114,'Schedule Setup'!$A$4:$E$39,2,FALSE))","v":"Andrew Philips"},{"$f":"IF(VLOOKUP($A114,'Schedule Setup'!$A$4:$E$39,4,FALSE)=0,\"\",VLOOKUP($A114,'Schedule Setup'!$A$4:$E$39,4,FALSE))","v":"Team Member"},"TM",null,null,null,"x","x","x","x","x","x","x","x","x","x","x","x","x","x","x","x","x","x","x","x","x","x","","","","","","","","","","","","x","x","x","x","x",0,null,"x","x","x","x","x","x","x","x","x","x","x","x","x","x","x","x",{"$f":"IF(AND($EO114<=X$6+0.01,$EP114>X$6+0.01),IF(AND(X$6<$F114-0.01,X$6>=$E114-0.01),$D114,\"\"),\"x\")","v":"x"},{"$f":"IF(AND($EO114<=Y$6+0.01,$EP114>Y$6+0.01),IF(AND(Y$6<$F114-0.01,Y$6>=$E114-0.01),$D114,\"\"),\"x\")","v":"x"},{"$f":"IF(AND($EO114<=Z$6+0.01,$EP114>Z$6+0.01),IF(AND(Z$6<$F114-0.01,Z$6>=$E114-0.01),$D114,\"\"),\"x\")","v":"x"},{"$f":"IF(AND($EO114<=AA$6+0.01,$EP114>AA$6+0.01),IF(AND(AA$6<$F114-0.01,AA$6>=$E114-0.01),$D114,\"\"),\"x\")","v":"x"},{"$f":"IF(AND($EO114<=AB$6+0.01,$EP114>AB$6+0.01),IF(AND(AB$6<$F114-0.01,AB$6>=$E114-0.01),$D114,\"\"),\"x\")","v":"x"},{"$f":"IF(AND($EO114<=AC$6+0.01,$EP114>AC$6+0.01),IF(AND(AC$6<$F114-0.01,AC$6>=$E114-0.01),$D114,\"\"),\"x\")","v":"x"},{"$f":"IF(AND($EO114<=AD$6+0.01,$EP114>AD$6+0.01),IF(AND(AD$6<$F114-0.01,AD$6>=$E114-0.01),$D114,\"\"),\"x\")","v":""},{"$f":"IF(AND($EO114<=AE$6+0.01,$EP114>AE$6+0.01),IF(AND(AE$6<$F114-0.01,AE$6>=$E114-0.01),$D114,\"\"),\"x\")","v":""},{"$f":"IF(AND($EO114<=AF$6+0.01,$EP114>AF$6+0.01),IF(AND(AF$6<$F114-0.01,AF$6>=$E114-0.01),$D114,\"\"),\"x\")","v":""},{"$f":"IF(AND($EO114<=AG$6+0.01,$EP114>AG$6+0.01),IF(AND(AG$6<$F114-0.01,AG$6>=$E114-0.01),$D114,\"\"),\"x\")","v":""},{"$f":"IF(AND($EO114<=AH$6+0.01,$EP114>AH$6+0.01),IF(AND(AH$6<$F114-0.01,AH$6>=$E114-0.01),$D114,\"\"),\"x\")","v":""},{"$f":"IF(AND($EO114<=AI$6+0.01,$EP114>AI$6+0.01),IF(AND(AI$6<$F114-0.01,AI$6>=$E114-0.01),$D114,\"\"),\"x\")","v":""},{"$f":"IF(AND($EO114<=AJ$6+0.01,$EP114>AJ$6+0.01),IF(AND(AJ$6<$F114-0.01,AJ$6>=$E114-0.01),$D114,\"\"),\"x\")","v":""},{"$f":"IF(AND($EO114<=AK$6+0.01,$EP114>AK$6+0.01),IF(AND(AK$6<$F114-0.01,AK$6>=$E114-0.01),$D114,\"\"),\"x\")","v":""},{"$f":"IF(AND($EO114<=AL$6+0.01,$EP114>AL$6+0.01),IF(AND(AL$6<$F114-0.01,AL$6>=$E114-0.01),$D114,\"\"),\"x\")","v":""},{"$f":"IF(AND($EO114<=AM$6+0.01,$EP114>AM$6+0.01),IF(AND(AM$6<$F114-0.01,AM$6>=$E114-0.01),$D114,\"\"),\"x\")","v":""},{"$f":"IF(AND($EO114<=AN$6+0.01,$EP114>AN$6+0.01),IF(AND(AN$6<$F114-0.01,AN$6>=$E114-0.01),$D114,\"\"),\"x\")","v":""},"x","x","x","x","x",null,0,0,0,0,0,0,0,0,0,0,0,0,0,0,0,0,0,0,0,0,0,0,0,0,0,0,0,0,0,0,0,0,0,0,0,0,0,0,null,{"$f":"IF(VLOOKUP($A114,'Schedule Setup'!$A$4:$E$39,5,FALSE)=0,\"\",VLOOKUP($A114,'Schedule Setup'!$A$4:$E$39,5,FALSE))","v":""},0,"",0,"",0,"",0,"",null,0,"",0,"",0,"",0,"",null,{"$f":"'Schedule Setup'!J20","v":"16:00:00"},{"$f":"'Schedule Setup'!K20","v":"21:30:00"},"15:30:00","22:00:00"]
[17,{"$f":"IF(VLOOKUP($A115,'Schedule Setup'!$A$4:$E$39,2,FALSE)=0,\"\",VLOOKUP($A115,'Schedule Setup'!$A$4:$E$39,2,FALSE))","v":""},{"$f":"IF(VLOOKUP($A115,'Schedule Setup'!$A$4:$E$39,4,FALSE)=0,\"\",VLOOKUP($A115,'Schedule Setup'!$A$4:$E$39,4,FALSE))","v":""},"",null,null,null,"x","x","x","x","x","x","x","x","x","x","x","x","x","x","x","x","x","x","x","x","x","x","x","x","x","x","x","x","x","x","x","x","x","x","x","x","x","x",0,null,{"$f":"IF(AND($EO115<=H$6+0.01,$EP115>H$6+0.01),IF(AND(H$6<$F115-0.01,H$6>=$E115-0.01),$D115,\"\"),\"x\")","v":"x"},{"$f":"IF(AND($EO115<=I$6+0.01,$EP115>I$6+0.01),IF(AND(I$6<$F115-0.01,I$6>=$E115-0.01),$D115,\"\"),\"x\")","v":"x"},{"$f":"IF(AND($EO115<=J$6+0.01,$EP115>J$6+0.01),IF(AND(J$6<$F115-0.01,J$6>=$E115-0.01),$D115,\"\"),\"x\")","v":"x"},{"$f":"IF(AND($EO115<=K$6+0.01,$EP115>K$6+0.01),IF(AND(K$6<$F115-0.01,K$6>=$E115-0.01),$D115,\"\"),\"x\")","v":"x"},{"$f":"IF(AND($EO115<=L$6+0.01,$EP115>L$6+0.01),IF(AND(L$6<$F115-0.01,L$6>=$E115-0.01),$D115,\"\"),\"x\")","v":"x"},{"$f":"IF(AND($EO115<=M$6+0.01,$EP115>M$6+0.01),IF(AND(M$6<$F115-0.01,M$6>=$E115-0.01),$D115,\"\"),\"x\")","v":"x"},{"$f":"IF(AND($EO115<=N$6+0.01,$EP115>N$6+0.01),IF(AND(N$6<$F115-0.01,N$6>=$E115-0.01),$D115,\"\"),\"x\")","v":"x"},{"$f":"IF(AND($EO115<=O$6+0.01,$EP115>O$6+0.01),IF(AND(O$6<$F115-0.01,O$6>=$E115-0.01),$D115,\"\"),\"x\")","v":"x"},{"$f":"IF(AND($EO115<=P$6+0.01,$EP115>P$6+0.01),IF(AND(P$6<$F115-0.01,P$6>=$E115-0.01),$D115,\"\"),\"x\")","v":"x"},{"$f":"IF(AND($EO115<=Q$6+0.01,$EP115>Q$6+0.01),IF(AND(Q$6<$F115-0.01,Q$6>=$E115-0.01),$D115,\"\"),\"x\")","v":"x"},{"$f":"IF(AND($EO115<=R$6+0.01,$EP115>R$6+0.01),IF(AND(R$6<$F115-0.01,R$6>=$E115-0.01),$D115,\"\"),\"x\")","v":"x"},{"$f":"IF(AND($EO115<=S$6+0.01,$EP115>S$6+0.01),IF(AND(S$6<$F115-0.01,S$6>=$E115-0.01),$D115,\"\"),\"x\")","v":"x"},{"$f":"IF(AND($EO115<=T$6+0.01,$EP115>T$6+0.01),IF(AND(T$6<$F115-0.01,T$6>=$E115-0.01),$D115,\"\"),\"x\")","v":"x"},{"$f":"IF(AND($EO115<=U$6+0.01,$EP115>U$6+0.01),IF(AND(U$6<$F115-0.01,U$6>=$E115-0.01),$D115,\"\"),\"x\")","v":"x"},{"$f":"IF(AND($EO115<=V$6+0.01,$EP115>V$6+0.01),IF(AND(V$6<$F115-0.01,V$6>=$E115-0.01),$D115,\"\"),\"x\")","v":"x"},{"$f":"IF(AND($EO115<=W$6+0.01,$EP115>W$6+0.01),IF(AND(W$6<$F115-0.01,W$6>=$E115-0.01),$D115,\"\"),\"x\")","v":"x"},"x","x","x","x","x","x","x","x","x","x","x","x","x","x","x","x","x","x","x","x","x","x",null,0,0,0,0,0,0,0,0,0,0,0,0,0,0,0,0,0,0,0,0,0,0,0,0,0,0,0,0,0,0,0,0,0,0,0,0,0,0,null,{"$f":"IF(VLOOKUP($A115,'Schedule Setup'!$A$4:$E$39,5,FALSE)=0,\"\",VLOOKUP($A115,'Schedule Setup'!$A$4:$E$39,5,FALSE))","v":""},0,"",0,"",0,"",0,"",null,0,"",0,"",0,"",0,"",null,{"$f":"'Schedule Setup'!J21","v":"00:00:00"},{"$f":"'Schedule Setup'!K21","v":"00:00:00"},-2.0833333333333332E-2,"00:30:00"]
[18,{"$f":"IF(VLOOKUP($A116,'Schedule Setup'!$A$4:$E$39,2,FALSE)=0,\"\",VLOOKUP($A116,'Schedule Setup'!$A$4:$E$39,2,FALSE))","v":""},{"$f":"IF(VLOOKUP($A116,'Schedule Setup'!$A$4:$E$39,4,FALSE)=0,\"\",VLOOKUP($A116,'Schedule Setup'!$A$4:$E$39,4,FALSE))","v":""},"",null,null,null,"x","x","x","x","x","x","x","x","x","x","x","x","x","x","x","x","x","x","x","x","x","x","x","x","x","x","x","x","x","x","x","x","x","x","x","x","x","x",0,null,"x","x","x","x","x","x","x","x","x","x","x","x","x","x","x","x","x","x","x","x","x","x","x","x","x","x","x","x","x","x","x","x","x","x","x","x","x","x",null,0,0,0,0,0,0,0,0,0,0,0,0,0,0,0,0,0,0,0,0,0,0,0,0,0,0,0,0,0,0,0,0,0,0,0,0,0,0,null,{"$f":"IF(VLOOKUP($A116,'Schedule Setup'!$A$4:$E$39,5,FALSE)=0,\"\",VLOOKUP($A116,'Schedule Setup'!$A$4:$E$39,5,FALSE))","v":""},0,"",0,"",0,"",0,"",null,0,"",0,"",0,"",0,"",null,{"$f":"'Schedule Setup'!J22","v":"00:00:00"},{"$f":"'Schedule Setup'!K22","v":"00:00:00"},-2.0833333333333332E-2,"00:30:00"]
[19,{"$f":"IF(VLOOKUP($A117,'Schedule Setup'!$A$4:$E$39,2,FALSE)=0,\"\",VLOOKUP($A117,'Schedule Setup'!$A$4:$E$39,2,FALSE))","v":"."},{"$f":"IF(VLOOKUP($A117,'Schedule Setup'!$A$4:$E$39,4,FALSE)=0,\"\",VLOOKUP($A117,'Schedule Setup'!$A$4:$E$39,4,FALSE))","v":""},"TM",null,null,null,"x","x","x","x","x","x","x","x","x","x","x","x","x","x","x","x","x","x","x","x","x","x","x","x","x","x","x","x","x","x","x","x","x","x","x","x","x","x",0,null,"x","x","x","x","x","x","x","x","x","x","x","x","x","x","x","x","x","x","x","x","x","x","x","x","x","x","x","x","x","x","x","x","x","x","x","x","x","x",null,0,0,0,0,0,0,0,0,0,0,0,0,0,0,0,0,0,0,0,0,0,0,0,0,0,0,0,0,0,0,0,0,0,0,0,0,0,0,null,{"$f":"IF(VLOOKUP($A117,'Schedule Setup'!$A$4:$E$39,5,FALSE)=0,\"\",VLOOKUP($A117,'Schedule Setup'!$A$4:$E$39,5,FALSE))","v":""},0,"",0,"",0,"",0,"",null,0,"",0,"",0,"",0,"",null,{"$f":"'Schedule Setup'!J23","v":"00:00:00"},{"$f":"'Schedule Setup'!K23","v":"00:00:00"},-2.0833333333333332E-2,"00:30:00"]
[20,{"$f":"IF(VLOOKUP($A118,'Schedule Setup'!$A$4:$E$39,2,FALSE)=0,\"\",VLOOKUP($A118,'Schedule Setup'!$A$4:$E$39,2,FALSE))","v":"Sean Duncan"},{"$f":"IF(VLOOKUP($A118,'Schedule Setup'!$A$4:$E$39,4,FALSE)=0,\"\",VLOOKUP($A118,'Schedule Setup'!$A$4:$E$39,4,FALSE))","v":"Team Lead"},"TL",null,null,null,"x","x","x","x","x","x","x","x","x","x","x","x","x","x","x","x","x","x","x","x","x","x","x","x","x","x","x","x","x","x","x","x","x","x","x","x","x","x",0,null,"x","x","x","x","x","x","x","x","x","x","x","x","x","x","x","x","x","x","x","x","x","x","x","x","x","x","x","x","x","x","x","x","x","x","x","x","x","x",null,0,0,0,0,0,0,0,0,0,0,0,0,0,0,0,0,0,0,0,0,0,0,0,0,0,0,0,0,0,0,0,0,0,0,0,0,0,0,null,{"$f":"IF(VLOOKUP($A118,'Schedule Setup'!$A$4:$E$39,5,FALSE)=0,\"\",VLOOKUP($A118,'Schedule Setup'!$A$4:$E$39,5,FALSE))","v":""},0,"",0,"",0,"",0,"",null,0,"",0,"",0,"",0,"",null,{"$f":"'Schedule Setup'!J24","v":"00:00:00"},{"$f":"'Schedule Setup'!K24","v":"00:00:00"},-2.0833333333333332E-2,"00:30:00"]
[21,{"$f":"IF(VLOOKUP($A119,'Schedule Setup'!$A$4:$E$39,2,FALSE)=0,\"\",VLOOKUP($A119,'Schedule Setup'!$A$4:$E$39,2,FALSE))","v":""},{"$f":"IF(VLOOKUP($A119,'Schedule Setup'!$A$4:$E$39,4,FALSE)=0,\"\",VLOOKUP($A119,'Schedule Setup'!$A$4:$E$39,4,FALSE))","v":""},"",null,null,null,"x","x","x","x","x","x","x","x","x","x","x","x","x","x","x","x","x","x","x","x","x","x","x","x","x","x","x","x","x","x","x","x","x","x","x","x","x","x",0,null,"x","x","x","x","x","x","x","x","x","x","x","x","x","x","x","x","x","x","x","x","x","x","x","x","x","x","x","x","x","x","x","x","x","x","x","x","x","x",null,0,0,0,0,0,0,0,0,0,0,0,0,0,0,0,0,0,0,0,0,0,0,0,0,0,0,0,0,0,0,0,0,0,0,0,0,0,0,null,{"$f":"IF(VLOOKUP($A119,'Schedule Setup'!$A$4:$E$39,5,FALSE)=0,\"\",VLOOKUP($A119,'Schedule Setup'!$A$4:$E$39,5,FALSE))","v":""},0,"",0,"",0,"",0,"",null,0,"",0,"",0,"",0,"",null,{"$f":"'Schedule Setup'!J25","v":"00:00:00"},{"$f":"'Schedule Setup'!K25","v":"00:00:00"},-2.0833333333333332E-2,"00:30:00"]
[22,{"$f":"IF(VLOOKUP($A120,'Schedule Setup'!$A$4:$E$39,2,FALSE)=0,\"\",VLOOKUP($A120,'Schedule Setup'!$A$4:$E$39,2,FALSE))","v":""},{"$f":"IF(VLOOKUP($A120,'Schedule Setup'!$A$4:$E$39,4,FALSE)=0,\"\",VLOOKUP($A120,'Schedule Setup'!$A$4:$E$39,4,FALSE))","v":""},"",null,null,null,"x","x","x","x","x","x","x","x","x","x","x","x","x","x","x","x","x","x","x","x","x","x","x","x","x","x","x","x","x","x","x","x","x","x","x","x","x","x",0,null,"x","x","x","x","x","x","x","x","x","x","x","x","x","x","x","x","x","x","x","x","x","x","x","x","x","x","x","x","x","x","x","x","x","x","x","x","x","x",null,0,0,0,0,0,0,0,0,0,0,0,0,0,0,0,0,0,0,0,0,0,0,0,0,0,0,0,0,0,0,0,0,0,0,0,0,0,0,null,{"$f":"IF(VLOOKUP($A120,'Schedule Setup'!$A$4:$E$39,5,FALSE)=0,\"\",VLOOKUP($A120,'Schedule Setup'!$A$4:$E$39,5,FALSE))","v":""},0,"",0,"",0,"",0,"",null,0,"",0,"",0,"",0,"",null,{"$f":"'Schedule Setup'!J26","v":"00:00:00"},{"$f":"'Schedule Setup'!K26","v":"00:00:00"},{"$f":"EO120-(0.5/24)","v":-2.0833333333333332E-2},{"$f":"EP120+(0.5/24)","v":"00:30:00"}]
[23,{"$f":"IF(VLOOKUP($A121,'Schedule Setup'!$A$4:$E$39,2,FALSE)=0,\"\",VLOOKUP($A121,'Schedule Setup'!$A$4:$E$39,2,FALSE))","v":""},{"$f":"IF(VLOOKUP($A121,'Schedule Setup'!$A$4:$E$39,4,FALSE)=0,\"\",VLOOKUP($A121,'Schedule Setup'!$A$4:$E$39,4,FALSE))","v":""},"",null,null,null,"x","x","x","x","x","x","x","x","x","x","x","x","x","x","x","x","x","x","x","x","x","x","x","x","x","x","x","x","x","x","x","x","x","x","x","x","x","x",0,null,"x","x","x","x","x","x","x","x","x","x","x","x","x","x","x","x","x","x","x","x","x","x","x","x","x","x","x","x","x","x","x","x","x","x","x","x","x","x",null,0,0,0,0,0,0,0,0,0,0,0,0,0,0,0,0,0,0,0,0,0,0,0,0,0,0,0,0,0,0,0,0,0,0,0,0,0,0,null,{"$f":"IF(VLOOKUP($A121,'Schedule Setup'!$A$4:$E$39,5,FALSE)=0,\"\",VLOOKUP($A121,'Schedule Setup'!$A$4:$E$39,5,FALSE))","v":""},0,"",0,"",0,"",0,"",null,0,"",0,"",0,"",0,"",null,{"$f":"'Schedule Setup'!J27","v":"00:00:00"},{"$f":"'Schedule Setup'!K27","v":"00:00:00"},-2.0833333333333332E-2,"00:30:00"]
[24,{"$f":"IF(VLOOKUP($A122,'Schedule Setup'!$A$4:$E$39,2,FALSE)=0,\"\",VLOOKUP($A122,'Schedule Setup'!$A$4:$E$39,2,FALSE))","v":""},{"$f":"IF(VLOOKUP($A122,'Schedule Setup'!$A$4:$E$39,4,FALSE)=0,\"\",VLOOKUP($A122,'Schedule Setup'!$A$4:$E$39,4,FALSE))","v":""},"",null,null,null,"x","x","x","x","x","x","x","x","x","x","x","x","x","x","x",{"$f":"BK122","v":"x"},"x","x","x","x","x","x","x","x","x","x","x","x","x","x","x","x","x","x","x","x","x","x",0,null,"x","x","x","x","x","x","x","x","x","x","x","x","x","x","x","x","x","x","x","x","x","x","x","x","x","x","x","x","x","x","x","x","x","x","x","x","x","x",null,0,0,0,0,0,0,0,0,0,0,0,0,0,0,0,0,0,0,0,0,0,0,0,0,0,0,0,0,0,0,0,0,0,0,0,0,0,0,null,{"$f":"IF(VLOOKUP($A122,'Schedule Setup'!$A$4:$E$39,5,FALSE)=0,\"\",VLOOKUP($A122,'Schedule Setup'!$A$4:$E$39,5,FALSE))","v":""},0,"",0,"",0,"",0,"",null,0,"",0,"",0,"",0,"",null,{"$f":"'Schedule Setup'!J28","v":"00:00:00"},{"$f":"'Schedule Setup'!K28","v":"00:00:00"},-2.0833333333333332E-2,"00:30:00"]
[25,{"$f":"IF(VLOOKUP($A123,'Schedule Setup'!$A$4:$E$39,2,FALSE)=0,\"\",VLOOKUP($A123,'Schedule Setup'!$A$4:$E$39,2,FALSE))","v":""},{"$f":"IF(VLOOKUP($A123,'Schedule Setup'!$A$4:$E$39,4,FALSE)=0,\"\",VLOOKUP($A123,'Schedule Setup'!$A$4:$E$39,4,FALSE))","v":""},{"$f":"IF(B123<>\"\",IF(OR(C123=\"General Manager (S)\", C123=\"General Manager (H)\"), \"GM\",IF(C123=\"Acting Manager\",\"AM\",IF(C123=\"Shift Manager\",\"SM\",IF(C123=\"Team Lead\",\"TL\",\"TM\")))),\"\")","v":""},null,null,null,{"$f":"AV123","v":"x"},{"$f":"AW123","v":"x"},{"$f":"AX123","v":"x"},{"$f":"AY123","v":"x"},{"$f":"AZ123","v":"x"},{"$f":"BA123","v":"x"},{"$f":"BB123","v":"x"},{"$f":"BC123","v":"x"},{"$f":"BD123","v":"x"},{"$f":"BE123","v":"x"},{"$f":"BF123","v":"x"},{"$f":"BG123","v":"x"},{"$f":"BH123","v":"x"},{"$f":"BI123","v":"x"},"x",{"$f":"BK123","v":"x"},{"$f":"BL123","v":"x"},{"$f":"BM123","v":"x"},{"$f":"BN123","v":"x"},{"$f":"BO123","v":"x"},{"$f":"BP123","v":"x"},{"$f":"BQ123","v":"x"},{"$f":"BR123","v":"x"},{"$f":"BS123","v":"x"},{"$f":"BT123","v":"x"},{"$f":"BU123","v":"x"},{"$f":"BV123","v":"x"},{"$f":"BW123","v":"x"},{"$f":"BX123","v":"x"},{"$f":"BY123","v":"x"},{"$f":"BZ123","v":"x"},{"$f":"CA123","v":"x"},{"$f":"CB123","v":"x"},{"$f":"CC123","v":"x"},{"$f":"CD123","v":"x"},{"$f":"CE123","v":"x"},{"$f":"CF123","v":"x"},{"$f":"CG123","v":"x"},{"$f":"EC123","v":0},null,{"$f":"IF(AND($EO123<=H$6+0.01,$EP123>H$6+0.01),IF(AND(H$6<$F123-0.01,H$6>=$E123-0.01),$D123,\"\"),\"x\")","v":"x"},{"$f":"IF(AND($EO123<=I$6+0.01,$EP123>I$6+0.01),IF(AND(I$6<$F123-0.01,I$6>=$E123-0.01),$D123,\"\"),\"x\")","v":"x"},{"$f":"IF(AND($EO123<=J$6+0.01,$EP123>J$6+0.01),IF(AND(J$6<$F123-0.01,J$6>=$E123-0.01),$D123,\"\"),\"x\")","v":"x"},{"$f":"IF(AND($EO123<=K$6+0.01,$EP123>K$6+0.01),IF(AND(K$6<$F123-0.01,K$6>=$E123-0.01),$D123,\"\"),\"x\")","v":"x"},{"$f":"IF(AND($EO123<=L$6+0.01,$EP123>L$6+0.01),IF(AND(L$6<$F123-0.01,L$6>=$E123-0.01),$D123,\"\"),\"x\")","v":"x"},{"$f":"IF(AND($EO123<=M$6+0.01,$EP123>M$6+0.01),IF(AND(M$6<$F123-0.01,M$6>=$E123-0.01),$D123,\"\"),\"x\")","v":"x"},{"$f":"IF(AND($EO123<=N$6+0.01,$EP123>N$6+0.01),IF(AND(N$6<$F123-0.01,N$6>=$E123-0.01),$D123,\"\"),\"x\")","v":"x"},{"$f":"IF(AND($EO123<=O$6+0.01,$EP123>O$6+0.01),IF(AND(O$6<$F123-0.01,O$6>=$E123-0.01),$D123,\"\"),\"x\")","v":"x"},{"$f":"IF(AND($EO123<=P$6+0.01,$EP123>P$6+0.01),IF(AND(P$6<$F123-0.01,P$6>=$E123-0.01),$D123,\"\"),\"x\")","v":"x"},{"$f":"IF(AND($EO123<=Q$6+0.01,$EP123>Q$6+0.01),IF(AND(Q$6<$F123-0.01,Q$6>=$E123-0.01),$D123,\"\"),\"x\")","v":"x"},{"$f":"IF(AND($EO123<=R$6+0.01,$EP123>R$6+0.01),IF(AND(R$6<$F123-0.01,R$6>=$E123-0.01),$D123,\"\"),\"x\")","v":"x"},{"$f":"IF(AND($EO123<=S$6+0.01,$EP123>S$6+0.01),IF(AND(S$6<$F123-0.01,S$6>=$E123-0.01),$D123,\"\"),\"x\")","v":"x"},{"$f":"IF(AND($EO123<=T$6+0.01,$EP123>T$6+0.01),IF(AND(T$6<$F123-0.01,T$6>=$E123-0.01),$D123,\"\"),\"x\")","v":"x"},{"$f":"IF(AND($EO123<=U$6+0.01,$EP123>U$6+0.01),IF(AND(U$6<$F123-0.01,U$6>=$E123-0.01),$D123,\"\"),\"x\")","v":"x"},{"$f":"IF(AND($EO123<=V$6+0.01,$EP123>V$6+0.01),IF(AND(V$6<$F123-0.01,V$6>=$E123-0.01),$D123,\"\"),\"x\")","v":"x"},{"$f":"IF(AND($EO123<=W$6+0.01,$EP123>W$6+0.01),IF(AND(W$6<$F123-0.01,W$6>=$E123-0.01),$D123,\"\"),\"x\")","v":"x"},{"$f":"IF(AND($EO123<=X$6+0.01,$EP123>X$6+0.01),IF(AND(X$6<$F123-0.01,X$6>=$E123-0.01),$D123,\"\"),\"x\")","v":"x"},{"$f":"IF(AND($EO123<=Y$6+0.01,$EP123>Y$6+0.01),IF(AND(Y$6<$F123-0.01,Y$6>=$E123-0.01),$D123,\"\"),\"x\")","v":"x"},{"$f":"IF(AND($EO123<=Z$6+0.01,$EP123>Z$6+0.01),IF(AND(Z$6<$F123-0.01,Z$6>=$E123-0.01),$D123,\"\"),\"x\")","v":"x"},{"$f":"IF(AND($EO123<=AA$6+0.01,$EP123>AA$6+0.01),IF(AND(AA$6<$F123-0.01,AA$6>=$E123-0.01),$D123,\"\"),\"x\")","v":"x"},{"$f":"IF(AND($EO123<=AB$6+0.01,$EP123>AB$6+0.01),IF(AND(AB$6<$F123-0.01,AB$6>=$E123-0.01),$D123,\"\"),\"x\")","v":"x"},{"$f":"IF(AND($EO123<=AC$6+0.01,$EP123>AC$6+0.01),IF(AND(AC$6<$F123-0.01,AC$6>=$E123-0.01),$D123,\"\"),\"x\")","v":"x"},{"$f":"IF(AND($EO123<=AD$6+0.01,$EP123>AD$6+0.01),IF(AND(AD$6<$F123-0.01,AD$6>=$E123-0.01),$D123,\"\"),\"x\")","v":"x"},{"$f":"IF(AND($EO123<=AE$6+0.01,$EP123>AE$6+0.01),IF(AND(AE$6<$F123-0.01,AE$6>=$E123-0.01),$D123,\"\"),\"x\")","v":"x"},{"$f":"IF(AND($EO123<=AF$6+0.01,$EP123>AF$6+0.01),IF(AND(AF$6<$F123-0.01,AF$6>=$E123-0.01),$D123,\"\"),\"x\")","v":"x"},{"$f":"IF(AND($EO123<=AG$6+0.01,$EP123>AG$6+0.01),IF(AND(AG$6<$F123-0.01,AG$6>=$E123-0.01),$D123,\"\"),\"x\")","v":"x"},{"$f":"IF(AND($EO123<=AH$6+0.01,$EP123>AH$6+0.01),IF(AND(AH$6<$F123-0.01,AH$6>=$E123-0.01),$D123,\"\"),\"x\")","v":"x"},{"$f":"IF(AND($EO123<=AI$6+0.01,$EP123>AI$6+0.01),IF(AND(AI$6<$F123-0.01,AI$6>=$E123-0.01),$D123,\"\"),\"x\")","v":"x"},{"$f":"IF(AND($EO123<=AJ$6+0.01,$EP123>AJ$6+0.01),IF(AND(AJ$6<$F123-0.01,AJ$6>=$E123-0.01),$D123,\"\"),\"x\")","v":"x"},{"$f":"IF(AND($EO123<=AK$6+0.01,$EP123>AK$6+0.01),IF(AND(AK$6<$F123-0.01,AK$6>=$E123-0.01),$D123,\"\"),\"x\")","v":"x"},{"$f":"IF(AND($EO123<=AL$6+0.01,$EP123>AL$6+0.01),IF(AND(AL$6<$F123-0.01,AL$6>=$E123-0.01),$D123,\"\"),\"x\")","v":"x"},{"$f":"IF(AND($EO123<=AM$6+0.01,$EP123>AM$6+0.01),IF(AND(AM$6<$F123-0.01,AM$6>=$E123-0.01),$D123,\"\"),\"x\")","v":"x"},{"$f":"IF(AND($EO123<=AN$6+0.01,$EP123>AN$6+0.01),IF(AND(AN$6<$F123-0.01,AN$6>=$E123-0.01),$D123,\"\"),\"x\")","v":"x"},{"$f":"IF(AND($EO123<=AO$6+0.01,$EP123>AO$6+0.01),IF(AND(AO$6<$F123-0.01,AO$6>=$E123-0.01),$D123,\"\"),\"x\")","v":"x"},{"$f":"IF(AND($EO123<=AP$6+0.01,$EP123>AP$6+0.01),IF(AND(AP$6<$F123-0.01,AP$6>=$E123-0.01),$D123,\"\"),\"x\")","v":"x"},{"$f":"IF(AND($EO123<=AQ$6+0.01,$EP123>AQ$6+0.01),IF(AND(AQ$6<$F123-0.01,AQ$6>=$E123-0.01),$D123,\"\"),\"x\")","v":"x"},{"$f":"IF(AND($EO123<=AR$6+0.01,$EP123>AR$6+0.01),IF(AND(AR$6<$F123-0.01,AR$6>=$E123-0.01),$D123,\"\"),\"x\")","v":"x"},{"$f":"IF(AND($EO123<=AS$6+0.01,$EP123>AS$6+0.01),IF(AND(AS$6<$F123-0.01,AS$6>=$E123-0.01),$D123,\"\"),\"x\")","v":"x"},null,{"$f":"IF(AND(AV123<>\"\",AV123<>\"x\"),0.5,)","v":0},{"$f":"IF(AND(AW123<>\"\",AW123<>\"x\"),0.5,)","v":0},{"$f":"IF(AND(AX123<>\"\",AX123<>\"x\"),0.5,)","v":0},{"$f":"IF(AND(AY123<>\"\",AY123<>\"x\"),0.5,)","v":0},{"$f":"IF(AND(AZ123<>\"\",AZ123<>\"x\"),0.5,)","v":0},{"$f":"IF(AND(BA123<>\"\",BA123<>\"x\"),0.5,)","v":0},{"$f":"IF(AND(BB123<>\"\",BB123<>\"x\"),0.5,)","v":0},{"$f":"IF(AND(BC123<>\"\",BC123<>\"x\"),0.5,)","v":0},{"$f":"IF(AND(BD123<>\"\",BD123<>\"x\"),0.5,)","v":0},{"$f":"IF(AND(BE123<>\"\",BE123<>\"x\"),0.5,)","v":0},{"$f":"IF(AND(BF123<>\"\",BF123<>\"x\"),0.5,)","v":0},{"$f":"IF(AND(BG123<>\"\",BG123<>\"x\"),0.5,)","v":0},{"$f":"IF(AND(BH123<>\"\",BH123<>\"x\"),0.5,)","v":0},{"$f":"IF(AND(BI123<>\"\",BI123<>\"x\"),0.5,)","v":0},{"$f":"IF(AND(BJ123<>\"\",BJ123<>\"x\"),0.5,)","v":0},{"$f":"IF(AND(BK123<>\"\",BK123<>\"x\"),0.5,)","v":0},{"$f":"IF(AND(BL123<>\"\",BL123<>\"x\"),0.5,)","v":0},{"$f":"IF(AND(BM123<>\"\",BM123<>\"x\"),0.5,)","v":0},{"$f":"IF(AND(BN123<>\"\",BN123<>\"x\"),0.5,)","v":0},{"$f":"IF(AND(BO123<>\"\",BO123<>\"x\"),0.5,)","v":0},{"$f":"IF(AND(BP123<>\"\",BP123<>\"x\"),0.5,)","v":0},{"$f":"IF(AND(BQ123<>\"\",BQ123<>\"x\"),0.5,)","v":0},{"$f":"IF(AND(BR123<>\"\",BR123<>\"x\"),0.5,)","v":0},{"$f":"IF(AND(BS123<>\"\",BS123<>\"x\"),0.5,)","v":0},{"$f":"IF(AND(BT123<>\"\",BT123<>\"x\"),0.5,)","v":0},{"$f":"IF(AND(BU123<>\"\",BU123<>\"x\"),0.5,)","v":0},{"$f":"IF(AND(BV123<>\"\",BV123<>\"x\"),0.5,)","v":0},{"$f":"IF(AND(BW123<>\"\",BW123<>\"x\"),0.5,)","v":0},{"$f":"IF(AND(BX123<>\"\",BX123<>\"x\"),0.5,)","v":0},{"$f":"IF(AND(BY123<>\"\",BY123<>\"x\"),0.5,)","v":0},{"$f":"IF(AND(BZ123<>\"\",BZ123<>\"x\"),0.5,)","v":0},{"$f":"IF(AND(CA123<>\"\",CA123<>\"x\"),0.5,)","v":0},{"$f":"IF(AND(CB123<>\"\",CB123<>\"x\"),0.5,)","v":0},{"$f":"IF(AND(CC123<>\"\",CC123<>\"x\"),0.5,)","v":0},{"$f":"IF(AND(CD123<>\"\",CD123<>\"x\"),0.5,)","v":0},{"$f":"IF(AND(CE123<>\"\",CE123<>\"x\"),0.5,)","v":0},{"$f":"IF(AND(CF123<>\"\",CF123<>\"x\"),0.5,)","v":0},{"$f":"IF(AND(CG123<>\"\",CG123<>\"x\"),0.5,)","v":0},null,{"$f":"IF(VLOOKUP($A123,'Schedule Setup'!$A$4:$E$39,5,FALSE)=0,\"\",VLOOKUP($A123,'Schedule Setup'!$A$4:$E$39,5,FALSE))","v":""},{"$f":"SUM(CI123:CT123)","v":0},{"$f":"IFERROR(DW123*$DV123,\"\")","v":""},{"$f":"SUM(CU123:DF123)","v":0},{"$f":"IFERROR(DY123*$DV123,\"\")","v":""},{"$f":"SUM(DG123:DT123)","v":0},{"$f":"IFERROR(EA123*$DV123,\"\")","v":""},{"$f":"SUM(DW123,DY123,EA123)","v":0},{"$f":"IFERROR(EC123*$DV123,\"\")","v":""},null,{"$f":"IF(DW123>5,(DW123-0.5),DW123)","v":0},{"$f":"IFERROR(EF123*$DV123,\"\")","v":""},{"$f":"IF(DY123>5,(DY123-0.5),DY123)","v":0},{"$f":"IFERROR(EH123*$DV123,\"\")","v":""},{"$f":"IF(EA123>5,(EA123-0.5),EA123)","v":0},{"$f":"IFERROR(EJ123*$DV123,\"\")","v":""},{"$f":"SUM(EF123,EH123,EJ123)","v":0},{"$f":"IFERROR(EL123*$DV123,\"\")","v":""},null,{"$f":"'Schedule Setup'!J29","v":"00:00:00"},{"$f":"'Schedule Setup'!K29","v":"00:00:00"},-2.0833333333333332E-2,"00:30:00"]
[26,{"$f":"IF(VLOOKUP($A124,'Schedule Setup'!$A$4:$E$39,2,FALSE)=0,\"\",VLOOKUP($A124,'Schedule Setup'!$A$4:$E$39,2,FALSE))","v":""},{"$f":"IF(VLOOKUP($A124,'Schedule Setup'!$A$4:$E$39,4,FALSE)=0,\"\",VLOOKUP($A124,'Schedule Setup'!$A$4:$E$39,4,FALSE))","v":""},"",null,null,null,"x","x","x","x","x","x","x","x","x","x","x","x","x","x","x","x","x","x","x","x","x","x","x","x","x","x","x","x","x","x","x","x","x","x","x","x","x","x",0,null,"x","x","x","x","x","x","x","x","x","x","x","x","x","x","x","x","x","x","x","x","x","x","x","x","x","x","x","x","x","x","x","x","x","x","x","x","x","x",null,0,0,0,0,0,0,0,0,0,0,0,0,0,0,0,0,0,0,0,0,0,0,0,0,0,0,0,0,0,0,0,0,0,0,0,0,0,0,null,{"$f":"IF(VLOOKUP($A124,'Schedule Setup'!$A$4:$E$39,5,FALSE)=0,\"\",VLOOKUP($A124,'Schedule Setup'!$A$4:$E$39,5,FALSE))","v":""},0,"",0,"",0,"",0,"",null,0,"",0,"",0,"",0,"",null,{"$f":"'Schedule Setup'!J30","v":"00:00:00"},{"$f":"'Schedule Setup'!K30","v":"00:00:00"},-2.0833333333333332E-2,"00:30:00"]
[27,{"$f":"IF(VLOOKUP($A125,'Schedule Setup'!$A$4:$E$39,2,FALSE)=0,\"\",VLOOKUP($A125,'Schedule Setup'!$A$4:$E$39,2,FALSE))","v":""},{"$f":"IF(VLOOKUP($A125,'Schedule Setup'!$A$4:$E$39,4,FALSE)=0,\"\",VLOOKUP($A125,'Schedule Setup'!$A$4:$E$39,4,FALSE))","v":""},"",null,null,null,"x","x","x","x","x","x","x","x","x","x","x","x","x","x","x","x","x","x","x","x","x","x","x","x","x","x","x","x","x","x","x","x","x","x","x","x","x","x",0,null,"x","x","x","x","x","x","x","x","x","x","x","x","x","x","x","x","x","x","x","x","x","x","x","x","x","x","x","x","x","x","x","x","x","x","x","x","x","x",null,0,0,0,0,0,0,0,0,0,0,0,0,0,0,0,0,0,0,0,0,0,0,0,0,0,0,0,0,0,0,0,0,0,0,0,0,0,0,null,{"$f":"IF(VLOOKUP($A125,'Schedule Setup'!$A$4:$E$39,5,FALSE)=0,\"\",VLOOKUP($A125,'Schedule Setup'!$A$4:$E$39,5,FALSE))","v":""},0,"",0,"",0,"",0,"",null,0,"",0,"",0,"",0,"",null,{"$f":"'Schedule Setup'!J31","v":"00:00:00"},{"$f":"'Schedule Setup'!K31","v":"00:00:00"},-2.0833333333333332E-2,"00:30:00"]
[28,{"$f":"IF(VLOOKUP($A126,'Schedule Setup'!$A$4:$E$39,2,FALSE)=0,\"\",VLOOKUP($A126,'Schedule Setup'!$A$4:$E$39,2,FALSE))","v":""},{"$f":"IF(VLOOKUP($A126,'Schedule Setup'!$A$4:$E$39,4,FALSE)=0,\"\",VLOOKUP($A126,'Schedule Setup'!$A$4:$E$39,4,FALSE))","v":""},"",null,null,null,"x","x","x","x","x","x","x","x","x","x","x","x","x","x","x","x","x","x","x","x","x","x","x","x","x","x","x","x","x","x","x","x","x","x","x","x","x","x",0,null,"x","x","x","x","x","x","x","x","x","x","x","x","x","x","x","x","x","x","x","x","x","x","x","x","x","x","x","x","x","x","x","x","x","x","x","x","x","x",null,0,0,0,0,0,0,0,0,0,0,0,0,0,0,0,0,0,0,0,0,0,0,0,0,0,0,0,0,0,0,0,0,0,0,0,0,0,0,null,{"$f":"IF(VLOOKUP($A126,'Schedule Setup'!$A$4:$E$39,5,FALSE)=0,\"\",VLOOKUP($A126,'Schedule Setup'!$A$4:$E$39,5,FALSE))","v":""},0,"",0,"",0,"",0,"",null,0,"",0,"",0,"",0,"",null,{"$f":"'Schedule Setup'!J32","v":"00:00:00"},{"$f":"'Schedule Setup'!K32","v":"00:00:00"},-2.0833333333333332E-2,"00:30:00"]
[29,{"$f":"IF(VLOOKUP($A127,'Schedule Setup'!$A$4:$E$39,2,FALSE)=0,\"\",VLOOKUP($A127,'Schedule Setup'!$A$4:$E$39,2,FALSE))","v":""},{"$f":"IF(VLOOKUP($A127,'Schedule Setup'!$A$4:$E$39,4,FALSE)=0,\"\",VLOOKUP($A127,'Schedule Setup'!$A$4:$E$39,4,FALSE))","v":""},"",null,null,null,"x","x","x","x","x","x","x","x","x","x","x","x","x","x","x","x","x","x","x","x","x","x","x","x","x","x","x","x","x","x","x","x","x","x","x","x","x","x",0,null,"x","x","x","x","x","x","x","x","x","x","x","x","x","x","x","x","x","x","x","x","x","x","x","x","x","x","x","x","x","x","x","x","x","x","x","x","x","x",null,0,0,0,0,0,0,0,0,0,0,0,0,0,0,0,0,0,0,0,0,0,0,0,0,0,0,0,0,0,0,0,0,0,0,0,0,0,0,null,{"$f":"IF(VLOOKUP($A127,'Schedule Setup'!$A$4:$E$39,5,FALSE)=0,\"\",VLOOKUP($A127,'Schedule Setup'!$A$4:$E$39,5,FALSE))","v":""},0,"",0,"",0,"",0,"",null,0,"",0,"",0,"",0,"",null,{"$f":"'Schedule Setup'!J33","v":"00:00:00"},{"$f":"'Schedule Setup'!K33","v":"00:00:00"},-2.0833333333333332E-2,"00:30:00"]
[30,{"$f":"IF(VLOOKUP($A128,'Schedule Setup'!$A$4:$E$39,2,FALSE)=0,\"\",VLOOKUP($A128,'Schedule Setup'!$A$4:$E$39,2,FALSE))","v":""},{"$f":"IF(VLOOKUP($A128,'Schedule Setup'!$A$4:$E$39,4,FALSE)=0,\"\",VLOOKUP($A128,'Schedule Setup'!$A$4:$E$39,4,FALSE))","v":""},"",null,null,null,"x","x","x","x","x","x","x","x","x","x","x","x","x","x","x","x","x","x","x","x","x","x","x","x","x","x","x","x","x","x","x","x","x","x","x","x","x","x",0,null,"x","x","x","x","x","x","x","x","x","x","x","x","x","x","x","x","x","x","x","x","x","x","x","x","x","x","x","x","x","x","x","x","x","x","x","x","x","x",null,0,0,0,0,0,0,0,0,0,0,0,0,0,0,0,0,0,0,0,0,0,0,0,0,0,0,0,0,0,0,0,0,0,0,0,0,0,0,null,{"$f":"IF(VLOOKUP($A128,'Schedule Setup'!$A$4:$E$39,5,FALSE)=0,\"\",VLOOKUP($A128,'Schedule Setup'!$A$4:$E$39,5,FALSE))","v":""},0,"",0,"",0,"",0,"",null,0,"",0,"",0,"",0,"",null,{"$f":"'Schedule Setup'!J34","v":"00:00:00"},{"$f":"'Schedule Setup'!K34","v":"00:00:00"},-2.0833333333333332E-2,"00:30:00"]
[31,{"$f":"IF(VLOOKUP($A129,'Schedule Setup'!$A$4:$E$39,2,FALSE)=0,\"\",VLOOKUP($A129,'Schedule Setup'!$A$4:$E$39,2,FALSE))","v":""},{"$f":"IF(VLOOKUP($A129,'Schedule Setup'!$A$4:$E$39,4,FALSE)=0,\"\",VLOOKUP($A129,'Schedule Setup'!$A$4:$E$39,4,FALSE))","v":""},"",null,null,null,"x","x","x","x","x","x","x","x","x","x","x","x","x","x","x","x","x","x","x","x","x","x","x","x","x","x","x","x","x","x","x","x","x","x","x","x","x","x",0,null,"x","x","x","x","x","x","x","x","x","x","x","x","x","x","x","x","x","x","x","x","x","x","x","x","x","x","x","x","x","x","x","x","x","x","x","x","x","x",null,0,0,0,0,0,0,0,0,0,0,0,0,0,0,0,0,0,0,0,0,0,0,0,0,0,0,0,0,0,0,0,0,0,0,0,0,0,0,null,{"$f":"IF(VLOOKUP($A129,'Schedule Setup'!$A$4:$E$39,5,FALSE)=0,\"\",VLOOKUP($A129,'Schedule Setup'!$A$4:$E$39,5,FALSE))","v":""},0,"",0,"",0,"",0,"",null,0,"",0,"",0,"",0,"",null,{"$f":"'Schedule Setup'!J35","v":"00:00:00"},{"$f":"'Schedule Setup'!K35","v":"00:00:00"},-2.0833333333333332E-2,"00:30:00"]
[32,{"$f":"IF(VLOOKUP($A130,'Schedule Setup'!$A$4:$E$39,2,FALSE)=0,\"\",VLOOKUP($A130,'Schedule Setup'!$A$4:$E$39,2,FALSE))","v":""},{"$f":"IF(VLOOKUP($A130,'Schedule Setup'!$A$4:$E$39,4,FALSE)=0,\"\",VLOOKUP($A130,'Schedule Setup'!$A$4:$E$39,4,FALSE))","v":""},"",null,null,null,"x","x","x","x","x","x","x","x","x","x","x","x","x","x","x","x","x","x","x","x","x","x","x","x","x","x","x","x","x","x","x","x","x","x","x","x","x","x",0,null,"x","x","x","x","x","x","x","x","x","x","x","x","x","x","x","x","x","x","x","x","x","x","x","x","x","x","x","x","x","x","x","x","x","x","x","x","x","x",null,0,0,0,0,0,0,0,0,0,0,0,0,0,0,0,0,0,0,0,0,0,0,0,0,0,0,0,0,0,0,0,0,0,0,0,0,0,0,null,{"$f":"IF(VLOOKUP($A130,'Schedule Setup'!$A$4:$E$39,5,FALSE)=0,\"\",VLOOKUP($A130,'Schedule Setup'!$A$4:$E$39,5,FALSE))","v":""},0,"",0,"",0,"",0,"",null,0,"",0,"",0,"",0,"",null,{"$f":"'Schedule Setup'!J36","v":"00:00:00"},{"$f":"'Schedule Setup'!K36","v":"00:00:00"},-2.0833333333333332E-2,"00:30:00"]
[33,{"$f":"IF(VLOOKUP($A131,'Schedule Setup'!$A$4:$E$39,2,FALSE)=0,\"\",VLOOKUP($A131,'Schedule Setup'!$A$4:$E$39,2,FALSE))","v":""},{"$f":"IF(VLOOKUP($A131,'Schedule Setup'!$A$4:$E$39,4,FALSE)=0,\"\",VLOOKUP($A131,'Schedule Setup'!$A$4:$E$39,4,FALSE))","v":""},"",null,null,null,"x","x","x","x","x","x","x","x","x","x","x","x","x","x","x","x","x","x","x","x","x","x","x","x","x","x","x","x","x","x","x","x","x","x","x","x","x","x",0,null,"x","x","x","x","x","x","x","x","x","x","x","x","x","x","x","x","x","x","x","x","x","x","x","x","x","x","x","x","x","x","x","x","x","x","x","x","x","x",null,0,0,0,0,0,0,0,0,0,0,0,0,0,0,0,0,0,0,0,0,0,0,0,0,0,0,0,0,0,0,0,0,0,0,0,0,0,0,null,{"$f":"IF(VLOOKUP($A131,'Schedule Setup'!$A$4:$E$39,5,FALSE)=0,\"\",VLOOKUP($A131,'Schedule Setup'!$A$4:$E$39,5,FALSE))","v":""},0,"",0,"",0,"",0,"",null,0,"",0,"",0,"",0,"",null,{"$f":"'Schedule Setup'!J37","v":"00:00:00"},{"$f":"'Schedule Setup'!K37","v":"00:00:00"},-2.0833333333333332E-2,"00:30:00"]
[34,{"$f":"IF(VLOOKUP($A132,'Schedule Setup'!$A$4:$E$39,2,FALSE)=0,\"\",VLOOKUP($A132,'Schedule Setup'!$A$4:$E$39,2,FALSE))","v":""},{"$f":"IF(VLOOKUP($A132,'Schedule Setup'!$A$4:$E$39,4,FALSE)=0,\"\",VLOOKUP($A132,'Schedule Setup'!$A$4:$E$39,4,FALSE))","v":""},"",null,null,null,"x","x","x","x","x","x","x","x","x","x","x","x","x","x","x","x","x","x","x","x","x","x","x","x","x","x","x","x","x","x","x","x","x","x","x","x","x","x",0,null,"x","x","x","x","x","x","x","x","x","x","x","x","x","x","x","x","x","x","x","x","x","x","x","x","x","x","x","x","x","x","x","x","x","x","x","x","x","x",null,0,0,0,0,0,0,0,0,0,0,0,0,0,0,0,0,0,0,0,0,0,0,0,0,0,0,0,0,0,0,0,0,0,0,0,0,0,0,null,{"$f":"IF(VLOOKUP($A132,'Schedule Setup'!$A$4:$E$39,5,FALSE)=0,\"\",VLOOKUP($A132,'Schedule Setup'!$A$4:$E$39,5,FALSE))","v":""},0,"",0,"",0,"",0,"",null,0,"",0,"",0,"",0,"",null,{"$f":"'Schedule Setup'!J38","v":"00:00:00"},{"$f":"'Schedule Setup'!K38","v":"00:00:00"},-2.0833333333333332E-2,"00:30:00"]
[35,{"$f":"IF(VLOOKUP($A133,'Schedule Setup'!$A$4:$E$39,2,FALSE)=0,\"\",VLOOKUP($A133,'Schedule Setup'!$A$4:$E$39,2,FALSE))","v":""},{"$f":"IF(VLOOKUP($A133,'Schedule Setup'!$A$4:$E$39,4,FALSE)=0,\"\",VLOOKUP($A133,'Schedule Setup'!$A$4:$E$39,4,FALSE))","v":""},"",null,null,null,"x","x","x","x","x","x","x","x","x","x","x","x","x","x","x","x","x","x","x","x","x","x","x","x","x","x","x","x","x","x","x","x","x","x","x","x","x","x",0,null,"x","x","x","x","x","x","x","x","x","x","x","x","x","x","x","x","x","x","x","x","x","x","x","x","x","x","x","x","x","x","x","x","x","x","x","x","x","x",null,0,0,0,0,0,0,0,0,0,0,0,0,0,0,0,0,0,0,0,0,0,0,0,0,0,0,0,0,0,0,0,0,0,0,0,0,0,0,null,{"$f":"IF(VLOOKUP($A133,'Schedule Setup'!$A$4:$E$39,5,FALSE)=0,\"\",VLOOKUP($A133,'Schedule Setup'!$A$4:$E$39,5,FALSE))","v":""},0,"",0,"",0,"",0,"",null,0,"",0,"",0,"",0,"",null,{"$f":"'Schedule Setup'!J39","v":"00:00:00"},{"$f":"'Schedule Setup'!K39","v":"00:00:00"},-2.0833333333333332E-2,"00:30:00"]
[null,null,null,"Totals/Coverage",{"$f":"MIN(E99:E133)","v":"06:00:00"},{"$f":"MAX(F99:F133)","v":"21:30:00"},null,{"$f":"CI134","v":0},{"$f":"CJ134","v":0},{"$f":"CK134","v":1},{"$f":"CL134","v":1},{"$f":"CM134","v":1},{"$f":"CN134","v":1},{"$f":"CO134","v":2},{"$f":"CP134","v":2},{"$f":"CQ134","v":2},{"$f":"CR134","v":2},{"$f":"CS134","v":2},{"$f":"CT134","v":2},{"$f":"CU134","v":2},{"$f":"CV134","v":3},{"$f":"CW134","v":3},{"$f":"CX134","v":3},{"$f":"CY134","v":3},{"$f":"CZ134","v":4},{"$f":"DA134","v":3},{"$f":"DB134","v":4},{"$f":"DC134","v":4},{"$f":"DD134","v":5},{"$f":"DE134","v":4},{"$f":"DF134","v":3},{"$f":"DG134","v":3},{"$f":"DH134","v":3},{"$f":"DI134","v":3},{"$f":"DJ134","v":3},{"$f":"DK134","v":3},{"$f":"DL134","v":2},{"$f":"DM134","v":2},{"$f":"DN134","v":2},{"$f":"DO134","v":2},{"$f":"DP134","v":0},{"$f":"DQ134","v":0},{"$f":"DR134","v":0},{"$f":"DS134","v":0},{"$f":"DT134","v":0},{"$f":"SUM(AT99:AT133)","v":40},null,null,null,null,null,null,null,null,null,null,null,null,null,null,null,null,null,null,null,null,null,null,null,null,null,null,null,null,null,null,null,null,null,null,null,null,null,null,null,null,{"$f":"COUNTIF(CI99:CI133,0.5)","v":0},{"$f":"COUNTIF(CJ99:CJ133,0.5)","v":0},{"$f":"COUNTIF(CK99:CK133,0.5)","v":1},{"$f":"COUNTIF(CL99:CL133,0.5)","v":1},{"$f":"COUNTIF(CM99:CM133,0.5)","v":1},{"$f":"COUNTIF(CN99:CN133,0.5)","v":1},{"$f":"COUNTIF(CO99:CO133,0.5)","v":2},{"$f":"COUNTIF(CP99:CP133,0.5)","v":2},{"$f":"COUNTIF(CQ99:CQ133,0.5)","v":2},{"$f":"COUNTIF(CR99:CR133,0.5)","v":2},{"$f":"COUNTIF(CS99:CS133,0.5)","v":2},{"$f":"COUNTIF(CT99:CT133,0.5)","v":2},{"$f":"COUNTIF(CU99:CU133,0.5)","v":2},{"$f":"COUNTIF(CV99:CV133,0.5)","v":3},{"$f":"COUNTIF(CW99:CW133,0.5)","v":3},{"$f":"COUNTIF(CX99:CX133,0.5)","v":3},{"$f":"COUNTIF(CY99:CY133,0.5)","v":3},{"$f":"COUNTIF(CZ99:CZ133,0.5)","v":4},{"$f":"COUNTIF(DA99:DA133,0.5)","v":3},{"$f":"COUNTIF(DB99:DB133,0.5)","v":4},{"$f":"COUNTIF(DC99:DC133,0.5)","v":4},{"$f":"COUNTIF(DD99:DD133,0.5)","v":5},{"$f":"COUNTIF(DE99:DE133,0.5)","v":4},{"$f":"COUNTIF(DF99:DF133,0.5)","v":3},{"$f":"COUNTIF(DG99:DG133,0.5)","v":3},{"$f":"COUNTIF(DH99:DH133,0.5)","v":3},{"$f":"COUNTIF(DI99:DI133,0.5)","v":3},{"$f":"COUNTIF(DJ99:DJ133,0.5)","v":3},{"$f":"COUNTIF(DK99:DK133,0.5)","v":3},{"$f":"COUNTIF(DL99:DL133,0.5)","v":2},{"$f":"COUNTIF(DM99:DM133,0.5)","v":2},{"$f":"COUNTIF(DN99:DN133,0.5)","v":2},{"$f":"COUNTIF(DO99:DO133,0.5)","v":2},{"$f":"COUNTIF(DP99:DP133,0.5)","v":0},{"$f":"COUNTIF(DQ99:DQ133,0.5)","v":0},{"$f":"COUNTIF(DR99:DR133,0.5)","v":0},{"$f":"COUNTIF(DS99:DS133,0.5)","v":0},{"$f":"COUNTIF(DT99:DT133,0.5)","v":0},null,null,{"$f":"SUM(DW99:DW133)","v":8},0,20.5,0,11.5,0,40,0,null,{"$f":"SUM(EF99:EF133)","v":8},0,20.5,0,11.5,0,40,0,null,{"$f":"'Schedule Setup'!J40","v":"07:00:00"},{"$f":"'Schedule Setup'!K40","v":"21:00:00"},"06:30:00","21:30:00"]
[null,null,null,null,null,{"$f":"'Schedule Forecast'!A14","v":"Wk 10-21"},null,{"$f":"IFERROR(INDEX(INDIRECT(\"'\"&$F135&\"'!$E:$E\"),MATCH(H$6,INDIRECT(\"'\"&$F135&\"'!$A$1:$A$250\"),0)+1),0)","v":0},0,0,0,23.01,13.87,23.56,25.25,22.31,58.88,{"$f":"IFERROR(INDEX(INDIRECT(\"'\"&$F135&\"'!$E:$E\"),MATCH(R$6,INDIRECT(\"'\"&$F135&\"'!$A$1:$A$250\"),0)+1),0)","v":14.16},22.1,21.46,105.77,113.84,178,70.17,58.28,41.37,68.680000000000007,{"$f":"IFERROR(INDEX(INDIRECT(\"'\"&$F135&\"'!$E:$E\"),MATCH(AB$6,INDIRECT(\"'\"&$F135&\"'!$A$1:$A$250\"),0)+1),0)","v":161.13},76.5,114.06,41.17,35.53,37.28,48.35,23.55,28.75,0,{"$f":"IFERROR(INDEX(INDIRECT(\"'\"&$F135&\"'!$E:$E\"),MATCH(AL$6,INDIRECT(\"'\"&$F135&\"'!$A$1:$A$250\"),0)+1),0)","v":0},0,0,0,0,0,0,0]
[null,null,null,null,null,{"$f":"'Schedule Forecast'!A15","v":"Wk 10-28"},null,0,0,0,0,40.68,20.46,76.73,11.18,8.98,38.619999999999997,15.08,11.97,77.959999999999994,138.77000000000001,21.81,101.66,62.63,24.85,39.42,262.29000000000002,96.56,148.49,72.510000000000005,69.150000000000006,30.9,40.630000000000003,40.020000000000003,28.94,14.42,29.24,33.090000000000003,16.37,0,0,0,0,0,0]
[null,null,null,null,null,{"$f":"'Schedule Forecast'!A16","v":"Wk 11-4"},null,0,0,0,0,0,0,23.9,35.28,27.25,27.7,6.89,13.57,9.98,57.35,65.400000000000006,81.94,45.81,35.21,29.58,52.97,33.64,17.45,2.4900000000000002,4.88,14.97,7.04,16.22,2.89,6.39,11.28,0,0,0,0,0,0,0,0]
[null,null,null,null,null,{"$f":"'Schedule Forecast'!A17","v":"Wk 11-11"},null,0,0,0,0,24.34,21.85,39.72,10.48,197.86,38.619999999999997,24.25,58.59,84.34,48.96,76.790000000000006,120.34,40.42,34.729999999999997,89.08,70.52,177.63,136.22999999999999,15.97,27.4,40.99,5.29,34.229999999999997,23.15,4.49,0,0,24.04,0,0,0,0,0,0]
[null,null,null,null,null,"AVERAGE",null,{"$f":"IFERROR(IF(AND(H$6>=$EO$134,H$6<$EP$134-0.001),AVERAGE(H135:H138),\"\"),\"\")","v":""},"","","",22.0075,14.045,40.977499999999999,20.547500000000003,64.100000000000009,40.954999999999998,15.095000000000001,26.557500000000001,48.435000000000002,87.712500000000006,69.460000000000008,120.48499999999999,54.757500000000007,38.267499999999998,49.862499999999997,113.61500000000001,117.24,94.66749999999999,51.2575,35.65,30.597500000000004,22.560000000000002,34.704999999999998,19.6325,13.512500000000001,10.129999999999999,8.2725000000000009,10.102499999999999,"","","","","",""]
[null,null,null,null,null,null,null,{"$f":"IFERROR(IF((H139*'Schedule Forecast'!$C$4-$AC$2)>1,(H139*'Schedule Forecast'!$C$4-$AC$2),1),\"\")","v":""},{"$f":"IFERROR(IF((I139*'Schedule Forecast'!$C$4-$AC$2)>1,(I139*'Schedule Forecast'!$C$4-$AC$2),1),\"\")","v":""},{"$f":"IFERROR(IF((J139*'Schedule Forecast'!$C$4-$AC$2)>1,(J139*'Schedule Forecast'!$C$4-$AC$2),1),\"\")","v":""},{"$f":"IFERROR(IF((K139*'Schedule Forecast'!$C$4-$AC$2)>1,(K139*'Schedule Forecast'!$C$4-$AC$2),1),\"\")","v":""},{"$f":"IFERROR(IF((L139*'Schedule Forecast'!$C$4-$AC$2)>1,(L139*'Schedule Forecast'!$C$4-$AC$2),1),\"\")","v":1},{"$f":"IFERROR(IF((M139*'Schedule Forecast'!$C$4-$AC$2)>1,(M139*'Schedule Forecast'!$C$4-$AC$2),1),\"\")","v":1},{"$f":"IFERROR(IF((N139*'Schedule Forecast'!$C$4-$AC$2)>1,(N139*'Schedule Forecast'!$C$4-$AC$2),1),\"\")","v":1},{"$f":"IFERROR(IF((O139*'Schedule Forecast'!$C$4-$AC$2)>1,(O139*'Schedule Forecast'!$C$4-$AC$2),1),\"\")","v":1},{"$f":"IFERROR(IF((P139*'Schedule Forecast'!$C$4-$AC$2)>1,(P139*'Schedule Forecast'!$C$4-$AC$2),1),\"\")","v":2.179000000000002},{"$f":"IFERROR(IF((Q139*'Schedule Forecast'!$C$4-$AC$2)>1,(Q139*'Schedule Forecast'!$C$4-$AC$2),1),\"\")","v":1},{"$f":"IFERROR(IF((R139*'Schedule Forecast'!$C$4-$AC$2)>1,(R139*'Schedule Forecast'!$C$4-$AC$2),1),\"\")","v":1},{"$f":"IFERROR(IF((S139*'Schedule Forecast'!$C$4-$AC$2)>1,(S139*'Schedule Forecast'!$C$4-$AC$2),1),\"\")","v":1},{"$f":"IFERROR(IF((T139*'Schedule Forecast'!$C$4-$AC$2)>1,(T139*'Schedule Forecast'!$C$4-$AC$2),1),\"\")","v":1},{"$f":"IFERROR(IF((U139*'Schedule Forecast'!$C$4-$AC$2)>1,(U139*'Schedule Forecast'!$C$4-$AC$2),1),\"\")","v":6.6653750000000009},{"$f":"IFERROR(IF((V139*'Schedule Forecast'!$C$4-$AC$2)>1,(V139*'Schedule Forecast'!$C$4-$AC$2),1),\"\")","v":3.1974000000000018},{"$f":"IFERROR(IF((W139*'Schedule Forecast'!$C$4-$AC$2)>1,(W139*'Schedule Forecast'!$C$4-$AC$2),1),\"\")","v":12.892149999999997},{"$f":"IFERROR(IF((X139*'Schedule Forecast'!$C$4-$AC$2)>1,(X139*'Schedule Forecast'!$C$4-$AC$2),1),\"\")","v":1},{"$f":"IFERROR(IF((Y139*'Schedule Forecast'!$C$4-$AC$2)>1,(Y139*'Schedule Forecast'!$C$4-$AC$2),1),\"\")","v":1},{"$f":"IFERROR(IF((Z139*'Schedule Forecast'!$C$4-$AC$2)>1,(Z139*'Schedule Forecast'!$C$4-$AC$2),1),\"\")","v":1},{"$f":"IFERROR(IF((AA139*'Schedule Forecast'!$C$4-$AC$2)>1,(AA139*'Schedule Forecast'!$C$4-$AC$2),1),\"\")","v":11.586850000000002},{"$f":"IFERROR(IF((AB139*'Schedule Forecast'!$C$4-$AC$2)>1,(AB139*'Schedule Forecast'!$C$4-$AC$2),1),\"\")","v":12.275600000000001},{"$f":"IFERROR(IF((AC139*'Schedule Forecast'!$C$4-$AC$2)>1,(AC139*'Schedule Forecast'!$C$4-$AC$2),1),\"\")","v":7.9868249999999996},{"$f":"IFERROR(IF((AD139*'Schedule Forecast'!$C$4-$AC$2)>1,(AD139*'Schedule Forecast'!$C$4-$AC$2),1),\"\")","v":1},{"$f":"IFERROR(IF((AE139*'Schedule Forecast'!$C$4-$AC$2)>1,(AE139*'Schedule Forecast'!$C$4-$AC$2),1),\"\")","v":1},{"$f":"IFERROR(IF((AF139*'Schedule Forecast'!$C$4-$AC$2)>1,(AF139*'Schedule Forecast'!$C$4-$AC$2),1),\"\")","v":1},{"$f":"IFERROR(IF((AG139*'Schedule Forecast'!$C$4-$AC$2)>1,(AG139*'Schedule Forecast'!$C$4-$AC$2),1),\"\")","v":1},{"$f":"IFERROR(IF((AH139*'Schedule Forecast'!$C$4-$AC$2)>1,(AH139*'Schedule Forecast'!$C$4-$AC$2),1),\"\")","v":1},{"$f":"IFERROR(IF((AI139*'Schedule Forecast'!$C$4-$AC$2)>1,(AI139*'Schedule Forecast'!$C$4-$AC$2),1),\"\")","v":1},{"$f":"IFERROR(IF((AJ139*'Schedule Forecast'!$C$4-$AC$2)>1,(AJ139*'Schedule Forecast'!$C$4-$AC$2),1),\"\")","v":1},{"$f":"IFERROR(IF((AK139*'Schedule Forecast'!$C$4-$AC$2)>1,(AK139*'Schedule Forecast'!$C$4-$AC$2),1),\"\")","v":1},{"$f":"IFERROR(IF((AL139*'Schedule Forecast'!$C$4-$AC$2)>1,(AL139*'Schedule Forecast'!$C$4-$AC$2),1),\"\")","v":1},{"$f":"IFERROR(IF((AM139*'Schedule Forecast'!$C$4-$AC$2)>1,(AM139*'Schedule Forecast'!$C$4-$AC$2),1),\"\")","v":1},{"$f":"IFERROR(IF((AN139*'Schedule Forecast'!$C$4-$AC$2)>1,(AN139*'Schedule Forecast'!$C$4-$AC$2),1),\"\")","v":""},{"$f":"IFERROR(IF((AO139*'Schedule Forecast'!$C$4-$AC$2)>1,(AO139*'Schedule Forecast'!$C$4-$AC$2),1),\"\")","v":""},{"$f":"IFERROR(IF((AP139*'Schedule Forecast'!$C$4-$AC$2)>1,(AP139*'Schedule Forecast'!$C$4-$AC$2),1),\"\")","v":""},{"$f":"IFERROR(IF((AQ139*'Schedule Forecast'!$C$4-$AC$2)>1,(AQ139*'Schedule Forecast'!$C$4-$AC$2),1),\"\")","v":""},{"$f":"IFERROR(IF((AR139*'Schedule Forecast'!$C$4-$AC$2)>1,(AR139*'Schedule Forecast'!$C$4-$AC$2),1),\"\")","v":""},{"$f":"IFERROR(IF((AS139*'Schedule Forecast'!$C$4-$AC$2)>1,(AS139*'Schedule Forecast'!$C$4-$AC$2),1),\"\")","v":""}]
[null,null,null,null,null,null,"Recommended:",{"$f":"IF(H98>=$EO$134,IF(H98<$EP$134-0.01,ROUND(IF(H140>1,(H140*$B$48)+1,H140)*2,0),\"\"),\"\")","v":""},"","","",2,2,2,2,2,2,2,2,2,2,2,2,2,2,2,2,2,2,2,2,2,2,2,2,2,2,2,2,"","","","","","",{"$f":"SUM(H141:AS141)/2","v":28}]
[]
[null,"Saturday",null,null,null,null,null,null,null,null,null,null,null,null,null,null,null,null,{"$f":"S97","v":"Today's Date"},{"$f":"T5+3","v":"2014-11-22"},null,null,null,null,null,null,null,null,null,null,null,null,null,null,null,null,null,null,null,null,null,null,null,null,null,null,null,null,null,null,null,null,null,null,null,null,null,null,null,null,null,null,null,null,null,null,null,null,null,null,null,null,null,null,null,null,null,null,null,null,null,null,null,null,null,null,null,null,null,null,null,null,null,null,null,null,null,null,null,null,null,null,null,null,null,null,null,null,null,null,null,null,null,null,null,null,null,null,null,null,null,null,null,null,null,null,"Breakfast",null,"Lunch",null,"Dinner",null,"Total",null,null,"Breakfast",null,"Lunch",null,"Dinner",null,"Total",null,null,"Availability"]
[null,"Employee","Job",null,"Start","End",null,"05:00:00",{"$f":"H144+(0.5/24)","v":"05:30:00"},{"$f":"I144+(0.5/24)","v":"06:00:00"},{"$f":"J144+(0.5/24)","v":"06:30:00"},{"$f":"K144+(0.5/24)","v":"07:00:00"},{"$f":"L144+(0.5/24)","v":"07:30:00"},{"$f":"M144+(0.5/24)","v":"08:00:00"},{"$f":"N144+(0.5/24)","v":"08:30:00"},{"$f":"O144+(0.5/24)","v":"09:00:00"},{"$f":"P144+(0.5/24)","v":"09:30:00"},{"$f":"Q144+(0.5/24)","v":"10:00:00"},{"$f":"R144+(0.5/24)","v":"10:30:00"},{"$f":"S144+(0.5/24)","v":"11:00:00"},{"$f":"T144+(0.5/24)","v":"11:30:00"},{"$f":"U144+(0.5/24)","v":"12:00:00"},{"$f":"V144+(0.5/24)","v":"12:30:00"},{"$f":"W144+(0.5/24)","v":"13:00:00"},{"$f":"X144+(0.5/24)","v":"13:30:00"},{"$f":"Y144+(0.5/24)","v":"14:00:00"},{"$f":"Z144+(0.5/24)","v":"14:30:00"},{"$f":"AA144+(0.5/24)","v":"15:00:00"},{"$f":"AB144+(0.5/24)","v":"15:30:00"},{"$f":"AC144+(0.5/24)","v":"16:00:00"},{"$f":"AD144+(0.5/24)","v":"16:30:00"},{"$f":"AE144+(0.5/24)","v":"17:00:00"},{"$f":"AF144+(0.5/24)","v":"17:30:00"},{"$f":"AG144+(0.5/24)","v":"18:00:00"},{"$f":"AH144+(0.5/24)","v":"18:30:00"},{"$f":"AI144+(0.5/24)","v":"19:00:00"},{"$f":"AJ144+(0.5/24)","v":"19:30:00"},{"$f":"AK144+(0.5/24)","v":"20:00:00"},{"$f":"AL144+(0.5/24)","v":"20:30:00"},{"$f":"AM144+(0.5/24)","v":"21:00:00"},{"$f":"AN144+(0.5/24)","v":"21:30:00"},{"$f":"AO144+(0.5/24)","v":"22:00:00"},{"$f":"AP144+(0.5/24)","v":"22:30:00"},{"$f":"AQ144+(0.5/24)","v":"23:00:00"},{"$f":"AR144+(0.5/24)","v":"23:30:00"},"TOTAL",null,5,null,6,null,7,null,8,null,9,null,10,null,11,null,12,null,1,null,2,null,3,null,4,null,5,null,6,null,7,null,8,null,9,null,10,null,11,null,null,5,null,6,null,7,null,8,null,9,null,10,null,11,null,12,null,1,null,2,null,3,null,4,null,5,null,6,null,7,null,8,null,9,null,10,null,11,null,null,"Rate","Hrs","$","Hrs","$","Hrs","$","Hrs","$",null,"Hrs","$","Hrs","$","Hrs","$","Hrs","$",null,"Start","End","Start-Early","End-Late"]
[1,{"$f":"IF(VLOOKUP($A145,'Schedule Setup'!$A$4:$E$39,2,FALSE)=0,\"\",VLOOKUP($A145,'Schedule Setup'!$A$4:$E$39,2,FALSE))","v":"Shaun Payne"},{"$f":"IF(VLOOKUP($A145,'Schedule Setup'!$A$4:$E$39,4,FALSE)=0,\"\",VLOOKUP($A145,'Schedule Setup'!$A$4:$E$39,4,FALSE))","v":"General Manager (S)"},{"$f":"IF(B145<>\"\",IF(OR(C145=\"General Manager (S)\", C145=\"General Manager (H)\"), \"GM\",IF(C145=\"Acting Manager\",\"AM\",IF(C145=\"Shift Manager\",\"SM\",IF(C145=\"Team Lead\",\"TL\",\"TM\")))),\"\")","v":"GM"},"06:00:00","14:00:00",null,{"$f":"AV145","v":"x"},"x","GM","GM","GM","GM","GM","GM","GM","GM","GM","GM","GM","GM","GM","GM","GM","GM","","","","","","","","","","","","","","","","x","x","x","x","x",{"$f":"EC145","v":8},null,{"$f":"IF(AND($EO145<=H$6+0.01,$EP145>H$6+0.01),IF(AND(H$6<$F145-0.01,H$6>=$E145-0.01),$D145,\"\"),\"x\")","v":"x"},{"$f":"IF(AND($EO145<=I$6+0.01,$EP145>I$6+0.01),IF(AND(I$6<$F145-0.01,I$6>=$E145-0.01),$D145,\"\"),\"x\")","v":"x"},{"$f":"IF(AND($EO145<=J$6+0.01,$EP145>J$6+0.01),IF(AND(J$6<$F145-0.01,J$6>=$E145-0.01),$D145,\"\"),\"x\")","v":"GM"},{"$f":"IF(AND($EO145<=K$6+0.01,$EP145>K$6+0.01),IF(AND(K$6<$F145-0.01,K$6>=$E145-0.01),$D145,\"\"),\"x\")","v":"GM"},{"$f":"IF(AND($EO145<=L$6+0.01,$EP145>L$6+0.01),IF(AND(L$6<$F145-0.01,L$6>=$E145-0.01),$D145,\"\"),\"x\")","v":"GM"},{"$f":"IF(AND($EO145<=M$6+0.01,$EP145>M$6+0.01),IF(AND(M$6<$F145-0.01,M$6>=$E145-0.01),$D145,\"\"),\"x\")","v":"GM"},{"$f":"IF(AND($EO145<=N$6+0.01,$EP145>N$6+0.01),IF(AND(N$6<$F145-0.01,N$6>=$E145-0.01),$D145,\"\"),\"x\")","v":"GM"},{"$f":"IF(AND($EO145<=O$6+0.01,$EP145>O$6+0.01),IF(AND(O$6<$F145-0.01,O$6>=$E145-0.01),$D145,\"\"),\"x\")","v":"GM"},{"$f":"IF(AND($EO145<=P$6+0.01,$EP145>P$6+0.01),IF(AND(P$6<$F145-0.01,P$6>=$E145-0.01),$D145,\"\"),\"x\")","v":"GM"},{"$f":"IF(AND($EO145<=Q$6+0.01,$EP145>Q$6+0.01),IF(AND(Q$6<$F145-0.01,Q$6>=$E145-0.01),$D145,\"\"),\"x\")","v":"GM"},{"$f":"IF(AND($EO145<=R$6+0.01,$EP145>R$6+0.01),IF(AND(R$6<$F145-0.01,R$6>=$E145-0.01),$D145,\"\"),\"x\")","v":"GM"},{"$f":"IF(AND($EO145<=S$6+0.01,$EP145>S$6+0.01),IF(AND(S$6<$F145-0.01,S$6>=$E145-0.01),$D145,\"\"),\"x\")","v":"GM"},{"$f":"IF(AND($EO145<=T$6+0.01,$EP145>T$6+0.01),IF(AND(T$6<$F145-0.01,T$6>=$E145-0.01),$D145,\"\"),\"x\")","v":"GM"},{"$f":"IF(AND($EO145<=U$6+0.01,$EP145>U$6+0.01),IF(AND(U$6<$F145-0.01,U$6>=$E145-0.01),$D145,\"\"),\"x\")","v":"GM"},{"$f":"IF(AND($EO145<=V$6+0.01,$EP145>V$6+0.01),IF(AND(V$6<$F145-0.01,V$6>=$E145-0.01),$D145,\"\"),\"x\")","v":"GM"},{"$f":"IF(AND($EO145<=W$6+0.01,$EP145>W$6+0.01),IF(AND(W$6<$F145-0.01,W$6>=$E145-0.01),$D145,\"\"),\"x\")","v":"GM"},{"$f":"IF(AND($EO145<=X$6+0.01,$EP145>X$6+0.01),IF(AND(X$6<$F145-0.01,X$6>=$E145-0.01),$D145,\"\"),\"x\")","v":"GM"},{"$f":"IF(AND($EO145<=Y$6+0.01,$EP145>Y$6+0.01),IF(AND(Y$6<$F145-0.01,Y$6>=$E145-0.01),$D145,\"\"),\"x\")","v":"GM"},{"$f":"IF(AND($EO145<=Z$6+0.01,$EP145>Z$6+0.01),IF(AND(Z$6<$F145-0.01,Z$6>=$E145-0.01),$D145,\"\"),\"x\")","v":""},{"$f":"IF(AND($EO145<=AA$6+0.01,$EP145>AA$6+0.01),IF(AND(AA$6<$F145-0.01,AA$6>=$E145-0.01),$D145,\"\"),\"x\")","v":""},{"$f":"IF(AND($EO145<=AB$6+0.01,$EP145>AB$6+0.01),IF(AND(AB$6<$F145-0.01,AB$6>=$E145-0.01),$D145,\"\"),\"x\")","v":""},{"$f":"IF(AND($EO145<=AC$6+0.01,$EP145>AC$6+0.01),IF(AND(AC$6<$F145-0.01,AC$6>=$E145-0.01),$D145,\"\"),\"x\")","v":""},{"$f":"IF(AND($EO145<=AD$6+0.01,$EP145>AD$6+0.01),IF(AND(AD$6<$F145-0.01,AD$6>=$E145-0.01),$D145,\"\"),\"x\")","v":""},{"$f":"IF(AND($EO145<=AE$6+0.01,$EP145>AE$6+0.01),IF(AND(AE$6<$F145-0.01,AE$6>=$E145-0.01),$D145,\"\"),\"x\")","v":""},{"$f":"IF(AND($EO145<=AF$6+0.01,$EP145>AF$6+0.01),IF(AND(AF$6<$F145-0.01,AF$6>=$E145-0.01),$D145,\"\"),\"x\")","v":""},{"$f":"IF(AND($EO145<=AG$6+0.01,$EP145>AG$6+0.01),IF(AND(AG$6<$F145-0.01,AG$6>=$E145-0.01),$D145,\"\"),\"x\")","v":""},{"$f":"IF(AND($EO145<=AH$6+0.01,$EP145>AH$6+0.01),IF(AND(AH$6<$F145-0.01,AH$6>=$E145-0.01),$D145,\"\"),\"x\")","v":""},{"$f":"IF(AND($EO145<=AI$6+0.01,$EP145>AI$6+0.01),IF(AND(AI$6<$F145-0.01,AI$6>=$E145-0.01),$D145,\"\"),\"x\")","v":""},{"$f":"IF(AND($EO145<=AJ$6+0.01,$EP145>AJ$6+0.01),IF(AND(AJ$6<$F145-0.01,AJ$6>=$E145-0.01),$D145,\"\"),\"x\")","v":""},{"$f":"IF(AND($EO145<=AK$6+0.01,$EP145>AK$6+0.01),IF(AND(AK$6<$F145-0.01,AK$6>=$E145-0.01),$D145,\"\"),\"x\")","v":""},{"$f":"IF(AND($EO145<=AL$6+0.01,$EP145>AL$6+0.01),IF(AND(AL$6<$F145-0.01,AL$6>=$E145-0.01),$D145,\"\"),\"x\")","v":""},{"$f":"IF(AND($EO145<=AM$6+0.01,$EP145>AM$6+0.01),IF(AND(AM$6<$F145-0.01,AM$6>=$E145-0.01),$D145,\"\"),\"x\")","v":""},{"$f":"IF(AND($EO145<=AN$6+0.01,$EP145>AN$6+0.01),IF(AND(AN$6<$F145-0.01,AN$6>=$E145-0.01),$D145,\"\"),\"x\")","v":""},{"$f":"IF(AND($EO145<=AO$6+0.01,$EP145>AO$6+0.01),IF(AND(AO$6<$F145-0.01,AO$6>=$E145-0.01),$D145,\"\"),\"x\")","v":"x"},{"$f":"IF(AND($EO145<=AP$6+0.01,$EP145>AP$6+0.01),IF(AND(AP$6<$F145-0.01,AP$6>=$E145-0.01),$D145,\"\"),\"x\")","v":"x"},{"$f":"IF(AND($EO145<=AQ$6+0.01,$EP145>AQ$6+0.01),IF(AND(AQ$6<$F145-0.01,AQ$6>=$E145-0.01),$D145,\"\"),\"x\")","v":"x"},{"$f":"IF(AND($EO145<=AR$6+0.01,$EP145>AR$6+0.01),IF(AND(AR$6<$F145-0.01,AR$6>=$E145-0.01),$D145,\"\"),\"x\")","v":"x"},{"$f":"IF(AND($EO145<=AS$6+0.01,$EP145>AS$6+0.01),IF(AND(AS$6<$F145-0.01,AS$6>=$E145-0.01),$D145,\"\"),\"x\")","v":"x"},null,{"$f":"IF(AND(AV145<>\"\",AV145<>\"x\"),0.5,)","v":0},{"$f":"IF(AND(AW145<>\"\",AW145<>\"x\"),0.5,)","v":0},{"$f":"IF(AND(AX145<>\"\",AX145<>\"x\"),0.5,)","v":0.5},{"$f":"IF(AND(AY145<>\"\",AY145<>\"x\"),0.5,)","v":0.5},{"$f":"IF(AND(AZ145<>\"\",AZ145<>\"x\"),0.5,)","v":0.5},{"$f":"IF(AND(BA145<>\"\",BA145<>\"x\"),0.5,)","v":0.5},{"$f":"IF(AND(BB145<>\"\",BB145<>\"x\"),0.5,)","v":0.5},{"$f":"IF(AND(BC145<>\"\",BC145<>\"x\"),0.5,)","v":0.5},{"$f":"IF(AND(BD145<>\"\",BD145<>\"x\"),0.5,)","v":0.5},{"$f":"IF(AND(BE145<>\"\",BE145<>\"x\"),0.5,)","v":0.5},{"$f":"IF(AND(BF145<>\"\",BF145<>\"x\"),0.5,)","v":0.5},{"$f":"IF(AND(BG145<>\"\",BG145<>\"x\"),0.5,)","v":0.5},{"$f":"IF(AND(BH145<>\"\",BH145<>\"x\"),0.5,)","v":0.5},{"$f":"IF(AND(BI145<>\"\",BI145<>\"x\"),0.5,)","v":0.5},{"$f":"IF(AND(BJ145<>\"\",BJ145<>\"x\"),0.5,)","v":0.5},{"$f":"IF(AND(BK145<>\"\",BK145<>\"x\"),0.5,)","v":0.5},{"$f":"IF(AND(BL145<>\"\",BL145<>\"x\"),0.5,)","v":0.5},{"$f":"IF(AND(BM145<>\"\",BM145<>\"x\"),0.5,)","v":0.5},{"$f":"IF(AND(BN145<>\"\",BN145<>\"x\"),0.5,)","v":0},{"$f":"IF(AND(BO145<>\"\",BO145<>\"x\"),0.5,)","v":0},{"$f":"IF(AND(BP145<>\"\",BP145<>\"x\"),0.5,)","v":0},{"$f":"IF(AND(BQ145<>\"\",BQ145<>\"x\"),0.5,)","v":0},{"$f":"IF(AND(BR145<>\"\",BR145<>\"x\"),0.5,)","v":0},{"$f":"IF(AND(BS145<>\"\",BS145<>\"x\"),0.5,)","v":0},{"$f":"IF(AND(BT145<>\"\",BT145<>\"x\"),0.5,)","v":0},{"$f":"IF(AND(BU145<>\"\",BU145<>\"x\"),0.5,)","v":0},{"$f":"IF(AND(BV145<>\"\",BV145<>\"x\"),0.5,)","v":0},{"$f":"IF(AND(BW145<>\"\",BW145<>\"x\"),0.5,)","v":0},{"$f":"IF(AND(BX145<>\"\",BX145<>\"x\"),0.5,)","v":0},{"$f":"IF(AND(BY145<>\"\",BY145<>\"x\"),0.5,)","v":0},{"$f":"IF(AND(BZ145<>\"\",BZ145<>\"x\"),0.5,)","v":0},{"$f":"IF(AND(CA145<>\"\",CA145<>\"x\"),0.5,)","v":0},{"$f":"IF(AND(CB145<>\"\",CB145<>\"x\"),0.5,)","v":0},{"$f":"IF(AND(CC145<>\"\",CC145<>\"x\"),0.5,)","v":0},{"$f":"IF(AND(CD145<>\"\",CD145<>\"x\"),0.5,)","v":0},{"$f":"IF(AND(CE145<>\"\",CE145<>\"x\"),0.5,)","v":0},{"$f":"IF(AND(CF145<>\"\",CF145<>\"x\"),0.5,)","v":0},{"$f":"IF(AND(CG145<>\"\",CG145<>\"x\"),0.5,)","v":0},null,{"$f":"IF(VLOOKUP($A145,'Schedule Setup'!$A$4:$E$39,5,FALSE)=0,\"\",VLOOKUP($A145,'Schedule Setup'!$A$4:$E$39,5,FALSE))","v":""},{"$f":"SUM(CI145:CT145)","v":5},{"$f":"IFERROR(DW145*$DV145,\"\")","v":""},{"$f":"SUM(CU145:DF145)","v":3},{"$f":"IFERROR(DY145*$DV145,\"\")","v":""},{"$f":"SUM(DG145:DT145)","v":0},{"$f":"IFERROR(EA145*$DV145,\"\")","v":""},{"$f":"SUM(DW145,DY145,EA145)","v":8},{"$f":"IFERROR(EC145*$DV145,\"\")","v":""},null,{"$f":"IF(DW145>5,(DW145-0.5),DW145)","v":5},{"$f":"IFERROR(EF145*$DV145,\"\")","v":""},{"$f":"IF(DY145>5,(DY145-0.5),DY145)","v":3},{"$f":"IFERROR(EH145*$DV145,\"\")","v":""},{"$f":"IF(EA145>5,(EA145-0.5),EA145)","v":0},{"$f":"IFERROR(EJ145*$DV145,\"\")","v":""},{"$f":"SUM(EF145,EH145,EJ145)","v":8},{"$f":"IFERROR(EL145*$DV145,\"\")","v":""},null,{"$f":"'Schedule Setup'!L5","v":"06:00:00"},{"$f":"'Schedule Setup'!M5","v":"21:30:00"},{"$f":"EO145-(0.5/24)","v":"05:30:00"},{"$f":"EP145+(0.5/24)","v":"22:00:00"}]
[{"$f":"A145+1","v":2},{"$f":"IF(VLOOKUP($A146,'Schedule Setup'!$A$4:$E$39,2,FALSE)=0,\"\",VLOOKUP($A146,'Schedule Setup'!$A$4:$E$39,2,FALSE))","v":"Clay Huycke-McCall"},{"$f":"IF(VLOOKUP($A146,'Schedule Setup'!$A$4:$E$39,4,FALSE)=0,\"\",VLOOKUP($A146,'Schedule Setup'!$A$4:$E$39,4,FALSE))","v":"Shift Manager"},{"$f":"IF(B146<>\"\",IF(OR(C146=\"General Manager (S)\", C146=\"General Manager (H)\"), \"GM\",IF(C146=\"Acting Manager\",\"AM\",IF(C146=\"Shift Manager\",\"SM\",IF(C146=\"Team Lead\",\"TL\",\"TM\")))),\"\")","v":"SM"},null,null,null,"x","x","x","x","x","x","x","x","x","x","x","x","x","x","x","x","x","x","x","x","x","x","x","x","x","x","x","x","x","x","x","x","x","x","x","x","x","x",{"$f":"EC146","v":0},null,"x","x","x","x","x","x","x","x","x","x","x","x","x","x","x","x","x","x","x","x","x","x","x","x","x","x","x","x","x","x","x","x","x","x","x","x","x","x",null,{"$f":"IF(AND(AV146<>\"\",AV146<>\"x\"),0.5,)","v":0},0,0,0,0,0,0,0,0,0,0,0,0,0,0,0,0,0,0,0,0,0,0,0,0,0,0,0,0,0,0,0,0,0,0,0,0,0,null,{"$f":"IF(VLOOKUP($A146,'Schedule Setup'!$A$4:$E$39,5,FALSE)=0,\"\",VLOOKUP($A146,'Schedule Setup'!$A$4:$E$39,5,FALSE))","v":""},0,"",0,"",0,"",{"$f":"SUM(DW146,DY146,EA146)","v":0},"",null,{"$f":"IF(DW146>5,(DW146-0.5),DW146)","v":0},"",{"$f":"IF(DY146>5,(DY146-0.5),DY146)","v":0},"",0,"",{"$f":"SUM(EF146,EH146,EJ146)","v":0},"",null,{"$f":"'Schedule Setup'!L6","v":"Req. Off"},{"$f":"'Schedule Setup'!M6","v":"Req. Off"},{"$f":"EO146-(0.5/24)","v":{"$error":"#VALUE!"}},{"$f":"EP146+(0.5/24)","v":{"$error":"#VALUE!"}}]
[{"$f":"A146+1","v":3},{"$f":"IF(VLOOKUP($A147,'Schedule Setup'!$A$4:$E$39,2,FALSE)=0,\"\",VLOOKUP($A147,'Schedule Setup'!$A$4:$E$39,2,FALSE))","v":"Shaina Hunt"},{"$f":"IF(VLOOKUP($A147,'Schedule Setup'!$A$4:$E$39,4,FALSE)=0,\"\",VLOOKUP($A147,'Schedule Setup'!$A$4:$E$39,4,FALSE))","v":"Shift Manager"},"SM",null,null,null,"x","x","","","","","","","","","","","","","","","","","","",{"$f":"BP147","v":""},"","","","","","","","","","","","","x","x","x","x","x",0,null,"x","x","","","","","","","","","","","","","","","","","","","","","","","","","","","","","","","","x","x","x","x","x",null,0,0,0,0,0,0,0,0,0,0,0,0,0,0,0,0,0,0,0,0,0,0,0,0,0,0,0,0,0,0,0,0,0,0,0,0,0,0,null,{"$f":"IF(VLOOKUP($A147,'Schedule Setup'!$A$4:$E$39,5,FALSE)=0,\"\",VLOOKUP($A147,'Schedule Setup'!$A$4:$E$39,5,FALSE))","v":""},0,"",0,"",0,"",{"$f":"SUM(DW147,DY147,EA147)","v":0},"",null,0,"",0,"",0,"",0,"",null,{"$f":"'Schedule Setup'!L7","v":"06:00:00"},{"$f":"'Schedule Setup'!M7","v":"21:30:00"},"05:30:00","22:00:00"]
[4,{"$f":"IF(VLOOKUP($A148,'Schedule Setup'!$A$4:$E$39,2,FALSE)=0,\"\",VLOOKUP($A148,'Schedule Setup'!$A$4:$E$39,2,FALSE))","v":"Christian Fink"},{"$f":"IF(VLOOKUP($A148,'Schedule Setup'!$A$4:$E$39,4,FALSE)=0,\"\",VLOOKUP($A148,'Schedule Setup'!$A$4:$E$39,4,FALSE))","v":"Team Lead"},"TL","13:30:00","21:30:00",null,"x","x","","","","","","","","","","","","","","","","TL","TL","TL","TL","TL","TL","TL","TL","TL","TL","TL","TL","TL","TL","TL","TL","x","x","x","x","x",8,null,"x","x","","","","","","","","","","","","","","","","TL","TL","TL","TL","TL","TL","TL","TL","TL","TL","TL","TL","TL","TL","TL","TL","x","x","x","x","x",null,0,0,0,0,0,0,0,0,0,0,0,0,0,0,0,0,0,0.5,0.5,0.5,0.5,0.5,0.5,0.5,0.5,0.5,0.5,0.5,0.5,0.5,0.5,0.5,0.5,0,0,0,0,0,null,{"$f":"IF(VLOOKUP($A148,'Schedule Setup'!$A$4:$E$39,5,FALSE)=0,\"\",VLOOKUP($A148,'Schedule Setup'!$A$4:$E$39,5,FALSE))","v":""},0,"",3.5,"",4.5,"",8,"",null,0,"",3.5,"",4.5,"",8,"",null,{"$f":"'Schedule Setup'!L8","v":"06:00:00"},{"$f":"'Schedule Setup'!M8","v":"21:30:00"},"05:30:00","22:00:00"]
[5,{"$f":"IF(VLOOKUP($A149,'Schedule Setup'!$A$4:$E$39,2,FALSE)=0,\"\",VLOOKUP($A149,'Schedule Setup'!$A$4:$E$39,2,FALSE))","v":"Brendan Frye"},{"$f":"IF(VLOOKUP($A149,'Schedule Setup'!$A$4:$E$39,4,FALSE)=0,\"\",VLOOKUP($A149,'Schedule Setup'!$A$4:$E$39,4,FALSE))","v":"Team Member"},"TM","14:30:00","21:30:00",null,"x","x","x","x","","","","","","","","","","","","","","","","TM","TM","TM","TM","TM","TM","TM","TM","TM","TM","TM","TM","TM","TM","x","x","x","x","x",7,null,"x","x","x","x","","","","","","","","","","","","","","","","TM","TM","TM","TM","TM","TM","TM","TM","TM","TM","TM","TM","TM","TM","x","x","x","x","x",null,0,0,0,0,0,0,0,0,0,0,0,0,0,0,0,0,0,0,0,0.5,0.5,0.5,0.5,0.5,0.5,0.5,0.5,0.5,0.5,0.5,0.5,0.5,0.5,0,0,0,0,0,null,{"$f":"IF(VLOOKUP($A149,'Schedule Setup'!$A$4:$E$39,5,FALSE)=0,\"\",VLOOKUP($A149,'Schedule Setup'!$A$4:$E$39,5,FALSE))","v":""},0,"",2.5,"",4.5,"",7,"",null,0,"",2.5,"",4.5,"",7,"",null,{"$f":"'Schedule Setup'!L9","v":"07:00:00"},{"$f":"'Schedule Setup'!M9","v":"21:30:00"},"06:30:00","22:00:00"]
[6,{"$f":"IF(VLOOKUP($A150,'Schedule Setup'!$A$4:$E$39,2,FALSE)=0,\"\",VLOOKUP($A150,'Schedule Setup'!$A$4:$E$39,2,FALSE))","v":"Jordan Galli"},{"$f":"IF(VLOOKUP($A150,'Schedule Setup'!$A$4:$E$39,4,FALSE)=0,\"\",VLOOKUP($A150,'Schedule Setup'!$A$4:$E$39,4,FALSE))","v":"Team Member"},"TM","08:00:00","15:00:00",null,"x","x","x","x","","","TM","TM","TM","TM","TM","TM","TM","TM","TM","TM","TM","TM","TM","TM","","","","","","","","","","","","","","x","x","x","x","x",7,null,"x","x","x","x","","","TM","TM","TM","TM","TM","TM","TM","TM","TM","TM","TM","TM","TM","TM","","","","","","","","","","","","","","x","x","x","x","x",null,0,0,0,0,0,0,0.5,0.5,0.5,0.5,0.5,0.5,0.5,0.5,0.5,0.5,0.5,0.5,0.5,0.5,0,0,0,0,0,0,0,0,0,0,0,0,0,0,0,0,0,0,null,{"$f":"IF(VLOOKUP($A150,'Schedule Setup'!$A$4:$E$39,5,FALSE)=0,\"\",VLOOKUP($A150,'Schedule Setup'!$A$4:$E$39,5,FALSE))","v":""},3,"",4,"",0,"",7,"",null,3,"",4,"",0,"",7,"",null,{"$f":"'Schedule Setup'!L10","v":"07:00:00"},{"$f":"'Schedule Setup'!M10","v":"21:30:00"},"06:30:00","22:00:00"]
[7,{"$f":"IF(VLOOKUP($A151,'Schedule Setup'!$A$4:$E$39,2,FALSE)=0,\"\",VLOOKUP($A151,'Schedule Setup'!$A$4:$E$39,2,FALSE))","v":"Madelyn Hickey"},{"$f":"IF(VLOOKUP($A151,'Schedule Setup'!$A$4:$E$39,4,FALSE)=0,\"\",VLOOKUP($A151,'Schedule Setup'!$A$4:$E$39,4,FALSE))","v":"Team Member"},"TM",null,null,null,"x","x","x","x","x","x","x","x","x","x","x","x","x","x","x","x","x","x","x","x","x","x","x","x","x","x","x",{"$f":"BW151","v":"x"},"x","x","x","x","x","x","x","x","x","x",0,null,"x","x","x","x","x","x","x","x","x","x","x","x","x","x","x","x","x","x","x","x","x","x","x","x","x","x","x","x","x","x","x","x","x","x","x","x","x","x",null,0,0,0,0,0,0,0,0,0,0,0,0,0,0,0,0,0,0,0,0,0,0,0,0,0,0,0,0,0,0,0,0,0,0,0,0,0,0,null,{"$f":"IF(VLOOKUP($A151,'Schedule Setup'!$A$4:$E$39,5,FALSE)=0,\"\",VLOOKUP($A151,'Schedule Setup'!$A$4:$E$39,5,FALSE))","v":""},0,"",0,"",0,"",0,"",null,0,"",0,"",0,"",0,"",null,{"$f":"'Schedule Setup'!L11","v":"UnAvail"},{"$f":"'Schedule Setup'!M11","v":"UnAvail"},{"$error":"#VALUE!"},{"$error":"#VALUE!"}]
[8,{"$f":"IF(VLOOKUP($A152,'Schedule Setup'!$A$4:$E$39,2,FALSE)=0,\"\",VLOOKUP($A152,'Schedule Setup'!$A$4:$E$39,2,FALSE))","v":""},{"$f":"IF(VLOOKUP($A152,'Schedule Setup'!$A$4:$E$39,4,FALSE)=0,\"\",VLOOKUP($A152,'Schedule Setup'!$A$4:$E$39,4,FALSE))","v":""},"",null,null,null,{"$f":"AV152","v":"x"},"x","x","x","x","x","x","x","x","x","x","x","x","x","x","x",{"$f":"BL152","v":"x"},"x","x","x","x","x","x","x","x","x","x","x","x","x","x","x","x","x","x","x","x","x",0,null,"x","x","x","x","x","x","x","x","x","x","x","x","x","x","x","x","x","x","x","x","x","x","x","x","x","x","x","x","x","x","x","x","x",{"$f":"IF(AND($EO152<=AO$6+0.01,$EP152>AO$6+0.01),IF(AND(AO$6<$F152-0.01,AO$6>=$E152-0.01),$D152,\"\"),\"x\")","v":"x"},"x","x","x","x",null,0,0,0,0,0,0,0,0,0,0,0,0,0,0,0,0,0,0,0,0,0,0,0,0,0,0,0,0,0,0,0,0,0,0,0,0,0,0,null,{"$f":"IF(VLOOKUP($A152,'Schedule Setup'!$A$4:$E$39,5,FALSE)=0,\"\",VLOOKUP($A152,'Schedule Setup'!$A$4:$E$39,5,FALSE))","v":""},0,{"$f":"IFERROR(DW152*$DV152,\"\")","v":""},0,"",0,"",0,"",null,0,"",0,"",0,"",0,"",null,{"$f":"'Schedule Setup'!L12","v":"00:00:00"},{"$f":"'Schedule Setup'!M12","v":"00:00:00"},-2.0833333333333332E-2,"00:30:00"]
[9,{"$f":"IF(VLOOKUP($A153,'Schedule Setup'!$A$4:$E$39,2,FALSE)=0,\"\",VLOOKUP($A153,'Schedule Setup'!$A$4:$E$39,2,FALSE))","v":""},{"$f":"IF(VLOOKUP($A153,'Schedule Setup'!$A$4:$E$39,4,FALSE)=0,\"\",VLOOKUP($A153,'Schedule Setup'!$A$4:$E$39,4,FALSE))","v":""},"",null,null,null,"x","x","x","x","x","x","x","x","x","x","x","x","x","x","x","x","x","x","x","x","x","x","x","x","x","x","x","x","x","x","x","x","x","x","x","x","x","x",0,null,"x","x","x","x","x","x","x","x","x","x","x","x","x","x","x","x","x","x","x","x","x","x","x","x","x","x","x","x","x","x","x","x","x",{"$f":"IF(AND($EO153<=AO$6+0.01,$EP153>AO$6+0.01),IF(AND(AO$6<$F153-0.01,AO$6>=$E153-0.01),$D153,\"\"),\"x\")","v":"x"},"x","x","x","x",null,0,0,0,0,0,0,0,0,0,0,0,0,0,0,0,0,0,0,0,0,0,0,0,0,0,0,0,0,0,0,0,0,0,0,0,0,0,0,null,{"$f":"IF(VLOOKUP($A153,'Schedule Setup'!$A$4:$E$39,5,FALSE)=0,\"\",VLOOKUP($A153,'Schedule Setup'!$A$4:$E$39,5,FALSE))","v":""},0,{"$f":"IFERROR(DW153*$DV153,\"\")","v":""},0,"",0,"",0,"",null,0,"",0,"",0,"",0,"",null,{"$f":"'Schedule Setup'!L13","v":"00:00:00"},{"$f":"'Schedule Setup'!M13","v":"00:00:00"},-2.0833333333333332E-2,"00:30:00"]
[10,{"$f":"IF(VLOOKUP($A154,'Schedule Setup'!$A$4:$E$39,2,FALSE)=0,\"\",VLOOKUP($A154,'Schedule Setup'!$A$4:$E$39,2,FALSE))","v":""},{"$f":"IF(VLOOKUP($A154,'Schedule Setup'!$A$4:$E$39,4,FALSE)=0,\"\",VLOOKUP($A154,'Schedule Setup'!$A$4:$E$39,4,FALSE))","v":""},"",null,null,null,"x","x","x","x","x","x","x","x","x","x","x","x","x","x","x","x","x","x","x","x","x","x","x","x","x","x","x","x","x","x","x","x","x","x","x","x","x","x",0,null,"x","x","x","x","x","x","x","x","x","x","x","x","x","x","x","x","x","x","x","x","x","x","x","x","x","x","x","x","x","x","x","x","x","x","x","x","x","x",null,0,0,0,0,0,0,0,0,0,0,0,0,0,0,0,0,0,0,0,0,0,0,0,0,0,0,0,0,0,0,0,0,0,0,0,0,0,0,null,{"$f":"IF(VLOOKUP($A154,'Schedule Setup'!$A$4:$E$39,5,FALSE)=0,\"\",VLOOKUP($A154,'Schedule Setup'!$A$4:$E$39,5,FALSE))","v":""},0,"",0,"",0,"",0,"",null,0,"",0,"",0,"",0,"",null,{"$f":"'Schedule Setup'!L14","v":"00:00:00"},{"$f":"'Schedule Setup'!M14","v":"00:00:00"},-2.0833333333333332E-2,"00:30:00"]
[11,{"$f":"IF(VLOOKUP($A155,'Schedule Setup'!$A$4:$E$39,2,FALSE)=0,\"\",VLOOKUP($A155,'Schedule Setup'!$A$4:$E$39,2,FALSE))","v":""},{"$f":"IF(VLOOKUP($A155,'Schedule Setup'!$A$4:$E$39,4,FALSE)=0,\"\",VLOOKUP($A155,'Schedule Setup'!$A$4:$E$39,4,FALSE))","v":""},"",null,null,null,"x","x","x","x","x","x","x","x","x","x","x","x","x","x","x","x","x","x","x","x","x","x","x","x","x","x","x","x","x","x","x","x","x","x","x","x","x","x",0,null,"x","x","x","x","x","x","x","x","x","x","x","x","x","x","x","x","x","x","x","x","x","x","x","x","x","x","x","x","x","x","x","x","x","x","x","x","x","x",null,0,0,0,0,0,0,0,0,0,0,0,0,0,0,0,0,0,0,0,0,0,0,0,0,0,0,0,0,0,0,0,0,0,0,0,0,0,0,null,{"$f":"IF(VLOOKUP($A155,'Schedule Setup'!$A$4:$E$39,5,FALSE)=0,\"\",VLOOKUP($A155,'Schedule Setup'!$A$4:$E$39,5,FALSE))","v":""},0,"",0,"",0,"",0,"",null,0,"",0,"",0,"",0,"",null,{"$f":"'Schedule Setup'!L15","v":"00:00:00"},{"$f":"'Schedule Setup'!M15","v":"00:00:00"},-2.0833333333333332E-2,"00:30:00"]
[12,{"$f":"IF(VLOOKUP($A156,'Schedule Setup'!$A$4:$E$39,2,FALSE)=0,\"\",VLOOKUP($A156,'Schedule Setup'!$A$4:$E$39,2,FALSE))","v":""},{"$f":"IF(VLOOKUP($A156,'Schedule Setup'!$A$4:$E$39,4,FALSE)=0,\"\",VLOOKUP($A156,'Schedule Setup'!$A$4:$E$39,4,FALSE))","v":""},"",null,null,null,"x","x","x","x","x","x","x","x","x","x","x","x","x","x","x","x","x","x","x","x","x","x","x","x","x","x","x","x","x","x","x","x","x","x","x","x","x","x",0,null,"x","x","x","x","x","x","x","x","x","x","x","x","x","x","x","x","x","x","x","x","x","x","x","x","x","x","x","x","x","x","x","x","x","x","x","x","x","x",null,0,0,0,0,0,0,0,0,0,0,0,0,0,0,0,0,0,0,0,0,0,0,0,0,0,0,0,0,0,0,0,0,0,0,0,0,0,0,null,{"$f":"IF(VLOOKUP($A156,'Schedule Setup'!$A$4:$E$39,5,FALSE)=0,\"\",VLOOKUP($A156,'Schedule Setup'!$A$4:$E$39,5,FALSE))","v":""},0,"",0,"",0,"",0,"",null,0,"",0,"",0,"",0,"",null,{"$f":"'Schedule Setup'!L16","v":"00:00:00"},{"$f":"'Schedule Setup'!M16","v":"00:00:00"},-2.0833333333333332E-2,"00:30:00"]
[13,{"$f":"IF(VLOOKUP($A157,'Schedule Setup'!$A$4:$E$39,2,FALSE)=0,\"\",VLOOKUP($A157,'Schedule Setup'!$A$4:$E$39,2,FALSE))","v":""},{"$f":"IF(VLOOKUP($A157,'Schedule Setup'!$A$4:$E$39,4,FALSE)=0,\"\",VLOOKUP($A157,'Schedule Setup'!$A$4:$E$39,4,FALSE))","v":""},"",null,null,null,"x","x","x","x","x","x","x","x","x","x","x","x","x","x","x","x","x","x","x","x","x","x","x","x","x","x","x","x","x","x","x","x","x","x","x","x","x","x",0,null,"x","x","x","x","x","x","x","x","x","x","x","x","x","x","x","x","x","x","x","x","x","x","x","x","x","x","x","x","x","x","x","x","x","x","x","x","x","x",null,0,0,0,0,0,0,0,0,0,0,0,0,0,0,0,0,0,0,0,0,0,0,0,0,0,0,0,0,0,0,0,0,0,0,0,0,0,0,null,{"$f":"IF(VLOOKUP($A157,'Schedule Setup'!$A$4:$E$39,5,FALSE)=0,\"\",VLOOKUP($A157,'Schedule Setup'!$A$4:$E$39,5,FALSE))","v":""},0,"",0,"",0,"",0,"",null,0,"",0,"",0,"",0,"",null,{"$f":"'Schedule Setup'!L17","v":"00:00:00"},{"$f":"'Schedule Setup'!M17","v":"00:00:00"},-2.0833333333333332E-2,"00:30:00"]
[14,{"$f":"IF(VLOOKUP($A158,'Schedule Setup'!$A$4:$E$39,2,FALSE)=0,\"\",VLOOKUP($A158,'Schedule Setup'!$A$4:$E$39,2,FALSE))","v":"Matt Louden"},{"$f":"IF(VLOOKUP($A158,'Schedule Setup'!$A$4:$E$39,4,FALSE)=0,\"\",VLOOKUP($A158,'Schedule Setup'!$A$4:$E$39,4,FALSE))","v":"Team Member"},"TM",null,null,null,"x","x","x","x","","","","","","","","","","","","","","","","","","","","","","","","","","","","","","x","x","x","x","x",0,null,"x","x","x","x","","","","","","","","","","","","","","","","","","","","","","","","","","","","","","x","x","x","x","x",null,0,0,0,0,0,0,0,0,0,0,0,0,0,0,0,0,0,0,0,0,0,0,0,0,0,0,0,0,0,0,0,0,0,0,0,0,0,0,null,{"$f":"IF(VLOOKUP($A158,'Schedule Setup'!$A$4:$E$39,5,FALSE)=0,\"\",VLOOKUP($A158,'Schedule Setup'!$A$4:$E$39,5,FALSE))","v":""},0,"",0,"",0,"",0,"",null,0,"",0,"",0,"",0,"",null,{"$f":"'Schedule Setup'!L18","v":"07:00:00"},{"$f":"'Schedule Setup'!M18","v":"21:30:00"},"06:30:00","22:00:00"]
[15,{"$f":"IF(VLOOKUP($A159,'Schedule Setup'!$A$4:$E$39,2,FALSE)=0,\"\",VLOOKUP($A159,'Schedule Setup'!$A$4:$E$39,2,FALSE))","v":"Ani Reyes"},{"$f":"IF(VLOOKUP($A159,'Schedule Setup'!$A$4:$E$39,4,FALSE)=0,\"\",VLOOKUP($A159,'Schedule Setup'!$A$4:$E$39,4,FALSE))","v":"Team Member"},"TM",null,null,null,"x","x","x","x","","","","","","","","","","","","","","","","","","","","","","","","","","","","","","x","x","x","x","x",0,null,"x","x","x","x","","","","","","","","","","","","","","","","","","","","","","","","","","","","","","x","x","x","x","x",null,0,0,0,0,0,0,0,0,0,0,0,0,0,0,0,0,0,0,0,0,0,0,0,0,0,0,0,0,0,0,0,0,0,0,0,0,0,0,null,{"$f":"IF(VLOOKUP($A159,'Schedule Setup'!$A$4:$E$39,5,FALSE)=0,\"\",VLOOKUP($A159,'Schedule Setup'!$A$4:$E$39,5,FALSE))","v":""},0,"",0,"",0,"",0,"",null,0,"",0,"",0,"",0,"",null,{"$f":"'Schedule Setup'!L19","v":"07:00:00"},{"$f":"'Schedule Setup'!M19","v":"21:30:00"},"06:30:00","22:00:00"]
[16,{"$f":"IF(VLOOKUP($A160,'Schedule Setup'!$A$4:$E$39,2,FALSE)=0,\"\",VLOOKUP($A160,'Schedule Setup'!$A$4:$E$39,2,FALSE))","v":"Andrew Philips"},{"$f":"IF(VLOOKUP($A160,'Schedule Setup'!$A$4:$E$39,4,FALSE)=0,\"\",VLOOKUP($A160,'Schedule Setup'!$A$4:$E$39,4,FALSE))","v":"Team Member"},"TM","11:30:00","17:00:00",null,"x","x","x","x","","","","","","","","","","TM","TM","TM","TM","TM","TM","TM","TM","TM","TM","TM","","x","x","x","x","x","x","x","x","x","x","x","x","x",5.5,null,"x","x","x","x","","","","","","","","","","TM","TM","TM",{"$f":"IF(AND($EO160<=X$6+0.01,$EP160>X$6+0.01),IF(AND(X$6<$F160-0.01,X$6>=$E160-0.01),$D160,\"\"),\"x\")","v":"TM"},{"$f":"IF(AND($EO160<=Y$6+0.01,$EP160>Y$6+0.01),IF(AND(Y$6<$F160-0.01,Y$6>=$E160-0.01),$D160,\"\"),\"x\")","v":"TM"},{"$f":"IF(AND($EO160<=Z$6+0.01,$EP160>Z$6+0.01),IF(AND(Z$6<$F160-0.01,Z$6>=$E160-0.01),$D160,\"\"),\"x\")","v":"TM"},{"$f":"IF(AND($EO160<=AA$6+0.01,$EP160>AA$6+0.01),IF(AND(AA$6<$F160-0.01,AA$6>=$E160-0.01),$D160,\"\"),\"x\")","v":"TM"},{"$f":"IF(AND($EO160<=AB$6+0.01,$EP160>AB$6+0.01),IF(AND(AB$6<$F160-0.01,AB$6>=$E160-0.01),$D160,\"\"),\"x\")","v":"TM"},{"$f":"IF(AND($EO160<=AC$6+0.01,$EP160>AC$6+0.01),IF(AND(AC$6<$F160-0.01,AC$6>=$E160-0.01),$D160,\"\"),\"x\")","v":"TM"},{"$f":"IF(AND($EO160<=AD$6+0.01,$EP160>AD$6+0.01),IF(AND(AD$6<$F160-0.01,AD$6>=$E160-0.01),$D160,\"\"),\"x\")","v":"TM"},{"$f":"IF(AND($EO160<=AE$6+0.01,$EP160>AE$6+0.01),IF(AND(AE$6<$F160-0.01,AE$6>=$E160-0.01),$D160,\"\"),\"x\")","v":"TM"},{"$f":"IF(AND($EO160<=AF$6+0.01,$EP160>AF$6+0.01),IF(AND(AF$6<$F160-0.01,AF$6>=$E160-0.01),$D160,\"\"),\"x\")","v":""},{"$f":"IF(AND($EO160<=AG$6+0.01,$EP160>AG$6+0.01),IF(AND(AG$6<$F160-0.01,AG$6>=$E160-0.01),$D160,\"\"),\"x\")","v":"x"},{"$f":"IF(AND($EO160<=AH$6+0.01,$EP160>AH$6+0.01),IF(AND(AH$6<$F160-0.01,AH$6>=$E160-0.01),$D160,\"\"),\"x\")","v":"x"},{"$f":"IF(AND($EO160<=AI$6+0.01,$EP160>AI$6+0.01),IF(AND(AI$6<$F160-0.01,AI$6>=$E160-0.01),$D160,\"\"),\"x\")","v":"x"},{"$f":"IF(AND($EO160<=AJ$6+0.01,$EP160>AJ$6+0.01),IF(AND(AJ$6<$F160-0.01,AJ$6>=$E160-0.01),$D160,\"\"),\"x\")","v":"x"},{"$f":"IF(AND($EO160<=AK$6+0.01,$EP160>AK$6+0.01),IF(AND(AK$6<$F160-0.01,AK$6>=$E160-0.01),$D160,\"\"),\"x\")","v":"x"},{"$f":"IF(AND($EO160<=AL$6+0.01,$EP160>AL$6+0.01),IF(AND(AL$6<$F160-0.01,AL$6>=$E160-0.01),$D160,\"\"),\"x\")","v":"x"},{"$f":"IF(AND($EO160<=AM$6+0.01,$EP160>AM$6+0.01),IF(AND(AM$6<$F160-0.01,AM$6>=$E160-0.01),$D160,\"\"),\"x\")","v":"x"},{"$f":"IF(AND($EO160<=AN$6+0.01,$EP160>AN$6+0.01),IF(AND(AN$6<$F160-0.01,AN$6>=$E160-0.01),$D160,\"\"),\"x\")","v":"x"},"x","x","x","x","x",null,0,0,0,0,0,0,0,0,0,0,0,0,0,0.5,0.5,0.5,0.5,0.5,0.5,0.5,0.5,0.5,0.5,0.5,0,0,0,0,0,0,0,0,0,0,0,0,0,0,null,{"$f":"IF(VLOOKUP($A160,'Schedule Setup'!$A$4:$E$39,5,FALSE)=0,\"\",VLOOKUP($A160,'Schedule Setup'!$A$4:$E$39,5,FALSE))","v":""},0,"",5.5,"",0,"",5.5,"",null,0,"",5,"",0,"",5,"",null,{"$f":"'Schedule Setup'!L20","v":"07:00:00"},{"$f":"'Schedule Setup'!M20","v":"17:30:00"},"06:30:00","18:00:00"]
[17,{"$f":"IF(VLOOKUP($A161,'Schedule Setup'!$A$4:$E$39,2,FALSE)=0,\"\",VLOOKUP($A161,'Schedule Setup'!$A$4:$E$39,2,FALSE))","v":""},{"$f":"IF(VLOOKUP($A161,'Schedule Setup'!$A$4:$E$39,4,FALSE)=0,\"\",VLOOKUP($A161,'Schedule Setup'!$A$4:$E$39,4,FALSE))","v":""},"",null,null,null,"x","x","x","x","x","x","x","x","x","x","x","x","x","x","x","x","x","x","x","x","x","x","x","x","x","x","x","x","x","x","x","x","x","x","x","x","x","x",0,null,{"$f":"IF(AND($EO161<=H$6+0.01,$EP161>H$6+0.01),IF(AND(H$6<$F161-0.01,H$6>=$E161-0.01),$D161,\"\"),\"x\")","v":"x"},{"$f":"IF(AND($EO161<=I$6+0.01,$EP161>I$6+0.01),IF(AND(I$6<$F161-0.01,I$6>=$E161-0.01),$D161,\"\"),\"x\")","v":"x"},{"$f":"IF(AND($EO161<=J$6+0.01,$EP161>J$6+0.01),IF(AND(J$6<$F161-0.01,J$6>=$E161-0.01),$D161,\"\"),\"x\")","v":"x"},{"$f":"IF(AND($EO161<=K$6+0.01,$EP161>K$6+0.01),IF(AND(K$6<$F161-0.01,K$6>=$E161-0.01),$D161,\"\"),\"x\")","v":"x"},{"$f":"IF(AND($EO161<=L$6+0.01,$EP161>L$6+0.01),IF(AND(L$6<$F161-0.01,L$6>=$E161-0.01),$D161,\"\"),\"x\")","v":"x"},{"$f":"IF(AND($EO161<=M$6+0.01,$EP161>M$6+0.01),IF(AND(M$6<$F161-0.01,M$6>=$E161-0.01),$D161,\"\"),\"x\")","v":"x"},{"$f":"IF(AND($EO161<=N$6+0.01,$EP161>N$6+0.01),IF(AND(N$6<$F161-0.01,N$6>=$E161-0.01),$D161,\"\"),\"x\")","v":"x"},{"$f":"IF(AND($EO161<=O$6+0.01,$EP161>O$6+0.01),IF(AND(O$6<$F161-0.01,O$6>=$E161-0.01),$D161,\"\"),\"x\")","v":"x"},{"$f":"IF(AND($EO161<=P$6+0.01,$EP161>P$6+0.01),IF(AND(P$6<$F161-0.01,P$6>=$E161-0.01),$D161,\"\"),\"x\")","v":"x"},{"$f":"IF(AND($EO161<=Q$6+0.01,$EP161>Q$6+0.01),IF(AND(Q$6<$F161-0.01,Q$6>=$E161-0.01),$D161,\"\"),\"x\")","v":"x"},{"$f":"IF(AND($EO161<=R$6+0.01,$EP161>R$6+0.01),IF(AND(R$6<$F161-0.01,R$6>=$E161-0.01),$D161,\"\"),\"x\")","v":"x"},{"$f":"IF(AND($EO161<=S$6+0.01,$EP161>S$6+0.01),IF(AND(S$6<$F161-0.01,S$6>=$E161-0.01),$D161,\"\"),\"x\")","v":"x"},{"$f":"IF(AND($EO161<=T$6+0.01,$EP161>T$6+0.01),IF(AND(T$6<$F161-0.01,T$6>=$E161-0.01),$D161,\"\"),\"x\")","v":"x"},{"$f":"IF(AND($EO161<=U$6+0.01,$EP161>U$6+0.01),IF(AND(U$6<$F161-0.01,U$6>=$E161-0.01),$D161,\"\"),\"x\")","v":"x"},{"$f":"IF(AND($EO161<=V$6+0.01,$EP161>V$6+0.01),IF(AND(V$6<$F161-0.01,V$6>=$E161-0.01),$D161,\"\"),\"x\")","v":"x"},{"$f":"IF(AND($EO161<=W$6+0.01,$EP161>W$6+0.01),IF(AND(W$6<$F161-0.01,W$6>=$E161-0.01),$D161,\"\"),\"x\")","v":"x"},"x","x","x","x","x","x","x","x","x","x","x","x","x","x","x","x","x","x","x","x","x","x",null,0,0,0,0,0,0,0,0,0,0,0,0,0,0,0,0,0,0,0,0,0,0,0,0,0,0,0,0,0,0,0,0,0,0,0,0,0,0,null,{"$f":"IF(VLOOKUP($A161,'Schedule Setup'!$A$4:$E$39,5,FALSE)=0,\"\",VLOOKUP($A161,'Schedule Setup'!$A$4:$E$39,5,FALSE))","v":""},0,"",0,"",0,"",0,"",null,0,"",0,"",0,"",0,"",null,{"$f":"'Schedule Setup'!L21","v":"00:00:00"},{"$f":"'Schedule Setup'!M21","v":"00:00:00"},-2.0833333333333332E-2,"00:30:00"]
[18,{"$f":"IF(VLOOKUP($A162,'Schedule Setup'!$A$4:$E$39,2,FALSE)=0,\"\",VLOOKUP($A162,'Schedule Setup'!$A$4:$E$39,2,FALSE))","v":""},{"$f":"IF(VLOOKUP($A162,'Schedule Setup'!$A$4:$E$39,4,FALSE)=0,\"\",VLOOKUP($A162,'Schedule Setup'!$A$4:$E$39,4,FALSE))","v":""},"",null,null,null,"x","x","x","x","x","x","x","x","x","x","x","x","x","x","x","x","x","x","x","x","x","x","x","x","x","x","x","x","x","x","x","x","x","x","x","x","x","x",0,null,"x","x","x","x","x","x","x","x","x","x","x","x","x","x","x","x","x","x","x","x","x","x","x","x","x","x","x","x","x","x","x","x","x","x","x","x","x","x",null,0,0,0,0,0,0,0,0,0,0,0,0,0,0,0,0,0,0,0,0,0,0,0,0,0,0,0,0,0,0,0,0,0,0,0,0,0,0,null,{"$f":"IF(VLOOKUP($A162,'Schedule Setup'!$A$4:$E$39,5,FALSE)=0,\"\",VLOOKUP($A162,'Schedule Setup'!$A$4:$E$39,5,FALSE))","v":""},0,"",0,"",0,"",0,"",null,0,"",0,"",0,"",0,"",null,{"$f":"'Schedule Setup'!L22","v":"00:00:00"},{"$f":"'Schedule Setup'!M22","v":"00:00:00"},-2.0833333333333332E-2,"00:30:00"]
[19,{"$f":"IF(VLOOKUP($A163,'Schedule Setup'!$A$4:$E$39,2,FALSE)=0,\"\",VLOOKUP($A163,'Schedule Setup'!$A$4:$E$39,2,FALSE))","v":"."},{"$f":"IF(VLOOKUP($A163,'Schedule Setup'!$A$4:$E$39,4,FALSE)=0,\"\",VLOOKUP($A163,'Schedule Setup'!$A$4:$E$39,4,FALSE))","v":""},"TM",null,null,null,"x","x","x","x","x","x","x","x","x","x","x","x","x","x","x","x","x","x","x","x","x","x","x","x","x","x","x","x","x","x","x","x","x","x","x","x","x","x",0,null,"x","x","x","x","x","x","x","x","x","x","x","x","x","x","x","x","x","x","x","x","x","x","x","x","x","x","x","x","x","x","x","x","x","x","x","x","x","x",null,0,0,0,0,0,0,0,0,0,0,0,0,0,0,0,0,0,0,0,0,0,0,0,0,0,0,0,0,0,0,0,0,0,0,0,0,0,0,null,{"$f":"IF(VLOOKUP($A163,'Schedule Setup'!$A$4:$E$39,5,FALSE)=0,\"\",VLOOKUP($A163,'Schedule Setup'!$A$4:$E$39,5,FALSE))","v":""},0,"",0,"",0,"",0,"",null,0,"",0,"",0,"",0,"",null,{"$f":"'Schedule Setup'!L23","v":"00:00:00"},{"$f":"'Schedule Setup'!M23","v":"00:00:00"},-2.0833333333333332E-2,"00:30:00"]
[20,{"$f":"IF(VLOOKUP($A164,'Schedule Setup'!$A$4:$E$39,2,FALSE)=0,\"\",VLOOKUP($A164,'Schedule Setup'!$A$4:$E$39,2,FALSE))","v":"Sean Duncan"},{"$f":"IF(VLOOKUP($A164,'Schedule Setup'!$A$4:$E$39,4,FALSE)=0,\"\",VLOOKUP($A164,'Schedule Setup'!$A$4:$E$39,4,FALSE))","v":"Team Lead"},"TL",null,null,null,"x","x","x","x","x","x","x","x","x","x","x","x","x","x","x","x","x","x","x","x","x","x","x","x","x","x","x","x","x","x","x","x","x","x","x","x","x","x",0,null,"x","x","x","x","x","x","x","x","x","x","x","x","x","x","x","x","x","x","x","x","x","x","x","x","x","x","x","x","x","x","x","x","x","x","x","x","x","x",null,0,0,0,0,0,0,0,0,0,0,0,0,0,0,0,0,0,0,0,0,0,0,0,0,0,0,0,0,0,0,0,0,0,0,0,0,0,0,null,{"$f":"IF(VLOOKUP($A164,'Schedule Setup'!$A$4:$E$39,5,FALSE)=0,\"\",VLOOKUP($A164,'Schedule Setup'!$A$4:$E$39,5,FALSE))","v":""},0,"",0,"",0,"",0,"",null,0,"",0,"",0,"",0,"",null,{"$f":"'Schedule Setup'!L24","v":"00:00:00"},{"$f":"'Schedule Setup'!M24","v":"00:00:00"},-2.0833333333333332E-2,"00:30:00"]
[21,{"$f":"IF(VLOOKUP($A165,'Schedule Setup'!$A$4:$E$39,2,FALSE)=0,\"\",VLOOKUP($A165,'Schedule Setup'!$A$4:$E$39,2,FALSE))","v":""},{"$f":"IF(VLOOKUP($A165,'Schedule Setup'!$A$4:$E$39,4,FALSE)=0,\"\",VLOOKUP($A165,'Schedule Setup'!$A$4:$E$39,4,FALSE))","v":""},"",null,null,null,"x","x","x","x","x","x","x","x","x","x","x","x","x","x","x","x","x","x","x","x","x","x","x","x","x","x","x","x","x","x","x","x","x","x","x","x","x","x",0,null,"x","x","x","x","x","x","x","x","x","x","x","x","x","x","x","x","x","x","x","x","x","x","x","x","x","x","x","x","x","x","x","x","x","x","x","x","x","x",null,0,0,0,0,0,0,0,0,0,0,0,0,0,0,0,0,0,0,0,0,0,0,0,0,0,0,0,0,0,0,0,0,0,0,0,0,0,0,null,{"$f":"IF(VLOOKUP($A165,'Schedule Setup'!$A$4:$E$39,5,FALSE)=0,\"\",VLOOKUP($A165,'Schedule Setup'!$A$4:$E$39,5,FALSE))","v":""},0,"",0,"",0,"",0,"",null,0,"",0,"",0,"",0,"",null,{"$f":"'Schedule Setup'!L25","v":"00:00:00"},{"$f":"'Schedule Setup'!M25","v":"00:00:00"},-2.0833333333333332E-2,"00:30:00"]
[22,{"$f":"IF(VLOOKUP($A166,'Schedule Setup'!$A$4:$E$39,2,FALSE)=0,\"\",VLOOKUP($A166,'Schedule Setup'!$A$4:$E$39,2,FALSE))","v":""},{"$f":"IF(VLOOKUP($A166,'Schedule Setup'!$A$4:$E$39,4,FALSE)=0,\"\",VLOOKUP($A166,'Schedule Setup'!$A$4:$E$39,4,FALSE))","v":""},"",null,null,null,"x","x","x","x","x","x","x","x","x","x","x","x","x","x","x","x","x","x","x","x","x","x","x","x","x","x","x","x","x","x","x","x","x","x","x","x","x","x",0,null,"x","x","x","x","x","x","x","x","x","x","x","x","x","x","x","x","x","x","x","x","x","x","x","x","x","x","x","x","x","x","x","x","x","x","x","x","x","x",null,0,0,0,0,0,0,0,0,0,0,0,0,0,0,0,0,0,0,0,0,0,0,0,0,0,0,0,0,0,0,0,0,0,0,0,0,0,0,null,{"$f":"IF(VLOOKUP($A166,'Schedule Setup'!$A$4:$E$39,5,FALSE)=0,\"\",VLOOKUP($A166,'Schedule Setup'!$A$4:$E$39,5,FALSE))","v":""},0,"",0,"",0,"",0,"",null,0,"",0,"",0,"",0,"",null,{"$f":"'Schedule Setup'!L26","v":"00:00:00"},{"$f":"'Schedule Setup'!M26","v":"00:00:00"},{"$f":"EO166-(0.5/24)","v":-2.0833333333333332E-2},{"$f":"EP166+(0.5/24)","v":"00:30:00"}]
[23,{"$f":"IF(VLOOKUP($A167,'Schedule Setup'!$A$4:$E$39,2,FALSE)=0,\"\",VLOOKUP($A167,'Schedule Setup'!$A$4:$E$39,2,FALSE))","v":""},{"$f":"IF(VLOOKUP($A167,'Schedule Setup'!$A$4:$E$39,4,FALSE)=0,\"\",VLOOKUP($A167,'Schedule Setup'!$A$4:$E$39,4,FALSE))","v":""},"",null,null,null,"x","x","x","x","x","x","x","x","x","x","x","x","x","x","x","x","x","x","x","x","x","x","x","x","x","x","x","x","x","x","x","x","x","x","x","x","x","x",0,null,"x","x","x","x","x","x","x","x","x","x","x","x","x","x","x","x","x","x","x","x","x","x","x","x","x","x","x","x","x","x","x","x","x","x","x","x","x","x",null,0,0,0,0,0,0,0,0,0,0,0,0,0,0,0,0,0,0,0,0,0,0,0,0,0,0,0,0,0,0,0,0,0,0,0,0,0,0,null,{"$f":"IF(VLOOKUP($A167,'Schedule Setup'!$A$4:$E$39,5,FALSE)=0,\"\",VLOOKUP($A167,'Schedule Setup'!$A$4:$E$39,5,FALSE))","v":""},0,"",0,"",0,"",0,"",null,0,"",0,"",0,"",0,"",null,{"$f":"'Schedule Setup'!L27","v":"00:00:00"},{"$f":"'Schedule Setup'!M27","v":"00:00:00"},-2.0833333333333332E-2,"00:30:00"]
[24,{"$f":"IF(VLOOKUP($A168,'Schedule Setup'!$A$4:$E$39,2,FALSE)=0,\"\",VLOOKUP($A168,'Schedule Setup'!$A$4:$E$39,2,FALSE))","v":""},{"$f":"IF(VLOOKUP($A168,'Schedule Setup'!$A$4:$E$39,4,FALSE)=0,\"\",VLOOKUP($A168,'Schedule Setup'!$A$4:$E$39,4,FALSE))","v":""},{"$f":"IF(B168<>\"\",IF(OR(C168=\"General Manager (S)\", C168=\"General Manager (H)\"), \"GM\",IF(C168=\"Acting Manager\",\"AM\",IF(C168=\"Shift Manager\",\"SM\",IF(C168=\"Team Lead\",\"TL\",\"TM\")))),\"\")","v":""},null,null,null,{"$f":"AV168","v":"x"},{"$f":"AW168","v":"x"},{"$f":"AX168","v":"x"},{"$f":"AY168","v":"x"},{"$f":"AZ168","v":"x"},{"$f":"BA168","v":"x"},{"$f":"BB168","v":"x"},{"$f":"BC168","v":"x"},{"$f":"BD168","v":"x"},{"$f":"BE168","v":"x"},{"$f":"BF168","v":"x"},{"$f":"BG168","v":"x"},{"$f":"BH168","v":"x"},{"$f":"BI168","v":"x"},"x","x","x","x","x","x","x","x","x","x","x","x","x","x","x",{"$f":"BY168","v":"x"},{"$f":"BZ168","v":"x"},{"$f":"CA168","v":"x"},{"$f":"CB168","v":"x"},{"$f":"CC168","v":"x"},{"$f":"CD168","v":"x"},{"$f":"CE168","v":"x"},{"$f":"CF168","v":"x"},{"$f":"CG168","v":"x"},{"$f":"EC168","v":0},null,{"$f":"IF(AND($EO168<=H$6+0.01,$EP168>H$6+0.01),IF(AND(H$6<$F168-0.01,H$6>=$E168-0.01),$D168,\"\"),\"x\")","v":"x"},{"$f":"IF(AND($EO168<=I$6+0.01,$EP168>I$6+0.01),IF(AND(I$6<$F168-0.01,I$6>=$E168-0.01),$D168,\"\"),\"x\")","v":"x"},{"$f":"IF(AND($EO168<=J$6+0.01,$EP168>J$6+0.01),IF(AND(J$6<$F168-0.01,J$6>=$E168-0.01),$D168,\"\"),\"x\")","v":"x"},{"$f":"IF(AND($EO168<=K$6+0.01,$EP168>K$6+0.01),IF(AND(K$6<$F168-0.01,K$6>=$E168-0.01),$D168,\"\"),\"x\")","v":"x"},{"$f":"IF(AND($EO168<=L$6+0.01,$EP168>L$6+0.01),IF(AND(L$6<$F168-0.01,L$6>=$E168-0.01),$D168,\"\"),\"x\")","v":"x"},{"$f":"IF(AND($EO168<=M$6+0.01,$EP168>M$6+0.01),IF(AND(M$6<$F168-0.01,M$6>=$E168-0.01),$D168,\"\"),\"x\")","v":"x"},{"$f":"IF(AND($EO168<=N$6+0.01,$EP168>N$6+0.01),IF(AND(N$6<$F168-0.01,N$6>=$E168-0.01),$D168,\"\"),\"x\")","v":"x"},{"$f":"IF(AND($EO168<=O$6+0.01,$EP168>O$6+0.01),IF(AND(O$6<$F168-0.01,O$6>=$E168-0.01),$D168,\"\"),\"x\")","v":"x"},{"$f":"IF(AND($EO168<=P$6+0.01,$EP168>P$6+0.01),IF(AND(P$6<$F168-0.01,P$6>=$E168-0.01),$D168,\"\"),\"x\")","v":"x"},{"$f":"IF(AND($EO168<=Q$6+0.01,$EP168>Q$6+0.01),IF(AND(Q$6<$F168-0.01,Q$6>=$E168-0.01),$D168,\"\"),\"x\")","v":"x"},{"$f":"IF(AND($EO168<=R$6+0.01,$EP168>R$6+0.01),IF(AND(R$6<$F168-0.01,R$6>=$E168-0.01),$D168,\"\"),\"x\")","v":"x"},{"$f":"IF(AND($EO168<=S$6+0.01,$EP168>S$6+0.01),IF(AND(S$6<$F168-0.01,S$6>=$E168-0.01),$D168,\"\"),\"x\")","v":"x"},{"$f":"IF(AND($EO168<=T$6+0.01,$EP168>T$6+0.01),IF(AND(T$6<$F168-0.01,T$6>=$E168-0.01),$D168,\"\"),\"x\")","v":"x"},{"$f":"IF(AND($EO168<=U$6+0.01,$EP168>U$6+0.01),IF(AND(U$6<$F168-0.01,U$6>=$E168-0.01),$D168,\"\"),\"x\")","v":"x"},{"$f":"IF(AND($EO168<=V$6+0.01,$EP168>V$6+0.01),IF(AND(V$6<$F168-0.01,V$6>=$E168-0.01),$D168,\"\"),\"x\")","v":"x"},{"$f":"IF(AND($EO168<=W$6+0.01,$EP168>W$6+0.01),IF(AND(W$6<$F168-0.01,W$6>=$E168-0.01),$D168,\"\"),\"x\")","v":"x"},{"$f":"IF(AND($EO168<=X$6+0.01,$EP168>X$6+0.01),IF(AND(X$6<$F168-0.01,X$6>=$E168-0.01),$D168,\"\"),\"x\")","v":"x"},{"$f":"IF(AND($EO168<=Y$6+0.01,$EP168>Y$6+0.01),IF(AND(Y$6<$F168-0.01,Y$6>=$E168-0.01),$D168,\"\"),\"x\")","v":"x"},{"$f":"IF(AND($EO168<=Z$6+0.01,$EP168>Z$6+0.01),IF(AND(Z$6<$F168-0.01,Z$6>=$E168-0.01),$D168,\"\"),\"x\")","v":"x"},{"$f":"IF(AND($EO168<=AA$6+0.01,$EP168>AA$6+0.01),IF(AND(AA$6<$F168-0.01,AA$6>=$E168-0.01),$D168,\"\"),\"x\")","v":"x"},{"$f":"IF(AND($EO168<=AB$6+0.01,$EP168>AB$6+0.01),IF(AND(AB$6<$F168-0.01,AB$6>=$E168-0.01),$D168,\"\"),\"x\")","v":"x"},{"$f":"IF(AND($EO168<=AC$6+0.01,$EP168>AC$6+0.01),IF(AND(AC$6<$F168-0.01,AC$6>=$E168-0.01),$D168,\"\"),\"x\")","v":"x"},{"$f":"IF(AND($EO168<=AD$6+0.01,$EP168>AD$6+0.01),IF(AND(AD$6<$F168-0.01,AD$6>=$E168-0.01),$D168,\"\"),\"x\")","v":"x"},{"$f":"IF(AND($EO168<=AE$6+0.01,$EP168>AE$6+0.01),IF(AND(AE$6<$F168-0.01,AE$6>=$E168-0.01),$D168,\"\"),\"x\")","v":"x"},{"$f":"IF(AND($EO168<=AF$6+0.01,$EP168>AF$6+0.01),IF(AND(AF$6<$F168-0.01,AF$6>=$E168-0.01),$D168,\"\"),\"x\")","v":"x"},{"$f":"IF(AND($EO168<=AG$6+0.01,$EP168>AG$6+0.01),IF(AND(AG$6<$F168-0.01,AG$6>=$E168-0.01),$D168,\"\"),\"x\")","v":"x"},{"$f":"IF(AND($EO168<=AH$6+0.01,$EP168>AH$6+0.01),IF(AND(AH$6<$F168-0.01,AH$6>=$E168-0.01),$D168,\"\"),\"x\")","v":"x"},{"$f":"IF(AND($EO168<=AI$6+0.01,$EP168>AI$6+0.01),IF(AND(AI$6<$F168-0.01,AI$6>=$E168-0.01),$D168,\"\"),\"x\")","v":"x"},{"$f":"IF(AND($EO168<=AJ$6+0.01,$EP168>AJ$6+0.01),IF(AND(AJ$6<$F168-0.01,AJ$6>=$E168-0.01),$D168,\"\"),\"x\")","v":"x"},{"$f":"IF(AND($EO168<=AK$6+0.01,$EP168>AK$6+0.01),IF(AND(AK$6<$F168-0.01,AK$6>=$E168-0.01),$D168,\"\"),\"x\")","v":"x"},{"$f":"IF(AND($EO168<=AL$6+0.01,$EP168>AL$6+0.01),IF(AND(AL$6<$F168-0.01,AL$6>=$E168-0.01),$D168,\"\"),\"x\")","v":"x"},{"$f":"IF(AND($EO168<=AM$6+0.01,$EP168>AM$6+0.01),IF(AND(AM$6<$F168-0.01,AM$6>=$E168-0.01),$D168,\"\"),\"x\")","v":"x"},{"$f":"IF(AND($EO168<=AN$6+0.01,$EP168>AN$6+0.01),IF(AND(AN$6<$F168-0.01,AN$6>=$E168-0.01),$D168,\"\"),\"x\")","v":"x"},{"$f":"IF(AND($EO168<=AO$6+0.01,$EP168>AO$6+0.01),IF(AND(AO$6<$F168-0.01,AO$6>=$E168-0.01),$D168,\"\"),\"x\")","v":"x"},{"$f":"IF(AND($EO168<=AP$6+0.01,$EP168>AP$6+0.01),IF(AND(AP$6<$F168-0.01,AP$6>=$E168-0.01),$D168,\"\"),\"x\")","v":"x"},{"$f":"IF(AND($EO168<=AQ$6+0.01,$EP168>AQ$6+0.01),IF(AND(AQ$6<$F168-0.01,AQ$6>=$E168-0.01),$D168,\"\"),\"x\")","v":"x"},{"$f":"IF(AND($EO168<=AR$6+0.01,$EP168>AR$6+0.01),IF(AND(AR$6<$F168-0.01,AR$6>=$E168-0.01),$D168,\"\"),\"x\")","v":"x"},{"$f":"IF(AND($EO168<=AS$6+0.01,$EP168>AS$6+0.01),IF(AND(AS$6<$F168-0.01,AS$6>=$E168-0.01),$D168,\"\"),\"x\")","v":"x"},null,{"$f":"IF(AND(AV168<>\"\",AV168<>\"x\"),0.5,)","v":0},{"$f":"IF(AND(AW168<>\"\",AW168<>\"x\"),0.5,)","v":0},{"$f":"IF(AND(AX168<>\"\",AX168<>\"x\"),0.5,)","v":0},{"$f":"IF(AND(AY168<>\"\",AY168<>\"x\"),0.5,)","v":0},{"$f":"IF(AND(AZ168<>\"\",AZ168<>\"x\"),0.5,)","v":0},{"$f":"IF(AND(BA168<>\"\",BA168<>\"x\"),0.5,)","v":0},{"$f":"IF(AND(BB168<>\"\",BB168<>\"x\"),0.5,)","v":0},{"$f":"IF(AND(BC168<>\"\",BC168<>\"x\"),0.5,)","v":0},{"$f":"IF(AND(BD168<>\"\",BD168<>\"x\"),0.5,)","v":0},{"$f":"IF(AND(BE168<>\"\",BE168<>\"x\"),0.5,)","v":0},{"$f":"IF(AND(BF168<>\"\",BF168<>\"x\"),0.5,)","v":0},{"$f":"IF(AND(BG168<>\"\",BG168<>\"x\"),0.5,)","v":0},{"$f":"IF(AND(BH168<>\"\",BH168<>\"x\"),0.5,)","v":0},{"$f":"IF(AND(BI168<>\"\",BI168<>\"x\"),0.5,)","v":0},{"$f":"IF(AND(BJ168<>\"\",BJ168<>\"x\"),0.5,)","v":0},{"$f":"IF(AND(BK168<>\"\",BK168<>\"x\"),0.5,)","v":0},{"$f":"IF(AND(BL168<>\"\",BL168<>\"x\"),0.5,)","v":0},{"$f":"IF(AND(BM168<>\"\",BM168<>\"x\"),0.5,)","v":0},{"$f":"IF(AND(BN168<>\"\",BN168<>\"x\"),0.5,)","v":0},{"$f":"IF(AND(BO168<>\"\",BO168<>\"x\"),0.5,)","v":0},{"$f":"IF(AND(BP168<>\"\",BP168<>\"x\"),0.5,)","v":0},{"$f":"IF(AND(BQ168<>\"\",BQ168<>\"x\"),0.5,)","v":0},{"$f":"IF(AND(BR168<>\"\",BR168<>\"x\"),0.5,)","v":0},{"$f":"IF(AND(BS168<>\"\",BS168<>\"x\"),0.5,)","v":0},{"$f":"IF(AND(BT168<>\"\",BT168<>\"x\"),0.5,)","v":0},{"$f":"IF(AND(BU168<>\"\",BU168<>\"x\"),0.5,)","v":0},{"$f":"IF(AND(BV168<>\"\",BV168<>\"x\"),0.5,)","v":0},{"$f":"IF(AND(BW168<>\"\",BW168<>\"x\"),0.5,)","v":0},{"$f":"IF(AND(BX168<>\"\",BX168<>\"x\"),0.5,)","v":0},{"$f":"IF(AND(BY168<>\"\",BY168<>\"x\"),0.5,)","v":0},{"$f":"IF(AND(BZ168<>\"\",BZ168<>\"x\"),0.5,)","v":0},{"$f":"IF(AND(CA168<>\"\",CA168<>\"x\"),0.5,)","v":0},{"$f":"IF(AND(CB168<>\"\",CB168<>\"x\"),0.5,)","v":0},{"$f":"IF(AND(CC168<>\"\",CC168<>\"x\"),0.5,)","v":0},{"$f":"IF(AND(CD168<>\"\",CD168<>\"x\"),0.5,)","v":0},{"$f":"IF(AND(CE168<>\"\",CE168<>\"x\"),0.5,)","v":0},{"$f":"IF(AND(CF168<>\"\",CF168<>\"x\"),0.5,)","v":0},{"$f":"IF(AND(CG168<>\"\",CG168<>\"x\"),0.5,)","v":0},null,{"$f":"IF(VLOOKUP($A168,'Schedule Setup'!$A$4:$E$39,5,FALSE)=0,\"\",VLOOKUP($A168,'Schedule Setup'!$A$4:$E$39,5,FALSE))","v":""},{"$f":"SUM(CI168:CT168)","v":0},{"$f":"IFERROR(DW168*$DV168,\"\")","v":""},{"$f":"SUM(CU168:DF168)","v":0},{"$f":"IFERROR(DY168*$DV168,\"\")","v":""},{"$f":"SUM(DG168:DT168)","v":0},{"$f":"IFERROR(EA168*$DV168,\"\")","v":""},{"$f":"SUM(DW168,DY168,EA168)","v":0},{"$f":"IFERROR(EC168*$DV168,\"\")","v":""},null,{"$f":"IF(DW168>5,(DW168-0.5),DW168)","v":0},{"$f":"IFERROR(EF168*$DV168,\"\")","v":""},{"$f":"IF(DY168>5,(DY168-0.5),DY168)","v":0},{"$f":"IFERROR(EH168*$DV168,\"\")","v":""},{"$f":"IF(EA168>5,(EA168-0.5),EA168)","v":0},{"$f":"IFERROR(EJ168*$DV168,\"\")","v":""},{"$f":"SUM(EF168,EH168,EJ168)","v":0},{"$f":"IFERROR(EL168*$DV168,\"\")","v":""},null,{"$f":"'Schedule Setup'!L28","v":"00:00:00"},{"$f":"'Schedule Setup'!M28","v":"00:00:00"},-2.0833333333333332E-2,"00:30:00"]
[25,{"$f":"IF(VLOOKUP($A169,'Schedule Setup'!$A$4:$E$39,2,FALSE)=0,\"\",VLOOKUP($A169,'Schedule Setup'!$A$4:$E$39,2,FALSE))","v":""},{"$f":"IF(VLOOKUP($A169,'Schedule Setup'!$A$4:$E$39,4,FALSE)=0,\"\",VLOOKUP($A169,'Schedule Setup'!$A$4:$E$39,4,FALSE))","v":""},"",null,null,null,"x","x","x","x","x","x","x","x","x","x","x","x","x","x","x","x","x","x","x","x","x","x","x","x","x","x","x","x","x","x","x","x","x","x","x","x","x","x",0,null,"x","x","x","x","x","x","x","x","x","x","x","x","x","x","x","x","x","x","x","x","x","x","x","x","x","x","x","x","x","x","x","x","x","x","x","x","x","x",null,0,0,0,0,0,0,0,0,0,0,0,0,0,0,0,0,0,0,0,0,0,0,0,0,0,0,0,0,0,0,0,0,0,0,0,0,0,0,null,{"$f":"IF(VLOOKUP($A169,'Schedule Setup'!$A$4:$E$39,5,FALSE)=0,\"\",VLOOKUP($A169,'Schedule Setup'!$A$4:$E$39,5,FALSE))","v":""},0,"",0,"",0,"",0,"",null,0,"",0,"",0,"",0,"",null,{"$f":"'Schedule Setup'!L29","v":"00:00:00"},{"$f":"'Schedule Setup'!M29","v":"00:00:00"},-2.0833333333333332E-2,"00:30:00"]
[26,{"$f":"IF(VLOOKUP($A170,'Schedule Setup'!$A$4:$E$39,2,FALSE)=0,\"\",VLOOKUP($A170,'Schedule Setup'!$A$4:$E$39,2,FALSE))","v":""},{"$f":"IF(VLOOKUP($A170,'Schedule Setup'!$A$4:$E$39,4,FALSE)=0,\"\",VLOOKUP($A170,'Schedule Setup'!$A$4:$E$39,4,FALSE))","v":""},"",null,null,null,"x","x","x","x","x","x","x","x","x","x","x","x","x","x","x","x","x","x","x","x","x","x","x","x","x","x","x","x","x","x","x","x","x","x","x","x","x","x",0,null,"x","x","x","x","x","x","x","x","x","x","x","x","x","x","x","x","x","x","x","x","x","x","x","x","x","x","x","x","x","x","x","x","x","x","x","x","x","x",null,0,0,0,0,0,0,0,0,0,0,0,0,0,0,0,0,0,0,0,0,0,0,0,0,0,0,0,0,0,0,0,0,0,0,0,0,0,0,null,{"$f":"IF(VLOOKUP($A170,'Schedule Setup'!$A$4:$E$39,5,FALSE)=0,\"\",VLOOKUP($A170,'Schedule Setup'!$A$4:$E$39,5,FALSE))","v":""},0,"",0,"",0,"",0,"",null,0,"",0,"",0,"",0,"",null,{"$f":"'Schedule Setup'!L30","v":"00:00:00"},{"$f":"'Schedule Setup'!M30","v":"00:00:00"},-2.0833333333333332E-2,"00:30:00"]
[27,{"$f":"IF(VLOOKUP($A171,'Schedule Setup'!$A$4:$E$39,2,FALSE)=0,\"\",VLOOKUP($A171,'Schedule Setup'!$A$4:$E$39,2,FALSE))","v":""},{"$f":"IF(VLOOKUP($A171,'Schedule Setup'!$A$4:$E$39,4,FALSE)=0,\"\",VLOOKUP($A171,'Schedule Setup'!$A$4:$E$39,4,FALSE))","v":""},"",null,null,null,"x","x","x","x","x","x","x","x","x","x","x","x","x","x","x","x","x","x","x","x","x","x","x","x","x","x","x","x","x","x","x","x","x","x","x","x","x","x",0,null,"x","x","x","x","x","x","x","x","x","x","x","x","x","x","x","x","x","x","x","x","x","x","x","x","x","x","x","x","x","x","x","x","x","x","x","x","x","x",null,0,0,0,0,0,0,0,0,0,0,0,0,0,0,0,0,0,0,0,0,0,0,0,0,0,0,0,0,0,0,0,0,0,0,0,0,0,0,null,{"$f":"IF(VLOOKUP($A171,'Schedule Setup'!$A$4:$E$39,5,FALSE)=0,\"\",VLOOKUP($A171,'Schedule Setup'!$A$4:$E$39,5,FALSE))","v":""},0,"",0,"",0,"",0,"",null,0,"",0,"",0,"",0,"",null,{"$f":"'Schedule Setup'!L31","v":"00:00:00"},{"$f":"'Schedule Setup'!M31","v":"00:00:00"},-2.0833333333333332E-2,"00:30:00"]
[28,{"$f":"IF(VLOOKUP($A172,'Schedule Setup'!$A$4:$E$39,2,FALSE)=0,\"\",VLOOKUP($A172,'Schedule Setup'!$A$4:$E$39,2,FALSE))","v":""},{"$f":"IF(VLOOKUP($A172,'Schedule Setup'!$A$4:$E$39,4,FALSE)=0,\"\",VLOOKUP($A172,'Schedule Setup'!$A$4:$E$39,4,FALSE))","v":""},"",null,null,null,"x","x","x","x","x","x","x","x","x","x","x","x","x","x","x","x","x","x","x","x","x","x","x","x","x","x","x","x","x","x","x","x","x","x","x","x","x","x",0,null,"x","x","x","x","x","x","x","x","x","x","x","x","x","x","x","x","x","x","x","x","x","x","x","x","x","x","x","x","x","x","x","x","x","x","x","x","x","x",null,0,0,0,0,0,0,0,0,0,0,0,0,0,0,0,0,0,0,0,0,0,0,0,0,0,0,0,0,0,0,0,0,0,0,0,0,0,0,null,{"$f":"IF(VLOOKUP($A172,'Schedule Setup'!$A$4:$E$39,5,FALSE)=0,\"\",VLOOKUP($A172,'Schedule Setup'!$A$4:$E$39,5,FALSE))","v":""},0,"",0,"",0,"",0,"",null,0,"",0,"",0,"",0,"",null,{"$f":"'Schedule Setup'!L32","v":"00:00:00"},{"$f":"'Schedule Setup'!M32","v":"00:00:00"},-2.0833333333333332E-2,"00:30:00"]
[29,{"$f":"IF(VLOOKUP($A173,'Schedule Setup'!$A$4:$E$39,2,FALSE)=0,\"\",VLOOKUP($A173,'Schedule Setup'!$A$4:$E$39,2,FALSE))","v":""},{"$f":"IF(VLOOKUP($A173,'Schedule Setup'!$A$4:$E$39,4,FALSE)=0,\"\",VLOOKUP($A173,'Schedule Setup'!$A$4:$E$39,4,FALSE))","v":""},"",null,null,null,"x","x","x","x","x","x","x","x","x","x","x","x","x","x","x","x","x","x","x","x","x","x","x","x","x","x","x","x","x","x","x","x","x","x","x","x","x","x",0,null,"x","x","x","x","x","x","x","x","x","x","x","x","x","x","x","x","x","x","x","x","x","x","x","x","x","x","x","x","x","x","x","x","x","x","x","x","x","x",null,0,0,0,0,0,0,0,0,0,0,0,0,0,0,0,0,0,0,0,0,0,0,0,0,0,0,0,0,0,0,0,0,0,0,0,0,0,0,null,{"$f":"IF(VLOOKUP($A173,'Schedule Setup'!$A$4:$E$39,5,FALSE)=0,\"\",VLOOKUP($A173,'Schedule Setup'!$A$4:$E$39,5,FALSE))","v":""},0,"",0,"",0,"",0,"",null,0,"",0,"",0,"",0,"",null,{"$f":"'Schedule Setup'!L33","v":"00:00:00"},{"$f":"'Schedule Setup'!M33","v":"00:00:00"},-2.0833333333333332E-2,"00:30:00"]
[30,{"$f":"IF(VLOOKUP($A174,'Schedule Setup'!$A$4:$E$39,2,FALSE)=0,\"\",VLOOKUP($A174,'Schedule Setup'!$A$4:$E$39,2,FALSE))","v":""},{"$f":"IF(VLOOKUP($A174,'Schedule Setup'!$A$4:$E$39,4,FALSE)=0,\"\",VLOOKUP($A174,'Schedule Setup'!$A$4:$E$39,4,FALSE))","v":""},"",null,null,null,"x","x","x","x","x","x","x","x","x","x","x","x","x","x","x","x","x","x","x","x","x","x","x","x","x","x","x","x","x","x","x","x","x","x","x","x","x","x",0,null,"x","x","x","x","x","x","x","x","x","x","x","x","x","x","x","x","x","x","x","x","x","x","x","x","x","x","x","x","x","x","x","x","x","x","x","x","x","x",null,0,0,0,0,0,0,0,0,0,0,0,0,0,0,0,0,0,0,0,0,0,0,0,0,0,0,0,0,0,0,0,0,0,0,0,0,0,0,null,{"$f":"IF(VLOOKUP($A174,'Schedule Setup'!$A$4:$E$39,5,FALSE)=0,\"\",VLOOKUP($A174,'Schedule Setup'!$A$4:$E$39,5,FALSE))","v":""},0,"",0,"",0,"",0,"",null,0,"",0,"",0,"",0,"",null,{"$f":"'Schedule Setup'!L34","v":"00:00:00"},{"$f":"'Schedule Setup'!M34","v":"00:00:00"},-2.0833333333333332E-2,"00:30:00"]
[31,{"$f":"IF(VLOOKUP($A175,'Schedule Setup'!$A$4:$E$39,2,FALSE)=0,\"\",VLOOKUP($A175,'Schedule Setup'!$A$4:$E$39,2,FALSE))","v":""},{"$f":"IF(VLOOKUP($A175,'Schedule Setup'!$A$4:$E$39,4,FALSE)=0,\"\",VLOOKUP($A175,'Schedule Setup'!$A$4:$E$39,4,FALSE))","v":""},"",null,null,null,"x","x","x","x","x","x","x","x","x","x","x","x","x","x","x","x","x","x","x","x","x","x","x","x","x","x","x","x","x","x","x","x","x","x","x","x","x","x",0,null,"x","x","x","x","x","x","x","x","x","x","x","x","x","x","x","x","x","x","x","x","x","x","x","x","x","x","x","x","x","x","x","x","x","x","x","x","x","x",null,0,0,0,0,0,0,0,0,0,0,0,0,0,0,0,0,0,0,0,0,0,0,0,0,0,0,0,0,0,0,0,0,0,0,0,0,0,0,null,{"$f":"IF(VLOOKUP($A175,'Schedule Setup'!$A$4:$E$39,5,FALSE)=0,\"\",VLOOKUP($A175,'Schedule Setup'!$A$4:$E$39,5,FALSE))","v":""},0,"",0,"",0,"",0,"",null,0,"",0,"",0,"",0,"",null,{"$f":"'Schedule Setup'!L35","v":"00:00:00"},{"$f":"'Schedule Setup'!M35","v":"00:00:00"},-2.0833333333333332E-2,"00:30:00"]
[32,{"$f":"IF(VLOOKUP($A176,'Schedule Setup'!$A$4:$E$39,2,FALSE)=0,\"\",VLOOKUP($A176,'Schedule Setup'!$A$4:$E$39,2,FALSE))","v":""},{"$f":"IF(VLOOKUP($A176,'Schedule Setup'!$A$4:$E$39,4,FALSE)=0,\"\",VLOOKUP($A176,'Schedule Setup'!$A$4:$E$39,4,FALSE))","v":""},"",null,null,null,"x","x","x","x","x","x","x","x","x","x","x","x","x","x","x","x","x","x","x","x","x","x","x","x","x","x","x","x","x","x","x","x","x","x","x","x","x","x",0,null,"x","x","x","x","x","x","x","x","x","x","x","x","x","x","x","x","x","x","x","x","x","x","x","x","x","x","x","x","x","x","x","x","x","x","x","x","x","x",null,0,0,0,0,0,0,0,0,0,0,0,0,0,0,0,0,0,0,0,0,0,0,0,0,0,0,0,0,0,0,0,0,0,0,0,0,0,0,null,{"$f":"IF(VLOOKUP($A176,'Schedule Setup'!$A$4:$E$39,5,FALSE)=0,\"\",VLOOKUP($A176,'Schedule Setup'!$A$4:$E$39,5,FALSE))","v":""},0,"",0,"",0,"",0,"",null,0,"",0,"",0,"",0,"",null,{"$f":"'Schedule Setup'!L36","v":"00:00:00"},{"$f":"'Schedule Setup'!M36","v":"00:00:00"},-2.0833333333333332E-2,"00:30:00"]
[33,{"$f":"IF(VLOOKUP($A177,'Schedule Setup'!$A$4:$E$39,2,FALSE)=0,\"\",VLOOKUP($A177,'Schedule Setup'!$A$4:$E$39,2,FALSE))","v":""},{"$f":"IF(VLOOKUP($A177,'Schedule Setup'!$A$4:$E$39,4,FALSE)=0,\"\",VLOOKUP($A177,'Schedule Setup'!$A$4:$E$39,4,FALSE))","v":""},"",null,null,null,"x","x","x","x","x","x","x","x","x","x","x","x","x","x","x","x","x","x","x","x","x","x","x","x","x","x","x","x","x","x","x","x","x","x","x","x","x","x",0,null,"x","x","x","x","x","x","x","x","x","x","x","x","x","x","x","x","x","x","x","x","x","x","x","x","x","x","x","x","x","x","x","x","x","x","x","x","x","x",null,0,0,0,0,0,0,0,0,0,0,0,0,0,0,0,0,0,0,0,0,0,0,0,0,0,0,0,0,0,0,0,0,0,0,0,0,0,0,null,{"$f":"IF(VLOOKUP($A177,'Schedule Setup'!$A$4:$E$39,5,FALSE)=0,\"\",VLOOKUP($A177,'Schedule Setup'!$A$4:$E$39,5,FALSE))","v":""},0,"",0,"",0,"",0,"",null,0,"",0,"",0,"",0,"",null,{"$f":"'Schedule Setup'!L37","v":"00:00:00"},{"$f":"'Schedule Setup'!M37","v":"00:00:00"},-2.0833333333333332E-2,"00:30:00"]
[34,{"$f":"IF(VLOOKUP($A178,'Schedule Setup'!$A$4:$E$39,2,FALSE)=0,\"\",VLOOKUP($A178,'Schedule Setup'!$A$4:$E$39,2,FALSE))","v":""},{"$f":"IF(VLOOKUP($A178,'Schedule Setup'!$A$4:$E$39,4,FALSE)=0,\"\",VLOOKUP($A178,'Schedule Setup'!$A$4:$E$39,4,FALSE))","v":""},"",null,null,null,"x","x","x","x","x","x","x","x","x","x","x","x","x","x","x",{"$f":"BK178","v":"x"},"x","x","x","x","x","x","x","x","x","x","x","x","x","x","x","x","x","x","x","x","x","x",0,null,"x","x","x","x","x","x","x","x","x","x","x","x","x","x","x","x","x","x","x","x","x","x","x","x","x","x","x","x","x","x","x","x","x","x","x","x","x","x",null,0,0,0,0,0,0,0,0,0,0,0,0,0,0,0,0,0,0,0,0,0,0,0,0,0,0,0,0,0,0,0,0,0,0,0,0,0,0,null,{"$f":"IF(VLOOKUP($A178,'Schedule Setup'!$A$4:$E$39,5,FALSE)=0,\"\",VLOOKUP($A178,'Schedule Setup'!$A$4:$E$39,5,FALSE))","v":""},0,"",0,"",0,"",0,"",null,0,"",0,"",0,"",0,"",null,{"$f":"'Schedule Setup'!L28","v":"00:00:00"},{"$f":"'Schedule Setup'!M28","v":"00:00:00"},-2.0833333333333332E-2,"00:30:00"]
[35,{"$f":"IF(VLOOKUP($A179,'Schedule Setup'!$A$4:$E$39,2,FALSE)=0,\"\",VLOOKUP($A179,'Schedule Setup'!$A$4:$E$39,2,FALSE))","v":""},{"$f":"IF(VLOOKUP($A179,'Schedule Setup'!$A$4:$E$39,4,FALSE)=0,\"\",VLOOKUP($A179,'Schedule Setup'!$A$4:$E$39,4,FALSE))","v":""},"",null,null,null,"x","x","x","x","x","x","x","x","x","x","x","x","x","x","x","x","x","x","x","x","x","x","x","x","x","x","x","x","x","x","x","x","x","x","x","x","x","x",0,null,"x","x","x","x","x","x","x","x","x","x","x","x","x","x","x","x","x","x","x","x","x","x","x","x","x","x","x","x","x","x","x","x","x","x","x","x","x","x",null,0,0,0,0,0,0,0,0,0,0,0,0,0,0,0,0,0,0,0,0,0,0,0,0,0,0,0,0,0,0,0,0,0,0,0,0,0,0,null,{"$f":"IF(VLOOKUP($A179,'Schedule Setup'!$A$4:$E$39,5,FALSE)=0,\"\",VLOOKUP($A179,'Schedule Setup'!$A$4:$E$39,5,FALSE))","v":""},0,"",0,"",0,"",0,"",null,0,"",0,"",0,"",0,"",null,{"$f":"'Schedule Setup'!L39","v":"00:00:00"},{"$f":"'Schedule Setup'!M39","v":"00:00:00"},-2.0833333333333332E-2,"00:30:00"]
[null,null,null,"Totals/Coverage",{"$f":"MIN(E145:E179)","v":"06:00:00"},{"$f":"MAX(F145:F179)","v":"21:30:00"},null,{"$f":"CI180","v":0},{"$f":"CJ180","v":0},{"$f":"CK180","v":1},{"$f":"CL180","v":1},{"$f":"CM180","v":1},{"$f":"CN180","v":1},{"$f":"CO180","v":2},{"$f":"CP180","v":2},{"$f":"CQ180","v":2},{"$f":"CR180","v":2},{"$f":"CS180","v":2},{"$f":"CT180","v":2},{"$f":"CU180","v":2},{"$f":"CV180","v":3},{"$f":"CW180","v":3},{"$f":"CX180","v":3},{"$f":"CY180","v":3},{"$f":"CZ180","v":4},{"$f":"DA180","v":3},{"$f":"DB180","v":4},{"$f":"DC180","v":3},{"$f":"DD180","v":3},{"$f":"DE180","v":3},{"$f":"DF180","v":3},{"$f":"DG180","v":2},{"$f":"DH180","v":2},{"$f":"DI180","v":2},{"$f":"DJ180","v":2},{"$f":"DK180","v":2},{"$f":"DL180","v":2},{"$f":"DM180","v":2},{"$f":"DN180","v":2},{"$f":"DO180","v":2},{"$f":"DP180","v":0},{"$f":"DQ180","v":0},{"$f":"DR180","v":0},{"$f":"DS180","v":0},{"$f":"DT180","v":0},{"$f":"SUM(AT145:AT179)","v":35.5},null,null,null,null,null,null,null,null,null,null,null,null,null,null,null,null,null,null,null,null,null,null,null,null,null,null,null,null,null,null,null,null,null,null,null,null,null,null,null,null,{"$f":"COUNTIF(CI145:CI179,0.5)","v":0},{"$f":"COUNTIF(CJ145:CJ179,0.5)","v":0},{"$f":"COUNTIF(CK145:CK179,0.5)","v":1},{"$f":"COUNTIF(CL145:CL179,0.5)","v":1},{"$f":"COUNTIF(CM145:CM179,0.5)","v":1},{"$f":"COUNTIF(CN145:CN179,0.5)","v":1},{"$f":"COUNTIF(CO145:CO179,0.5)","v":2},{"$f":"COUNTIF(CP145:CP179,0.5)","v":2},{"$f":"COUNTIF(CQ145:CQ179,0.5)","v":2},{"$f":"COUNTIF(CR145:CR179,0.5)","v":2},{"$f":"COUNTIF(CS145:CS179,0.5)","v":2},{"$f":"COUNTIF(CT145:CT179,0.5)","v":2},{"$f":"COUNTIF(CU145:CU179,0.5)","v":2},{"$f":"COUNTIF(CV145:CV179,0.5)","v":3},{"$f":"COUNTIF(CW145:CW179,0.5)","v":3},{"$f":"COUNTIF(CX145:CX179,0.5)","v":3},{"$f":"COUNTIF(CY145:CY179,0.5)","v":3},{"$f":"COUNTIF(CZ145:CZ179,0.5)","v":4},{"$f":"COUNTIF(DA145:DA179,0.5)","v":3},{"$f":"COUNTIF(DB145:DB179,0.5)","v":4},{"$f":"COUNTIF(DC145:DC179,0.5)","v":3},{"$f":"COUNTIF(DD145:DD179,0.5)","v":3},{"$f":"COUNTIF(DE145:DE179,0.5)","v":3},{"$f":"COUNTIF(DF145:DF179,0.5)","v":3},{"$f":"COUNTIF(DG145:DG179,0.5)","v":2},{"$f":"COUNTIF(DH145:DH179,0.5)","v":2},{"$f":"COUNTIF(DI145:DI179,0.5)","v":2},{"$f":"COUNTIF(DJ145:DJ179,0.5)","v":2},{"$f":"COUNTIF(DK145:DK179,0.5)","v":2},{"$f":"COUNTIF(DL145:DL179,0.5)","v":2},{"$f":"COUNTIF(DM145:DM179,0.5)","v":2},{"$f":"COUNTIF(DN145:DN179,0.5)","v":2},{"$f":"COUNTIF(DO145:DO179,0.5)","v":2},{"$f":"COUNTIF(DP145:DP179,0.5)","v":0},{"$f":"COUNTIF(DQ145:DQ179,0.5)","v":0},{"$f":"COUNTIF(DR145:DR179,0.5)","v":0},{"$f":"COUNTIF(DS145:DS179,0.5)","v":0},{"$f":"COUNTIF(DT145:DT179,0.5)","v":0},null,null,{"$f":"SUM(DW145:DW179)","v":8},0,18.5,0,9,0,35.5,0,null,{"$f":"SUM(EF145:EF179)","v":8},0,18,0,9,0,35,0,null,{"$f":"'Schedule Setup'!L40","v":"07:30:00"},{"$f":"'Schedule Setup'!M40","v":"21:00:00"},"07:00:00","21:30:00"]
[null,null,null,null,null,{"$f":"'Schedule Forecast'!A14","v":"Wk 10-21"},null,{"$f":"IFERROR(INDEX(INDIRECT(\"'\"&$F181&\"'!$F:$F\"),MATCH(H$6,INDIRECT(\"'\"&$F181&\"'!$A$1:$A$250\"),0)+1),0)","v":0},0,0,0,14.56,36.18,17.72,93.75,53.95,47.9,{"$f":"IFERROR(INDEX(INDIRECT(\"'\"&$F181&\"'!$F:$F\"),MATCH(R$6,INDIRECT(\"'\"&$F181&\"'!$A$1:$A$250\"),0)+1),0)","v":76.47},79.06,120.28,100.77,139.86000000000001,96.2,144.72,99.37,93.02,115.44,{"$f":"IFERROR(INDEX(INDIRECT(\"'\"&$F181&\"'!$F:$F\"),MATCH(AB$6,INDIRECT(\"'\"&$F181&\"'!$A$1:$A$250\"),0)+1),0)","v":58.64},64.72,43.07,38.479999999999997,27.9,31.79,4.8899999999999997,21.2,23.75,0,{"$f":"IFERROR(INDEX(INDIRECT(\"'\"&$F181&\"'!$F:$F\"),MATCH(AL$6,INDIRECT(\"'\"&$F181&\"'!$A$1:$A$250\"),0)+1),0)","v":2.54},10.98,0,0,0,0,0,0]
[null,null,null,null,null,{"$f":"'Schedule Forecast'!A15","v":"Wk 10-28"},null,0,0,0,0,0,13.47,24.6,18.21,63.12,4.49,33.14,22.76,54.45,60.73,100.15,89.08,28.45,62.31,76.790000000000006,53.08,57.54,20.07,70.819999999999993,25.84,20.21,13.47,28.4,165,5.89,9.68,0,34.14,0,0,0,0,0,0]
[null,null,null,null,null,{"$f":"'Schedule Forecast'!A16","v":"Wk 11-4"},null,0,0,0,0,0,0,0,7.74,79.459999999999994,11.87,43.01,57.64,22.06,18.66,96.47,81.59,116.92,106,72.66,58.2,47.4,100.21,32.94,44.41,48.86,40.72,15.92,0,10.32,0,10.58,4.49,0,0,0,0,0,0]
[null,null,null,null,null,{"$f":"'Schedule Forecast'!A17","v":"Wk 11-11"},null,0,0,0,0,0,5.89,26.14,11.78,30.87,52.48,92.16,107.53,66.38,53.58,55.06,103.44,47.21,123.4,75.36,70.03,46.06,79.25,70.36,42.22,46.87,47.71,14.57,0,5.99,5.89,9.5,0,0,0,0,0,0,0]
[null,null,null,null,null,"AVERAGE",null,{"$f":"IFERROR(IF(AND(H$6>=$EO$180,H$6<$EP$180-0.001),AVERAGE(H181:H184),\"\"),\"\")","v":""},"","","","",13.885,17.115000000000002,32.869999999999997,56.849999999999994,29.185000000000002,61.195,66.747500000000002,65.792500000000004,58.435000000000002,97.885000000000005,92.577500000000001,84.324999999999989,97.77000000000001,79.457499999999996,74.1875,52.410000000000004,66.0625,54.297499999999999,37.737499999999997,35.96,33.422499999999999,15.945,46.55,11.487500000000001,3.8925000000000001,5.6550000000000002,12.402500000000002,"","","","","",""]
[null,null,null,null,null,null,null,{"$f":"IFERROR(IF((H185*'Schedule Forecast'!$C$4-$AC$2)>1,(H185*'Schedule Forecast'!$C$4-$AC$2),1),\"\")","v":""},{"$f":"IFERROR(IF((I185*'Schedule Forecast'!$C$4-$AC$2)>1,(I185*'Schedule Forecast'!$C$4-$AC$2),1),\"\")","v":""},{"$f":"IFERROR(IF((J185*'Schedule Forecast'!$C$4-$AC$2)>1,(J185*'Schedule Forecast'!$C$4-$AC$2),1),\"\")","v":""},{"$f":"IFERROR(IF((K185*'Schedule Forecast'!$C$4-$AC$2)>1,(K185*'Schedule Forecast'!$C$4-$AC$2),1),\"\")","v":""},{"$f":"IFERROR(IF((L185*'Schedule Forecast'!$C$4-$AC$2)>1,(L185*'Schedule Forecast'!$C$4-$AC$2),1),\"\")","v":""},{"$f":"IFERROR(IF((M185*'Schedule Forecast'!$C$4-$AC$2)>1,(M185*'Schedule Forecast'!$C$4-$AC$2),1),\"\")","v":1},{"$f":"IFERROR(IF((N185*'Schedule Forecast'!$C$4-$AC$2)>1,(N185*'Schedule Forecast'!$C$4-$AC$2),1),\"\")","v":1},{"$f":"IFERROR(IF((O185*'Schedule Forecast'!$C$4-$AC$2)>1,(O185*'Schedule Forecast'!$C$4-$AC$2),1),\"\")","v":1},{"$f":"IFERROR(IF((P185*'Schedule Forecast'!$C$4-$AC$2)>1,(P185*'Schedule Forecast'!$C$4-$AC$2),1),\"\")","v":1},{"$f":"IFERROR(IF((Q185*'Schedule Forecast'!$C$4-$AC$2)>1,(Q185*'Schedule Forecast'!$C$4-$AC$2),1),\"\")","v":1},{"$f":"IFERROR(IF((R185*'Schedule Forecast'!$C$4-$AC$2)>1,(R185*'Schedule Forecast'!$C$4-$AC$2),1),\"\")","v":1.6270500000000006},{"$f":"IFERROR(IF((S185*'Schedule Forecast'!$C$4-$AC$2)>1,(S185*'Schedule Forecast'!$C$4-$AC$2),1),\"\")","v":2.6820250000000012},{"$f":"IFERROR(IF((T185*'Schedule Forecast'!$C$4-$AC$2)>1,(T185*'Schedule Forecast'!$C$4-$AC$2),1),\"\")","v":2.5005750000000013},{"$f":"IFERROR(IF((U185*'Schedule Forecast'!$C$4-$AC$2)>1,(U185*'Schedule Forecast'!$C$4-$AC$2),1),\"\")","v":1.1026500000000006},{"$f":"IFERROR(IF((V185*'Schedule Forecast'!$C$4-$AC$2)>1,(V185*'Schedule Forecast'!$C$4-$AC$2),1),\"\")","v":8.5981500000000004},{"$f":"IFERROR(IF((W185*'Schedule Forecast'!$C$4-$AC$2)>1,(W185*'Schedule Forecast'!$C$4-$AC$2),1),\"\")","v":7.5897250000000014},{"$f":"IFERROR(IF((X185*'Schedule Forecast'!$C$4-$AC$2)>1,(X185*'Schedule Forecast'!$C$4-$AC$2),1),\"\")","v":6.0217499999999973},{"$f":"IFERROR(IF((Y185*'Schedule Forecast'!$C$4-$AC$2)>1,(Y185*'Schedule Forecast'!$C$4-$AC$2),1),\"\")","v":8.5763000000000034},{"$f":"IFERROR(IF((Z185*'Schedule Forecast'!$C$4-$AC$2)>1,(Z185*'Schedule Forecast'!$C$4-$AC$2),1),\"\")","v":5.0969249999999988},{"$f":"IFERROR(IF((AA185*'Schedule Forecast'!$C$4-$AC$2)>1,(AA185*'Schedule Forecast'!$C$4-$AC$2),1),\"\")","v":4.0956250000000001},{"$f":"IFERROR(IF((AB185*'Schedule Forecast'!$C$4-$AC$2)>1,(AB185*'Schedule Forecast'!$C$4-$AC$2),1),\"\")","v":1},{"$f":"IFERROR(IF((AC185*'Schedule Forecast'!$C$4-$AC$2)>1,(AC185*'Schedule Forecast'!$C$4-$AC$2),1),\"\")","v":2.5518750000000008},{"$f":"IFERROR(IF((AD185*'Schedule Forecast'!$C$4-$AC$2)>1,(AD185*'Schedule Forecast'!$C$4-$AC$2),1),\"\")","v":1},{"$f":"IFERROR(IF((AE185*'Schedule Forecast'!$C$4-$AC$2)>1,(AE185*'Schedule Forecast'!$C$4-$AC$2),1),\"\")","v":1},{"$f":"IFERROR(IF((AF185*'Schedule Forecast'!$C$4-$AC$2)>1,(AF185*'Schedule Forecast'!$C$4-$AC$2),1),\"\")","v":1},{"$f":"IFERROR(IF((AG185*'Schedule Forecast'!$C$4-$AC$2)>1,(AG185*'Schedule Forecast'!$C$4-$AC$2),1),\"\")","v":1},{"$f":"IFERROR(IF((AH185*'Schedule Forecast'!$C$4-$AC$2)>1,(AH185*'Schedule Forecast'!$C$4-$AC$2),1),\"\")","v":1},{"$f":"IFERROR(IF((AI185*'Schedule Forecast'!$C$4-$AC$2)>1,(AI185*'Schedule Forecast'!$C$4-$AC$2),1),\"\")","v":1},{"$f":"IFERROR(IF((AJ185*'Schedule Forecast'!$C$4-$AC$2)>1,(AJ185*'Schedule Forecast'!$C$4-$AC$2),1),\"\")","v":1},{"$f":"IFERROR(IF((AK185*'Schedule Forecast'!$C$4-$AC$2)>1,(AK185*'Schedule Forecast'!$C$4-$AC$2),1),\"\")","v":1},{"$f":"IFERROR(IF((AL185*'Schedule Forecast'!$C$4-$AC$2)>1,(AL185*'Schedule Forecast'!$C$4-$AC$2),1),\"\")","v":1},{"$f":"IFERROR(IF((AM185*'Schedule Forecast'!$C$4-$AC$2)>1,(AM185*'Schedule Forecast'!$C$4-$AC$2),1),\"\")","v":1},{"$f":"IFERROR(IF((AN185*'Schedule Forecast'!$C$4-$AC$2)>1,(AN185*'Schedule Forecast'!$C$4-$AC$2),1),\"\")","v":""},{"$f":"IFERROR(IF((AO185*'Schedule Forecast'!$C$4-$AC$2)>1,(AO185*'Schedule Forecast'!$C$4-$AC$2),1),\"\")","v":""},{"$f":"IFERROR(IF((AP185*'Schedule Forecast'!$C$4-$AC$2)>1,(AP185*'Schedule Forecast'!$C$4-$AC$2),1),\"\")","v":""},{"$f":"IFERROR(IF((AQ185*'Schedule Forecast'!$C$4-$AC$2)>1,(AQ185*'Schedule Forecast'!$C$4-$AC$2),1),\"\")","v":""},{"$f":"IFERROR(IF((AR185*'Schedule Forecast'!$C$4-$AC$2)>1,(AR185*'Schedule Forecast'!$C$4-$AC$2),1),\"\")","v":""},{"$f":"IFERROR(IF((AS185*'Schedule Forecast'!$C$4-$AC$2)>1,(AS185*'Schedule Forecast'!$C$4-$AC$2),1),\"\")","v":""}]
[null,null,null,null,null,null,"Recommended:",{"$f":"IF(H144>=$EO$180,IF(H144<$EP$180-0.01,ROUND(IF(H186>1,(H186*$B$48)+1,H186)*2,0),\"\"),\"\")","v":""},"","","","",2,2,2,2,2,2,2,2,2,2,2,2,2,2,2,2,2,2,2,2,2,2,2,2,2,2,2,"","","","","","",{"$f":"SUM(H187:AS187)/2","v":27}]
[]
[null,"Sunday",null,null,null,null,null,null,null,null,null,null,null,null,null,null,null,null,{"$f":"S143","v":"Today's Date"},{"$f":"T5+4","v":"2014-11-23"},null,null,null,null,null,null,null,null,null,null,null,null,null,null,null,null,null,null,null,null,null,null,null,null,null,null,null,null,null,null,null,null,null,null,null,null,null,null,null,null,null,null,null,null,null,null,null,null,null,null,null,null,null,null,null,null,null,null,null,null,null,null,null,null,null,null,null,null,null,null,null,null,null,null,null,null,null,null,null,null,null,null,null,null,null,null,null,null,null,null,null,null,null,null,null,null,null,null,null,null,null,null,null,null,null,null,"Breakfast",null,"Lunch",null,"Dinner",null,"Total",null,null,"Breakfast",null,"Lunch",null,"Dinner",null,"Total",null,null,"Availability"]
[null,"Employee","Job",null,"Start","End",null,"05:00:00",{"$f":"H190+(0.5/24)","v":"05:30:00"},{"$f":"I190+(0.5/24)","v":"06:00:00"},{"$f":"J190+(0.5/24)","v":"06:30:00"},{"$f":"K190+(0.5/24)","v":"07:00:00"},{"$f":"L190+(0.5/24)","v":"07:30:00"},{"$f":"M190+(0.5/24)","v":"08:00:00"},{"$f":"N190+(0.5/24)","v":"08:30:00"},{"$f":"O190+(0.5/24)","v":"09:00:00"},{"$f":"P190+(0.5/24)","v":"09:30:00"},{"$f":"Q190+(0.5/24)","v":"10:00:00"},{"$f":"R190+(0.5/24)","v":"10:30:00"},{"$f":"S190+(0.5/24)","v":"11:00:00"},{"$f":"T190+(0.5/24)","v":"11:30:00"},{"$f":"U190+(0.5/24)","v":"12:00:00"},{"$f":"V190+(0.5/24)","v":"12:30:00"},{"$f":"W190+(0.5/24)","v":"13:00:00"},{"$f":"X190+(0.5/24)","v":"13:30:00"},{"$f":"Y190+(0.5/24)","v":"14:00:00"},{"$f":"Z190+(0.5/24)","v":"14:30:00"},{"$f":"AA190+(0.5/24)","v":"15:00:00"},{"$f":"AB190+(0.5/24)","v":"15:30:00"},{"$f":"AC190+(0.5/24)","v":"16:00:00"},{"$f":"AD190+(0.5/24)","v":"16:30:00"},{"$f":"AE190+(0.5/24)","v":"17:00:00"},{"$f":"AF190+(0.5/24)","v":"17:30:00"},{"$f":"AG190+(0.5/24)","v":"18:00:00"},{"$f":"AH190+(0.5/24)","v":"18:30:00"},{"$f":"AI190+(0.5/24)","v":"19:00:00"},{"$f":"AJ190+(0.5/24)","v":"19:30:00"},{"$f":"AK190+(0.5/24)","v":"20:00:00"},{"$f":"AL190+(0.5/24)","v":"20:30:00"},{"$f":"AM190+(0.5/24)","v":"21:00:00"},{"$f":"AN190+(0.5/24)","v":"21:30:00"},{"$f":"AO190+(0.5/24)","v":"22:00:00"},{"$f":"AP190+(0.5/24)","v":"22:30:00"},{"$f":"AQ190+(0.5/24)","v":"23:00:00"},{"$f":"AR190+(0.5/24)","v":"23:30:00"},"TOTAL",null,5,null,6,null,7,null,8,null,9,null,10,null,11,null,12,null,1,null,2,null,3,null,4,null,5,null,6,null,7,null,8,null,9,null,10,null,11,null,null,5,null,6,null,7,null,8,null,9,null,10,null,11,null,12,null,1,null,2,null,3,null,4,null,5,null,6,null,7,null,8,null,9,null,10,null,11,null,null,"Rate","Hrs","$","Hrs","$","Hrs","$","Hrs","$",null,"Hrs","$","Hrs","$","Hrs","$","Hrs","$",null,"Start","End","Start-Early","End-Late"]
[1,{"$f":"IF(VLOOKUP($A191,'Schedule Setup'!$A$4:$E$39,2,FALSE)=0,\"\",VLOOKUP($A191,'Schedule Setup'!$A$4:$E$39,2,FALSE))","v":"Shaun Payne"},{"$f":"IF(VLOOKUP($A191,'Schedule Setup'!$A$4:$E$39,4,FALSE)=0,\"\",VLOOKUP($A191,'Schedule Setup'!$A$4:$E$39,4,FALSE))","v":"General Manager (S)"},{"$f":"IF(B191<>\"\",IF(OR(C191=\"General Manager (S)\", C191=\"General Manager (H)\"), \"GM\",IF(C191=\"Acting Manager\",\"AM\",IF(C191=\"Shift Manager\",\"SM\",IF(C191=\"Team Lead\",\"TL\",\"TM\")))),\"\")","v":"GM"},"07:00:00","14:00:00",null,{"$f":"AV191","v":"x"},"x","x","x","GM","GM","GM","GM","GM","GM","GM","GM","GM","GM","GM","GM","GM","GM","","","","","","","","","","","","x","x","x","x","x","x","x","x","x",{"$f":"EC191","v":7},null,{"$f":"IF(AND($EO191<=H$6+0.01,$EP191>H$6+0.01),IF(AND(H$6<$F191-0.01,H$6>=$E191-0.01),$D191,\"\"),\"x\")","v":"x"},{"$f":"IF(AND($EO191<=I$6+0.01,$EP191>I$6+0.01),IF(AND(I$6<$F191-0.01,I$6>=$E191-0.01),$D191,\"\"),\"x\")","v":"x"},{"$f":"IF(AND($EO191<=J$6+0.01,$EP191>J$6+0.01),IF(AND(J$6<$F191-0.01,J$6>=$E191-0.01),$D191,\"\"),\"x\")","v":"x"},{"$f":"IF(AND($EO191<=K$6+0.01,$EP191>K$6+0.01),IF(AND(K$6<$F191-0.01,K$6>=$E191-0.01),$D191,\"\"),\"x\")","v":"x"},{"$f":"IF(AND($EO191<=L$6+0.01,$EP191>L$6+0.01),IF(AND(L$6<$F191-0.01,L$6>=$E191-0.01),$D191,\"\"),\"x\")","v":"GM"},{"$f":"IF(AND($EO191<=M$6+0.01,$EP191>M$6+0.01),IF(AND(M$6<$F191-0.01,M$6>=$E191-0.01),$D191,\"\"),\"x\")","v":"GM"},{"$f":"IF(AND($EO191<=N$6+0.01,$EP191>N$6+0.01),IF(AND(N$6<$F191-0.01,N$6>=$E191-0.01),$D191,\"\"),\"x\")","v":"GM"},{"$f":"IF(AND($EO191<=O$6+0.01,$EP191>O$6+0.01),IF(AND(O$6<$F191-0.01,O$6>=$E191-0.01),$D191,\"\"),\"x\")","v":"GM"},{"$f":"IF(AND($EO191<=P$6+0.01,$EP191>P$6+0.01),IF(AND(P$6<$F191-0.01,P$6>=$E191-0.01),$D191,\"\"),\"x\")","v":"GM"},{"$f":"IF(AND($EO191<=Q$6+0.01,$EP191>Q$6+0.01),IF(AND(Q$6<$F191-0.01,Q$6>=$E191-0.01),$D191,\"\"),\"x\")","v":"GM"},{"$f":"IF(AND($EO191<=R$6+0.01,$EP191>R$6+0.01),IF(AND(R$6<$F191-0.01,R$6>=$E191-0.01),$D191,\"\"),\"x\")","v":"GM"},{"$f":"IF(AND($EO191<=S$6+0.01,$EP191>S$6+0.01),IF(AND(S$6<$F191-0.01,S$6>=$E191-0.01),$D191,\"\"),\"x\")","v":"GM"},{"$f":"IF(AND($EO191<=T$6+0.01,$EP191>T$6+0.01),IF(AND(T$6<$F191-0.01,T$6>=$E191-0.01),$D191,\"\"),\"x\")","v":"GM"},{"$f":"IF(AND($EO191<=U$6+0.01,$EP191>U$6+0.01),IF(AND(U$6<$F191-0.01,U$6>=$E191-0.01),$D191,\"\"),\"x\")","v":"GM"},{"$f":"IF(AND($EO191<=V$6+0.01,$EP191>V$6+0.01),IF(AND(V$6<$F191-0.01,V$6>=$E191-0.01),$D191,\"\"),\"x\")","v":"GM"},{"$f":"IF(AND($EO191<=W$6+0.01,$EP191>W$6+0.01),IF(AND(W$6<$F191-0.01,W$6>=$E191-0.01),$D191,\"\"),\"x\")","v":"GM"},{"$f":"IF(AND($EO191<=X$6+0.01,$EP191>X$6+0.01),IF(AND(X$6<$F191-0.01,X$6>=$E191-0.01),$D191,\"\"),\"x\")","v":"GM"},{"$f":"IF(AND($EO191<=Y$6+0.01,$EP191>Y$6+0.01),IF(AND(Y$6<$F191-0.01,Y$6>=$E191-0.01),$D191,\"\"),\"x\")","v":"GM"},{"$f":"IF(AND($EO191<=Z$6+0.01,$EP191>Z$6+0.01),IF(AND(Z$6<$F191-0.01,Z$6>=$E191-0.01),$D191,\"\"),\"x\")","v":""},{"$f":"IF(AND($EO191<=AA$6+0.01,$EP191>AA$6+0.01),IF(AND(AA$6<$F191-0.01,AA$6>=$E191-0.01),$D191,\"\"),\"x\")","v":""},{"$f":"IF(AND($EO191<=AB$6+0.01,$EP191>AB$6+0.01),IF(AND(AB$6<$F191-0.01,AB$6>=$E191-0.01),$D191,\"\"),\"x\")","v":""},{"$f":"IF(AND($EO191<=AC$6+0.01,$EP191>AC$6+0.01),IF(AND(AC$6<$F191-0.01,AC$6>=$E191-0.01),$D191,\"\"),\"x\")","v":""},{"$f":"IF(AND($EO191<=AD$6+0.01,$EP191>AD$6+0.01),IF(AND(AD$6<$F191-0.01,AD$6>=$E191-0.01),$D191,\"\"),\"x\")","v":""},{"$f":"IF(AND($EO191<=AE$6+0.01,$EP191>AE$6+0.01),IF(AND(AE$6<$F191-0.01,AE$6>=$E191-0.01),$D191,\"\"),\"x\")","v":""},{"$f":"IF(AND($EO191<=AF$6+0.01,$EP191>AF$6+0.01),IF(AND(AF$6<$F191-0.01,AF$6>=$E191-0.01),$D191,\"\"),\"x\")","v":""},{"$f":"IF(AND($EO191<=AG$6+0.01,$EP191>AG$6+0.01),IF(AND(AG$6<$F191-0.01,AG$6>=$E191-0.01),$D191,\"\"),\"x\")","v":""},{"$f":"IF(AND($EO191<=AH$6+0.01,$EP191>AH$6+0.01),IF(AND(AH$6<$F191-0.01,AH$6>=$E191-0.01),$D191,\"\"),\"x\")","v":""},{"$f":"IF(AND($EO191<=AI$6+0.01,$EP191>AI$6+0.01),IF(AND(AI$6<$F191-0.01,AI$6>=$E191-0.01),$D191,\"\"),\"x\")","v":""},{"$f":"IF(AND($EO191<=AJ$6+0.01,$EP191>AJ$6+0.01),IF(AND(AJ$6<$F191-0.01,AJ$6>=$E191-0.01),$D191,\"\"),\"x\")","v":""},{"$f":"IF(AND($EO191<=AK$6+0.01,$EP191>AK$6+0.01),IF(AND(AK$6<$F191-0.01,AK$6>=$E191-0.01),$D191,\"\"),\"x\")","v":"x"},{"$f":"IF(AND($EO191<=AL$6+0.01,$EP191>AL$6+0.01),IF(AND(AL$6<$F191-0.01,AL$6>=$E191-0.01),$D191,\"\"),\"x\")","v":"x"},{"$f":"IF(AND($EO191<=AM$6+0.01,$EP191>AM$6+0.01),IF(AND(AM$6<$F191-0.01,AM$6>=$E191-0.01),$D191,\"\"),\"x\")","v":"x"},{"$f":"IF(AND($EO191<=AN$6+0.01,$EP191>AN$6+0.01),IF(AND(AN$6<$F191-0.01,AN$6>=$E191-0.01),$D191,\"\"),\"x\")","v":"x"},{"$f":"IF(AND($EO191<=AO$6+0.01,$EP191>AO$6+0.01),IF(AND(AO$6<$F191-0.01,AO$6>=$E191-0.01),$D191,\"\"),\"x\")","v":"x"},{"$f":"IF(AND($EO191<=AP$6+0.01,$EP191>AP$6+0.01),IF(AND(AP$6<$F191-0.01,AP$6>=$E191-0.01),$D191,\"\"),\"x\")","v":"x"},{"$f":"IF(AND($EO191<=AQ$6+0.01,$EP191>AQ$6+0.01),IF(AND(AQ$6<$F191-0.01,AQ$6>=$E191-0.01),$D191,\"\"),\"x\")","v":"x"},{"$f":"IF(AND($EO191<=AR$6+0.01,$EP191>AR$6+0.01),IF(AND(AR$6<$F191-0.01,AR$6>=$E191-0.01),$D191,\"\"),\"x\")","v":"x"},{"$f":"IF(AND($EO191<=AS$6+0.01,$EP191>AS$6+0.01),IF(AND(AS$6<$F191-0.01,AS$6>=$E191-0.01),$D191,\"\"),\"x\")","v":"x"},null,{"$f":"IF(AND(AV191<>\"\",AV191<>\"x\"),0.5,)","v":0},{"$f":"IF(AND(AW191<>\"\",AW191<>\"x\"),0.5,)","v":0},{"$f":"IF(AND(AX191<>\"\",AX191<>\"x\"),0.5,)","v":0},{"$f":"IF(AND(AY191<>\"\",AY191<>\"x\"),0.5,)","v":0},{"$f":"IF(AND(AZ191<>\"\",AZ191<>\"x\"),0.5,)","v":0.5},{"$f":"IF(AND(BA191<>\"\",BA191<>\"x\"),0.5,)","v":0.5},{"$f":"IF(AND(BB191<>\"\",BB191<>\"x\"),0.5,)","v":0.5},{"$f":"IF(AND(BC191<>\"\",BC191<>\"x\"),0.5,)","v":0.5},{"$f":"IF(AND(BD191<>\"\",BD191<>\"x\"),0.5,)","v":0.5},{"$f":"IF(AND(BE191<>\"\",BE191<>\"x\"),0.5,)","v":0.5},{"$f":"IF(AND(BF191<>\"\",BF191<>\"x\"),0.5,)","v":0.5},{"$f":"IF(AND(BG191<>\"\",BG191<>\"x\"),0.5,)","v":0.5},{"$f":"IF(AND(BH191<>\"\",BH191<>\"x\"),0.5,)","v":0.5},{"$f":"IF(AND(BI191<>\"\",BI191<>\"x\"),0.5,)","v":0.5},{"$f":"IF(AND(BJ191<>\"\",BJ191<>\"x\"),0.5,)","v":0.5},{"$f":"IF(AND(BK191<>\"\",BK191<>\"x\"),0.5,)","v":0.5},{"$f":"IF(AND(BL191<>\"\",BL191<>\"x\"),0.5,)","v":0.5},{"$f":"IF(AND(BM191<>\"\",BM191<>\"x\"),0.5,)","v":0.5},{"$f":"IF(AND(BN191<>\"\",BN191<>\"x\"),0.5,)","v":0},{"$f":"IF(AND(BO191<>\"\",BO191<>\"x\"),0.5,)","v":0},{"$f":"IF(AND(BP191<>\"\",BP191<>\"x\"),0.5,)","v":0},{"$f":"IF(AND(BQ191<>\"\",BQ191<>\"x\"),0.5,)","v":0},{"$f":"IF(AND(BR191<>\"\",BR191<>\"x\"),0.5,)","v":0},{"$f":"IF(AND(BS191<>\"\",BS191<>\"x\"),0.5,)","v":0},{"$f":"IF(AND(BT191<>\"\",BT191<>\"x\"),0.5,)","v":0},{"$f":"IF(AND(BU191<>\"\",BU191<>\"x\"),0.5,)","v":0},{"$f":"IF(AND(BV191<>\"\",BV191<>\"x\"),0.5,)","v":0},{"$f":"IF(AND(BW191<>\"\",BW191<>\"x\"),0.5,)","v":0},{"$f":"IF(AND(BX191<>\"\",BX191<>\"x\"),0.5,)","v":0},{"$f":"IF(AND(BY191<>\"\",BY191<>\"x\"),0.5,)","v":0},{"$f":"IF(AND(BZ191<>\"\",BZ191<>\"x\"),0.5,)","v":0},{"$f":"IF(AND(CA191<>\"\",CA191<>\"x\"),0.5,)","v":0},{"$f":"IF(AND(CB191<>\"\",CB191<>\"x\"),0.5,)","v":0},{"$f":"IF(AND(CC191<>\"\",CC191<>\"x\"),0.5,)","v":0},{"$f":"IF(AND(CD191<>\"\",CD191<>\"x\"),0.5,)","v":0},{"$f":"IF(AND(CE191<>\"\",CE191<>\"x\"),0.5,)","v":0},{"$f":"IF(AND(CF191<>\"\",CF191<>\"x\"),0.5,)","v":0},{"$f":"IF(AND(CG191<>\"\",CG191<>\"x\"),0.5,)","v":0},null,{"$f":"IF(VLOOKUP($A191,'Schedule Setup'!$A$4:$E$39,5,FALSE)=0,\"\",VLOOKUP($A191,'Schedule Setup'!$A$4:$E$39,5,FALSE))","v":""},{"$f":"SUM(CI191:CT191)","v":4},{"$f":"IFERROR(DW191*$DV191,\"\")","v":""},{"$f":"SUM(CU191:DF191)","v":3},{"$f":"IFERROR(DY191*$DV191,\"\")","v":""},{"$f":"SUM(DG191:DT191)","v":0},{"$f":"IFERROR(EA191*$DV191,\"\")","v":""},{"$f":"SUM(DW191,DY191,EA191)","v":7},{"$f":"IFERROR(EC191*$DV191,\"\")","v":""},null,{"$f":"IF(DW191>5,(DW191-0.5),DW191)","v":4},{"$f":"IFERROR(EF191*$DV191,\"\")","v":""},{"$f":"IF(DY191>5,(DY191-0.5),DY191)","v":3},{"$f":"IFERROR(EH191*$DV191,\"\")","v":""},{"$f":"IF(EA191>5,(EA191-0.5),EA191)","v":0},{"$f":"IFERROR(EJ191*$DV191,\"\")","v":""},{"$f":"SUM(EF191,EH191,EJ191)","v":7},{"$f":"IFERROR(EL191*$DV191,\"\")","v":""},null,{"$f":"'Schedule Setup'!N5","v":"07:00:00"},{"$f":"'Schedule Setup'!O5","v":"19:30:00"},{"$f":"EO191-(0.5/24)","v":"06:30:00"},{"$f":"EP191+(0.5/24)","v":"20:00:00"}]
[{"$f":"A191+1","v":2},{"$f":"IF(VLOOKUP($A192,'Schedule Setup'!$A$4:$E$39,2,FALSE)=0,\"\",VLOOKUP($A192,'Schedule Setup'!$A$4:$E$39,2,FALSE))","v":"Clay Huycke-McCall"},{"$f":"IF(VLOOKUP($A192,'Schedule Setup'!$A$4:$E$39,4,FALSE)=0,\"\",VLOOKUP($A192,'Schedule Setup'!$A$4:$E$39,4,FALSE))","v":"Shift Manager"},{"$f":"IF(B192<>\"\",IF(OR(C192=\"General Manager (S)\", C192=\"General Manager (H)\"), \"GM\",IF(C192=\"Acting Manager\",\"AM\",IF(C192=\"Shift Manager\",\"SM\",IF(C192=\"Team Lead\",\"TL\",\"TM\")))),\"\")","v":"SM"},null,null,null,"x","x","x","x","x","x","x","x","x","x","x","x","x","x","x","x","x","x","x","x","x","x","x","x","x","x","x","x","x","x","x","x","x","x","x","x","x","x",{"$f":"EC192","v":0},null,"x","x","x","x","x","x","x","x","x","x","x","x","x","x","x","x","x","x","x","x","x","x","x","x","x","x","x","x","x","x","x","x","x","x","x","x","x","x",null,{"$f":"IF(AND(AV192<>\"\",AV192<>\"x\"),0.5,)","v":0},0,0,0,0,0,0,0,0,0,0,0,0,0,0,0,0,0,0,0,0,0,0,0,0,0,0,0,0,0,0,0,0,0,0,0,0,0,null,{"$f":"IF(VLOOKUP($A192,'Schedule Setup'!$A$4:$E$39,5,FALSE)=0,\"\",VLOOKUP($A192,'Schedule Setup'!$A$4:$E$39,5,FALSE))","v":""},0,"",0,"",0,"",{"$f":"SUM(DW192,DY192,EA192)","v":0},"",null,{"$f":"IF(DW192>5,(DW192-0.5),DW192)","v":0},"",{"$f":"IF(DY192>5,(DY192-0.5),DY192)","v":0},"",0,"",{"$f":"SUM(EF192,EH192,EJ192)","v":0},"",null,{"$f":"'Schedule Setup'!N6","v":"UnAvail"},{"$f":"'Schedule Setup'!O6","v":"UnAvail"},{"$f":"EO192-(0.5/24)","v":{"$error":"#VALUE!"}},{"$f":"EP192+(0.5/24)","v":{"$error":"#VALUE!"}}]
[{"$f":"A192+1","v":3},{"$f":"IF(VLOOKUP($A193,'Schedule Setup'!$A$4:$E$39,2,FALSE)=0,\"\",VLOOKUP($A193,'Schedule Setup'!$A$4:$E$39,2,FALSE))","v":"Shaina Hunt"},{"$f":"IF(VLOOKUP($A193,'Schedule Setup'!$A$4:$E$39,4,FALSE)=0,\"\",VLOOKUP($A193,'Schedule Setup'!$A$4:$E$39,4,FALSE))","v":"Shift Manager"},"SM","12:00:00","19:30:00",null,"x","x","x","x","","","","","","","","","","","SM","SM","SM","SM","SM","SM","SM","SM","SM","SM","SM","SM","SM","SM","SM","x","x","x","x","x","x","x","x","x",7.5,null,"x","x","x","x","","","","","","","","","","","SM","SM","SM","SM","SM","SM","SM","SM","SM","SM","SM","SM","SM","SM","SM","x","x","x","x","x","x","x","x","x",null,0,0,0,0,0,0,0,0,0,0,0,0,0,0,0.5,0.5,0.5,0.5,0.5,0.5,0.5,0.5,0.5,0.5,0.5,0.5,0.5,0.5,0.5,0,0,0,0,0,0,0,0,0,null,{"$f":"IF(VLOOKUP($A193,'Schedule Setup'!$A$4:$E$39,5,FALSE)=0,\"\",VLOOKUP($A193,'Schedule Setup'!$A$4:$E$39,5,FALSE))","v":""},0,"",5,"",2.5,"",{"$f":"SUM(DW193,DY193,EA193)","v":7.5},"",null,0,"",5,"",2.5,"",7.5,"",null,{"$f":"'Schedule Setup'!N7","v":"07:00:00"},{"$f":"'Schedule Setup'!O7","v":"19:30:00"},"06:30:00","20:00:00"]
[4,{"$f":"IF(VLOOKUP($A194,'Schedule Setup'!$A$4:$E$39,2,FALSE)=0,\"\",VLOOKUP($A194,'Schedule Setup'!$A$4:$E$39,2,FALSE))","v":"Christian Fink"},{"$f":"IF(VLOOKUP($A194,'Schedule Setup'!$A$4:$E$39,4,FALSE)=0,\"\",VLOOKUP($A194,'Schedule Setup'!$A$4:$E$39,4,FALSE))","v":"Team Lead"},"TL",null,null,null,"x","x","x","x","x","x","x","x","x","x","x","x","x","x","x","x","x","x","x","x","x","x","x","x","x","x","x","x","x","x","x","x","x","x","x","x","x","x",0,null,"x","x","x","x","x","x","x","x","x","x","x","x","x","x","x","x","x","x","x","x","x","x","x","x","x","x","x","x","x","x","x","x","x","x","x","x","x","x",null,0,0,0,0,0,0,0,0,0,0,0,0,0,0,0,0,0,0,0,0,0,0,0,0,0,0,0,0,0,0,0,0,0,0,0,0,0,0,null,{"$f":"IF(VLOOKUP($A194,'Schedule Setup'!$A$4:$E$39,5,FALSE)=0,\"\",VLOOKUP($A194,'Schedule Setup'!$A$4:$E$39,5,FALSE))","v":""},0,"",0,"",0,"",0,"",null,0,"",0,"",0,"",0,"",null,{"$f":"'Schedule Setup'!N8","v":"UnAvail"},{"$f":"'Schedule Setup'!O8","v":"UnAvail"},{"$error":"#VALUE!"},{"$error":"#VALUE!"}]
[5,{"$f":"IF(VLOOKUP($A195,'Schedule Setup'!$A$4:$E$39,2,FALSE)=0,\"\",VLOOKUP($A195,'Schedule Setup'!$A$4:$E$39,2,FALSE))","v":"Brendan Frye"},{"$f":"IF(VLOOKUP($A195,'Schedule Setup'!$A$4:$E$39,4,FALSE)=0,\"\",VLOOKUP($A195,'Schedule Setup'!$A$4:$E$39,4,FALSE))","v":"Team Member"},"TM",null,null,null,"x","x","x","x","x","x","","","","","","","","","","","","","","","","","","","","","","","","x","x","x","x","x","x","x","x","x",0,null,"x","x","x","x","x","x","","","","","","","","","","","","","","","","","","","","","","","","x","x","x","x","x","x","x","x","x",null,0,0,0,0,0,0,0,0,0,0,0,0,0,0,0,0,0,0,0,0,0,0,0,0,0,0,0,0,0,0,0,0,0,0,0,0,0,0,null,{"$f":"IF(VLOOKUP($A195,'Schedule Setup'!$A$4:$E$39,5,FALSE)=0,\"\",VLOOKUP($A195,'Schedule Setup'!$A$4:$E$39,5,FALSE))","v":""},0,"",0,"",0,"",0,"",null,0,"",0,"",0,"",0,"",null,{"$f":"'Schedule Setup'!N9","v":"08:00:00"},{"$f":"'Schedule Setup'!O9","v":"19:30:00"},"07:30:00","20:00:00"]
[6,{"$f":"IF(VLOOKUP($A196,'Schedule Setup'!$A$4:$E$39,2,FALSE)=0,\"\",VLOOKUP($A196,'Schedule Setup'!$A$4:$E$39,2,FALSE))","v":"Jordan Galli"},{"$f":"IF(VLOOKUP($A196,'Schedule Setup'!$A$4:$E$39,4,FALSE)=0,\"\",VLOOKUP($A196,'Schedule Setup'!$A$4:$E$39,4,FALSE))","v":"Team Member"},"TM",null,null,null,"x","x","x","x","x","x","","","","","","","","","","","","","","","","","","","","","","","","x","x","x","x","x","x","x","x","x",0,null,"x","x","x","x","x","x","","","","","","","","","","","","","","","","","","","","","","","","x","x","x","x","x","x","x","x","x",null,0,0,0,0,0,0,0,0,0,0,0,0,0,0,0,0,0,0,0,0,0,0,0,0,0,0,0,0,0,0,0,0,0,0,0,0,0,0,null,{"$f":"IF(VLOOKUP($A196,'Schedule Setup'!$A$4:$E$39,5,FALSE)=0,\"\",VLOOKUP($A196,'Schedule Setup'!$A$4:$E$39,5,FALSE))","v":""},0,"",0,"",0,"",0,"",null,0,"",0,"",0,"",0,"",null,{"$f":"'Schedule Setup'!N10","v":"08:00:00"},{"$f":"'Schedule Setup'!O10","v":"19:30:00"},"07:30:00","20:00:00"]
[7,{"$f":"IF(VLOOKUP($A197,'Schedule Setup'!$A$4:$E$39,2,FALSE)=0,\"\",VLOOKUP($A197,'Schedule Setup'!$A$4:$E$39,2,FALSE))","v":"Madelyn Hickey"},{"$f":"IF(VLOOKUP($A197,'Schedule Setup'!$A$4:$E$39,4,FALSE)=0,\"\",VLOOKUP($A197,'Schedule Setup'!$A$4:$E$39,4,FALSE))","v":"Team Member"},"TM","13:30:00","19:30:00",null,"x","x","x","x","x","x","","","","","","","","","","","","TM","TM","TM","TM","TM","TM","TM","TM","TM","TM",{"$f":"BW197","v":"TM"},"TM","x","x","x","x","x","x","x","x","x",6,null,"x","x","x","x","x","x","","","","","","","","","","","","TM","TM","TM","TM","TM","TM","TM","TM","TM","TM","TM","TM","x","x","x","x","x","x","x","x","x",null,0,0,0,0,0,0,0,0,0,0,0,0,0,0,0,0,0,0.5,0.5,0.5,0.5,0.5,0.5,0.5,0.5,0.5,0.5,0.5,0.5,0,0,0,0,0,0,0,0,0,null,{"$f":"IF(VLOOKUP($A197,'Schedule Setup'!$A$4:$E$39,5,FALSE)=0,\"\",VLOOKUP($A197,'Schedule Setup'!$A$4:$E$39,5,FALSE))","v":""},0,"",3.5,"",2.5,"",6,"",null,0,"",3.5,"",2.5,"",6,"",null,{"$f":"'Schedule Setup'!N11","v":"08:00:00"},{"$f":"'Schedule Setup'!O11","v":"19:30:00"},"07:30:00","20:00:00"]
[8,{"$f":"IF(VLOOKUP($A198,'Schedule Setup'!$A$4:$E$39,2,FALSE)=0,\"\",VLOOKUP($A198,'Schedule Setup'!$A$4:$E$39,2,FALSE))","v":""},{"$f":"IF(VLOOKUP($A198,'Schedule Setup'!$A$4:$E$39,4,FALSE)=0,\"\",VLOOKUP($A198,'Schedule Setup'!$A$4:$E$39,4,FALSE))","v":""},"",null,null,null,{"$f":"AV198","v":"x"},"x","x","x","x","x","x","x","x","x","x","x","x","x","x","x",{"$f":"BL198","v":"x"},"x","x","x","x","x","x","x","x","x","x","x","x","x","x","x","x","x","x","x","x","x",0,null,{"$f":"IF(AND($EO198<=H$6+0.01,$EP198>H$6+0.01),IF(AND(H$6<$F198-0.01,H$6>=$E198-0.01),$D198,\"\"),\"x\")","v":"x"},"x","x","x","x","x","x","x","x","x","x","x","x","x","x","x","x","x","x","x","x","x","x","x","x","x","x","x","x","x","x","x","x",{"$f":"IF(AND($EO198<=AO$6+0.01,$EP198>AO$6+0.01),IF(AND(AO$6<$F198-0.01,AO$6>=$E198-0.01),$D198,\"\"),\"x\")","v":"x"},{"$f":"IF(AND($EO198<=AP$6+0.01,$EP198>AP$6+0.01),IF(AND(AP$6<$F198-0.01,AP$6>=$E198-0.01),$D198,\"\"),\"x\")","v":"x"},"x","x","x",null,0,0,0,0,0,0,0,0,0,0,0,0,0,0,0,0,0,0,0,0,0,0,0,0,0,0,0,0,0,0,0,0,0,0,0,0,0,0,null,{"$f":"IF(VLOOKUP($A198,'Schedule Setup'!$A$4:$E$39,5,FALSE)=0,\"\",VLOOKUP($A198,'Schedule Setup'!$A$4:$E$39,5,FALSE))","v":""},0,{"$f":"IFERROR(DW198*$DV198,\"\")","v":""},0,"",0,"",0,"",null,0,"",0,"",0,"",0,"",null,{"$f":"'Schedule Setup'!N12","v":"00:00:00"},{"$f":"'Schedule Setup'!O12","v":"00:00:00"},-2.0833333333333332E-2,"00:30:00"]
[9,{"$f":"IF(VLOOKUP($A199,'Schedule Setup'!$A$4:$E$39,2,FALSE)=0,\"\",VLOOKUP($A199,'Schedule Setup'!$A$4:$E$39,2,FALSE))","v":""},{"$f":"IF(VLOOKUP($A199,'Schedule Setup'!$A$4:$E$39,4,FALSE)=0,\"\",VLOOKUP($A199,'Schedule Setup'!$A$4:$E$39,4,FALSE))","v":""},"",null,null,null,"x","x","x","x","x","x","x","x","x","x","x","x","x","x","x","x","x","x","x","x","x","x","x","x","x","x","x","x","x","x","x","x","x","x","x","x","x","x",0,null,"x","x","x","x","x","x","x","x","x","x","x","x","x","x","x","x","x","x","x","x","x","x","x","x","x","x","x","x","x","x","x","x","x",{"$f":"IF(AND($EO199<=AO$6+0.01,$EP199>AO$6+0.01),IF(AND(AO$6<$F199-0.01,AO$6>=$E199-0.01),$D199,\"\"),\"x\")","v":"x"},"x","x","x","x",null,0,0,0,0,0,0,0,0,0,0,0,0,0,0,0,0,0,0,0,0,0,0,0,0,0,0,0,0,0,0,0,0,0,0,0,0,0,0,null,{"$f":"IF(VLOOKUP($A199,'Schedule Setup'!$A$4:$E$39,5,FALSE)=0,\"\",VLOOKUP($A199,'Schedule Setup'!$A$4:$E$39,5,FALSE))","v":""},0,{"$f":"IFERROR(DW199*$DV199,\"\")","v":""},0,"",0,"",0,"",null,0,"",0,"",0,"",0,"",null,{"$f":"'Schedule Setup'!N13","v":"00:00:00"},{"$f":"'Schedule Setup'!O13","v":"00:00:00"},-2.0833333333333332E-2,"00:30:00"]
[10,{"$f":"IF(VLOOKUP($A200,'Schedule Setup'!$A$4:$E$39,2,FALSE)=0,\"\",VLOOKUP($A200,'Schedule Setup'!$A$4:$E$39,2,FALSE))","v":""},{"$f":"IF(VLOOKUP($A200,'Schedule Setup'!$A$4:$E$39,4,FALSE)=0,\"\",VLOOKUP($A200,'Schedule Setup'!$A$4:$E$39,4,FALSE))","v":""},"",null,null,null,"x","x","x","x","x","x","x","x","x","x","x","x","x","x","x","x","x","x","x","x","x","x","x","x","x","x","x","x","x","x","x","x","x","x","x","x","x","x",0,null,"x","x","x","x","x","x","x","x","x","x","x","x","x","x","x","x","x","x","x","x","x","x","x","x","x","x","x","x","x","x","x","x","x","x","x","x","x","x",null,0,0,0,0,0,0,0,0,0,0,0,0,0,0,0,0,0,0,0,0,0,0,0,0,0,0,0,0,0,0,0,0,0,0,0,0,0,0,null,{"$f":"IF(VLOOKUP($A200,'Schedule Setup'!$A$4:$E$39,5,FALSE)=0,\"\",VLOOKUP($A200,'Schedule Setup'!$A$4:$E$39,5,FALSE))","v":""},0,"",0,"",0,"",0,"",null,0,"",0,"",0,"",0,"",null,{"$f":"'Schedule Setup'!N14","v":"00:00:00"},{"$f":"'Schedule Setup'!O14","v":"00:00:00"},-2.0833333333333332E-2,"00:30:00"]
[11,{"$f":"IF(VLOOKUP($A201,'Schedule Setup'!$A$4:$E$39,2,FALSE)=0,\"\",VLOOKUP($A201,'Schedule Setup'!$A$4:$E$39,2,FALSE))","v":""},{"$f":"IF(VLOOKUP($A201,'Schedule Setup'!$A$4:$E$39,4,FALSE)=0,\"\",VLOOKUP($A201,'Schedule Setup'!$A$4:$E$39,4,FALSE))","v":""},"",null,null,null,"x","x","x","x","x","x","x","x","x","x","x","x","x","x","x","x","x","x","x","x","x","x","x","x","x","x","x","x","x","x","x","x","x","x","x","x","x","x",0,null,"x","x","x","x","x","x","x","x","x","x","x","x","x","x","x","x","x","x","x","x","x","x","x","x","x","x","x","x","x","x","x","x","x","x","x","x","x","x",null,0,0,0,0,0,0,0,0,0,0,0,0,0,0,0,0,0,0,0,0,0,0,0,0,0,0,0,0,0,0,0,0,0,0,0,0,0,0,null,{"$f":"IF(VLOOKUP($A201,'Schedule Setup'!$A$4:$E$39,5,FALSE)=0,\"\",VLOOKUP($A201,'Schedule Setup'!$A$4:$E$39,5,FALSE))","v":""},0,"",0,"",0,"",0,"",null,0,"",0,"",0,"",0,"",null,{"$f":"'Schedule Setup'!N15","v":"00:00:00"},{"$f":"'Schedule Setup'!O15","v":"00:00:00"},-2.0833333333333332E-2,"00:30:00"]
[12,{"$f":"IF(VLOOKUP($A202,'Schedule Setup'!$A$4:$E$39,2,FALSE)=0,\"\",VLOOKUP($A202,'Schedule Setup'!$A$4:$E$39,2,FALSE))","v":""},{"$f":"IF(VLOOKUP($A202,'Schedule Setup'!$A$4:$E$39,4,FALSE)=0,\"\",VLOOKUP($A202,'Schedule Setup'!$A$4:$E$39,4,FALSE))","v":""},"",null,null,null,"x","x","x","x","x","x","x","x","x","x","x","x","x","x","x","x","x","x","x","x","x","x","x","x","x","x","x","x","x","x","x","x","x","x","x","x","x","x",0,null,"x","x","x","x","x","x","x","x","x","x","x","x","x","x","x","x","x","x","x","x","x","x","x","x","x","x","x","x","x","x","x","x","x","x","x","x","x","x",null,0,0,0,0,0,0,0,0,0,0,0,0,0,0,0,0,0,0,0,0,0,0,0,0,0,0,0,0,0,0,0,0,0,0,0,0,0,0,null,{"$f":"IF(VLOOKUP($A202,'Schedule Setup'!$A$4:$E$39,5,FALSE)=0,\"\",VLOOKUP($A202,'Schedule Setup'!$A$4:$E$39,5,FALSE))","v":""},0,"",0,"",0,"",0,"",null,0,"",0,"",0,"",0,"",null,{"$f":"'Schedule Setup'!N16","v":"00:00:00"},{"$f":"'Schedule Setup'!O16","v":"00:00:00"},-2.0833333333333332E-2,"00:30:00"]
[13,{"$f":"IF(VLOOKUP($A203,'Schedule Setup'!$A$4:$E$39,2,FALSE)=0,\"\",VLOOKUP($A203,'Schedule Setup'!$A$4:$E$39,2,FALSE))","v":""},{"$f":"IF(VLOOKUP($A203,'Schedule Setup'!$A$4:$E$39,4,FALSE)=0,\"\",VLOOKUP($A203,'Schedule Setup'!$A$4:$E$39,4,FALSE))","v":""},"",null,null,null,"x","x","x","x","x","x","x","x","x","x","x","x","x","x","x","x","x","x","x","x","x","x","x","x","x","x","x","x","x","x","x","x","x","x","x","x","x","x",0,null,"x","x","x","x","x","x","x","x","x","x","x","x","x","x","x","x","x","x","x","x","x","x","x","x","x","x","x","x","x","x","x","x","x","x","x","x","x","x",null,0,0,0,0,0,0,0,0,0,0,0,0,0,0,0,0,0,0,0,0,0,0,0,0,0,0,0,0,0,0,0,0,0,0,0,0,0,0,null,{"$f":"IF(VLOOKUP($A203,'Schedule Setup'!$A$4:$E$39,5,FALSE)=0,\"\",VLOOKUP($A203,'Schedule Setup'!$A$4:$E$39,5,FALSE))","v":""},0,"",0,"",0,"",0,"",null,0,"",0,"",0,"",0,"",null,{"$f":"'Schedule Setup'!N17","v":"00:00:00"},{"$f":"'Schedule Setup'!O17","v":"00:00:00"},-2.0833333333333332E-2,"00:30:00"]
[14,{"$f":"IF(VLOOKUP($A204,'Schedule Setup'!$A$4:$E$39,2,FALSE)=0,\"\",VLOOKUP($A204,'Schedule Setup'!$A$4:$E$39,2,FALSE))","v":"Matt Louden"},{"$f":"IF(VLOOKUP($A204,'Schedule Setup'!$A$4:$E$39,4,FALSE)=0,\"\",VLOOKUP($A204,'Schedule Setup'!$A$4:$E$39,4,FALSE))","v":"Team Member"},"TM","12:30:00","17:00:00",null,"x","x","x","x","x","x","","","","","","","","","","TM","TM","TM","TM","TM","TM","TM","TM","TM","","","","","","x","x","x","x","x","x","x","x","x",4.5,null,"x","x","x","x","x","x","","","","","","","","","","TM","TM","TM","TM","TM","TM","TM","TM","TM","","","","","","x","x","x","x","x","x","x","x","x",null,0,0,0,0,0,0,0,0,0,0,0,0,0,0,0,0.5,0.5,0.5,0.5,0.5,0.5,0.5,0.5,0.5,0,0,0,0,0,0,0,0,0,0,0,0,0,0,null,{"$f":"IF(VLOOKUP($A204,'Schedule Setup'!$A$4:$E$39,5,FALSE)=0,\"\",VLOOKUP($A204,'Schedule Setup'!$A$4:$E$39,5,FALSE))","v":""},0,"",4.5,"",0,"",4.5,"",null,0,"",4.5,"",0,"",4.5,"",null,{"$f":"'Schedule Setup'!N18","v":"08:00:00"},{"$f":"'Schedule Setup'!O18","v":"19:30:00"},"07:30:00","20:00:00"]
[15,{"$f":"IF(VLOOKUP($A205,'Schedule Setup'!$A$4:$E$39,2,FALSE)=0,\"\",VLOOKUP($A205,'Schedule Setup'!$A$4:$E$39,2,FALSE))","v":"Ani Reyes"},{"$f":"IF(VLOOKUP($A205,'Schedule Setup'!$A$4:$E$39,4,FALSE)=0,\"\",VLOOKUP($A205,'Schedule Setup'!$A$4:$E$39,4,FALSE))","v":"Team Member"},"TM","08:00:00","13:00:00",null,"x","x","x","x","x","x","TM","TM","TM","TM","TM","TM","TM","TM","TM","TM","","","","","","","","","","","","","","x","x","x","x","x","x","x","x","x",5,null,"x","x","x","x","x","x","TM","TM","TM","TM","TM","TM","TM","TM","TM","TM","","","","","","","","",{"$f":"IF(AND($EO205<=AF$6+0.01,$EP205>AF$6+0.01),IF(AND(AF$6<$F205-0.01,AF$6>=$E205-0.01),$D205,\"\"),\"x\")","v":""},{"$f":"IF(AND($EO205<=AG$6+0.01,$EP205>AG$6+0.01),IF(AND(AG$6<$F205-0.01,AG$6>=$E205-0.01),$D205,\"\"),\"x\")","v":""},{"$f":"IF(AND($EO205<=AH$6+0.01,$EP205>AH$6+0.01),IF(AND(AH$6<$F205-0.01,AH$6>=$E205-0.01),$D205,\"\"),\"x\")","v":""},{"$f":"IF(AND($EO205<=AI$6+0.01,$EP205>AI$6+0.01),IF(AND(AI$6<$F205-0.01,AI$6>=$E205-0.01),$D205,\"\"),\"x\")","v":""},{"$f":"IF(AND($EO205<=AJ$6+0.01,$EP205>AJ$6+0.01),IF(AND(AJ$6<$F205-0.01,AJ$6>=$E205-0.01),$D205,\"\"),\"x\")","v":""},{"$f":"IF(AND($EO205<=AK$6+0.01,$EP205>AK$6+0.01),IF(AND(AK$6<$F205-0.01,AK$6>=$E205-0.01),$D205,\"\"),\"x\")","v":"x"},{"$f":"IF(AND($EO205<=AL$6+0.01,$EP205>AL$6+0.01),IF(AND(AL$6<$F205-0.01,AL$6>=$E205-0.01),$D205,\"\"),\"x\")","v":"x"},{"$f":"IF(AND($EO205<=AM$6+0.01,$EP205>AM$6+0.01),IF(AND(AM$6<$F205-0.01,AM$6>=$E205-0.01),$D205,\"\"),\"x\")","v":"x"},{"$f":"IF(AND($EO205<=AN$6+0.01,$EP205>AN$6+0.01),IF(AND(AN$6<$F205-0.01,AN$6>=$E205-0.01),$D205,\"\"),\"x\")","v":"x"},"x","x","x","x","x",null,0,0,0,0,0,0,0.5,0.5,0.5,0.5,0.5,0.5,0.5,0.5,0.5,0.5,0,0,0,0,0,0,0,0,0,0,0,0,0,0,0,0,0,0,0,0,0,0,null,{"$f":"IF(VLOOKUP($A205,'Schedule Setup'!$A$4:$E$39,5,FALSE)=0,\"\",VLOOKUP($A205,'Schedule Setup'!$A$4:$E$39,5,FALSE))","v":""},3,"",2,"",0,"",5,"",null,3,"",2,"",0,"",5,"",null,{"$f":"'Schedule Setup'!N19","v":"08:00:00"},{"$f":"'Schedule Setup'!O19","v":"19:30:00"},"07:30:00","20:00:00"]
[16,{"$f":"IF(VLOOKUP($A206,'Schedule Setup'!$A$4:$E$39,2,FALSE)=0,\"\",VLOOKUP($A206,'Schedule Setup'!$A$4:$E$39,2,FALSE))","v":"Andrew Philips"},{"$f":"IF(VLOOKUP($A206,'Schedule Setup'!$A$4:$E$39,4,FALSE)=0,\"\",VLOOKUP($A206,'Schedule Setup'!$A$4:$E$39,4,FALSE))","v":"Team Member"},"TM",null,null,null,"x","x","x","x","x","x","x","x","x","x","x","x","x","x","x","x","x","x","x","x","x","x","","","","","","","","x","x","x","x","x","x","x","x","x",0,null,{"$f":"IF(AND($EO206<=H$6+0.01,$EP206>H$6+0.01),IF(AND(H$6<$F206-0.01,H$6>=$E206-0.01),$D206,\"\"),\"x\")","v":"x"},"x","x","x","x","x","x","x","x","x","x","x","x","x","x","x",{"$f":"IF(AND($EO206<=X$6+0.01,$EP206>X$6+0.01),IF(AND(X$6<$F206-0.01,X$6>=$E206-0.01),$D206,\"\"),\"x\")","v":"x"},"x","x","x","x","x","","","","","","","","x","x","x","x","x",{"$f":"IF(AND($EO206<=AP$6+0.01,$EP206>AP$6+0.01),IF(AND(AP$6<$F206-0.01,AP$6>=$E206-0.01),$D206,\"\"),\"x\")","v":"x"},{"$f":"IF(AND($EO206<=AQ$6+0.01,$EP206>AQ$6+0.01),IF(AND(AQ$6<$F206-0.01,AQ$6>=$E206-0.01),$D206,\"\"),\"x\")","v":"x"},{"$f":"IF(AND($EO206<=AR$6+0.01,$EP206>AR$6+0.01),IF(AND(AR$6<$F206-0.01,AR$6>=$E206-0.01),$D206,\"\"),\"x\")","v":"x"},{"$f":"IF(AND($EO206<=AS$6+0.01,$EP206>AS$6+0.01),IF(AND(AS$6<$F206-0.01,AS$6>=$E206-0.01),$D206,\"\"),\"x\")","v":"x"},null,0,0,0,0,0,0,0,0,0,0,0,0,0,0,0,0,0,0,0,0,0,0,0,0,0,0,0,0,0,0,0,0,0,0,0,0,0,0,null,{"$f":"IF(VLOOKUP($A206,'Schedule Setup'!$A$4:$E$39,5,FALSE)=0,\"\",VLOOKUP($A206,'Schedule Setup'!$A$4:$E$39,5,FALSE))","v":""},0,"",0,"",0,"",0,"",null,0,"",0,"",0,"",0,"",null,{"$f":"'Schedule Setup'!N20","v":"16:00:00"},{"$f":"'Schedule Setup'!O20","v":"19:30:00"},"15:30:00","20:00:00"]
[17,{"$f":"IF(VLOOKUP($A207,'Schedule Setup'!$A$4:$E$39,2,FALSE)=0,\"\",VLOOKUP($A207,'Schedule Setup'!$A$4:$E$39,2,FALSE))","v":""},{"$f":"IF(VLOOKUP($A207,'Schedule Setup'!$A$4:$E$39,4,FALSE)=0,\"\",VLOOKUP($A207,'Schedule Setup'!$A$4:$E$39,4,FALSE))","v":""},"",null,null,null,"x","x","x","x","x","x","x","x","x","x","x","x","x","x","x","x","x","x","x","x","x","x","x","x","x","x","x","x","x","x","x","x","x","x","x","x","x","x",0,null,"x","x","x","x","x","x","x","x","x","x","x","x","x","x","x","x","x","x","x","x","x","x","x","x","x","x","x","x","x","x","x","x","x","x","x","x","x","x",null,0,0,0,0,0,0,0,0,0,0,0,0,0,0,0,0,0,0,0,0,0,0,0,0,0,0,0,0,0,0,0,0,0,0,0,0,0,0,null,{"$f":"IF(VLOOKUP($A207,'Schedule Setup'!$A$4:$E$39,5,FALSE)=0,\"\",VLOOKUP($A207,'Schedule Setup'!$A$4:$E$39,5,FALSE))","v":""},0,"",0,"",0,"",0,"",null,0,"",0,"",0,"",0,"",null,{"$f":"'Schedule Setup'!N21","v":"00:00:00"},{"$f":"'Schedule Setup'!O21","v":"00:00:00"},-2.0833333333333332E-2,"00:30:00"]
[18,{"$f":"IF(VLOOKUP($A208,'Schedule Setup'!$A$4:$E$39,2,FALSE)=0,\"\",VLOOKUP($A208,'Schedule Setup'!$A$4:$E$39,2,FALSE))","v":""},{"$f":"IF(VLOOKUP($A208,'Schedule Setup'!$A$4:$E$39,4,FALSE)=0,\"\",VLOOKUP($A208,'Schedule Setup'!$A$4:$E$39,4,FALSE))","v":""},"",null,null,null,"x","x","x","x","x","x","x","x","x","x","x","x","x","x","x","x","x","x","x","x","x","x","x","x","x","x","x","x","x","x","x","x","x","x","x","x","x","x",0,null,"x","x","x","x","x","x","x","x","x","x","x","x","x","x","x","x","x","x","x","x","x","x","x","x","x","x","x","x","x","x","x","x","x","x","x","x","x","x",null,0,0,0,0,0,0,0,0,0,0,0,0,0,0,0,0,0,0,0,0,0,0,0,0,0,0,0,0,0,0,0,0,0,0,0,0,0,0,null,{"$f":"IF(VLOOKUP($A208,'Schedule Setup'!$A$4:$E$39,5,FALSE)=0,\"\",VLOOKUP($A208,'Schedule Setup'!$A$4:$E$39,5,FALSE))","v":""},0,"",0,"",0,"",0,"",null,0,"",0,"",0,"",0,"",null,{"$f":"'Schedule Setup'!N22","v":"00:00:00"},{"$f":"'Schedule Setup'!O22","v":"00:00:00"},-2.0833333333333332E-2,"00:30:00"]
[19,{"$f":"IF(VLOOKUP($A209,'Schedule Setup'!$A$4:$E$39,2,FALSE)=0,\"\",VLOOKUP($A209,'Schedule Setup'!$A$4:$E$39,2,FALSE))","v":"."},{"$f":"IF(VLOOKUP($A209,'Schedule Setup'!$A$4:$E$39,4,FALSE)=0,\"\",VLOOKUP($A209,'Schedule Setup'!$A$4:$E$39,4,FALSE))","v":""},"TM",null,null,null,"x","x","x","x","x","x","x","x","x","x","x","x","x","x","x","x","x","x","x","x","x","x","x","x","x","x","x","x","x","x","x","x","x","x","x","x","x","x",0,null,"x","x","x","x","x","x","x","x","x","x","x","x","x","x","x","x","x","x","x","x","x","x","x","x","x","x","x","x","x","x","x","x","x","x","x","x","x","x",null,0,0,0,0,0,0,0,0,0,0,0,0,0,0,0,0,0,0,0,0,0,0,0,0,0,0,0,0,0,0,0,0,0,0,0,0,0,0,null,{"$f":"IF(VLOOKUP($A209,'Schedule Setup'!$A$4:$E$39,5,FALSE)=0,\"\",VLOOKUP($A209,'Schedule Setup'!$A$4:$E$39,5,FALSE))","v":""},0,"",0,"",0,"",0,"",null,0,"",0,"",0,"",0,"",null,{"$f":"'Schedule Setup'!N23","v":"00:00:00"},{"$f":"'Schedule Setup'!O23","v":"00:00:00"},-2.0833333333333332E-2,"00:30:00"]
[20,{"$f":"IF(VLOOKUP($A210,'Schedule Setup'!$A$4:$E$39,2,FALSE)=0,\"\",VLOOKUP($A210,'Schedule Setup'!$A$4:$E$39,2,FALSE))","v":"Sean Duncan"},{"$f":"IF(VLOOKUP($A210,'Schedule Setup'!$A$4:$E$39,4,FALSE)=0,\"\",VLOOKUP($A210,'Schedule Setup'!$A$4:$E$39,4,FALSE))","v":"Team Lead"},"TL",null,null,null,"x","x","x","x","x","x","x","x","x","x","x","x","x","x","x","x","x","x","x","x","x","x","x","x","x","x","x","x","x","x","x","x","x","x","x","x","x","x",0,null,"x","x","x","x","x","x","x","x","x","x","x","x","x","x","x","x","x","x","x","x","x","x","x","x","x","x","x","x","x","x","x","x","x","x","x","x","x","x",null,0,0,0,0,0,0,0,0,0,0,0,0,0,0,0,0,0,0,0,0,0,0,0,0,0,0,0,0,0,0,0,0,0,0,0,0,0,0,null,{"$f":"IF(VLOOKUP($A210,'Schedule Setup'!$A$4:$E$39,5,FALSE)=0,\"\",VLOOKUP($A210,'Schedule Setup'!$A$4:$E$39,5,FALSE))","v":""},0,"",0,"",0,"",0,"",null,0,"",0,"",0,"",0,"",null,{"$f":"'Schedule Setup'!N24","v":"00:00:00"},{"$f":"'Schedule Setup'!O24","v":"00:00:00"},-2.0833333333333332E-2,"00:30:00"]
[21,{"$f":"IF(VLOOKUP($A211,'Schedule Setup'!$A$4:$E$39,2,FALSE)=0,\"\",VLOOKUP($A211,'Schedule Setup'!$A$4:$E$39,2,FALSE))","v":""},{"$f":"IF(VLOOKUP($A211,'Schedule Setup'!$A$4:$E$39,4,FALSE)=0,\"\",VLOOKUP($A211,'Schedule Setup'!$A$4:$E$39,4,FALSE))","v":""},"",null,null,null,"x","x","x","x","x","x","x","x","x","x","x","x","x","x","x","x","x","x","x","x","x","x","x","x","x","x","x","x","x","x","x","x","x","x","x","x","x","x",0,null,"x","x","x","x","x","x","x","x","x","x","x","x","x","x","x","x","x","x","x","x","x","x","x","x","x","x","x","x","x","x","x","x","x","x","x","x","x","x",null,0,0,0,0,0,0,0,0,0,0,0,0,0,0,0,0,0,0,0,0,0,0,0,0,0,0,0,0,0,0,0,0,0,0,0,0,0,0,null,{"$f":"IF(VLOOKUP($A211,'Schedule Setup'!$A$4:$E$39,5,FALSE)=0,\"\",VLOOKUP($A211,'Schedule Setup'!$A$4:$E$39,5,FALSE))","v":""},0,"",0,"",0,"",0,"",null,0,"",0,"",0,"",0,"",null,{"$f":"'Schedule Setup'!N25","v":"00:00:00"},{"$f":"'Schedule Setup'!O25","v":"00:00:00"},-2.0833333333333332E-2,"00:30:00"]
[22,{"$f":"IF(VLOOKUP($A212,'Schedule Setup'!$A$4:$E$39,2,FALSE)=0,\"\",VLOOKUP($A212,'Schedule Setup'!$A$4:$E$39,2,FALSE))","v":""},{"$f":"IF(VLOOKUP($A212,'Schedule Setup'!$A$4:$E$39,4,FALSE)=0,\"\",VLOOKUP($A212,'Schedule Setup'!$A$4:$E$39,4,FALSE))","v":""},"",null,null,null,"x","x","x","x","x","x","x","x","x","x","x","x","x","x","x","x","x","x","x","x","x","x","x","x","x","x","x","x","x","x","x","x","x","x","x","x","x","x",0,null,"x","x","x","x","x","x","x","x","x","x","x","x","x","x","x","x","x","x","x","x","x","x","x","x","x","x","x","x","x","x","x","x","x","x","x","x","x","x",null,0,0,0,0,0,0,0,0,0,0,0,0,0,0,0,0,0,0,0,0,0,0,0,0,0,0,0,0,0,0,0,0,0,0,0,0,0,0,null,{"$f":"IF(VLOOKUP($A212,'Schedule Setup'!$A$4:$E$39,5,FALSE)=0,\"\",VLOOKUP($A212,'Schedule Setup'!$A$4:$E$39,5,FALSE))","v":""},0,"",0,"",0,"",0,"",null,0,"",0,"",0,"",0,"",null,{"$f":"'Schedule Setup'!N26","v":"00:00:00"},{"$f":"'Schedule Setup'!O26","v":"00:00:00"},-2.0833333333333332E-2,"00:30:00"]
[23,{"$f":"IF(VLOOKUP($A213,'Schedule Setup'!$A$4:$E$39,2,FALSE)=0,\"\",VLOOKUP($A213,'Schedule Setup'!$A$4:$E$39,2,FALSE))","v":""},{"$f":"IF(VLOOKUP($A213,'Schedule Setup'!$A$4:$E$39,4,FALSE)=0,\"\",VLOOKUP($A213,'Schedule Setup'!$A$4:$E$39,4,FALSE))","v":""},"",null,null,null,"x","x","x","x","x","x","x","x","x","x","x","x","x","x","x","x","x","x","x","x","x","x","x","x","x","x","x","x","x","x","x","x","x","x","x","x","x","x",0,null,"x","x","x","x","x","x","x","x","x","x","x","x","x","x","x","x","x","x","x","x","x","x","x","x","x","x","x","x","x","x","x","x","x","x","x","x","x","x",null,0,0,0,0,0,0,0,0,0,0,0,0,0,0,0,0,0,0,0,0,0,0,0,0,0,0,0,0,0,0,0,0,0,0,0,0,0,0,null,{"$f":"IF(VLOOKUP($A213,'Schedule Setup'!$A$4:$E$39,5,FALSE)=0,\"\",VLOOKUP($A213,'Schedule Setup'!$A$4:$E$39,5,FALSE))","v":""},0,"",0,"",0,"",0,"",null,0,"",0,"",0,"",0,"",null,{"$f":"'Schedule Setup'!N27","v":"00:00:00"},{"$f":"'Schedule Setup'!O27","v":"00:00:00"},-2.0833333333333332E-2,"00:30:00"]
[24,{"$f":"IF(VLOOKUP($A214,'Schedule Setup'!$A$4:$E$39,2,FALSE)=0,\"\",VLOOKUP($A214,'Schedule Setup'!$A$4:$E$39,2,FALSE))","v":""},{"$f":"IF(VLOOKUP($A214,'Schedule Setup'!$A$4:$E$39,4,FALSE)=0,\"\",VLOOKUP($A214,'Schedule Setup'!$A$4:$E$39,4,FALSE))","v":""},{"$f":"IF(B214<>\"\",IF(OR(C214=\"General Manager (S)\", C214=\"General Manager (H)\"), \"GM\",IF(C214=\"Acting Manager\",\"AM\",IF(C214=\"Shift Manager\",\"SM\",IF(C214=\"Team Lead\",\"TL\",\"TM\")))),\"\")","v":""},null,null,null,{"$f":"AV214","v":"x"},{"$f":"AW214","v":"x"},{"$f":"AX214","v":"x"},{"$f":"AY214","v":"x"},{"$f":"AZ214","v":"x"},{"$f":"BA214","v":"x"},{"$f":"BB214","v":"x"},{"$f":"BC214","v":"x"},{"$f":"BD214","v":"x"},{"$f":"BE214","v":"x"},{"$f":"BF214","v":"x"},{"$f":"BG214","v":"x"},{"$f":"BH214","v":"x"},{"$f":"BI214","v":"x"},"x","x","x","x","x","x","x","x","x","x","x","x","x","x","x",{"$f":"BY214","v":"x"},{"$f":"BZ214","v":"x"},{"$f":"CA214","v":"x"},{"$f":"CB214","v":"x"},{"$f":"CC214","v":"x"},{"$f":"CD214","v":"x"},{"$f":"CE214","v":"x"},{"$f":"CF214","v":"x"},{"$f":"CG214","v":"x"},{"$f":"EC214","v":0},null,{"$f":"IF(AND($EO214<=H$6+0.01,$EP214>H$6+0.01),IF(AND(H$6<$F214-0.01,H$6>=$E214-0.01),$D214,\"\"),\"x\")","v":"x"},{"$f":"IF(AND($EO214<=I$6+0.01,$EP214>I$6+0.01),IF(AND(I$6<$F214-0.01,I$6>=$E214-0.01),$D214,\"\"),\"x\")","v":"x"},{"$f":"IF(AND($EO214<=J$6+0.01,$EP214>J$6+0.01),IF(AND(J$6<$F214-0.01,J$6>=$E214-0.01),$D214,\"\"),\"x\")","v":"x"},{"$f":"IF(AND($EO214<=K$6+0.01,$EP214>K$6+0.01),IF(AND(K$6<$F214-0.01,K$6>=$E214-0.01),$D214,\"\"),\"x\")","v":"x"},{"$f":"IF(AND($EO214<=L$6+0.01,$EP214>L$6+0.01),IF(AND(L$6<$F214-0.01,L$6>=$E214-0.01),$D214,\"\"),\"x\")","v":"x"},{"$f":"IF(AND($EO214<=M$6+0.01,$EP214>M$6+0.01),IF(AND(M$6<$F214-0.01,M$6>=$E214-0.01),$D214,\"\"),\"x\")","v":"x"},{"$f":"IF(AND($EO214<=N$6+0.01,$EP214>N$6+0.01),IF(AND(N$6<$F214-0.01,N$6>=$E214-0.01),$D214,\"\"),\"x\")","v":"x"},{"$f":"IF(AND($EO214<=O$6+0.01,$EP214>O$6+0.01),IF(AND(O$6<$F214-0.01,O$6>=$E214-0.01),$D214,\"\"),\"x\")","v":"x"},{"$f":"IF(AND($EO214<=P$6+0.01,$EP214>P$6+0.01),IF(AND(P$6<$F214-0.01,P$6>=$E214-0.01),$D214,\"\"),\"x\")","v":"x"},{"$f":"IF(AND($EO214<=Q$6+0.01,$EP214>Q$6+0.01),IF(AND(Q$6<$F214-0.01,Q$6>=$E214-0.01),$D214,\"\"),\"x\")","v":"x"},{"$f":"IF(AND($EO214<=R$6+0.01,$EP214>R$6+0.01),IF(AND(R$6<$F214-0.01,R$6>=$E214-0.01),$D214,\"\"),\"x\")","v":"x"},{"$f":"IF(AND($EO214<=S$6+0.01,$EP214>S$6+0.01),IF(AND(S$6<$F214-0.01,S$6>=$E214-0.01),$D214,\"\"),\"x\")","v":"x"},{"$f":"IF(AND($EO214<=T$6+0.01,$EP214>T$6+0.01),IF(AND(T$6<$F214-0.01,T$6>=$E214-0.01),$D214,\"\"),\"x\")","v":"x"},{"$f":"IF(AND($EO214<=U$6+0.01,$EP214>U$6+0.01),IF(AND(U$6<$F214-0.01,U$6>=$E214-0.01),$D214,\"\"),\"x\")","v":"x"},{"$f":"IF(AND($EO214<=V$6+0.01,$EP214>V$6+0.01),IF(AND(V$6<$F214-0.01,V$6>=$E214-0.01),$D214,\"\"),\"x\")","v":"x"},{"$f":"IF(AND($EO214<=W$6+0.01,$EP214>W$6+0.01),IF(AND(W$6<$F214-0.01,W$6>=$E214-0.01),$D214,\"\"),\"x\")","v":"x"},{"$f":"IF(AND($EO214<=X$6+0.01,$EP214>X$6+0.01),IF(AND(X$6<$F214-0.01,X$6>=$E214-0.01),$D214,\"\"),\"x\")","v":"x"},{"$f":"IF(AND($EO214<=Y$6+0.01,$EP214>Y$6+0.01),IF(AND(Y$6<$F214-0.01,Y$6>=$E214-0.01),$D214,\"\"),\"x\")","v":"x"},{"$f":"IF(AND($EO214<=Z$6+0.01,$EP214>Z$6+0.01),IF(AND(Z$6<$F214-0.01,Z$6>=$E214-0.01),$D214,\"\"),\"x\")","v":"x"},{"$f":"IF(AND($EO214<=AA$6+0.01,$EP214>AA$6+0.01),IF(AND(AA$6<$F214-0.01,AA$6>=$E214-0.01),$D214,\"\"),\"x\")","v":"x"},{"$f":"IF(AND($EO214<=AB$6+0.01,$EP214>AB$6+0.01),IF(AND(AB$6<$F214-0.01,AB$6>=$E214-0.01),$D214,\"\"),\"x\")","v":"x"},{"$f":"IF(AND($EO214<=AC$6+0.01,$EP214>AC$6+0.01),IF(AND(AC$6<$F214-0.01,AC$6>=$E214-0.01),$D214,\"\"),\"x\")","v":"x"},{"$f":"IF(AND($EO214<=AD$6+0.01,$EP214>AD$6+0.01),IF(AND(AD$6<$F214-0.01,AD$6>=$E214-0.01),$D214,\"\"),\"x\")","v":"x"},{"$f":"IF(AND($EO214<=AE$6+0.01,$EP214>AE$6+0.01),IF(AND(AE$6<$F214-0.01,AE$6>=$E214-0.01),$D214,\"\"),\"x\")","v":"x"},{"$f":"IF(AND($EO214<=AF$6+0.01,$EP214>AF$6+0.01),IF(AND(AF$6<$F214-0.01,AF$6>=$E214-0.01),$D214,\"\"),\"x\")","v":"x"},{"$f":"IF(AND($EO214<=AG$6+0.01,$EP214>AG$6+0.01),IF(AND(AG$6<$F214-0.01,AG$6>=$E214-0.01),$D214,\"\"),\"x\")","v":"x"},{"$f":"IF(AND($EO214<=AH$6+0.01,$EP214>AH$6+0.01),IF(AND(AH$6<$F214-0.01,AH$6>=$E214-0.01),$D214,\"\"),\"x\")","v":"x"},{"$f":"IF(AND($EO214<=AI$6+0.01,$EP214>AI$6+0.01),IF(AND(AI$6<$F214-0.01,AI$6>=$E214-0.01),$D214,\"\"),\"x\")","v":"x"},{"$f":"IF(AND($EO214<=AJ$6+0.01,$EP214>AJ$6+0.01),IF(AND(AJ$6<$F214-0.01,AJ$6>=$E214-0.01),$D214,\"\"),\"x\")","v":"x"},{"$f":"IF(AND($EO214<=AK$6+0.01,$EP214>AK$6+0.01),IF(AND(AK$6<$F214-0.01,AK$6>=$E214-0.01),$D214,\"\"),\"x\")","v":"x"},{"$f":"IF(AND($EO214<=AL$6+0.01,$EP214>AL$6+0.01),IF(AND(AL$6<$F214-0.01,AL$6>=$E214-0.01),$D214,\"\"),\"x\")","v":"x"},{"$f":"IF(AND($EO214<=AM$6+0.01,$EP214>AM$6+0.01),IF(AND(AM$6<$F214-0.01,AM$6>=$E214-0.01),$D214,\"\"),\"x\")","v":"x"},{"$f":"IF(AND($EO214<=AN$6+0.01,$EP214>AN$6+0.01),IF(AND(AN$6<$F214-0.01,AN$6>=$E214-0.01),$D214,\"\"),\"x\")","v":"x"},{"$f":"IF(AND($EO214<=AO$6+0.01,$EP214>AO$6+0.01),IF(AND(AO$6<$F214-0.01,AO$6>=$E214-0.01),$D214,\"\"),\"x\")","v":"x"},{"$f":"IF(AND($EO214<=AP$6+0.01,$EP214>AP$6+0.01),IF(AND(AP$6<$F214-0.01,AP$6>=$E214-0.01),$D214,\"\"),\"x\")","v":"x"},{"$f":"IF(AND($EO214<=AQ$6+0.01,$EP214>AQ$6+0.01),IF(AND(AQ$6<$F214-0.01,AQ$6>=$E214-0.01),$D214,\"\"),\"x\")","v":"x"},{"$f":"IF(AND($EO214<=AR$6+0.01,$EP214>AR$6+0.01),IF(AND(AR$6<$F214-0.01,AR$6>=$E214-0.01),$D214,\"\"),\"x\")","v":"x"},{"$f":"IF(AND($EO214<=AS$6+0.01,$EP214>AS$6+0.01),IF(AND(AS$6<$F214-0.01,AS$6>=$E214-0.01),$D214,\"\"),\"x\")","v":"x"},null,{"$f":"IF(AND(AV214<>\"\",AV214<>\"x\"),0.5,)","v":0},{"$f":"IF(AND(AW214<>\"\",AW214<>\"x\"),0.5,)","v":0},{"$f":"IF(AND(AX214<>\"\",AX214<>\"x\"),0.5,)","v":0},{"$f":"IF(AND(AY214<>\"\",AY214<>\"x\"),0.5,)","v":0},{"$f":"IF(AND(AZ214<>\"\",AZ214<>\"x\"),0.5,)","v":0},{"$f":"IF(AND(BA214<>\"\",BA214<>\"x\"),0.5,)","v":0},{"$f":"IF(AND(BB214<>\"\",BB214<>\"x\"),0.5,)","v":0},{"$f":"IF(AND(BC214<>\"\",BC214<>\"x\"),0.5,)","v":0},{"$f":"IF(AND(BD214<>\"\",BD214<>\"x\"),0.5,)","v":0},{"$f":"IF(AND(BE214<>\"\",BE214<>\"x\"),0.5,)","v":0},{"$f":"IF(AND(BF214<>\"\",BF214<>\"x\"),0.5,)","v":0},{"$f":"IF(AND(BG214<>\"\",BG214<>\"x\"),0.5,)","v":0},{"$f":"IF(AND(BH214<>\"\",BH214<>\"x\"),0.5,)","v":0},{"$f":"IF(AND(BI214<>\"\",BI214<>\"x\"),0.5,)","v":0},{"$f":"IF(AND(BJ214<>\"\",BJ214<>\"x\"),0.5,)","v":0},{"$f":"IF(AND(BK214<>\"\",BK214<>\"x\"),0.5,)","v":0},{"$f":"IF(AND(BL214<>\"\",BL214<>\"x\"),0.5,)","v":0},{"$f":"IF(AND(BM214<>\"\",BM214<>\"x\"),0.5,)","v":0},{"$f":"IF(AND(BN214<>\"\",BN214<>\"x\"),0.5,)","v":0},{"$f":"IF(AND(BO214<>\"\",BO214<>\"x\"),0.5,)","v":0},{"$f":"IF(AND(BP214<>\"\",BP214<>\"x\"),0.5,)","v":0},{"$f":"IF(AND(BQ214<>\"\",BQ214<>\"x\"),0.5,)","v":0},{"$f":"IF(AND(BR214<>\"\",BR214<>\"x\"),0.5,)","v":0},{"$f":"IF(AND(BS214<>\"\",BS214<>\"x\"),0.5,)","v":0},{"$f":"IF(AND(BT214<>\"\",BT214<>\"x\"),0.5,)","v":0},{"$f":"IF(AND(BU214<>\"\",BU214<>\"x\"),0.5,)","v":0},{"$f":"IF(AND(BV214<>\"\",BV214<>\"x\"),0.5,)","v":0},{"$f":"IF(AND(BW214<>\"\",BW214<>\"x\"),0.5,)","v":0},{"$f":"IF(AND(BX214<>\"\",BX214<>\"x\"),0.5,)","v":0},{"$f":"IF(AND(BY214<>\"\",BY214<>\"x\"),0.5,)","v":0},{"$f":"IF(AND(BZ214<>\"\",BZ214<>\"x\"),0.5,)","v":0},{"$f":"IF(AND(CA214<>\"\",CA214<>\"x\"),0.5,)","v":0},{"$f":"IF(AND(CB214<>\"\",CB214<>\"x\"),0.5,)","v":0},{"$f":"IF(AND(CC214<>\"\",CC214<>\"x\"),0.5,)","v":0},{"$f":"IF(AND(CD214<>\"\",CD214<>\"x\"),0.5,)","v":0},{"$f":"IF(AND(CE214<>\"\",CE214<>\"x\"),0.5,)","v":0},{"$f":"IF(AND(CF214<>\"\",CF214<>\"x\"),0.5,)","v":0},{"$f":"IF(AND(CG214<>\"\",CG214<>\"x\"),0.5,)","v":0},null,{"$f":"IF(VLOOKUP($A214,'Schedule Setup'!$A$4:$E$39,5,FALSE)=0,\"\",VLOOKUP($A214,'Schedule Setup'!$A$4:$E$39,5,FALSE))","v":""},{"$f":"SUM(CI214:CT214)","v":0},{"$f":"IFERROR(DW214*$DV214,\"\")","v":""},{"$f":"SUM(CU214:DF214)","v":0},{"$f":"IFERROR(DY214*$DV214,\"\")","v":""},{"$f":"SUM(DG214:DT214)","v":0},{"$f":"IFERROR(EA214*$DV214,\"\")","v":""},{"$f":"SUM(DW214,DY214,EA214)","v":0},{"$f":"IFERROR(EC214*$DV214,\"\")","v":""},null,{"$f":"IF(DW214>5,(DW214-0.5),DW214)","v":0},{"$f":"IFERROR(EF214*$DV214,\"\")","v":""},{"$f":"IF(DY214>5,(DY214-0.5),DY214)","v":0},{"$f":"IFERROR(EH214*$DV214,\"\")","v":""},{"$f":"IF(EA214>5,(EA214-0.5),EA214)","v":0},{"$f":"IFERROR(EJ214*$DV214,\"\")","v":""},{"$f":"SUM(EF214,EH214,EJ214)","v":0},{"$f":"IFERROR(EL214*$DV214,\"\")","v":""},null,{"$f":"'Schedule Setup'!N28","v":"00:00:00"},{"$f":"'Schedule Setup'!O28","v":"00:00:00"},{"$f":"EO214-(0.5/24)","v":-2.0833333333333332E-2},{"$f":"EP214+(0.5/24)","v":"00:30:00"}]
[25,{"$f":"IF(VLOOKUP($A215,'Schedule Setup'!$A$4:$E$39,2,FALSE)=0,\"\",VLOOKUP($A215,'Schedule Setup'!$A$4:$E$39,2,FALSE))","v":""},{"$f":"IF(VLOOKUP($A215,'Schedule Setup'!$A$4:$E$39,4,FALSE)=0,\"\",VLOOKUP($A215,'Schedule Setup'!$A$4:$E$39,4,FALSE))","v":""},"",null,null,null,"x","x","x","x","x","x","x","x","x","x","x","x","x","x","x","x","x","x","x","x","x","x","x","x","x","x","x","x","x","x","x","x","x","x","x","x","x","x",0,null,"x","x","x","x","x","x","x","x","x","x","x","x","x","x","x","x","x","x","x","x","x","x","x","x","x","x","x","x","x","x","x","x","x","x","x","x","x","x",null,0,0,0,0,0,0,0,0,0,0,0,0,0,0,0,0,0,0,0,0,0,0,0,0,0,0,0,0,0,0,0,0,0,0,0,0,0,0,null,{"$f":"IF(VLOOKUP($A215,'Schedule Setup'!$A$4:$E$39,5,FALSE)=0,\"\",VLOOKUP($A215,'Schedule Setup'!$A$4:$E$39,5,FALSE))","v":""},0,"",0,"",0,"",0,"",null,0,"",0,"",0,"",0,"",null,{"$f":"'Schedule Setup'!N29","v":"00:00:00"},{"$f":"'Schedule Setup'!O29","v":"00:00:00"},-2.0833333333333332E-2,"00:30:00"]
[26,{"$f":"IF(VLOOKUP($A216,'Schedule Setup'!$A$4:$E$39,2,FALSE)=0,\"\",VLOOKUP($A216,'Schedule Setup'!$A$4:$E$39,2,FALSE))","v":""},{"$f":"IF(VLOOKUP($A216,'Schedule Setup'!$A$4:$E$39,4,FALSE)=0,\"\",VLOOKUP($A216,'Schedule Setup'!$A$4:$E$39,4,FALSE))","v":""},"",null,null,null,"x","x","x","x","x","x","x","x","x","x","x","x","x","x","x","x","x","x","x","x","x","x","x","x","x","x","x","x","x","x","x","x","x","x","x","x","x","x",0,null,"x","x","x","x","x","x","x","x","x","x","x","x","x","x","x","x","x","x","x","x","x","x","x","x","x","x","x","x","x","x","x","x","x","x","x","x","x","x",null,0,0,0,0,0,0,0,0,0,0,0,0,0,0,0,0,0,0,0,0,0,0,0,0,0,0,0,0,0,0,0,0,0,0,0,0,0,0,null,{"$f":"IF(VLOOKUP($A216,'Schedule Setup'!$A$4:$E$39,5,FALSE)=0,\"\",VLOOKUP($A216,'Schedule Setup'!$A$4:$E$39,5,FALSE))","v":""},0,"",0,"",0,"",0,"",null,0,"",0,"",0,"",0,"",null,{"$f":"'Schedule Setup'!N30","v":"00:00:00"},{"$f":"'Schedule Setup'!O30","v":"00:00:00"},-2.0833333333333332E-2,"00:30:00"]
[27,{"$f":"IF(VLOOKUP($A217,'Schedule Setup'!$A$4:$E$39,2,FALSE)=0,\"\",VLOOKUP($A217,'Schedule Setup'!$A$4:$E$39,2,FALSE))","v":""},{"$f":"IF(VLOOKUP($A217,'Schedule Setup'!$A$4:$E$39,4,FALSE)=0,\"\",VLOOKUP($A217,'Schedule Setup'!$A$4:$E$39,4,FALSE))","v":""},"",null,null,null,"x","x","x","x","x","x","x","x","x","x","x","x","x","x","x","x","x","x","x","x","x","x","x","x","x","x","x","x","x","x","x","x","x","x","x","x","x","x",0,null,"x","x","x","x","x","x","x","x","x","x","x","x","x","x","x","x","x","x","x","x","x","x","x","x","x","x","x","x","x","x","x","x","x","x","x","x","x","x",null,0,0,0,0,0,0,0,0,0,0,0,0,0,0,0,0,0,0,0,0,0,0,0,0,0,0,0,0,0,0,0,0,0,0,0,0,0,0,null,{"$f":"IF(VLOOKUP($A217,'Schedule Setup'!$A$4:$E$39,5,FALSE)=0,\"\",VLOOKUP($A217,'Schedule Setup'!$A$4:$E$39,5,FALSE))","v":""},0,"",0,"",0,"",0,"",null,0,"",0,"",0,"",0,"",null,{"$f":"'Schedule Setup'!N31","v":"00:00:00"},{"$f":"'Schedule Setup'!O31","v":"00:00:00"},-2.0833333333333332E-2,"00:30:00"]
[28,{"$f":"IF(VLOOKUP($A218,'Schedule Setup'!$A$4:$E$39,2,FALSE)=0,\"\",VLOOKUP($A218,'Schedule Setup'!$A$4:$E$39,2,FALSE))","v":""},{"$f":"IF(VLOOKUP($A218,'Schedule Setup'!$A$4:$E$39,4,FALSE)=0,\"\",VLOOKUP($A218,'Schedule Setup'!$A$4:$E$39,4,FALSE))","v":""},"",null,null,null,"x","x","x","x","x","x","x","x","x","x","x","x","x","x","x","x","x","x","x","x","x","x","x","x","x","x","x","x","x","x","x","x","x","x","x","x","x","x",0,null,"x","x","x","x","x","x","x","x","x","x","x","x","x","x","x","x","x","x","x","x","x","x","x","x","x","x","x","x","x","x","x","x","x","x","x","x","x","x",null,0,0,0,0,0,0,0,0,0,0,0,0,0,0,0,0,0,0,0,0,0,0,0,0,0,0,0,0,0,0,0,0,0,0,0,0,0,0,null,{"$f":"IF(VLOOKUP($A218,'Schedule Setup'!$A$4:$E$39,5,FALSE)=0,\"\",VLOOKUP($A218,'Schedule Setup'!$A$4:$E$39,5,FALSE))","v":""},0,"",0,"",0,"",0,"",null,0,"",0,"",0,"",0,"",null,{"$f":"'Schedule Setup'!N32","v":"00:00:00"},{"$f":"'Schedule Setup'!O32","v":"00:00:00"},-2.0833333333333332E-2,"00:30:00"]
[29,{"$f":"IF(VLOOKUP($A219,'Schedule Setup'!$A$4:$E$39,2,FALSE)=0,\"\",VLOOKUP($A219,'Schedule Setup'!$A$4:$E$39,2,FALSE))","v":""},{"$f":"IF(VLOOKUP($A219,'Schedule Setup'!$A$4:$E$39,4,FALSE)=0,\"\",VLOOKUP($A219,'Schedule Setup'!$A$4:$E$39,4,FALSE))","v":""},"",null,null,null,"x","x","x","x","x","x","x","x","x","x","x","x","x","x","x","x","x","x","x","x","x","x","x","x","x","x","x","x","x","x","x","x","x","x","x","x","x","x",0,null,"x","x","x","x","x","x","x","x","x","x","x","x","x","x","x","x","x","x","x","x","x","x","x","x","x","x","x","x","x","x","x","x","x","x","x","x","x","x",null,0,0,0,0,0,0,0,0,0,0,0,0,0,0,0,0,0,0,0,0,0,0,0,0,0,0,0,0,0,0,0,0,0,0,0,0,0,0,null,{"$f":"IF(VLOOKUP($A219,'Schedule Setup'!$A$4:$E$39,5,FALSE)=0,\"\",VLOOKUP($A219,'Schedule Setup'!$A$4:$E$39,5,FALSE))","v":""},0,"",0,"",0,"",0,"",null,0,"",0,"",0,"",0,"",null,{"$f":"'Schedule Setup'!N33","v":"00:00:00"},{"$f":"'Schedule Setup'!O33","v":"00:00:00"},-2.0833333333333332E-2,"00:30:00"]
[30,{"$f":"IF(VLOOKUP($A220,'Schedule Setup'!$A$4:$E$39,2,FALSE)=0,\"\",VLOOKUP($A220,'Schedule Setup'!$A$4:$E$39,2,FALSE))","v":""},{"$f":"IF(VLOOKUP($A220,'Schedule Setup'!$A$4:$E$39,4,FALSE)=0,\"\",VLOOKUP($A220,'Schedule Setup'!$A$4:$E$39,4,FALSE))","v":""},"",null,null,null,"x","x","x","x","x","x","x","x","x","x","x","x","x","x","x","x","x","x","x","x","x","x","x","x","x","x","x","x","x","x","x","x","x","x","x","x","x","x",0,null,"x","x","x","x","x","x","x","x","x","x","x","x","x","x","x","x","x","x","x","x","x","x","x","x","x","x","x","x","x","x","x","x","x","x","x","x","x","x",null,0,0,0,0,0,0,0,0,0,0,0,0,0,0,0,0,0,0,0,0,0,0,0,0,0,0,0,0,0,0,0,0,0,0,0,0,0,0,null,{"$f":"IF(VLOOKUP($A220,'Schedule Setup'!$A$4:$E$39,5,FALSE)=0,\"\",VLOOKUP($A220,'Schedule Setup'!$A$4:$E$39,5,FALSE))","v":""},0,"",0,"",0,"",0,"",null,0,"",0,"",0,"",0,"",null,{"$f":"'Schedule Setup'!N34","v":"00:00:00"},{"$f":"'Schedule Setup'!O34","v":"00:00:00"},-2.0833333333333332E-2,"00:30:00"]
[31,{"$f":"IF(VLOOKUP($A221,'Schedule Setup'!$A$4:$E$39,2,FALSE)=0,\"\",VLOOKUP($A221,'Schedule Setup'!$A$4:$E$39,2,FALSE))","v":""},{"$f":"IF(VLOOKUP($A221,'Schedule Setup'!$A$4:$E$39,4,FALSE)=0,\"\",VLOOKUP($A221,'Schedule Setup'!$A$4:$E$39,4,FALSE))","v":""},"",null,null,null,"x","x","x","x","x","x","x","x","x","x","x","x","x","x","x","x","x","x","x","x","x","x","x","x","x","x","x","x","x","x","x","x","x","x","x","x","x","x",0,null,"x","x","x","x","x","x","x","x","x","x","x","x","x","x","x","x","x","x","x","x","x","x","x","x","x","x","x","x","x","x","x","x","x","x","x","x","x","x",null,0,0,0,0,0,0,0,0,0,0,0,0,0,0,0,0,0,0,0,0,0,0,0,0,0,0,0,0,0,0,0,0,0,0,0,0,0,0,null,{"$f":"IF(VLOOKUP($A221,'Schedule Setup'!$A$4:$E$39,5,FALSE)=0,\"\",VLOOKUP($A221,'Schedule Setup'!$A$4:$E$39,5,FALSE))","v":""},0,"",0,"",0,"",0,"",null,0,"",0,"",0,"",0,"",null,{"$f":"'Schedule Setup'!N35","v":"00:00:00"},{"$f":"'Schedule Setup'!O35","v":"00:00:00"},-2.0833333333333332E-2,"00:30:00"]
[32,{"$f":"IF(VLOOKUP($A222,'Schedule Setup'!$A$4:$E$39,2,FALSE)=0,\"\",VLOOKUP($A222,'Schedule Setup'!$A$4:$E$39,2,FALSE))","v":""},{"$f":"IF(VLOOKUP($A222,'Schedule Setup'!$A$4:$E$39,4,FALSE)=0,\"\",VLOOKUP($A222,'Schedule Setup'!$A$4:$E$39,4,FALSE))","v":""},"",null,null,null,"x","x","x","x","x","x","x","x","x","x","x","x","x","x","x","x","x","x","x","x","x","x","x","x","x","x","x","x","x","x","x","x","x","x","x","x","x","x",0,null,"x","x","x","x","x","x","x","x","x","x","x","x","x","x","x","x","x","x","x","x","x","x","x","x","x","x","x","x","x","x","x","x","x","x","x","x","x","x",null,0,0,0,0,0,0,0,0,0,0,0,0,0,0,0,0,0,0,0,0,0,0,0,0,0,0,0,0,0,0,0,0,0,0,0,0,0,0,null,{"$f":"IF(VLOOKUP($A222,'Schedule Setup'!$A$4:$E$39,5,FALSE)=0,\"\",VLOOKUP($A222,'Schedule Setup'!$A$4:$E$39,5,FALSE))","v":""},0,"",0,"",0,"",0,"",null,0,"",0,"",0,"",0,"",null,{"$f":"'Schedule Setup'!N36","v":"00:00:00"},{"$f":"'Schedule Setup'!O36","v":"00:00:00"},-2.0833333333333332E-2,"00:30:00"]
[33,{"$f":"IF(VLOOKUP($A223,'Schedule Setup'!$A$4:$E$39,2,FALSE)=0,\"\",VLOOKUP($A223,'Schedule Setup'!$A$4:$E$39,2,FALSE))","v":""},{"$f":"IF(VLOOKUP($A223,'Schedule Setup'!$A$4:$E$39,4,FALSE)=0,\"\",VLOOKUP($A223,'Schedule Setup'!$A$4:$E$39,4,FALSE))","v":""},"",null,null,null,"x","x","x","x","x","x","x","x","x","x","x","x","x","x","x","x","x","x","x","x","x","x","x","x","x","x","x","x","x","x","x","x","x","x","x","x","x","x",0,null,"x","x","x","x","x","x","x","x","x","x","x","x","x","x","x","x","x","x","x","x","x","x","x","x","x","x","x","x","x","x","x","x","x","x","x","x","x","x",null,0,0,0,0,0,0,0,0,0,0,0,0,0,0,0,0,0,0,0,0,0,0,0,0,0,0,0,0,0,0,0,0,0,0,0,0,0,0,null,{"$f":"IF(VLOOKUP($A223,'Schedule Setup'!$A$4:$E$39,5,FALSE)=0,\"\",VLOOKUP($A223,'Schedule Setup'!$A$4:$E$39,5,FALSE))","v":""},0,"",0,"",0,"",0,"",null,0,"",0,"",0,"",0,"",null,{"$f":"'Schedule Setup'!N37","v":"00:00:00"},{"$f":"'Schedule Setup'!O37","v":"00:00:00"},-2.0833333333333332E-2,"00:30:00"]
[34,{"$f":"IF(VLOOKUP($A224,'Schedule Setup'!$A$4:$E$39,2,FALSE)=0,\"\",VLOOKUP($A224,'Schedule Setup'!$A$4:$E$39,2,FALSE))","v":""},{"$f":"IF(VLOOKUP($A224,'Schedule Setup'!$A$4:$E$39,4,FALSE)=0,\"\",VLOOKUP($A224,'Schedule Setup'!$A$4:$E$39,4,FALSE))","v":""},"",null,null,null,"x","x","x","x","x","x","x","x","x","x","x","x","x","x","x",{"$f":"BK224","v":"x"},"x","x","x","x","x","x","x","x","x","x","x","x","x","x","x","x","x","x","x","x","x","x",0,null,"x","x","x","x","x","x","x","x","x","x","x","x","x","x","x","x","x","x","x","x","x","x","x","x","x","x","x","x","x","x","x","x","x","x","x","x","x","x",null,0,0,0,0,0,0,0,0,0,0,0,0,0,0,0,0,0,0,0,0,0,0,0,0,0,0,0,0,0,0,0,0,0,0,0,0,0,0,null,{"$f":"IF(VLOOKUP($A224,'Schedule Setup'!$A$4:$E$39,5,FALSE)=0,\"\",VLOOKUP($A224,'Schedule Setup'!$A$4:$E$39,5,FALSE))","v":""},0,"",0,"",0,"",0,"",null,0,"",0,"",0,"",0,"",null,{"$f":"'Schedule Setup'!N28","v":"00:00:00"},{"$f":"'Schedule Setup'!O28","v":"00:00:00"},-2.0833333333333332E-2,"00:30:00"]
[35,{"$f":"IF(VLOOKUP($A225,'Schedule Setup'!$A$4:$E$39,2,FALSE)=0,\"\",VLOOKUP($A225,'Schedule Setup'!$A$4:$E$39,2,FALSE))","v":""},{"$f":"IF(VLOOKUP($A225,'Schedule Setup'!$A$4:$E$39,4,FALSE)=0,\"\",VLOOKUP($A225,'Schedule Setup'!$A$4:$E$39,4,FALSE))","v":""},"",null,null,null,"x","x","x","x","x","x","x","x","x","x","x","x","x","x","x","x","x","x","x","x","x","x","x","x","x","x","x","x","x","x","x","x","x","x","x","x","x","x",0,null,"x","x","x","x","x","x","x","x","x","x","x","x","x","x","x","x","x","x","x","x","x","x","x","x","x","x","x","x","x","x","x","x","x","x","x","x","x","x",null,0,0,0,0,0,0,0,0,0,0,0,0,0,0,0,0,0,0,0,0,0,0,0,0,0,0,0,0,0,0,0,0,0,0,0,0,0,0,null,{"$f":"IF(VLOOKUP($A225,'Schedule Setup'!$A$4:$E$39,5,FALSE)=0,\"\",VLOOKUP($A225,'Schedule Setup'!$A$4:$E$39,5,FALSE))","v":""},0,"",0,"",0,"",0,"",null,0,"",0,"",0,"",0,"",null,{"$f":"'Schedule Setup'!N39","v":"00:00:00"},{"$f":"'Schedule Setup'!O39","v":"00:00:00"},-2.0833333333333332E-2,"00:30:00"]
[null,null,null,"Totals/Coverage",{"$f":"MIN(E191:E225)","v":"07:00:00"},{"$f":"MAX(F191:F225)","v":"19:30:00"},null,{"$f":"CI226","v":0},{"$f":"CJ226","v":0},{"$f":"CK226","v":0},{"$f":"CL226","v":0},{"$f":"CM226","v":1},{"$f":"CN226","v":1},{"$f":"CO226","v":2},{"$f":"CP226","v":2},{"$f":"CQ226","v":2},{"$f":"CR226","v":2},{"$f":"CS226","v":2},{"$f":"CT226","v":2},{"$f":"CU226","v":2},{"$f":"CV226","v":2},{"$f":"CW226","v":3},{"$f":"CX226","v":4},{"$f":"CY226","v":3},{"$f":"CZ226","v":4},{"$f":"DA226","v":3},{"$f":"DB226","v":3},{"$f":"DC226","v":3},{"$f":"DD226","v":3},{"$f":"DE226","v":3},{"$f":"DF226","v":3},{"$f":"DG226","v":2},{"$f":"DH226","v":2},{"$f":"DI226","v":2},{"$f":"DJ226","v":2},{"$f":"DK226","v":2},{"$f":"DL226","v":0},{"$f":"DM226","v":0},{"$f":"DN226","v":0},{"$f":"DO226","v":0},{"$f":"DP226","v":0},{"$f":"DQ226","v":0},{"$f":"DR226","v":0},{"$f":"DS226","v":0},{"$f":"DT226","v":0},{"$f":"SUM(AT191:AT225)","v":30},null,null,null,null,null,null,null,null,null,null,null,null,null,null,null,null,null,null,null,null,null,null,null,null,null,null,null,null,null,null,null,null,null,null,null,null,null,null,null,null,{"$f":"COUNTIF(CI191:CI225,0.5)","v":0},0,0,0,1,1,2,2,2,2,2,2,2,2,3,4,3,4,3,3,3,3,3,3,2,2,2,2,2,0,0,0,0,0,0,0,0,0,null,null,{"$f":"SUM(DW191:DW225)","v":7},0,18,0,5,0,30,0,null,{"$f":"SUM(EF191:EF225)","v":7},0,18,0,5,0,30,0,null,{"$f":"'Schedule Setup'!N40","v":"08:00:00"},{"$f":"'Schedule Setup'!O40","v":"19:00:00"},"07:30:00","19:30:00"]
[null,null,null,null,null,{"$f":"'Schedule Forecast'!A14","v":"Wk 10-21"},null,{"$f":"IFERROR(INDEX(INDIRECT(\"'\"&$F227&\"'!$G:$G\"),MATCH(H$6,INDIRECT(\"'\"&$F227&\"'!$A$1:$A$250\"),0)+1),0)","v":0},0,0,0,0,0,3.59,0,57.27,20.260000000000002,{"$f":"IFERROR(INDEX(INDIRECT(\"'\"&$F227&\"'!$G:$G\"),MATCH(R$6,INDIRECT(\"'\"&$F227&\"'!$A$1:$A$250\"),0)+1),0)","v":21.06},55.45,62.15,53.55,80.260000000000005,89.73,82.37,74.7,106.98,110.04,{"$f":"IFERROR(INDEX(INDIRECT(\"'\"&$F227&\"'!$G:$G\"),MATCH(AB$6,INDIRECT(\"'\"&$F227&\"'!$A$1:$A$250\"),0)+1),0)","v":59.68},60.38,95.13,52.41,5.59,10.32,18.059999999999999,27.16,0,0,{"$f":"IFERROR(INDEX(INDIRECT(\"'\"&$F227&\"'!$G:$G\"),MATCH(AL$6,INDIRECT(\"'\"&$F227&\"'!$A$1:$A$250\"),0)+1),0)","v":0},0,0,0,0,0,0,0]
[null,null,null,null,null,{"$f":"'Schedule Forecast'!A15","v":"Wk 10-28"},null,0,0,0,0,0,0,11.57,41.41,17.96,27.73,69.38,72.319999999999993,43.07,36.18,33.44,76.17,44.92,109.49,119.11,114.26,45.5,30.69,65.67,49.95,8.33,26.64,5.29,13.97,0,0,0,0,0,0,0,0,0,0]
[null,null,null,null,null,{"$f":"'Schedule Forecast'!A16","v":"Wk 11-4"},null,0,0,0,0,0,0,38.31,0,51.31,27.74,46.4,16.16,21.86,90.49,78.69,67.97,79.790000000000006,82.14,65.89,62.62,51.95,59.7,62.09,7.08,12.28,11.46,12.82,0,0,0,0,0,0,0,0,0,0,0]
[null,null,null,null,null,{"$f":"'Schedule Forecast'!A17","v":"Wk 11-11"},null,0,0,0,0,0,0,0,0,43.18,28.34,42.37,64.37,99.7,57.72,157.69999999999999,88.09,55.85,62.76,77.209999999999994,77.099999999999994,45.11,97.76,33.729999999999997,65.13,18.27,20.81,19.86,4.79,9.98,0,0,0,0,0,0,0,0,0]
[null,null,null,null,null,"AVERAGE",null,{"$f":"IFERROR(IF(AND(H$6>=$EO$226,H$6<$EP$226-0.001),AVERAGE(H227:H230),\"\"),\"\")","v":""},"","","","","",13.3675,10.352499999999999,42.43,26.017500000000002,44.802500000000002,52.075000000000003,56.695,59.484999999999992,87.522499999999994,80.490000000000009,65.732500000000002,82.272499999999994,92.297499999999999,91.004999999999995,50.56,62.132500000000007,64.155000000000001,43.642499999999998,11.1175,17.307500000000001,14.0075,11.48,"","","","","","","","","",""]
[null,null,null,null,null,null,null,{"$f":"IFERROR(IF((H231*'Schedule Forecast'!$C$4-$AC$2)>1,(H231*'Schedule Forecast'!$C$4-$AC$2),1),\"\")","v":""},{"$f":"IFERROR(IF((I231*'Schedule Forecast'!$C$4-$AC$2)>1,(I231*'Schedule Forecast'!$C$4-$AC$2),1),\"\")","v":""},{"$f":"IFERROR(IF((J231*'Schedule Forecast'!$C$4-$AC$2)>1,(J231*'Schedule Forecast'!$C$4-$AC$2),1),\"\")","v":""},{"$f":"IFERROR(IF((K231*'Schedule Forecast'!$C$4-$AC$2)>1,(K231*'Schedule Forecast'!$C$4-$AC$2),1),\"\")","v":""},{"$f":"IFERROR(IF((L231*'Schedule Forecast'!$C$4-$AC$2)>1,(L231*'Schedule Forecast'!$C$4-$AC$2),1),\"\")","v":""},{"$f":"IFERROR(IF((M231*'Schedule Forecast'!$C$4-$AC$2)>1,(M231*'Schedule Forecast'!$C$4-$AC$2),1),\"\")","v":""},{"$f":"IFERROR(IF((N231*'Schedule Forecast'!$C$4-$AC$2)>1,(N231*'Schedule Forecast'!$C$4-$AC$2),1),\"\")","v":1},{"$f":"IFERROR(IF((O231*'Schedule Forecast'!$C$4-$AC$2)>1,(O231*'Schedule Forecast'!$C$4-$AC$2),1),\"\")","v":1},{"$f":"IFERROR(IF((P231*'Schedule Forecast'!$C$4-$AC$2)>1,(P231*'Schedule Forecast'!$C$4-$AC$2),1),\"\")","v":1},{"$f":"IFERROR(IF((Q231*'Schedule Forecast'!$C$4-$AC$2)>1,(Q231*'Schedule Forecast'!$C$4-$AC$2),1),\"\")","v":1},{"$f":"IFERROR(IF((R231*'Schedule Forecast'!$C$4-$AC$2)>1,(R231*'Schedule Forecast'!$C$4-$AC$2),1),\"\")","v":1},{"$f":"IFERROR(IF((S231*'Schedule Forecast'!$C$4-$AC$2)>1,(S231*'Schedule Forecast'!$C$4-$AC$2),1),\"\")","v":1},{"$f":"IFERROR(IF((T231*'Schedule Forecast'!$C$4-$AC$2)>1,(T231*'Schedule Forecast'!$C$4-$AC$2),1),\"\")","v":1},{"$f":"IFERROR(IF((U231*'Schedule Forecast'!$C$4-$AC$2)>1,(U231*'Schedule Forecast'!$C$4-$AC$2),1),\"\")","v":1.3021499999999993},{"$f":"IFERROR(IF((V231*'Schedule Forecast'!$C$4-$AC$2)>1,(V231*'Schedule Forecast'!$C$4-$AC$2),1),\"\")","v":6.6292749999999998},{"$f":"IFERROR(IF((W231*'Schedule Forecast'!$C$4-$AC$2)>1,(W231*'Schedule Forecast'!$C$4-$AC$2),1),\"\")","v":5.2931000000000026},{"$f":"IFERROR(IF((X231*'Schedule Forecast'!$C$4-$AC$2)>1,(X231*'Schedule Forecast'!$C$4-$AC$2),1),\"\")","v":2.4891750000000012},{"$f":"IFERROR(IF((Y231*'Schedule Forecast'!$C$4-$AC$2)>1,(Y231*'Schedule Forecast'!$C$4-$AC$2),1),\"\")","v":5.6317749999999993},{"$f":"IFERROR(IF((Z231*'Schedule Forecast'!$C$4-$AC$2)>1,(Z231*'Schedule Forecast'!$C$4-$AC$2),1),\"\")","v":7.536525000000001},{"$f":"IFERROR(IF((AA231*'Schedule Forecast'!$C$4-$AC$2)>1,(AA231*'Schedule Forecast'!$C$4-$AC$2),1),\"\")","v":7.2909499999999987},{"$f":"IFERROR(IF((AB231*'Schedule Forecast'!$C$4-$AC$2)>1,(AB231*'Schedule Forecast'!$C$4-$AC$2),1),\"\")","v":1},{"$f":"IFERROR(IF((AC231*'Schedule Forecast'!$C$4-$AC$2)>1,(AC231*'Schedule Forecast'!$C$4-$AC$2),1),\"\")","v":1.805175000000002},{"$f":"IFERROR(IF((AD231*'Schedule Forecast'!$C$4-$AC$2)>1,(AD231*'Schedule Forecast'!$C$4-$AC$2),1),\"\")","v":2.1894500000000008},{"$f":"IFERROR(IF((AE231*'Schedule Forecast'!$C$4-$AC$2)>1,(AE231*'Schedule Forecast'!$C$4-$AC$2),1),\"\")","v":1},{"$f":"IFERROR(IF((AF231*'Schedule Forecast'!$C$4-$AC$2)>1,(AF231*'Schedule Forecast'!$C$4-$AC$2),1),\"\")","v":1},{"$f":"IFERROR(IF((AG231*'Schedule Forecast'!$C$4-$AC$2)>1,(AG231*'Schedule Forecast'!$C$4-$AC$2),1),\"\")","v":1},{"$f":"IFERROR(IF((AH231*'Schedule Forecast'!$C$4-$AC$2)>1,(AH231*'Schedule Forecast'!$C$4-$AC$2),1),\"\")","v":1},{"$f":"IFERROR(IF((AI231*'Schedule Forecast'!$C$4-$AC$2)>1,(AI231*'Schedule Forecast'!$C$4-$AC$2),1),\"\")","v":1},{"$f":"IFERROR(IF((AJ231*'Schedule Forecast'!$C$4-$AC$2)>1,(AJ231*'Schedule Forecast'!$C$4-$AC$2),1),\"\")","v":""},{"$f":"IFERROR(IF((AK231*'Schedule Forecast'!$C$4-$AC$2)>1,(AK231*'Schedule Forecast'!$C$4-$AC$2),1),\"\")","v":""},{"$f":"IFERROR(IF((AL231*'Schedule Forecast'!$C$4-$AC$2)>1,(AL231*'Schedule Forecast'!$C$4-$AC$2),1),\"\")","v":""},{"$f":"IFERROR(IF((AM231*'Schedule Forecast'!$C$4-$AC$2)>1,(AM231*'Schedule Forecast'!$C$4-$AC$2),1),\"\")","v":""},{"$f":"IFERROR(IF((AN231*'Schedule Forecast'!$C$4-$AC$2)>1,(AN231*'Schedule Forecast'!$C$4-$AC$2),1),\"\")","v":""},{"$f":"IFERROR(IF((AO231*'Schedule Forecast'!$C$4-$AC$2)>1,(AO231*'Schedule Forecast'!$C$4-$AC$2),1),\"\")","v":""},{"$f":"IFERROR(IF((AP231*'Schedule Forecast'!$C$4-$AC$2)>1,(AP231*'Schedule Forecast'!$C$4-$AC$2),1),\"\")","v":""},{"$f":"IFERROR(IF((AQ231*'Schedule Forecast'!$C$4-$AC$2)>1,(AQ231*'Schedule Forecast'!$C$4-$AC$2),1),\"\")","v":""},{"$f":"IFERROR(IF((AR231*'Schedule Forecast'!$C$4-$AC$2)>1,(AR231*'Schedule Forecast'!$C$4-$AC$2),1),\"\")","v":""},{"$f":"IFERROR(IF((AS231*'Schedule Forecast'!$C$4-$AC$2)>1,(AS231*'Schedule Forecast'!$C$4-$AC$2),1),\"\")","v":""}]
[null,null,null,null,null,null,"Recommended:",{"$f":"IF(H190>=$EO$226,IF(H190<$EP$226-0.01,ROUND(IF(H232>1,(H232*$B$48)+1,H232)*2,0),\"\"),\"\")","v":""},"","","","","",2,2,2,2,2,2,2,2,2,2,2,2,2,2,2,2,2,2,2,2,2,2,"","","","","","","","","","",{"$f":"SUM(H233:AS233)/2","v":22}]
[]
[null,"Monday",null,null,null,null,null,null,null,null,null,null,null,null,null,null,null,null,{"$f":"S189","v":"Today's Date"},{"$f":"T5+5","v":"2014-11-24"},null,null,null,null,null,null,null,null,null,null,null,null,null,null,null,null,null,null,null,null,null,null,null,null,null,null,null,null,null,null,null,null,null,null,null,null,null,null,null,null,null,null,null,null,null,null,null,null,null,null,null,null,null,null,null,null,null,null,null,null,null,null,null,null,null,null,null,null,null,null,null,null,null,null,null,null,null,null,null,null,null,null,null,null,null,null,null,null,null,null,null,null,null,null,null,null,null,null,null,null,null,null,null,null,null,null,"Breakfast",null,"Lunch",null,"Dinner",null,"Total",null,null,"Breakfast",null,"Lunch",null,"Dinner",null,"Total",null,null,"Availability"]
[null,"Employee","Job",null,"Start","End",null,"05:00:00",{"$f":"H236+(0.5/24)","v":"05:30:00"},{"$f":"I236+(0.5/24)","v":"06:00:00"},{"$f":"J236+(0.5/24)","v":"06:30:00"},{"$f":"K236+(0.5/24)","v":"07:00:00"},{"$f":"L236+(0.5/24)","v":"07:30:00"},{"$f":"M236+(0.5/24)","v":"08:00:00"},{"$f":"N236+(0.5/24)","v":"08:30:00"},{"$f":"O236+(0.5/24)","v":"09:00:00"},{"$f":"P236+(0.5/24)","v":"09:30:00"},{"$f":"Q236+(0.5/24)","v":"10:00:00"},{"$f":"R236+(0.5/24)","v":"10:30:00"},{"$f":"S236+(0.5/24)","v":"11:00:00"},{"$f":"T236+(0.5/24)","v":"11:30:00"},{"$f":"U236+(0.5/24)","v":"12:00:00"},{"$f":"V236+(0.5/24)","v":"12:30:00"},{"$f":"W236+(0.5/24)","v":"13:00:00"},{"$f":"X236+(0.5/24)","v":"13:30:00"},{"$f":"Y236+(0.5/24)","v":"14:00:00"},{"$f":"Z236+(0.5/24)","v":"14:30:00"},{"$f":"AA236+(0.5/24)","v":"15:00:00"},{"$f":"AB236+(0.5/24)","v":"15:30:00"},{"$f":"AC236+(0.5/24)","v":"16:00:00"},{"$f":"AD236+(0.5/24)","v":"16:30:00"},{"$f":"AE236+(0.5/24)","v":"17:00:00"},{"$f":"AF236+(0.5/24)","v":"17:30:00"},{"$f":"AG236+(0.5/24)","v":"18:00:00"},{"$f":"AH236+(0.5/24)","v":"18:30:00"},{"$f":"AI236+(0.5/24)","v":"19:00:00"},{"$f":"AJ236+(0.5/24)","v":"19:30:00"},{"$f":"AK236+(0.5/24)","v":"20:00:00"},{"$f":"AL236+(0.5/24)","v":"20:30:00"},{"$f":"AM236+(0.5/24)","v":"21:00:00"},{"$f":"AN236+(0.5/24)","v":"21:30:00"},{"$f":"AO236+(0.5/24)","v":"22:00:00"},{"$f":"AP236+(0.5/24)","v":"22:30:00"},{"$f":"AQ236+(0.5/24)","v":"23:00:00"},{"$f":"AR236+(0.5/24)","v":"23:30:00"},"TOTAL",null,5,null,6,null,7,null,8,null,9,null,10,null,11,null,12,null,1,null,2,null,3,null,4,null,5,null,6,null,7,null,8,null,9,null,10,null,11,null,null,5,null,6,null,7,null,8,null,9,null,10,null,11,null,12,null,1,null,2,null,3,null,4,null,5,null,6,null,7,null,8,null,9,null,10,null,11,null,null,"Rate","Hrs","$","Hrs","$","Hrs","$","Hrs","$",null,"Hrs","$","Hrs","$","Hrs","$","Hrs","$",null,"Start","End","Start-Early","End-Late"]
[1,{"$f":"IF(VLOOKUP($A237,'Schedule Setup'!$A$4:$E$39,2,FALSE)=0,\"\",VLOOKUP($A237,'Schedule Setup'!$A$4:$E$39,2,FALSE))","v":"Shaun Payne"},{"$f":"IF(VLOOKUP($A237,'Schedule Setup'!$A$4:$E$39,4,FALSE)=0,\"\",VLOOKUP($A237,'Schedule Setup'!$A$4:$E$39,4,FALSE))","v":"General Manager (S)"},{"$f":"IF(B237<>\"\",IF(OR(C237=\"General Manager (S)\", C237=\"General Manager (H)\"), \"GM\",IF(C237=\"Acting Manager\",\"AM\",IF(C237=\"Shift Manager\",\"SM\",IF(C237=\"Team Lead\",\"TL\",\"TM\")))),\"\")","v":"GM"},null,null,null,{"$f":"AV237","v":"x"},"x","x","x","x","x","x","x","x","x","x","x","x","x","x","x","x","x","x","x","x","x","x","x","x","x","x","x","x","x","x","x","x","x","x","x","x","x",{"$f":"EC237","v":0},null,{"$f":"IF(AND($EO237<=H$6+0.01,$EP237>H$6+0.01),IF(AND(H$6<$F237-0.01,H$6>=$E237-0.01),$D237,\"\"),\"x\")","v":"x"},{"$f":"IF(AND($EO237<=I$6+0.01,$EP237>I$6+0.01),IF(AND(I$6<$F237-0.01,I$6>=$E237-0.01),$D237,\"\"),\"x\")","v":"x"},{"$f":"IF(AND($EO237<=J$6+0.01,$EP237>J$6+0.01),IF(AND(J$6<$F237-0.01,J$6>=$E237-0.01),$D237,\"\"),\"x\")","v":"x"},{"$f":"IF(AND($EO237<=K$6+0.01,$EP237>K$6+0.01),IF(AND(K$6<$F237-0.01,K$6>=$E237-0.01),$D237,\"\"),\"x\")","v":"x"},{"$f":"IF(AND($EO237<=L$6+0.01,$EP237>L$6+0.01),IF(AND(L$6<$F237-0.01,L$6>=$E237-0.01),$D237,\"\"),\"x\")","v":"x"},{"$f":"IF(AND($EO237<=M$6+0.01,$EP237>M$6+0.01),IF(AND(M$6<$F237-0.01,M$6>=$E237-0.01),$D237,\"\"),\"x\")","v":"x"},{"$f":"IF(AND($EO237<=N$6+0.01,$EP237>N$6+0.01),IF(AND(N$6<$F237-0.01,N$6>=$E237-0.01),$D237,\"\"),\"x\")","v":"x"},{"$f":"IF(AND($EO237<=O$6+0.01,$EP237>O$6+0.01),IF(AND(O$6<$F237-0.01,O$6>=$E237-0.01),$D237,\"\"),\"x\")","v":"x"},{"$f":"IF(AND($EO237<=P$6+0.01,$EP237>P$6+0.01),IF(AND(P$6<$F237-0.01,P$6>=$E237-0.01),$D237,\"\"),\"x\")","v":"x"},{"$f":"IF(AND($EO237<=Q$6+0.01,$EP237>Q$6+0.01),IF(AND(Q$6<$F237-0.01,Q$6>=$E237-0.01),$D237,\"\"),\"x\")","v":"x"},{"$f":"IF(AND($EO237<=R$6+0.01,$EP237>R$6+0.01),IF(AND(R$6<$F237-0.01,R$6>=$E237-0.01),$D237,\"\"),\"x\")","v":"x"},{"$f":"IF(AND($EO237<=S$6+0.01,$EP237>S$6+0.01),IF(AND(S$6<$F237-0.01,S$6>=$E237-0.01),$D237,\"\"),\"x\")","v":"x"},{"$f":"IF(AND($EO237<=T$6+0.01,$EP237>T$6+0.01),IF(AND(T$6<$F237-0.01,T$6>=$E237-0.01),$D237,\"\"),\"x\")","v":"x"},{"$f":"IF(AND($EO237<=U$6+0.01,$EP237>U$6+0.01),IF(AND(U$6<$F237-0.01,U$6>=$E237-0.01),$D237,\"\"),\"x\")","v":"x"},{"$f":"IF(AND($EO237<=V$6+0.01,$EP237>V$6+0.01),IF(AND(V$6<$F237-0.01,V$6>=$E237-0.01),$D237,\"\"),\"x\")","v":"x"},{"$f":"IF(AND($EO237<=W$6+0.01,$EP237>W$6+0.01),IF(AND(W$6<$F237-0.01,W$6>=$E237-0.01),$D237,\"\"),\"x\")","v":"x"},{"$f":"IF(AND($EO237<=X$6+0.01,$EP237>X$6+0.01),IF(AND(X$6<$F237-0.01,X$6>=$E237-0.01),$D237,\"\"),\"x\")","v":"x"},{"$f":"IF(AND($EO237<=Y$6+0.01,$EP237>Y$6+0.01),IF(AND(Y$6<$F237-0.01,Y$6>=$E237-0.01),$D237,\"\"),\"x\")","v":"x"},{"$f":"IF(AND($EO237<=Z$6+0.01,$EP237>Z$6+0.01),IF(AND(Z$6<$F237-0.01,Z$6>=$E237-0.01),$D237,\"\"),\"x\")","v":"x"},{"$f":"IF(AND($EO237<=AA$6+0.01,$EP237>AA$6+0.01),IF(AND(AA$6<$F237-0.01,AA$6>=$E237-0.01),$D237,\"\"),\"x\")","v":"x"},{"$f":"IF(AND($EO237<=AB$6+0.01,$EP237>AB$6+0.01),IF(AND(AB$6<$F237-0.01,AB$6>=$E237-0.01),$D237,\"\"),\"x\")","v":"x"},{"$f":"IF(AND($EO237<=AC$6+0.01,$EP237>AC$6+0.01),IF(AND(AC$6<$F237-0.01,AC$6>=$E237-0.01),$D237,\"\"),\"x\")","v":"x"},{"$f":"IF(AND($EO237<=AD$6+0.01,$EP237>AD$6+0.01),IF(AND(AD$6<$F237-0.01,AD$6>=$E237-0.01),$D237,\"\"),\"x\")","v":"x"},{"$f":"IF(AND($EO237<=AE$6+0.01,$EP237>AE$6+0.01),IF(AND(AE$6<$F237-0.01,AE$6>=$E237-0.01),$D237,\"\"),\"x\")","v":"x"},{"$f":"IF(AND($EO237<=AF$6+0.01,$EP237>AF$6+0.01),IF(AND(AF$6<$F237-0.01,AF$6>=$E237-0.01),$D237,\"\"),\"x\")","v":"x"},{"$f":"IF(AND($EO237<=AG$6+0.01,$EP237>AG$6+0.01),IF(AND(AG$6<$F237-0.01,AG$6>=$E237-0.01),$D237,\"\"),\"x\")","v":"x"},{"$f":"IF(AND($EO237<=AH$6+0.01,$EP237>AH$6+0.01),IF(AND(AH$6<$F237-0.01,AH$6>=$E237-0.01),$D237,\"\"),\"x\")","v":"x"},{"$f":"IF(AND($EO237<=AI$6+0.01,$EP237>AI$6+0.01),IF(AND(AI$6<$F237-0.01,AI$6>=$E237-0.01),$D237,\"\"),\"x\")","v":"x"},{"$f":"IF(AND($EO237<=AJ$6+0.01,$EP237>AJ$6+0.01),IF(AND(AJ$6<$F237-0.01,AJ$6>=$E237-0.01),$D237,\"\"),\"x\")","v":"x"},{"$f":"IF(AND($EO237<=AK$6+0.01,$EP237>AK$6+0.01),IF(AND(AK$6<$F237-0.01,AK$6>=$E237-0.01),$D237,\"\"),\"x\")","v":"x"},{"$f":"IF(AND($EO237<=AL$6+0.01,$EP237>AL$6+0.01),IF(AND(AL$6<$F237-0.01,AL$6>=$E237-0.01),$D237,\"\"),\"x\")","v":"x"},{"$f":"IF(AND($EO237<=AM$6+0.01,$EP237>AM$6+0.01),IF(AND(AM$6<$F237-0.01,AM$6>=$E237-0.01),$D237,\"\"),\"x\")","v":"x"},{"$f":"IF(AND($EO237<=AN$6+0.01,$EP237>AN$6+0.01),IF(AND(AN$6<$F237-0.01,AN$6>=$E237-0.01),$D237,\"\"),\"x\")","v":"x"},{"$f":"IF(AND($EO237<=AO$6+0.01,$EP237>AO$6+0.01),IF(AND(AO$6<$F237-0.01,AO$6>=$E237-0.01),$D237,\"\"),\"x\")","v":"x"},{"$f":"IF(AND($EO237<=AP$6+0.01,$EP237>AP$6+0.01),IF(AND(AP$6<$F237-0.01,AP$6>=$E237-0.01),$D237,\"\"),\"x\")","v":"x"},{"$f":"IF(AND($EO237<=AQ$6+0.01,$EP237>AQ$6+0.01),IF(AND(AQ$6<$F237-0.01,AQ$6>=$E237-0.01),$D237,\"\"),\"x\")","v":"x"},{"$f":"IF(AND($EO237<=AR$6+0.01,$EP237>AR$6+0.01),IF(AND(AR$6<$F237-0.01,AR$6>=$E237-0.01),$D237,\"\"),\"x\")","v":"x"},{"$f":"IF(AND($EO237<=AS$6+0.01,$EP237>AS$6+0.01),IF(AND(AS$6<$F237-0.01,AS$6>=$E237-0.01),$D237,\"\"),\"x\")","v":"x"},null,{"$f":"IF(AND(AV237<>\"\",AV237<>\"x\"),0.5,)","v":0},{"$f":"IF(AND(AW237<>\"\",AW237<>\"x\"),0.5,)","v":0},{"$f":"IF(AND(AX237<>\"\",AX237<>\"x\"),0.5,)","v":0},{"$f":"IF(AND(AY237<>\"\",AY237<>\"x\"),0.5,)","v":0},{"$f":"IF(AND(AZ237<>\"\",AZ237<>\"x\"),0.5,)","v":0},{"$f":"IF(AND(BA237<>\"\",BA237<>\"x\"),0.5,)","v":0},{"$f":"IF(AND(BB237<>\"\",BB237<>\"x\"),0.5,)","v":0},{"$f":"IF(AND(BC237<>\"\",BC237<>\"x\"),0.5,)","v":0},{"$f":"IF(AND(BD237<>\"\",BD237<>\"x\"),0.5,)","v":0},{"$f":"IF(AND(BE237<>\"\",BE237<>\"x\"),0.5,)","v":0},{"$f":"IF(AND(BF237<>\"\",BF237<>\"x\"),0.5,)","v":0},{"$f":"IF(AND(BG237<>\"\",BG237<>\"x\"),0.5,)","v":0},{"$f":"IF(AND(BH237<>\"\",BH237<>\"x\"),0.5,)","v":0},{"$f":"IF(AND(BI237<>\"\",BI237<>\"x\"),0.5,)","v":0},{"$f":"IF(AND(BJ237<>\"\",BJ237<>\"x\"),0.5,)","v":0},{"$f":"IF(AND(BK237<>\"\",BK237<>\"x\"),0.5,)","v":0},{"$f":"IF(AND(BL237<>\"\",BL237<>\"x\"),0.5,)","v":0},{"$f":"IF(AND(BM237<>\"\",BM237<>\"x\"),0.5,)","v":0},{"$f":"IF(AND(BN237<>\"\",BN237<>\"x\"),0.5,)","v":0},{"$f":"IF(AND(BO237<>\"\",BO237<>\"x\"),0.5,)","v":0},{"$f":"IF(AND(BP237<>\"\",BP237<>\"x\"),0.5,)","v":0},{"$f":"IF(AND(BQ237<>\"\",BQ237<>\"x\"),0.5,)","v":0},{"$f":"IF(AND(BR237<>\"\",BR237<>\"x\"),0.5,)","v":0},{"$f":"IF(AND(BS237<>\"\",BS237<>\"x\"),0.5,)","v":0},{"$f":"IF(AND(BT237<>\"\",BT237<>\"x\"),0.5,)","v":0},{"$f":"IF(AND(BU237<>\"\",BU237<>\"x\"),0.5,)","v":0},{"$f":"IF(AND(BV237<>\"\",BV237<>\"x\"),0.5,)","v":0},{"$f":"IF(AND(BW237<>\"\",BW237<>\"x\"),0.5,)","v":0},{"$f":"IF(AND(BX237<>\"\",BX237<>\"x\"),0.5,)","v":0},{"$f":"IF(AND(BY237<>\"\",BY237<>\"x\"),0.5,)","v":0},{"$f":"IF(AND(BZ237<>\"\",BZ237<>\"x\"),0.5,)","v":0},{"$f":"IF(AND(CA237<>\"\",CA237<>\"x\"),0.5,)","v":0},{"$f":"IF(AND(CB237<>\"\",CB237<>\"x\"),0.5,)","v":0},{"$f":"IF(AND(CC237<>\"\",CC237<>\"x\"),0.5,)","v":0},{"$f":"IF(AND(CD237<>\"\",CD237<>\"x\"),0.5,)","v":0},{"$f":"IF(AND(CE237<>\"\",CE237<>\"x\"),0.5,)","v":0},{"$f":"IF(AND(CF237<>\"\",CF237<>\"x\"),0.5,)","v":0},{"$f":"IF(AND(CG237<>\"\",CG237<>\"x\"),0.5,)","v":0},null,{"$f":"IF(VLOOKUP($A237,'Schedule Setup'!$A$4:$E$39,5,FALSE)=0,\"\",VLOOKUP($A237,'Schedule Setup'!$A$4:$E$39,5,FALSE))","v":""},{"$f":"SUM(CI237:CT237)","v":0},{"$f":"IFERROR(DW237*$DV237,\"\")","v":""},{"$f":"SUM(CU237:DF237)","v":0},{"$f":"IFERROR(DY237*$DV237,\"\")","v":""},{"$f":"SUM(DG237:DT237)","v":0},{"$f":"IFERROR(EA237*$DV237,\"\")","v":""},{"$f":"SUM(DW237,DY237,EA237)","v":0},{"$f":"IFERROR(EC237*$DV237,\"\")","v":""},null,{"$f":"IF(DW237>5,(DW237-0.5),DW237)","v":0},{"$f":"IFERROR(EF237*$DV237,\"\")","v":""},{"$f":"IF(DY237>5,(DY237-0.5),DY237)","v":0},{"$f":"IFERROR(EH237*$DV237,\"\")","v":""},{"$f":"IF(EA237>5,(EA237-0.5),EA237)","v":0},{"$f":"IFERROR(EJ237*$DV237,\"\")","v":""},{"$f":"SUM(EF237,EH237,EJ237)","v":0},{"$f":"IFERROR(EL237*$DV237,\"\")","v":""},null,{"$f":"'Schedule Setup'!P5","v":"UnAvail"},{"$f":"'Schedule Setup'!Q5","v":"UnAvail"},{"$f":"EO237-(0.5/24)","v":{"$error":"#VALUE!"}},{"$f":"EP237+(0.5/24)","v":{"$error":"#VALUE!"}}]
[{"$f":"A237+1","v":2},{"$f":"IF(VLOOKUP($A238,'Schedule Setup'!$A$4:$E$39,2,FALSE)=0,\"\",VLOOKUP($A238,'Schedule Setup'!$A$4:$E$39,2,FALSE))","v":"Clay Huycke-McCall"},{"$f":"IF(VLOOKUP($A238,'Schedule Setup'!$A$4:$E$39,4,FALSE)=0,\"\",VLOOKUP($A238,'Schedule Setup'!$A$4:$E$39,4,FALSE))","v":"Shift Manager"},{"$f":"IF(B238<>\"\",IF(OR(C238=\"General Manager (S)\", C238=\"General Manager (H)\"), \"GM\",IF(C238=\"Acting Manager\",\"AM\",IF(C238=\"Shift Manager\",\"SM\",IF(C238=\"Team Lead\",\"TL\",\"TM\")))),\"\")","v":"SM"},"06:00:00","15:00:00",null,"x","x","SM","SM","SM","SM","SM","SM","SM","SM","SM","SM","SM","SM","SM","SM","SM","SM","SM","SM","","","","","","","","","","","","x","x","x","x","x","x","x",{"$f":"EC238","v":9},null,"x","x","SM","SM","SM","SM","SM","SM","SM","SM","SM","SM","SM","SM","SM","SM","SM","SM","SM","SM","","","","","","","","","","","","x","x","x","x","x","x","x",null,{"$f":"IF(AND(AV238<>\"\",AV238<>\"x\"),0.5,)","v":0},0,0.5,0.5,0.5,0.5,0.5,0.5,0.5,0.5,0.5,0.5,0.5,0.5,0.5,0.5,0.5,0.5,0.5,0.5,0,0,0,0,0,0,0,0,0,0,0,0,0,0,0,0,0,0,null,{"$f":"IF(VLOOKUP($A238,'Schedule Setup'!$A$4:$E$39,5,FALSE)=0,\"\",VLOOKUP($A238,'Schedule Setup'!$A$4:$E$39,5,FALSE))","v":""},5,"",4,"",0,"",{"$f":"SUM(DW238,DY238,EA238)","v":9},"",null,{"$f":"IF(DW238>5,(DW238-0.5),DW238)","v":5},"",{"$f":"IF(DY238>5,(DY238-0.5),DY238)","v":4},"",0,"",{"$f":"SUM(EF238,EH238,EJ238)","v":9},"",null,{"$f":"'Schedule Setup'!P6","v":"06:00:00"},{"$f":"'Schedule Setup'!Q6","v":"20:30:00"},{"$f":"EO238-(0.5/24)","v":"05:30:00"},{"$f":"EP238+(0.5/24)","v":"21:00:00"}]
[{"$f":"A238+1","v":3},{"$f":"IF(VLOOKUP($A239,'Schedule Setup'!$A$4:$E$39,2,FALSE)=0,\"\",VLOOKUP($A239,'Schedule Setup'!$A$4:$E$39,2,FALSE))","v":"Shaina Hunt"},{"$f":"IF(VLOOKUP($A239,'Schedule Setup'!$A$4:$E$39,4,FALSE)=0,\"\",VLOOKUP($A239,'Schedule Setup'!$A$4:$E$39,4,FALSE))","v":"Shift Manager"},"SM",null,null,null,"x","x","","","","","","","","","","","","","","","","","","","","","","","","","","","","","","x","x","x","x","x","x","x",0,null,"x","x","","","","","","","","","","","","","","","","","","","","","","","","","","","","","","x","x","x","x","x","x","x",null,0,0,0,0,0,0,0,0,0,0,0,0,0,0,0,0,0,0,0,0,0,0,0,0,0,0,0,0,0,0,0,0,0,0,0,0,0,0,null,{"$f":"IF(VLOOKUP($A239,'Schedule Setup'!$A$4:$E$39,5,FALSE)=0,\"\",VLOOKUP($A239,'Schedule Setup'!$A$4:$E$39,5,FALSE))","v":""},0,"",0,"",0,"",{"$f":"SUM(DW239,DY239,EA239)","v":0},"",null,0,"",0,"",0,"",0,"",null,{"$f":"'Schedule Setup'!P7","v":"06:00:00"},{"$f":"'Schedule Setup'!Q7","v":"20:30:00"},"05:30:00","21:00:00"]
[4,{"$f":"IF(VLOOKUP($A240,'Schedule Setup'!$A$4:$E$39,2,FALSE)=0,\"\",VLOOKUP($A240,'Schedule Setup'!$A$4:$E$39,2,FALSE))","v":"Christian Fink"},{"$f":"IF(VLOOKUP($A240,'Schedule Setup'!$A$4:$E$39,4,FALSE)=0,\"\",VLOOKUP($A240,'Schedule Setup'!$A$4:$E$39,4,FALSE))","v":"Team Lead"},"TL",null,null,null,"x","x","x","x","x","x","x","x","x","x","x","x","x","x","x","x","x","x","x","x","x","x","x","x","x","x","x","x","x","x","x","x","x","x","x","x","x","x",0,null,"x","x","x","x","x","x","x","x","x","x","x","x","x","x","x","x","x","x","x","x","x","x","x","x","x","x","x","x","x","x","x","x","x","x","x","x","x","x",null,0,0,0,0,0,0,0,0,0,0,0,0,0,0,0,0,0,0,0,0,0,0,0,0,0,0,0,0,0,0,0,0,0,0,0,0,0,0,null,{"$f":"IF(VLOOKUP($A240,'Schedule Setup'!$A$4:$E$39,5,FALSE)=0,\"\",VLOOKUP($A240,'Schedule Setup'!$A$4:$E$39,5,FALSE))","v":""},0,"",0,"",0,"",0,"",null,0,"",0,"",0,"",0,"",null,{"$f":"'Schedule Setup'!P8","v":"UnAvail"},{"$f":"'Schedule Setup'!Q8","v":"UnAvail"},{"$error":"#VALUE!"},{"$error":"#VALUE!"}]
[5,{"$f":"IF(VLOOKUP($A241,'Schedule Setup'!$A$4:$E$39,2,FALSE)=0,\"\",VLOOKUP($A241,'Schedule Setup'!$A$4:$E$39,2,FALSE))","v":"Brendan Frye"},{"$f":"IF(VLOOKUP($A241,'Schedule Setup'!$A$4:$E$39,4,FALSE)=0,\"\",VLOOKUP($A241,'Schedule Setup'!$A$4:$E$39,4,FALSE))","v":"Team Member"},"TM","08:00:00","15:00:00",null,"x","x","x","x","","","TM","TM","TM","TM","TM","TM","TM","TM","TM","TM","TM","TM","TM","TM","","","","","","","","","","","","x","x","x","x","x","x","x",7,null,"x","x","x","x","","","TM","TM","TM","TM","TM","TM","TM","TM","TM","TM","TM","TM","TM","TM","","","","","","","","","","","","x","x","x","x","x","x","x",null,0,0,0,0,0,0,0.5,0.5,0.5,0.5,0.5,0.5,0.5,0.5,0.5,0.5,0.5,0.5,0.5,0.5,0,0,0,0,0,0,0,0,0,0,0,0,0,0,0,0,0,0,null,{"$f":"IF(VLOOKUP($A241,'Schedule Setup'!$A$4:$E$39,5,FALSE)=0,\"\",VLOOKUP($A241,'Schedule Setup'!$A$4:$E$39,5,FALSE))","v":""},3,"",4,"",0,"",7,"",null,3,"",4,"",0,"",7,"",null,{"$f":"'Schedule Setup'!P9","v":"07:00:00"},{"$f":"'Schedule Setup'!Q9","v":"20:30:00"},"06:30:00","21:00:00"]
[6,{"$f":"IF(VLOOKUP($A242,'Schedule Setup'!$A$4:$E$39,2,FALSE)=0,\"\",VLOOKUP($A242,'Schedule Setup'!$A$4:$E$39,2,FALSE))","v":"Jordan Galli"},{"$f":"IF(VLOOKUP($A242,'Schedule Setup'!$A$4:$E$39,4,FALSE)=0,\"\",VLOOKUP($A242,'Schedule Setup'!$A$4:$E$39,4,FALSE))","v":"Team Member"},"TM",null,null,null,"x","x","x","x","","","","","","","","","","","","","","","","","","","","","","","","","","","","x","x","x","x","x","x","x",0,null,"x","x","x","x","","","","","","","","","","","","","","","","","","","","","","","","","","","","x","x","x","x","x","x","x",null,0,0,0,0,0,0,0,0,0,0,0,0,0,0,0,0,0,0,0,0,0,0,0,0,0,0,0,0,0,0,0,0,0,0,0,0,0,0,null,{"$f":"IF(VLOOKUP($A242,'Schedule Setup'!$A$4:$E$39,5,FALSE)=0,\"\",VLOOKUP($A242,'Schedule Setup'!$A$4:$E$39,5,FALSE))","v":""},0,"",0,"",0,"",0,"",null,0,"",0,"",0,"",0,"",null,{"$f":"'Schedule Setup'!P10","v":"07:00:00"},{"$f":"'Schedule Setup'!Q10","v":"20:30:00"},"06:30:00","21:00:00"]
[7,{"$f":"IF(VLOOKUP($A243,'Schedule Setup'!$A$4:$E$39,2,FALSE)=0,\"\",VLOOKUP($A243,'Schedule Setup'!$A$4:$E$39,2,FALSE))","v":"Madelyn Hickey"},{"$f":"IF(VLOOKUP($A243,'Schedule Setup'!$A$4:$E$39,4,FALSE)=0,\"\",VLOOKUP($A243,'Schedule Setup'!$A$4:$E$39,4,FALSE))","v":"Team Member"},"TM","14:30:00","20:30:00",null,"x","x","x","x","","","","","","","","","","","","","","","","TM","TM","TM","TM","TM","TM","TM","TM",{"$f":"BW243","v":"TM"},"TM","TM","TM","x","x","x","x","x","x","x",6,null,"x","x","x","x","","","","","","","","","","","","","","","","TM","TM","TM","TM","TM","TM","TM","TM","TM","TM","TM","TM","x","x","x","x","x","x","x",null,0,0,0,0,0,0,0,0,0,0,0,0,0,0,0,0,0,0,0,0.5,0.5,0.5,0.5,0.5,0.5,0.5,0.5,0.5,0.5,0.5,0.5,0,0,0,0,0,0,0,null,{"$f":"IF(VLOOKUP($A243,'Schedule Setup'!$A$4:$E$39,5,FALSE)=0,\"\",VLOOKUP($A243,'Schedule Setup'!$A$4:$E$39,5,FALSE))","v":""},0,"",2.5,"",3.5,"",6,"",null,0,"",2.5,"",3.5,"",6,"",null,{"$f":"'Schedule Setup'!P11","v":"07:00:00"},{"$f":"'Schedule Setup'!Q11","v":"20:30:00"},"06:30:00","21:00:00"]
[8,{"$f":"IF(VLOOKUP($A244,'Schedule Setup'!$A$4:$E$39,2,FALSE)=0,\"\",VLOOKUP($A244,'Schedule Setup'!$A$4:$E$39,2,FALSE))","v":""},{"$f":"IF(VLOOKUP($A244,'Schedule Setup'!$A$4:$E$39,4,FALSE)=0,\"\",VLOOKUP($A244,'Schedule Setup'!$A$4:$E$39,4,FALSE))","v":""},"",null,null,null,{"$f":"AV244","v":"x"},"x","x","x","x","x","x","x","x","x","x","x","x","x","x","x",{"$f":"BL244","v":"x"},"x","x","x","x","x","x","x","x","x","x","x","x","x","x","x","x","x","x","x","x","x",0,null,"x","x","x","x","x","x","x","x","x","x","x","x","x","x","x","x","x","x","x","x","x","x","x","x","x","x","x","x","x","x","x","x","x",{"$f":"IF(AND($EO244<=AO$6+0.01,$EP244>AO$6+0.01),IF(AND(AO$6<$F244-0.01,AO$6>=$E244-0.01),$D244,\"\"),\"x\")","v":"x"},"x","x","x","x",null,0,0,0,0,0,0,0,0,0,0,0,0,0,0,0,0,0,0,0,0,0,0,0,0,0,0,0,0,0,0,0,0,0,0,0,0,0,0,null,{"$f":"IF(VLOOKUP($A244,'Schedule Setup'!$A$4:$E$39,5,FALSE)=0,\"\",VLOOKUP($A244,'Schedule Setup'!$A$4:$E$39,5,FALSE))","v":""},0,{"$f":"IFERROR(DW244*$DV244,\"\")","v":""},0,"",0,"",0,"",null,0,"",0,"",0,"",0,"",null,{"$f":"'Schedule Setup'!P12","v":"00:00:00"},{"$f":"'Schedule Setup'!Q12","v":"00:00:00"},-2.0833333333333332E-2,"00:30:00"]
[9,{"$f":"IF(VLOOKUP($A245,'Schedule Setup'!$A$4:$E$39,2,FALSE)=0,\"\",VLOOKUP($A245,'Schedule Setup'!$A$4:$E$39,2,FALSE))","v":""},{"$f":"IF(VLOOKUP($A245,'Schedule Setup'!$A$4:$E$39,4,FALSE)=0,\"\",VLOOKUP($A245,'Schedule Setup'!$A$4:$E$39,4,FALSE))","v":""},"",null,null,null,"x","x","x","x","x","x","x","x","x","x","x","x","x","x","x","x","x","x","x","x","x","x","x","x","x","x","x","x","x","x","x","x","x","x","x","x","x","x",0,null,"x","x","x","x","x","x","x","x","x","x","x","x","x","x","x","x","x","x","x","x","x","x","x","x","x","x","x","x","x","x","x","x","x",{"$f":"IF(AND($EO245<=AO$6+0.01,$EP245>AO$6+0.01),IF(AND(AO$6<$F245-0.01,AO$6>=$E245-0.01),$D245,\"\"),\"x\")","v":"x"},"x","x","x","x",null,0,0,0,0,0,0,0,0,0,0,0,0,0,0,0,0,0,0,0,0,0,0,0,0,0,0,0,0,0,0,0,0,0,0,0,0,0,0,null,{"$f":"IF(VLOOKUP($A245,'Schedule Setup'!$A$4:$E$39,5,FALSE)=0,\"\",VLOOKUP($A245,'Schedule Setup'!$A$4:$E$39,5,FALSE))","v":""},0,{"$f":"IFERROR(DW245*$DV245,\"\")","v":""},0,"",0,"",0,"",null,0,"",0,"",0,"",0,"",null,{"$f":"'Schedule Setup'!P13","v":"00:00:00"},{"$f":"'Schedule Setup'!Q13","v":"00:00:00"},-2.0833333333333332E-2,"00:30:00"]
[10,{"$f":"IF(VLOOKUP($A246,'Schedule Setup'!$A$4:$E$39,2,FALSE)=0,\"\",VLOOKUP($A246,'Schedule Setup'!$A$4:$E$39,2,FALSE))","v":""},{"$f":"IF(VLOOKUP($A246,'Schedule Setup'!$A$4:$E$39,4,FALSE)=0,\"\",VLOOKUP($A246,'Schedule Setup'!$A$4:$E$39,4,FALSE))","v":""},"",null,null,null,"x","x","x","x","x","x","x","x","x","x","x","x","x","x","x","x","x","x","x","x","x","x","x","x","x","x","x","x","x","x","x","x","x","x","x","x","x","x",0,null,"x","x","x","x","x","x","x","x","x","x","x","x","x","x","x","x","x","x","x","x","x","x","x","x","x","x","x","x","x","x","x","x","x","x","x","x","x","x",null,0,0,0,0,0,0,0,0,0,0,0,0,0,0,0,0,0,0,0,0,0,0,0,0,0,0,0,0,0,0,0,0,0,0,0,0,0,0,null,{"$f":"IF(VLOOKUP($A246,'Schedule Setup'!$A$4:$E$39,5,FALSE)=0,\"\",VLOOKUP($A246,'Schedule Setup'!$A$4:$E$39,5,FALSE))","v":""},0,"",0,"",0,"",0,"",null,0,"",0,"",0,"",0,"",null,{"$f":"'Schedule Setup'!P14","v":"00:00:00"},{"$f":"'Schedule Setup'!Q14","v":"00:00:00"},-2.0833333333333332E-2,"00:30:00"]
[11,{"$f":"IF(VLOOKUP($A247,'Schedule Setup'!$A$4:$E$39,2,FALSE)=0,\"\",VLOOKUP($A247,'Schedule Setup'!$A$4:$E$39,2,FALSE))","v":""},{"$f":"IF(VLOOKUP($A247,'Schedule Setup'!$A$4:$E$39,4,FALSE)=0,\"\",VLOOKUP($A247,'Schedule Setup'!$A$4:$E$39,4,FALSE))","v":""},"",null,null,null,"x","x","x","x","x","x","x","x","x","x","x","x","x","x","x","x","x","x","x","x","x","x","x","x","x","x","x","x","x","x","x","x","x","x","x","x","x","x",0,null,"x","x","x","x","x","x","x","x","x","x","x","x","x","x","x","x","x","x","x","x","x","x","x","x","x","x","x","x","x","x","x","x","x","x","x","x","x","x",null,0,0,0,0,0,0,0,0,0,0,0,0,0,0,0,0,0,0,0,0,0,0,0,0,0,0,0,0,0,0,0,0,0,0,0,0,0,0,null,{"$f":"IF(VLOOKUP($A247,'Schedule Setup'!$A$4:$E$39,5,FALSE)=0,\"\",VLOOKUP($A247,'Schedule Setup'!$A$4:$E$39,5,FALSE))","v":""},0,"",0,"",0,"",0,"",null,0,"",0,"",0,"",0,"",null,{"$f":"'Schedule Setup'!P15","v":"00:00:00"},{"$f":"'Schedule Setup'!Q15","v":"00:00:00"},-2.0833333333333332E-2,"00:30:00"]
[12,{"$f":"IF(VLOOKUP($A248,'Schedule Setup'!$A$4:$E$39,2,FALSE)=0,\"\",VLOOKUP($A248,'Schedule Setup'!$A$4:$E$39,2,FALSE))","v":""},{"$f":"IF(VLOOKUP($A248,'Schedule Setup'!$A$4:$E$39,4,FALSE)=0,\"\",VLOOKUP($A248,'Schedule Setup'!$A$4:$E$39,4,FALSE))","v":""},"",null,null,null,"x","x","x","x","x","x","x","x","x","x","x","x","x","x","x","x","x","x","x","x","x","x","x","x","x","x","x","x","x","x","x","x","x","x","x","x","x","x",0,null,"x","x","x","x","x","x","x","x","x","x","x","x","x","x","x","x","x","x","x","x","x","x","x","x","x","x","x","x","x","x","x","x","x","x","x","x","x","x",null,0,0,0,0,0,0,0,0,0,0,0,0,0,0,0,0,0,0,0,0,0,0,0,0,0,0,0,0,0,0,0,0,0,0,0,0,0,0,null,{"$f":"IF(VLOOKUP($A248,'Schedule Setup'!$A$4:$E$39,5,FALSE)=0,\"\",VLOOKUP($A248,'Schedule Setup'!$A$4:$E$39,5,FALSE))","v":""},0,"",0,"",0,"",0,"",null,0,"",0,"",0,"",0,"",null,{"$f":"'Schedule Setup'!P16","v":"00:00:00"},{"$f":"'Schedule Setup'!Q16","v":"00:00:00"},-2.0833333333333332E-2,"00:30:00"]
[13,{"$f":"IF(VLOOKUP($A249,'Schedule Setup'!$A$4:$E$39,2,FALSE)=0,\"\",VLOOKUP($A249,'Schedule Setup'!$A$4:$E$39,2,FALSE))","v":""},{"$f":"IF(VLOOKUP($A249,'Schedule Setup'!$A$4:$E$39,4,FALSE)=0,\"\",VLOOKUP($A249,'Schedule Setup'!$A$4:$E$39,4,FALSE))","v":""},"",null,null,null,"x","x","x","x","x","x","x","x","x","x","x","x","x","x","x","x","x","x","x","x","x","x","x","x","x","x","x","x","x","x","x","x","x","x","x","x","x","x",0,null,"x","x","x","x","x","x","x","x","x","x","x","x","x","x","x","x","x","x","x","x","x","x","x","x","x","x","x","x","x","x","x","x","x","x","x","x","x","x",null,0,0,0,0,0,0,0,0,0,0,0,0,0,0,0,0,0,0,0,0,0,0,0,0,0,0,0,0,0,0,0,0,0,0,0,0,0,0,null,{"$f":"IF(VLOOKUP($A249,'Schedule Setup'!$A$4:$E$39,5,FALSE)=0,\"\",VLOOKUP($A249,'Schedule Setup'!$A$4:$E$39,5,FALSE))","v":""},0,"",0,"",0,"",0,"",null,0,"",0,"",0,"",0,"",null,{"$f":"'Schedule Setup'!P17","v":"00:00:00"},{"$f":"'Schedule Setup'!Q17","v":"00:00:00"},-2.0833333333333332E-2,"00:30:00"]
[14,{"$f":"IF(VLOOKUP($A250,'Schedule Setup'!$A$4:$E$39,2,FALSE)=0,\"\",VLOOKUP($A250,'Schedule Setup'!$A$4:$E$39,2,FALSE))","v":"Matt Louden"},{"$f":"IF(VLOOKUP($A250,'Schedule Setup'!$A$4:$E$39,4,FALSE)=0,\"\",VLOOKUP($A250,'Schedule Setup'!$A$4:$E$39,4,FALSE))","v":"Team Member"},"TM",null,null,null,"x","x","x","x","","","","","","","","","","","","","","","","","","","","x","x","x","x","x","x","x","x","x","x","x","x","x","x","x",0,null,"x","x","x","x","","","","","","","","","","","","","","","","","","","","x","x","x","x","x","x","x","x","x","x","x","x","x","x","x",null,0,0,0,0,0,0,0,0,0,0,0,0,0,0,0,0,0,0,0,0,0,0,0,0,0,0,0,0,0,0,0,0,0,0,0,0,0,0,null,{"$f":"IF(VLOOKUP($A250,'Schedule Setup'!$A$4:$E$39,5,FALSE)=0,\"\",VLOOKUP($A250,'Schedule Setup'!$A$4:$E$39,5,FALSE))","v":""},0,"",0,"",0,"",0,"",null,0,"",0,"",0,"",0,"",null,{"$f":"'Schedule Setup'!P18","v":"07:00:00"},{"$f":"'Schedule Setup'!Q18","v":"16:30:00"},"06:30:00","17:00:00"]
[15,{"$f":"IF(VLOOKUP($A251,'Schedule Setup'!$A$4:$E$39,2,FALSE)=0,\"\",VLOOKUP($A251,'Schedule Setup'!$A$4:$E$39,2,FALSE))","v":"Ani Reyes"},{"$f":"IF(VLOOKUP($A251,'Schedule Setup'!$A$4:$E$39,4,FALSE)=0,\"\",VLOOKUP($A251,'Schedule Setup'!$A$4:$E$39,4,FALSE))","v":"Team Member"},"TM",null,null,null,"x","x","x","x","","","","","","","","","","","","","","","","","","","","","","","","","","","","x","x","x","x","x","x","x",0,null,"x","x","x","x","","","","","","","","","","","","","","","","","","","","","","","","","","","","x","x","x","x","x","x","x",null,0,0,0,0,0,0,0,0,0,0,0,0,0,0,0,0,0,0,0,0,0,0,0,0,0,0,0,0,0,0,0,0,0,0,0,0,0,0,null,{"$f":"IF(VLOOKUP($A251,'Schedule Setup'!$A$4:$E$39,5,FALSE)=0,\"\",VLOOKUP($A251,'Schedule Setup'!$A$4:$E$39,5,FALSE))","v":""},0,"",0,"",0,"",0,"",null,0,"",0,"",0,"",0,"",null,{"$f":"'Schedule Setup'!P19","v":"07:00:00"},{"$f":"'Schedule Setup'!Q19","v":"20:30:00"},"06:30:00","21:00:00"]
[16,{"$f":"IF(VLOOKUP($A252,'Schedule Setup'!$A$4:$E$39,2,FALSE)=0,\"\",VLOOKUP($A252,'Schedule Setup'!$A$4:$E$39,2,FALSE))","v":"Andrew Philips"},{"$f":"IF(VLOOKUP($A252,'Schedule Setup'!$A$4:$E$39,4,FALSE)=0,\"\",VLOOKUP($A252,'Schedule Setup'!$A$4:$E$39,4,FALSE))","v":"Team Member"},"TM","12:00:00","18:00:00",null,"x","x","x","x","","","","","","","","","","","TM","TM","TM","TM","TM","TM","TM","TM","TM","TM","TM","TM","","","","","","x","x","x","x","x","x","x",6,null,"x","x","x","x","","","","","","","","","","","TM","TM",{"$f":"IF(AND($EO252<=X$6+0.01,$EP252>X$6+0.01),IF(AND(X$6<$F252-0.01,X$6>=$E252-0.01),$D252,\"\"),\"x\")","v":"TM"},{"$f":"IF(AND($EO252<=Y$6+0.01,$EP252>Y$6+0.01),IF(AND(Y$6<$F252-0.01,Y$6>=$E252-0.01),$D252,\"\"),\"x\")","v":"TM"},{"$f":"IF(AND($EO252<=Z$6+0.01,$EP252>Z$6+0.01),IF(AND(Z$6<$F252-0.01,Z$6>=$E252-0.01),$D252,\"\"),\"x\")","v":"TM"},{"$f":"IF(AND($EO252<=AA$6+0.01,$EP252>AA$6+0.01),IF(AND(AA$6<$F252-0.01,AA$6>=$E252-0.01),$D252,\"\"),\"x\")","v":"TM"},{"$f":"IF(AND($EO252<=AB$6+0.01,$EP252>AB$6+0.01),IF(AND(AB$6<$F252-0.01,AB$6>=$E252-0.01),$D252,\"\"),\"x\")","v":"TM"},{"$f":"IF(AND($EO252<=AC$6+0.01,$EP252>AC$6+0.01),IF(AND(AC$6<$F252-0.01,AC$6>=$E252-0.01),$D252,\"\"),\"x\")","v":"TM"},{"$f":"IF(AND($EO252<=AD$6+0.01,$EP252>AD$6+0.01),IF(AND(AD$6<$F252-0.01,AD$6>=$E252-0.01),$D252,\"\"),\"x\")","v":"TM"},{"$f":"IF(AND($EO252<=AE$6+0.01,$EP252>AE$6+0.01),IF(AND(AE$6<$F252-0.01,AE$6>=$E252-0.01),$D252,\"\"),\"x\")","v":"TM"},{"$f":"IF(AND($EO252<=AF$6+0.01,$EP252>AF$6+0.01),IF(AND(AF$6<$F252-0.01,AF$6>=$E252-0.01),$D252,\"\"),\"x\")","v":"TM"},{"$f":"IF(AND($EO252<=AG$6+0.01,$EP252>AG$6+0.01),IF(AND(AG$6<$F252-0.01,AG$6>=$E252-0.01),$D252,\"\"),\"x\")","v":"TM"},{"$f":"IF(AND($EO252<=AH$6+0.01,$EP252>AH$6+0.01),IF(AND(AH$6<$F252-0.01,AH$6>=$E252-0.01),$D252,\"\"),\"x\")","v":""},{"$f":"IF(AND($EO252<=AI$6+0.01,$EP252>AI$6+0.01),IF(AND(AI$6<$F252-0.01,AI$6>=$E252-0.01),$D252,\"\"),\"x\")","v":""},{"$f":"IF(AND($EO252<=AJ$6+0.01,$EP252>AJ$6+0.01),IF(AND(AJ$6<$F252-0.01,AJ$6>=$E252-0.01),$D252,\"\"),\"x\")","v":""},{"$f":"IF(AND($EO252<=AK$6+0.01,$EP252>AK$6+0.01),IF(AND(AK$6<$F252-0.01,AK$6>=$E252-0.01),$D252,\"\"),\"x\")","v":""},{"$f":"IF(AND($EO252<=AL$6+0.01,$EP252>AL$6+0.01),IF(AND(AL$6<$F252-0.01,AL$6>=$E252-0.01),$D252,\"\"),\"x\")","v":""},{"$f":"IF(AND($EO252<=AM$6+0.01,$EP252>AM$6+0.01),IF(AND(AM$6<$F252-0.01,AM$6>=$E252-0.01),$D252,\"\"),\"x\")","v":"x"},{"$f":"IF(AND($EO252<=AN$6+0.01,$EP252>AN$6+0.01),IF(AND(AN$6<$F252-0.01,AN$6>=$E252-0.01),$D252,\"\"),\"x\")","v":"x"},"x","x","x","x","x",null,0,0,0,0,0,0,0,0,0,0,0,0,0,0,0.5,0.5,0.5,0.5,0.5,0.5,0.5,0.5,0.5,0.5,0.5,0.5,0,0,0,0,0,0,0,0,0,0,0,0,null,{"$f":"IF(VLOOKUP($A252,'Schedule Setup'!$A$4:$E$39,5,FALSE)=0,\"\",VLOOKUP($A252,'Schedule Setup'!$A$4:$E$39,5,FALSE))","v":""},0,"",5,"",1,"",6,"",null,0,"",5,"",1,"",6,"",null,{"$f":"'Schedule Setup'!P20","v":"07:00:00"},{"$f":"'Schedule Setup'!Q20","v":"20:30:00"},"06:30:00","21:00:00"]
[17,{"$f":"IF(VLOOKUP($A253,'Schedule Setup'!$A$4:$E$39,2,FALSE)=0,\"\",VLOOKUP($A253,'Schedule Setup'!$A$4:$E$39,2,FALSE))","v":""},{"$f":"IF(VLOOKUP($A253,'Schedule Setup'!$A$4:$E$39,4,FALSE)=0,\"\",VLOOKUP($A253,'Schedule Setup'!$A$4:$E$39,4,FALSE))","v":""},"",null,null,null,"x","x","x","x","x","x","x","x","x","x","x","x","x","x","x","x","x","x","x","x","x","x","x","x","x","x","x","x","x","x","x","x","x","x","x","x","x","x",0,null,{"$f":"IF(AND($EO253<=H$6+0.01,$EP253>H$6+0.01),IF(AND(H$6<$F253-0.01,H$6>=$E253-0.01),$D253,\"\"),\"x\")","v":"x"},{"$f":"IF(AND($EO253<=I$6+0.01,$EP253>I$6+0.01),IF(AND(I$6<$F253-0.01,I$6>=$E253-0.01),$D253,\"\"),\"x\")","v":"x"},{"$f":"IF(AND($EO253<=J$6+0.01,$EP253>J$6+0.01),IF(AND(J$6<$F253-0.01,J$6>=$E253-0.01),$D253,\"\"),\"x\")","v":"x"},{"$f":"IF(AND($EO253<=K$6+0.01,$EP253>K$6+0.01),IF(AND(K$6<$F253-0.01,K$6>=$E253-0.01),$D253,\"\"),\"x\")","v":"x"},{"$f":"IF(AND($EO253<=L$6+0.01,$EP253>L$6+0.01),IF(AND(L$6<$F253-0.01,L$6>=$E253-0.01),$D253,\"\"),\"x\")","v":"x"},{"$f":"IF(AND($EO253<=M$6+0.01,$EP253>M$6+0.01),IF(AND(M$6<$F253-0.01,M$6>=$E253-0.01),$D253,\"\"),\"x\")","v":"x"},{"$f":"IF(AND($EO253<=N$6+0.01,$EP253>N$6+0.01),IF(AND(N$6<$F253-0.01,N$6>=$E253-0.01),$D253,\"\"),\"x\")","v":"x"},{"$f":"IF(AND($EO253<=O$6+0.01,$EP253>O$6+0.01),IF(AND(O$6<$F253-0.01,O$6>=$E253-0.01),$D253,\"\"),\"x\")","v":"x"},{"$f":"IF(AND($EO253<=P$6+0.01,$EP253>P$6+0.01),IF(AND(P$6<$F253-0.01,P$6>=$E253-0.01),$D253,\"\"),\"x\")","v":"x"},{"$f":"IF(AND($EO253<=Q$6+0.01,$EP253>Q$6+0.01),IF(AND(Q$6<$F253-0.01,Q$6>=$E253-0.01),$D253,\"\"),\"x\")","v":"x"},{"$f":"IF(AND($EO253<=R$6+0.01,$EP253>R$6+0.01),IF(AND(R$6<$F253-0.01,R$6>=$E253-0.01),$D253,\"\"),\"x\")","v":"x"},{"$f":"IF(AND($EO253<=S$6+0.01,$EP253>S$6+0.01),IF(AND(S$6<$F253-0.01,S$6>=$E253-0.01),$D253,\"\"),\"x\")","v":"x"},{"$f":"IF(AND($EO253<=T$6+0.01,$EP253>T$6+0.01),IF(AND(T$6<$F253-0.01,T$6>=$E253-0.01),$D253,\"\"),\"x\")","v":"x"},{"$f":"IF(AND($EO253<=U$6+0.01,$EP253>U$6+0.01),IF(AND(U$6<$F253-0.01,U$6>=$E253-0.01),$D253,\"\"),\"x\")","v":"x"},{"$f":"IF(AND($EO253<=V$6+0.01,$EP253>V$6+0.01),IF(AND(V$6<$F253-0.01,V$6>=$E253-0.01),$D253,\"\"),\"x\")","v":"x"},{"$f":"IF(AND($EO253<=W$6+0.01,$EP253>W$6+0.01),IF(AND(W$6<$F253-0.01,W$6>=$E253-0.01),$D253,\"\"),\"x\")","v":"x"},"x","x","x","x","x","x","x","x","x","x","x","x","x","x","x","x","x","x","x","x","x","x",null,0,0,0,0,0,0,0,0,0,0,0,0,0,0,0,0,0,0,0,0,0,0,0,0,0,0,0,0,0,0,0,0,0,0,0,0,0,0,null,{"$f":"IF(VLOOKUP($A253,'Schedule Setup'!$A$4:$E$39,5,FALSE)=0,\"\",VLOOKUP($A253,'Schedule Setup'!$A$4:$E$39,5,FALSE))","v":""},0,"",0,"",0,"",0,"",null,0,"",0,"",0,"",0,"",null,{"$f":"'Schedule Setup'!P21","v":"00:00:00"},{"$f":"'Schedule Setup'!Q21","v":"00:00:00"},-2.0833333333333332E-2,"00:30:00"]
[18,{"$f":"IF(VLOOKUP($A254,'Schedule Setup'!$A$4:$E$39,2,FALSE)=0,\"\",VLOOKUP($A254,'Schedule Setup'!$A$4:$E$39,2,FALSE))","v":""},{"$f":"IF(VLOOKUP($A254,'Schedule Setup'!$A$4:$E$39,4,FALSE)=0,\"\",VLOOKUP($A254,'Schedule Setup'!$A$4:$E$39,4,FALSE))","v":""},"",null,null,null,"x","x","x","x","x","x","x","x","x","x","x","x","x","x","x","x","x","x","x","x","x","x","x","x","x","x","x","x","x","x","x","x","x","x","x","x","x","x",0,null,"x","x","x","x","x","x","x","x","x","x","x","x","x","x","x","x","x","x","x","x","x","x","x","x","x","x","x","x","x","x","x","x","x","x","x","x","x","x",null,0,0,0,0,0,0,0,0,0,0,0,0,0,0,0,0,0,0,0,0,0,0,0,0,0,0,0,0,0,0,0,0,0,0,0,0,0,0,null,{"$f":"IF(VLOOKUP($A254,'Schedule Setup'!$A$4:$E$39,5,FALSE)=0,\"\",VLOOKUP($A254,'Schedule Setup'!$A$4:$E$39,5,FALSE))","v":""},0,"",0,"",0,"",0,"",null,0,"",0,"",0,"",0,"",null,{"$f":"'Schedule Setup'!P22","v":"00:00:00"},{"$f":"'Schedule Setup'!Q22","v":"00:00:00"},-2.0833333333333332E-2,"00:30:00"]
[19,{"$f":"IF(VLOOKUP($A255,'Schedule Setup'!$A$4:$E$39,2,FALSE)=0,\"\",VLOOKUP($A255,'Schedule Setup'!$A$4:$E$39,2,FALSE))","v":"."},{"$f":"IF(VLOOKUP($A255,'Schedule Setup'!$A$4:$E$39,4,FALSE)=0,\"\",VLOOKUP($A255,'Schedule Setup'!$A$4:$E$39,4,FALSE))","v":""},"TM",null,null,null,"x","x","x","x","x","x","x","x","x","x","x","x","x","x","x","x","x","x","x","x","x","x","x","x","x","x","x","x","x","x","x","x","x","x","x","x","x","x",0,null,"x","x","x","x","x","x","x","x","x","x","x","x","x","x","x","x","x","x","x","x","x","x","x","x","x","x","x","x","x","x","x","x","x","x","x","x","x","x",null,0,0,0,0,0,0,0,0,0,0,0,0,0,0,0,0,0,0,0,0,0,0,0,0,0,0,0,0,0,0,0,0,0,0,0,0,0,0,null,{"$f":"IF(VLOOKUP($A255,'Schedule Setup'!$A$4:$E$39,5,FALSE)=0,\"\",VLOOKUP($A255,'Schedule Setup'!$A$4:$E$39,5,FALSE))","v":""},0,"",0,"",0,"",0,"",null,0,"",0,"",0,"",0,"",null,{"$f":"'Schedule Setup'!P23","v":"00:00:00"},{"$f":"'Schedule Setup'!Q23","v":"00:00:00"},-2.0833333333333332E-2,"00:30:00"]
[20,{"$f":"IF(VLOOKUP($A256,'Schedule Setup'!$A$4:$E$39,2,FALSE)=0,\"\",VLOOKUP($A256,'Schedule Setup'!$A$4:$E$39,2,FALSE))","v":"Sean Duncan"},{"$f":"IF(VLOOKUP($A256,'Schedule Setup'!$A$4:$E$39,4,FALSE)=0,\"\",VLOOKUP($A256,'Schedule Setup'!$A$4:$E$39,4,FALSE))","v":"Team Lead"},"TL","14:30:00","20:30:00",null,"x","x","x","x","x","x","x","x","x","x","x","x","x","x","x","x","x","x","x","TL","TL","TL","TL","TL","TL","TL","TL","TL","TL","TL","TL","x","x","x","x","x","x","x",6,null,"x","x","x","x","x","x","x","x","x","x","x","x","x","x","x","x","x","x","x","TL","TL","TL","TL","TL","TL","TL","TL","TL","TL","TL","TL","x","x","x","x","x","x","x",null,0,0,0,0,0,0,0,0,0,0,0,0,0,0,0,0,0,0,0,0.5,0.5,0.5,0.5,0.5,0.5,0.5,0.5,0.5,0.5,0.5,0.5,0,0,0,0,0,0,0,null,{"$f":"IF(VLOOKUP($A256,'Schedule Setup'!$A$4:$E$39,5,FALSE)=0,\"\",VLOOKUP($A256,'Schedule Setup'!$A$4:$E$39,5,FALSE))","v":""},0,"",2.5,"",3.5,"",6,"",null,0,"",2.5,"",3.5,"",6,"",null,{"$f":"'Schedule Setup'!P24","v":"14:30:00"},{"$f":"'Schedule Setup'!Q24","v":"20:30:00"},"14:00:00","21:00:00"]
[21,{"$f":"IF(VLOOKUP($A257,'Schedule Setup'!$A$4:$E$39,2,FALSE)=0,\"\",VLOOKUP($A257,'Schedule Setup'!$A$4:$E$39,2,FALSE))","v":""},{"$f":"IF(VLOOKUP($A257,'Schedule Setup'!$A$4:$E$39,4,FALSE)=0,\"\",VLOOKUP($A257,'Schedule Setup'!$A$4:$E$39,4,FALSE))","v":""},"",null,null,null,"x","x","x","x","x","x","x","x","x","x","x","x","x","x","x","x","x","x","x","x","x","x","x","x","x","x","x","x","x","x","x","x","x","x","x","x","x","x",0,null,"x","x","x","x","x","x","x","x","x","x","x","x","x","x","x","x","x","x","x","x","x","x","x","x","x","x","x","x","x","x","x","x","x","x","x","x","x","x",null,0,0,0,0,0,0,0,0,0,0,0,0,0,0,0,0,0,0,0,0,0,0,0,0,0,0,0,0,0,0,0,0,0,0,0,0,0,0,null,{"$f":"IF(VLOOKUP($A257,'Schedule Setup'!$A$4:$E$39,5,FALSE)=0,\"\",VLOOKUP($A257,'Schedule Setup'!$A$4:$E$39,5,FALSE))","v":""},0,"",0,"",0,"",0,"",null,0,"",0,"",0,"",0,"",null,{"$f":"'Schedule Setup'!P25","v":"00:00:00"},{"$f":"'Schedule Setup'!Q25","v":"00:00:00"},-2.0833333333333332E-2,"00:30:00"]
[22,{"$f":"IF(VLOOKUP($A258,'Schedule Setup'!$A$4:$E$39,2,FALSE)=0,\"\",VLOOKUP($A258,'Schedule Setup'!$A$4:$E$39,2,FALSE))","v":""},{"$f":"IF(VLOOKUP($A258,'Schedule Setup'!$A$4:$E$39,4,FALSE)=0,\"\",VLOOKUP($A258,'Schedule Setup'!$A$4:$E$39,4,FALSE))","v":""},"",null,null,null,"x","x","x","x","x","x","x","x","x","x","x","x","x","x","x","x","x","x","x","x","x","x","x","x","x","x","x","x","x","x","x","x","x","x","x","x","x","x",0,null,"x","x","x","x","x","x","x","x","x","x","x","x","x","x","x","x","x","x","x","x","x","x","x","x","x","x","x","x","x","x","x","x","x","x","x","x","x","x",null,0,0,0,0,0,0,0,0,0,0,0,0,0,0,0,0,0,0,0,0,0,0,0,0,0,0,0,0,0,0,0,0,0,0,0,0,0,0,null,{"$f":"IF(VLOOKUP($A258,'Schedule Setup'!$A$4:$E$39,5,FALSE)=0,\"\",VLOOKUP($A258,'Schedule Setup'!$A$4:$E$39,5,FALSE))","v":""},0,"",0,"",0,"",0,"",null,0,"",0,"",0,"",0,"",null,{"$f":"'Schedule Setup'!P26","v":"00:00:00"},{"$f":"'Schedule Setup'!Q26","v":"00:00:00"},-2.0833333333333332E-2,"00:30:00"]
[23,{"$f":"IF(VLOOKUP($A259,'Schedule Setup'!$A$4:$E$39,2,FALSE)=0,\"\",VLOOKUP($A259,'Schedule Setup'!$A$4:$E$39,2,FALSE))","v":""},{"$f":"IF(VLOOKUP($A259,'Schedule Setup'!$A$4:$E$39,4,FALSE)=0,\"\",VLOOKUP($A259,'Schedule Setup'!$A$4:$E$39,4,FALSE))","v":""},"",null,null,null,"x","x","x","x","x","x","x","x","x","x","x","x","x","x","x","x","x","x","x","x","x","x","x","x","x","x","x","x","x","x","x","x","x","x","x","x","x","x",0,null,"x","x","x","x","x","x","x","x","x","x","x","x","x","x","x","x","x","x","x","x","x","x","x","x","x","x","x","x","x","x","x","x","x","x","x","x","x","x",null,0,0,0,0,0,0,0,0,0,0,0,0,0,0,0,0,0,0,0,0,0,0,0,0,0,0,0,0,0,0,0,0,0,0,0,0,0,0,null,{"$f":"IF(VLOOKUP($A259,'Schedule Setup'!$A$4:$E$39,5,FALSE)=0,\"\",VLOOKUP($A259,'Schedule Setup'!$A$4:$E$39,5,FALSE))","v":""},0,"",0,"",0,"",0,"",null,0,"",0,"",0,"",0,"",null,{"$f":"'Schedule Setup'!P27","v":"00:00:00"},{"$f":"'Schedule Setup'!Q27","v":"00:00:00"},-2.0833333333333332E-2,"00:30:00"]
[24,{"$f":"IF(VLOOKUP($A260,'Schedule Setup'!$A$4:$E$39,2,FALSE)=0,\"\",VLOOKUP($A260,'Schedule Setup'!$A$4:$E$39,2,FALSE))","v":""},{"$f":"IF(VLOOKUP($A260,'Schedule Setup'!$A$4:$E$39,4,FALSE)=0,\"\",VLOOKUP($A260,'Schedule Setup'!$A$4:$E$39,4,FALSE))","v":""},{"$f":"IF(B260<>\"\",IF(OR(C260=\"General Manager (S)\", C260=\"General Manager (H)\"), \"GM\",IF(C260=\"Acting Manager\",\"AM\",IF(C260=\"Shift Manager\",\"SM\",IF(C260=\"Team Lead\",\"TL\",\"TM\")))),\"\")","v":""},null,null,null,{"$f":"AV260","v":"x"},"x","x","x","x","x","x","x","x","x","x","x","x","x","x","x",{"$f":"BL260","v":"x"},"x","x","x","x","x","x","x","x","x","x","x","x","x",{"$f":"BZ260","v":"x"},{"$f":"CA260","v":"x"},{"$f":"CB260","v":"x"},{"$f":"CC260","v":"x"},{"$f":"CD260","v":"x"},{"$f":"CE260","v":"x"},{"$f":"CF260","v":"x"},{"$f":"CG260","v":"x"},{"$f":"EC260","v":0},null,{"$f":"IF(AND($EO260<=H$6+0.01,$EP260>H$6+0.01),IF(AND(H$6<$F260-0.01,H$6>=$E260-0.01),$D260,\"\"),\"x\")","v":"x"},{"$f":"IF(AND($EO260<=I$6+0.01,$EP260>I$6+0.01),IF(AND(I$6<$F260-0.01,I$6>=$E260-0.01),$D260,\"\"),\"x\")","v":"x"},{"$f":"IF(AND($EO260<=J$6+0.01,$EP260>J$6+0.01),IF(AND(J$6<$F260-0.01,J$6>=$E260-0.01),$D260,\"\"),\"x\")","v":"x"},{"$f":"IF(AND($EO260<=K$6+0.01,$EP260>K$6+0.01),IF(AND(K$6<$F260-0.01,K$6>=$E260-0.01),$D260,\"\"),\"x\")","v":"x"},{"$f":"IF(AND($EO260<=L$6+0.01,$EP260>L$6+0.01),IF(AND(L$6<$F260-0.01,L$6>=$E260-0.01),$D260,\"\"),\"x\")","v":"x"},{"$f":"IF(AND($EO260<=M$6+0.01,$EP260>M$6+0.01),IF(AND(M$6<$F260-0.01,M$6>=$E260-0.01),$D260,\"\"),\"x\")","v":"x"},{"$f":"IF(AND($EO260<=N$6+0.01,$EP260>N$6+0.01),IF(AND(N$6<$F260-0.01,N$6>=$E260-0.01),$D260,\"\"),\"x\")","v":"x"},{"$f":"IF(AND($EO260<=O$6+0.01,$EP260>O$6+0.01),IF(AND(O$6<$F260-0.01,O$6>=$E260-0.01),$D260,\"\"),\"x\")","v":"x"},{"$f":"IF(AND($EO260<=P$6+0.01,$EP260>P$6+0.01),IF(AND(P$6<$F260-0.01,P$6>=$E260-0.01),$D260,\"\"),\"x\")","v":"x"},{"$f":"IF(AND($EO260<=Q$6+0.01,$EP260>Q$6+0.01),IF(AND(Q$6<$F260-0.01,Q$6>=$E260-0.01),$D260,\"\"),\"x\")","v":"x"},{"$f":"IF(AND($EO260<=R$6+0.01,$EP260>R$6+0.01),IF(AND(R$6<$F260-0.01,R$6>=$E260-0.01),$D260,\"\"),\"x\")","v":"x"},{"$f":"IF(AND($EO260<=S$6+0.01,$EP260>S$6+0.01),IF(AND(S$6<$F260-0.01,S$6>=$E260-0.01),$D260,\"\"),\"x\")","v":"x"},{"$f":"IF(AND($EO260<=T$6+0.01,$EP260>T$6+0.01),IF(AND(T$6<$F260-0.01,T$6>=$E260-0.01),$D260,\"\"),\"x\")","v":"x"},{"$f":"IF(AND($EO260<=U$6+0.01,$EP260>U$6+0.01),IF(AND(U$6<$F260-0.01,U$6>=$E260-0.01),$D260,\"\"),\"x\")","v":"x"},{"$f":"IF(AND($EO260<=V$6+0.01,$EP260>V$6+0.01),IF(AND(V$6<$F260-0.01,V$6>=$E260-0.01),$D260,\"\"),\"x\")","v":"x"},{"$f":"IF(AND($EO260<=W$6+0.01,$EP260>W$6+0.01),IF(AND(W$6<$F260-0.01,W$6>=$E260-0.01),$D260,\"\"),\"x\")","v":"x"},{"$f":"IF(AND($EO260<=X$6+0.01,$EP260>X$6+0.01),IF(AND(X$6<$F260-0.01,X$6>=$E260-0.01),$D260,\"\"),\"x\")","v":"x"},{"$f":"IF(AND($EO260<=Y$6+0.01,$EP260>Y$6+0.01),IF(AND(Y$6<$F260-0.01,Y$6>=$E260-0.01),$D260,\"\"),\"x\")","v":"x"},{"$f":"IF(AND($EO260<=Z$6+0.01,$EP260>Z$6+0.01),IF(AND(Z$6<$F260-0.01,Z$6>=$E260-0.01),$D260,\"\"),\"x\")","v":"x"},{"$f":"IF(AND($EO260<=AA$6+0.01,$EP260>AA$6+0.01),IF(AND(AA$6<$F260-0.01,AA$6>=$E260-0.01),$D260,\"\"),\"x\")","v":"x"},{"$f":"IF(AND($EO260<=AB$6+0.01,$EP260>AB$6+0.01),IF(AND(AB$6<$F260-0.01,AB$6>=$E260-0.01),$D260,\"\"),\"x\")","v":"x"},{"$f":"IF(AND($EO260<=AC$6+0.01,$EP260>AC$6+0.01),IF(AND(AC$6<$F260-0.01,AC$6>=$E260-0.01),$D260,\"\"),\"x\")","v":"x"},{"$f":"IF(AND($EO260<=AD$6+0.01,$EP260>AD$6+0.01),IF(AND(AD$6<$F260-0.01,AD$6>=$E260-0.01),$D260,\"\"),\"x\")","v":"x"},{"$f":"IF(AND($EO260<=AE$6+0.01,$EP260>AE$6+0.01),IF(AND(AE$6<$F260-0.01,AE$6>=$E260-0.01),$D260,\"\"),\"x\")","v":"x"},{"$f":"IF(AND($EO260<=AF$6+0.01,$EP260>AF$6+0.01),IF(AND(AF$6<$F260-0.01,AF$6>=$E260-0.01),$D260,\"\"),\"x\")","v":"x"},{"$f":"IF(AND($EO260<=AG$6+0.01,$EP260>AG$6+0.01),IF(AND(AG$6<$F260-0.01,AG$6>=$E260-0.01),$D260,\"\"),\"x\")","v":"x"},{"$f":"IF(AND($EO260<=AH$6+0.01,$EP260>AH$6+0.01),IF(AND(AH$6<$F260-0.01,AH$6>=$E260-0.01),$D260,\"\"),\"x\")","v":"x"},{"$f":"IF(AND($EO260<=AI$6+0.01,$EP260>AI$6+0.01),IF(AND(AI$6<$F260-0.01,AI$6>=$E260-0.01),$D260,\"\"),\"x\")","v":"x"},{"$f":"IF(AND($EO260<=AJ$6+0.01,$EP260>AJ$6+0.01),IF(AND(AJ$6<$F260-0.01,AJ$6>=$E260-0.01),$D260,\"\"),\"x\")","v":"x"},{"$f":"IF(AND($EO260<=AK$6+0.01,$EP260>AK$6+0.01),IF(AND(AK$6<$F260-0.01,AK$6>=$E260-0.01),$D260,\"\"),\"x\")","v":"x"},{"$f":"IF(AND($EO260<=AL$6+0.01,$EP260>AL$6+0.01),IF(AND(AL$6<$F260-0.01,AL$6>=$E260-0.01),$D260,\"\"),\"x\")","v":"x"},{"$f":"IF(AND($EO260<=AM$6+0.01,$EP260>AM$6+0.01),IF(AND(AM$6<$F260-0.01,AM$6>=$E260-0.01),$D260,\"\"),\"x\")","v":"x"},{"$f":"IF(AND($EO260<=AN$6+0.01,$EP260>AN$6+0.01),IF(AND(AN$6<$F260-0.01,AN$6>=$E260-0.01),$D260,\"\"),\"x\")","v":"x"},{"$f":"IF(AND($EO260<=AO$6+0.01,$EP260>AO$6+0.01),IF(AND(AO$6<$F260-0.01,AO$6>=$E260-0.01),$D260,\"\"),\"x\")","v":"x"},{"$f":"IF(AND($EO260<=AP$6+0.01,$EP260>AP$6+0.01),IF(AND(AP$6<$F260-0.01,AP$6>=$E260-0.01),$D260,\"\"),\"x\")","v":"x"},{"$f":"IF(AND($EO260<=AQ$6+0.01,$EP260>AQ$6+0.01),IF(AND(AQ$6<$F260-0.01,AQ$6>=$E260-0.01),$D260,\"\"),\"x\")","v":"x"},{"$f":"IF(AND($EO260<=AR$6+0.01,$EP260>AR$6+0.01),IF(AND(AR$6<$F260-0.01,AR$6>=$E260-0.01),$D260,\"\"),\"x\")","v":"x"},{"$f":"IF(AND($EO260<=AS$6+0.01,$EP260>AS$6+0.01),IF(AND(AS$6<$F260-0.01,AS$6>=$E260-0.01),$D260,\"\"),\"x\")","v":"x"},null,{"$f":"IF(AND(AV260<>\"\",AV260<>\"x\"),0.5,)","v":0},{"$f":"IF(AND(AW260<>\"\",AW260<>\"x\"),0.5,)","v":0},{"$f":"IF(AND(AX260<>\"\",AX260<>\"x\"),0.5,)","v":0},{"$f":"IF(AND(AY260<>\"\",AY260<>\"x\"),0.5,)","v":0},{"$f":"IF(AND(AZ260<>\"\",AZ260<>\"x\"),0.5,)","v":0},{"$f":"IF(AND(BA260<>\"\",BA260<>\"x\"),0.5,)","v":0},{"$f":"IF(AND(BB260<>\"\",BB260<>\"x\"),0.5,)","v":0},{"$f":"IF(AND(BC260<>\"\",BC260<>\"x\"),0.5,)","v":0},{"$f":"IF(AND(BD260<>\"\",BD260<>\"x\"),0.5,)","v":0},{"$f":"IF(AND(BE260<>\"\",BE260<>\"x\"),0.5,)","v":0},{"$f":"IF(AND(BF260<>\"\",BF260<>\"x\"),0.5,)","v":0},{"$f":"IF(AND(BG260<>\"\",BG260<>\"x\"),0.5,)","v":0},{"$f":"IF(AND(BH260<>\"\",BH260<>\"x\"),0.5,)","v":0},{"$f":"IF(AND(BI260<>\"\",BI260<>\"x\"),0.5,)","v":0},{"$f":"IF(AND(BJ260<>\"\",BJ260<>\"x\"),0.5,)","v":0},{"$f":"IF(AND(BK260<>\"\",BK260<>\"x\"),0.5,)","v":0},{"$f":"IF(AND(BL260<>\"\",BL260<>\"x\"),0.5,)","v":0},{"$f":"IF(AND(BM260<>\"\",BM260<>\"x\"),0.5,)","v":0},{"$f":"IF(AND(BN260<>\"\",BN260<>\"x\"),0.5,)","v":0},{"$f":"IF(AND(BO260<>\"\",BO260<>\"x\"),0.5,)","v":0},{"$f":"IF(AND(BP260<>\"\",BP260<>\"x\"),0.5,)","v":0},{"$f":"IF(AND(BQ260<>\"\",BQ260<>\"x\"),0.5,)","v":0},{"$f":"IF(AND(BR260<>\"\",BR260<>\"x\"),0.5,)","v":0},{"$f":"IF(AND(BS260<>\"\",BS260<>\"x\"),0.5,)","v":0},{"$f":"IF(AND(BT260<>\"\",BT260<>\"x\"),0.5,)","v":0},{"$f":"IF(AND(BU260<>\"\",BU260<>\"x\"),0.5,)","v":0},{"$f":"IF(AND(BV260<>\"\",BV260<>\"x\"),0.5,)","v":0},{"$f":"IF(AND(BW260<>\"\",BW260<>\"x\"),0.5,)","v":0},{"$f":"IF(AND(BX260<>\"\",BX260<>\"x\"),0.5,)","v":0},{"$f":"IF(AND(BY260<>\"\",BY260<>\"x\"),0.5,)","v":0},{"$f":"IF(AND(BZ260<>\"\",BZ260<>\"x\"),0.5,)","v":0},{"$f":"IF(AND(CA260<>\"\",CA260<>\"x\"),0.5,)","v":0},{"$f":"IF(AND(CB260<>\"\",CB260<>\"x\"),0.5,)","v":0},{"$f":"IF(AND(CC260<>\"\",CC260<>\"x\"),0.5,)","v":0},{"$f":"IF(AND(CD260<>\"\",CD260<>\"x\"),0.5,)","v":0},{"$f":"IF(AND(CE260<>\"\",CE260<>\"x\"),0.5,)","v":0},{"$f":"IF(AND(CF260<>\"\",CF260<>\"x\"),0.5,)","v":0},{"$f":"IF(AND(CG260<>\"\",CG260<>\"x\"),0.5,)","v":0},null,{"$f":"IF(VLOOKUP($A260,'Schedule Setup'!$A$4:$E$39,5,FALSE)=0,\"\",VLOOKUP($A260,'Schedule Setup'!$A$4:$E$39,5,FALSE))","v":""},{"$f":"SUM(CI260:CT260)","v":0},{"$f":"IFERROR(DW260*$DV260,\"\")","v":""},{"$f":"SUM(CU260:DF260)","v":0},{"$f":"IFERROR(DY260*$DV260,\"\")","v":""},{"$f":"SUM(DG260:DT260)","v":0},{"$f":"IFERROR(EA260*$DV260,\"\")","v":""},{"$f":"SUM(DW260,DY260,EA260)","v":0},{"$f":"IFERROR(EC260*$DV260,\"\")","v":""},null,{"$f":"IF(DW260>5,(DW260-0.5),DW260)","v":0},{"$f":"IFERROR(EF260*$DV260,\"\")","v":""},{"$f":"IF(DY260>5,(DY260-0.5),DY260)","v":0},{"$f":"IFERROR(EH260*$DV260,\"\")","v":""},{"$f":"IF(EA260>5,(EA260-0.5),EA260)","v":0},{"$f":"IFERROR(EJ260*$DV260,\"\")","v":""},{"$f":"SUM(EF260,EH260,EJ260)","v":0},{"$f":"IFERROR(EL260*$DV260,\"\")","v":""},null,{"$f":"'Schedule Setup'!P28","v":"00:00:00"},{"$f":"'Schedule Setup'!Q28","v":"00:00:00"},{"$f":"EO260-(0.5/24)","v":-2.0833333333333332E-2},{"$f":"EP260+(0.5/24)","v":"00:30:00"}]
[25,{"$f":"IF(VLOOKUP($A261,'Schedule Setup'!$A$4:$E$39,2,FALSE)=0,\"\",VLOOKUP($A261,'Schedule Setup'!$A$4:$E$39,2,FALSE))","v":""},{"$f":"IF(VLOOKUP($A261,'Schedule Setup'!$A$4:$E$39,4,FALSE)=0,\"\",VLOOKUP($A261,'Schedule Setup'!$A$4:$E$39,4,FALSE))","v":""},"",null,null,null,"x","x","x","x","x","x","x","x","x","x","x","x","x","x","x","x","x","x","x","x","x","x","x","x","x","x","x","x","x","x","x","x","x","x","x","x","x","x",0,null,"x","x","x","x","x","x","x","x","x","x","x","x","x","x","x","x","x","x","x","x","x","x","x","x","x","x","x","x","x","x","x","x","x","x","x","x","x","x",null,0,0,0,0,0,0,0,0,0,0,0,0,0,0,0,0,0,0,0,0,0,0,0,0,0,0,0,0,0,0,0,0,0,0,0,0,0,0,null,{"$f":"IF(VLOOKUP($A261,'Schedule Setup'!$A$4:$E$39,5,FALSE)=0,\"\",VLOOKUP($A261,'Schedule Setup'!$A$4:$E$39,5,FALSE))","v":""},0,"",0,"",0,"",0,"",null,0,"",0,"",0,"",0,"",null,{"$f":"'Schedule Setup'!P29","v":"00:00:00"},{"$f":"'Schedule Setup'!Q29","v":"00:00:00"},-2.0833333333333332E-2,"00:30:00"]
[26,{"$f":"IF(VLOOKUP($A262,'Schedule Setup'!$A$4:$E$39,2,FALSE)=0,\"\",VLOOKUP($A262,'Schedule Setup'!$A$4:$E$39,2,FALSE))","v":""},{"$f":"IF(VLOOKUP($A262,'Schedule Setup'!$A$4:$E$39,4,FALSE)=0,\"\",VLOOKUP($A262,'Schedule Setup'!$A$4:$E$39,4,FALSE))","v":""},"",null,null,null,"x","x","x","x","x","x","x","x","x","x","x","x","x","x","x","x","x","x","x","x","x","x","x","x","x","x","x","x","x","x","x","x","x","x","x","x","x","x",0,null,"x","x","x","x","x","x","x","x","x","x","x","x","x","x","x","x","x","x","x","x","x","x","x","x","x","x","x","x","x","x","x","x","x","x","x","x","x","x",null,0,0,0,0,0,0,0,0,0,0,0,0,0,0,0,0,0,0,0,0,0,0,0,0,0,0,0,0,0,0,0,0,0,0,0,0,0,0,null,{"$f":"IF(VLOOKUP($A262,'Schedule Setup'!$A$4:$E$39,5,FALSE)=0,\"\",VLOOKUP($A262,'Schedule Setup'!$A$4:$E$39,5,FALSE))","v":""},0,"",0,"",0,"",0,"",null,0,"",0,"",0,"",0,"",null,{"$f":"'Schedule Setup'!P30","v":"00:00:00"},{"$f":"'Schedule Setup'!Q30","v":"00:00:00"},-2.0833333333333332E-2,"00:30:00"]
[27,{"$f":"IF(VLOOKUP($A263,'Schedule Setup'!$A$4:$E$39,2,FALSE)=0,\"\",VLOOKUP($A263,'Schedule Setup'!$A$4:$E$39,2,FALSE))","v":""},{"$f":"IF(VLOOKUP($A263,'Schedule Setup'!$A$4:$E$39,4,FALSE)=0,\"\",VLOOKUP($A263,'Schedule Setup'!$A$4:$E$39,4,FALSE))","v":""},"",null,null,null,"x","x","x","x","x","x","x","x","x","x","x","x","x","x","x","x","x","x","x","x","x","x","x","x","x","x","x","x","x","x","x","x","x","x","x","x","x","x",0,null,"x","x","x","x","x","x","x","x","x","x","x","x","x","x","x","x","x","x","x","x","x","x","x","x","x","x","x","x","x","x","x","x","x","x","x","x","x","x",null,0,0,0,0,0,0,0,0,0,0,0,0,0,0,0,0,0,0,0,0,0,0,0,0,0,0,0,0,0,0,0,0,0,0,0,0,0,0,null,{"$f":"IF(VLOOKUP($A263,'Schedule Setup'!$A$4:$E$39,5,FALSE)=0,\"\",VLOOKUP($A263,'Schedule Setup'!$A$4:$E$39,5,FALSE))","v":""},0,"",0,"",0,"",0,"",null,0,"",0,"",0,"",0,"",null,{"$f":"'Schedule Setup'!P31","v":"00:00:00"},{"$f":"'Schedule Setup'!Q31","v":"00:00:00"},-2.0833333333333332E-2,"00:30:00"]
[28,{"$f":"IF(VLOOKUP($A264,'Schedule Setup'!$A$4:$E$39,2,FALSE)=0,\"\",VLOOKUP($A264,'Schedule Setup'!$A$4:$E$39,2,FALSE))","v":""},{"$f":"IF(VLOOKUP($A264,'Schedule Setup'!$A$4:$E$39,4,FALSE)=0,\"\",VLOOKUP($A264,'Schedule Setup'!$A$4:$E$39,4,FALSE))","v":""},"",null,null,null,"x","x","x","x","x","x","x","x","x","x","x","x","x","x","x","x","x","x","x","x","x","x","x","x","x","x","x","x","x","x","x","x","x","x","x","x","x","x",0,null,"x","x","x","x","x","x","x","x","x","x","x","x","x","x","x","x","x","x","x","x","x","x","x","x","x","x","x","x","x","x","x","x","x","x","x","x","x","x",null,0,0,0,0,0,0,0,0,0,0,0,0,0,0,0,0,0,0,0,0,0,0,0,0,0,0,0,0,0,0,0,0,0,0,0,0,0,0,null,{"$f":"IF(VLOOKUP($A264,'Schedule Setup'!$A$4:$E$39,5,FALSE)=0,\"\",VLOOKUP($A264,'Schedule Setup'!$A$4:$E$39,5,FALSE))","v":""},0,"",0,"",0,"",0,"",null,0,"",0,"",0,"",0,"",null,{"$f":"'Schedule Setup'!P32","v":"00:00:00"},{"$f":"'Schedule Setup'!Q32","v":"00:00:00"},-2.0833333333333332E-2,"00:30:00"]
[29,{"$f":"IF(VLOOKUP($A265,'Schedule Setup'!$A$4:$E$39,2,FALSE)=0,\"\",VLOOKUP($A265,'Schedule Setup'!$A$4:$E$39,2,FALSE))","v":""},{"$f":"IF(VLOOKUP($A265,'Schedule Setup'!$A$4:$E$39,4,FALSE)=0,\"\",VLOOKUP($A265,'Schedule Setup'!$A$4:$E$39,4,FALSE))","v":""},"",null,null,null,"x","x","x","x","x","x","x","x","x","x","x","x","x","x","x","x","x","x","x","x","x","x","x","x","x","x","x","x","x","x","x","x","x","x","x","x","x","x",0,null,"x","x","x","x","x","x","x","x","x","x","x","x","x","x","x","x","x","x","x","x","x","x","x","x","x","x","x","x","x","x","x","x","x","x","x","x","x","x",null,0,0,0,0,0,0,0,0,0,0,0,0,0,0,0,0,0,0,0,0,0,0,0,0,0,0,0,0,0,0,0,0,0,0,0,0,0,0,null,{"$f":"IF(VLOOKUP($A265,'Schedule Setup'!$A$4:$E$39,5,FALSE)=0,\"\",VLOOKUP($A265,'Schedule Setup'!$A$4:$E$39,5,FALSE))","v":""},0,"",0,"",0,"",0,"",null,0,"",0,"",0,"",0,"",null,{"$f":"'Schedule Setup'!P33","v":"00:00:00"},{"$f":"'Schedule Setup'!Q33","v":"00:00:00"},-2.0833333333333332E-2,"00:30:00"]
[30,{"$f":"IF(VLOOKUP($A266,'Schedule Setup'!$A$4:$E$39,2,FALSE)=0,\"\",VLOOKUP($A266,'Schedule Setup'!$A$4:$E$39,2,FALSE))","v":""},{"$f":"IF(VLOOKUP($A266,'Schedule Setup'!$A$4:$E$39,4,FALSE)=0,\"\",VLOOKUP($A266,'Schedule Setup'!$A$4:$E$39,4,FALSE))","v":""},"",null,null,null,"x","x","x","x","x","x","x","x","x","x","x","x","x","x","x","x","x","x","x","x","x","x","x","x","x","x","x","x","x","x","x","x","x","x","x","x","x","x",0,null,"x","x","x","x","x","x","x","x","x","x","x","x","x","x","x","x","x","x","x","x","x","x","x","x","x","x","x","x","x","x","x","x","x","x","x","x","x","x",null,0,0,0,0,0,0,0,0,0,0,0,0,0,0,0,0,0,0,0,0,0,0,0,0,0,0,0,0,0,0,0,0,0,0,0,0,0,0,null,{"$f":"IF(VLOOKUP($A266,'Schedule Setup'!$A$4:$E$39,5,FALSE)=0,\"\",VLOOKUP($A266,'Schedule Setup'!$A$4:$E$39,5,FALSE))","v":""},0,"",0,"",0,"",0,"",null,0,"",0,"",0,"",0,"",null,{"$f":"'Schedule Setup'!P34","v":"00:00:00"},{"$f":"'Schedule Setup'!Q34","v":"00:00:00"},-2.0833333333333332E-2,"00:30:00"]
[31,{"$f":"IF(VLOOKUP($A267,'Schedule Setup'!$A$4:$E$39,2,FALSE)=0,\"\",VLOOKUP($A267,'Schedule Setup'!$A$4:$E$39,2,FALSE))","v":""},{"$f":"IF(VLOOKUP($A267,'Schedule Setup'!$A$4:$E$39,4,FALSE)=0,\"\",VLOOKUP($A267,'Schedule Setup'!$A$4:$E$39,4,FALSE))","v":""},"",null,null,null,"x","x","x","x","x","x","x","x","x","x","x","x","x","x","x","x","x","x","x","x","x","x","x","x","x","x","x","x","x","x","x","x","x","x","x","x","x","x",0,null,"x","x","x","x","x","x","x","x","x","x","x","x","x","x","x","x","x","x","x","x","x","x","x","x","x","x","x","x","x","x","x","x","x","x","x","x","x","x",null,0,0,0,0,0,0,0,0,0,0,0,0,0,0,0,0,0,0,0,0,0,0,0,0,0,0,0,0,0,0,0,0,0,0,0,0,0,0,null,{"$f":"IF(VLOOKUP($A267,'Schedule Setup'!$A$4:$E$39,5,FALSE)=0,\"\",VLOOKUP($A267,'Schedule Setup'!$A$4:$E$39,5,FALSE))","v":""},0,"",0,"",0,"",0,"",null,0,"",0,"",0,"",0,"",null,{"$f":"'Schedule Setup'!P35","v":"00:00:00"},{"$f":"'Schedule Setup'!Q35","v":"00:00:00"},-2.0833333333333332E-2,"00:30:00"]
[32,{"$f":"IF(VLOOKUP($A268,'Schedule Setup'!$A$4:$E$39,2,FALSE)=0,\"\",VLOOKUP($A268,'Schedule Setup'!$A$4:$E$39,2,FALSE))","v":""},{"$f":"IF(VLOOKUP($A268,'Schedule Setup'!$A$4:$E$39,4,FALSE)=0,\"\",VLOOKUP($A268,'Schedule Setup'!$A$4:$E$39,4,FALSE))","v":""},"",null,null,null,"x","x","x","x","x","x","x","x","x","x","x","x","x","x","x","x","x","x","x","x","x","x","x","x","x","x","x","x","x","x","x","x","x","x","x","x","x","x",0,null,"x","x","x","x","x","x","x","x","x","x","x","x","x","x","x","x","x","x","x","x","x","x","x","x","x","x","x","x","x","x","x","x","x","x","x","x","x","x",null,0,0,0,0,0,0,0,0,0,0,0,0,0,0,0,0,0,0,0,0,0,0,0,0,0,0,0,0,0,0,0,0,0,0,0,0,0,0,null,{"$f":"IF(VLOOKUP($A268,'Schedule Setup'!$A$4:$E$39,5,FALSE)=0,\"\",VLOOKUP($A268,'Schedule Setup'!$A$4:$E$39,5,FALSE))","v":""},0,"",0,"",0,"",0,"",null,0,"",0,"",0,"",0,"",null,{"$f":"'Schedule Setup'!P36","v":"00:00:00"},{"$f":"'Schedule Setup'!Q36","v":"00:00:00"},-2.0833333333333332E-2,"00:30:00"]
[33,{"$f":"IF(VLOOKUP($A269,'Schedule Setup'!$A$4:$E$39,2,FALSE)=0,\"\",VLOOKUP($A269,'Schedule Setup'!$A$4:$E$39,2,FALSE))","v":""},{"$f":"IF(VLOOKUP($A269,'Schedule Setup'!$A$4:$E$39,4,FALSE)=0,\"\",VLOOKUP($A269,'Schedule Setup'!$A$4:$E$39,4,FALSE))","v":""},"",null,null,null,"x","x","x","x","x","x","x","x","x","x","x","x","x","x","x","x","x","x","x","x","x","x","x","x","x","x","x","x","x","x","x","x","x","x","x","x","x","x",0,null,"x","x","x","x","x","x","x","x","x","x","x","x","x","x","x","x","x","x","x","x","x","x","x","x","x","x","x","x","x","x","x","x","x","x","x","x","x","x",null,0,0,0,0,0,0,0,0,0,0,0,0,0,0,0,0,0,0,0,0,0,0,0,0,0,0,0,0,0,0,0,0,0,0,0,0,0,0,null,{"$f":"IF(VLOOKUP($A269,'Schedule Setup'!$A$4:$E$39,5,FALSE)=0,\"\",VLOOKUP($A269,'Schedule Setup'!$A$4:$E$39,5,FALSE))","v":""},0,"",0,"",0,"",0,"",null,0,"",0,"",0,"",0,"",null,{"$f":"'Schedule Setup'!P37","v":"00:00:00"},{"$f":"'Schedule Setup'!Q37","v":"00:00:00"},-2.0833333333333332E-2,"00:30:00"]
[34,{"$f":"IF(VLOOKUP($A270,'Schedule Setup'!$A$4:$E$39,2,FALSE)=0,\"\",VLOOKUP($A270,'Schedule Setup'!$A$4:$E$39,2,FALSE))","v":""},{"$f":"IF(VLOOKUP($A270,'Schedule Setup'!$A$4:$E$39,4,FALSE)=0,\"\",VLOOKUP($A270,'Schedule Setup'!$A$4:$E$39,4,FALSE))","v":""},"",null,null,null,"x","x","x","x","x","x","x","x","x","x","x","x","x","x","x","x","x","x","x","x","x","x","x","x","x","x","x","x","x","x","x","x","x","x","x","x","x","x",0,null,"x","x","x","x","x","x","x","x","x","x","x","x","x","x","x","x","x","x","x","x","x","x","x","x","x","x","x","x","x","x","x","x","x","x","x","x","x","x",null,0,0,0,0,0,0,0,0,0,0,0,0,0,0,0,0,0,0,0,0,0,0,0,0,0,0,0,0,0,0,0,0,0,0,0,0,0,0,null,{"$f":"IF(VLOOKUP($A270,'Schedule Setup'!$A$4:$E$39,5,FALSE)=0,\"\",VLOOKUP($A270,'Schedule Setup'!$A$4:$E$39,5,FALSE))","v":""},0,"",0,"",0,"",0,"",null,0,"",0,"",0,"",0,"",null,{"$f":"'Schedule Setup'!P38","v":"00:00:00"},{"$f":"'Schedule Setup'!Q38","v":"00:00:00"},-2.0833333333333332E-2,"00:30:00"]
[35,{"$f":"IF(VLOOKUP($A271,'Schedule Setup'!$A$4:$E$39,2,FALSE)=0,\"\",VLOOKUP($A271,'Schedule Setup'!$A$4:$E$39,2,FALSE))","v":""},{"$f":"IF(VLOOKUP($A271,'Schedule Setup'!$A$4:$E$39,4,FALSE)=0,\"\",VLOOKUP($A271,'Schedule Setup'!$A$4:$E$39,4,FALSE))","v":""},"",null,null,null,"x","x","x","x","x",{"$f":"BA271","v":"x"},"x","x","x","x","x","x","x","x",{"$f":"BJ271","v":"x"},"x","x","x","x","x","x","x","x","x","x","x","x","x","x","x","x","x","x","x","x","x","x","x",0,null,"x","x","x","x","x","x","x","x","x","x","x","x","x","x","x","x","x","x","x","x","x","x","x","x","x","x","x","x","x","x","x","x","x","x","x","x","x","x",null,0,0,0,0,0,0,0,0,0,0,0,0,0,0,0,0,0,0,0,0,0,0,0,0,0,0,0,0,0,0,0,0,0,0,0,0,0,0,null,{"$f":"IF(VLOOKUP($A271,'Schedule Setup'!$A$4:$E$39,5,FALSE)=0,\"\",VLOOKUP($A271,'Schedule Setup'!$A$4:$E$39,5,FALSE))","v":""},0,"",0,"",0,"",0,"",null,0,"",0,"",0,"",0,"",null,{"$f":"'Schedule Setup'!P39","v":"00:00:00"},{"$f":"'Schedule Setup'!Q39","v":"00:00:00"},-2.0833333333333332E-2,"00:30:00"]
[null,null,null,"Totals/Coverage",{"$f":"MIN(E237:E271)","v":"06:00:00"},{"$f":"MAX(F237:F271)","v":"20:30:00"},null,{"$f":"CI272","v":0},{"$f":"CJ272","v":0},{"$f":"CK272","v":1},{"$f":"CL272","v":1},{"$f":"CM272","v":1},{"$f":"CN272","v":1},{"$f":"CO272","v":2},{"$f":"CP272","v":2},{"$f":"CQ272","v":2},{"$f":"CR272","v":2},{"$f":"CS272","v":2},{"$f":"CT272","v":2},{"$f":"CU272","v":2},{"$f":"CV272","v":2},{"$f":"CW272","v":3},{"$f":"CX272","v":3},{"$f":"CY272","v":3},{"$f":"CZ272","v":3},{"$f":"DA272","v":3},{"$f":"DB272","v":5},{"$f":"DC272","v":3},{"$f":"DD272","v":3},{"$f":"DE272","v":3},{"$f":"DF272","v":3},{"$f":"DG272","v":3},{"$f":"DH272","v":3},{"$f":"DI272","v":2},{"$f":"DJ272","v":2},{"$f":"DK272","v":2},{"$f":"DL272","v":2},{"$f":"DM272","v":2},{"$f":"DN272","v":0},{"$f":"DO272","v":0},{"$f":"DP272","v":0},{"$f":"DQ272","v":0},{"$f":"DR272","v":0},{"$f":"DS272","v":0},{"$f":"DT272","v":0},{"$f":"SUM(AT237:AT271)","v":34},null,null,null,null,null,null,null,null,null,null,null,null,null,null,null,null,null,null,null,null,null,null,null,null,null,null,null,null,null,null,null,null,null,null,null,null,null,null,null,null,{"$f":"COUNTIF(CI237:CI271,0.5)","v":0},{"$f":"COUNTIF(CJ237:CJ271,0.5)","v":0},{"$f":"COUNTIF(CK237:CK271,0.5)","v":1},{"$f":"COUNTIF(CL237:CL271,0.5)","v":1},{"$f":"COUNTIF(CM237:CM271,0.5)","v":1},{"$f":"COUNTIF(CN237:CN271,0.5)","v":1},{"$f":"COUNTIF(CO237:CO271,0.5)","v":2},{"$f":"COUNTIF(CP237:CP271,0.5)","v":2},{"$f":"COUNTIF(CQ237:CQ271,0.5)","v":2},{"$f":"COUNTIF(CR237:CR271,0.5)","v":2},{"$f":"COUNTIF(CS237:CS271,0.5)","v":2},{"$f":"COUNTIF(CT237:CT271,0.5)","v":2},{"$f":"COUNTIF(CU237:CU271,0.5)","v":2},{"$f":"COUNTIF(CV237:CV271,0.5)","v":2},{"$f":"COUNTIF(CW237:CW271,0.5)","v":3},{"$f":"COUNTIF(CX237:CX271,0.5)","v":3},{"$f":"COUNTIF(CY237:CY271,0.5)","v":3},{"$f":"COUNTIF(CZ237:CZ271,0.5)","v":3},{"$f":"COUNTIF(DA237:DA271,0.5)","v":3},{"$f":"COUNTIF(DB237:DB271,0.5)","v":5},{"$f":"COUNTIF(DC237:DC271,0.5)","v":3},{"$f":"COUNTIF(DD237:DD271,0.5)","v":3},{"$f":"COUNTIF(DE237:DE271,0.5)","v":3},{"$f":"COUNTIF(DF237:DF271,0.5)","v":3},{"$f":"COUNTIF(DG237:DG271,0.5)","v":3},{"$f":"COUNTIF(DH237:DH271,0.5)","v":3},{"$f":"COUNTIF(DI237:DI271,0.5)","v":2},{"$f":"COUNTIF(DJ237:DJ271,0.5)","v":2},{"$f":"COUNTIF(DK237:DK271,0.5)","v":2},{"$f":"COUNTIF(DL237:DL271,0.5)","v":2},{"$f":"COUNTIF(DM237:DM271,0.5)","v":2},{"$f":"COUNTIF(DN237:DN271,0.5)","v":0},{"$f":"COUNTIF(DO237:DO271,0.5)","v":0},{"$f":"COUNTIF(DP237:DP271,0.5)","v":0},{"$f":"COUNTIF(DQ237:DQ271,0.5)","v":0},{"$f":"COUNTIF(DR237:DR271,0.5)","v":0},{"$f":"COUNTIF(DS237:DS271,0.5)","v":0},{"$f":"COUNTIF(DT237:DT271,0.5)","v":0},null,null,{"$f":"SUM(DW237:DW271)","v":8},0,18,0,8,0,34,0,null,{"$f":"SUM(EF237:EF271)","v":8},0,18,0,8,0,34,0,null,{"$f":"'Schedule Setup'!P40","v":"07:00:00"},{"$f":"'Schedule Setup'!Q40","v":"20:00:00"},"06:30:00","20:30:00"]
[null,null,null,null,null,{"$f":"'Schedule Forecast'!A14","v":"Wk 10-21"},null,{"$f":"IFERROR(INDEX(INDIRECT(\"'\"&$F273&\"'!$H:$H\"),MATCH(H$6,INDIRECT(\"'\"&$F273&\"'!$A$1:$A$250\"),0)+1),0)","v":0},0,0,0,11.37,22.4,35.07,32.090000000000003,39.42,25.21,{"$f":"IFERROR(INDEX(INDIRECT(\"'\"&$F273&\"'!$H:$H\"),MATCH(R$6,INDIRECT(\"'\"&$F273&\"'!$A$1:$A$250\"),0)+1),0)","v":5.14},21.36,35.130000000000003,21.75,0,31.69,11.28,25.65,83.05,118.46,{"$f":"IFERROR(INDEX(INDIRECT(\"'\"&$F273&\"'!$H:$H\"),MATCH(AB$6,INDIRECT(\"'\"&$F273&\"'!$A$1:$A$250\"),0)+1),0)","v":63.43},133.37,39.32,29.2,51.16,21.12,48.96,28.8,27.7,0,{"$f":"IFERROR(INDEX(INDIRECT(\"'\"&$F273&\"'!$H:$H\"),MATCH(AL$6,INDIRECT(\"'\"&$F273&\"'!$A$1:$A$250\"),0)+1),0)","v":2.79},0,0,0,0,0,0,0]
[null,null,null,null,null,{"$f":"'Schedule Forecast'!A15","v":"Wk 10-28"},null,0,0,0,0,0,62.86,16.16,0,14.47,10.23,0,18.170000000000002,21.76,41.52,86.49,71.849999999999994,105.59,30.35,103.44,55.59,93.83,72.599999999999994,42.47,45.06,19.97,8.34,11.48,20.66,11.18,22.36,0,0,0,0,0,0,0,0]
[null,null,null,null,null,{"$f":"'Schedule Forecast'!A16","v":"Wk 11-4"},null,0,0,0,0,10.58,15.17,26.95,33.39,27.65,2.89,12.57,14.47,26.55,27.79,15.77,30.42,89.19,24.56,66.459999999999994,79.75,97.04,154.16999999999999,63.57,39.619999999999997,17.36,31.64,41.04,12.67,5.89,0,0,0,0,0,0,0,0,0]
[null,null,null,null,null,{"$f":"'Schedule Forecast'!A17","v":"Wk 11-11"},null,0,0,0,0,10.98,15.66,21.35,11.73,15.97,17.07,29.74,11.58,12.57,41.93,86.53,122.88,128.66999999999999,84.25,81.48,38.78,112.72,77.650000000000006,70.56,40,12.38,19.91,16.36,0,20.41,19.36,0,0,0,0,0,0,0,0]
[null,null,null,null,null,"AVERAGE",null,{"$f":"IFERROR(IF(AND(H$6>=$EO$272,H$6<$EP$272-0.001),AVERAGE(H273:H276),\"\"),\"\")","v":""},"","","",8.2324999999999999,29.022499999999997,24.8825,19.302500000000002,24.377499999999998,13.85,11.862500000000001,16.395,24.002499999999998,33.247500000000002,47.197499999999998,64.209999999999994,83.682500000000005,41.202500000000001,83.607500000000002,73.14500000000001,91.754999999999995,109.44749999999999,53.98,38.47,25.217499999999998,20.252500000000001,29.459999999999997,15.532500000000001,16.294999999999998,10.43,"","","","","","","",""]
[null,null,null,null,null,null,null,{"$f":"IFERROR(IF((H277*'Schedule Forecast'!$C$4-$AC$2)>1,(H277*'Schedule Forecast'!$C$4-$AC$2),1),\"\")","v":""},{"$f":"IFERROR(IF((I277*'Schedule Forecast'!$C$4-$AC$2)>1,(I277*'Schedule Forecast'!$C$4-$AC$2),1),\"\")","v":""},{"$f":"IFERROR(IF((J277*'Schedule Forecast'!$C$4-$AC$2)>1,(J277*'Schedule Forecast'!$C$4-$AC$2),1),\"\")","v":""},{"$f":"IFERROR(IF((K277*'Schedule Forecast'!$C$4-$AC$2)>1,(K277*'Schedule Forecast'!$C$4-$AC$2),1),\"\")","v":""},{"$f":"IFERROR(IF((L277*'Schedule Forecast'!$C$4-$AC$2)>1,(L277*'Schedule Forecast'!$C$4-$AC$2),1),\"\")","v":1},{"$f":"IFERROR(IF((M277*'Schedule Forecast'!$C$4-$AC$2)>1,(M277*'Schedule Forecast'!$C$4-$AC$2),1),\"\")","v":1},{"$f":"IFERROR(IF((N277*'Schedule Forecast'!$C$4-$AC$2)>1,(N277*'Schedule Forecast'!$C$4-$AC$2),1),\"\")","v":1},{"$f":"IFERROR(IF((O277*'Schedule Forecast'!$C$4-$AC$2)>1,(O277*'Schedule Forecast'!$C$4-$AC$2),1),\"\")","v":1},{"$f":"IFERROR(IF((P277*'Schedule Forecast'!$C$4-$AC$2)>1,(P277*'Schedule Forecast'!$C$4-$AC$2),1),\"\")","v":1},{"$f":"IFERROR(IF((Q277*'Schedule Forecast'!$C$4-$AC$2)>1,(Q277*'Schedule Forecast'!$C$4-$AC$2),1),\"\")","v":1},{"$f":"IFERROR(IF((R277*'Schedule Forecast'!$C$4-$AC$2)>1,(R277*'Schedule Forecast'!$C$4-$AC$2),1),\"\")","v":1},{"$f":"IFERROR(IF((S277*'Schedule Forecast'!$C$4-$AC$2)>1,(S277*'Schedule Forecast'!$C$4-$AC$2),1),\"\")","v":1},{"$f":"IFERROR(IF((T277*'Schedule Forecast'!$C$4-$AC$2)>1,(T277*'Schedule Forecast'!$C$4-$AC$2),1),\"\")","v":1},{"$f":"IFERROR(IF((U277*'Schedule Forecast'!$C$4-$AC$2)>1,(U277*'Schedule Forecast'!$C$4-$AC$2),1),\"\")","v":1},{"$f":"IFERROR(IF((V277*'Schedule Forecast'!$C$4-$AC$2)>1,(V277*'Schedule Forecast'!$C$4-$AC$2),1),\"\")","v":1},{"$f":"IFERROR(IF((W277*'Schedule Forecast'!$C$4-$AC$2)>1,(W277*'Schedule Forecast'!$C$4-$AC$2),1),\"\")","v":2.1998999999999995},{"$f":"IFERROR(IF((X277*'Schedule Forecast'!$C$4-$AC$2)>1,(X277*'Schedule Forecast'!$C$4-$AC$2),1),\"\")","v":5.8996750000000002},{"$f":"IFERROR(IF((Y277*'Schedule Forecast'!$C$4-$AC$2)>1,(Y277*'Schedule Forecast'!$C$4-$AC$2),1),\"\")","v":1},{"$f":"IFERROR(IF((Z277*'Schedule Forecast'!$C$4-$AC$2)>1,(Z277*'Schedule Forecast'!$C$4-$AC$2),1),\"\")","v":5.8854249999999997},{"$f":"IFERROR(IF((AA277*'Schedule Forecast'!$C$4-$AC$2)>1,(AA277*'Schedule Forecast'!$C$4-$AC$2),1),\"\")","v":3.8975500000000025},{"$f":"IFERROR(IF((AB277*'Schedule Forecast'!$C$4-$AC$2)>1,(AB277*'Schedule Forecast'!$C$4-$AC$2),1),\"\")","v":7.4334500000000006},{"$f":"IFERROR(IF((AC277*'Schedule Forecast'!$C$4-$AC$2)>1,(AC277*'Schedule Forecast'!$C$4-$AC$2),1),\"\")","v":10.795024999999999},{"$f":"IFERROR(IF((AD277*'Schedule Forecast'!$C$4-$AC$2)>1,(AD277*'Schedule Forecast'!$C$4-$AC$2),1),\"\")","v":1},{"$f":"IFERROR(IF((AE277*'Schedule Forecast'!$C$4-$AC$2)>1,(AE277*'Schedule Forecast'!$C$4-$AC$2),1),\"\")","v":1},{"$f":"IFERROR(IF((AF277*'Schedule Forecast'!$C$4-$AC$2)>1,(AF277*'Schedule Forecast'!$C$4-$AC$2),1),\"\")","v":1},{"$f":"IFERROR(IF((AG277*'Schedule Forecast'!$C$4-$AC$2)>1,(AG277*'Schedule Forecast'!$C$4-$AC$2),1),\"\")","v":1},{"$f":"IFERROR(IF((AH277*'Schedule Forecast'!$C$4-$AC$2)>1,(AH277*'Schedule Forecast'!$C$4-$AC$2),1),\"\")","v":1},{"$f":"IFERROR(IF((AI277*'Schedule Forecast'!$C$4-$AC$2)>1,(AI277*'Schedule Forecast'!$C$4-$AC$2),1),\"\")","v":1},{"$f":"IFERROR(IF((AJ277*'Schedule Forecast'!$C$4-$AC$2)>1,(AJ277*'Schedule Forecast'!$C$4-$AC$2),1),\"\")","v":1},{"$f":"IFERROR(IF((AK277*'Schedule Forecast'!$C$4-$AC$2)>1,(AK277*'Schedule Forecast'!$C$4-$AC$2),1),\"\")","v":1},{"$f":"IFERROR(IF((AL277*'Schedule Forecast'!$C$4-$AC$2)>1,(AL277*'Schedule Forecast'!$C$4-$AC$2),1),\"\")","v":""},{"$f":"IFERROR(IF((AM277*'Schedule Forecast'!$C$4-$AC$2)>1,(AM277*'Schedule Forecast'!$C$4-$AC$2),1),\"\")","v":""},{"$f":"IFERROR(IF((AN277*'Schedule Forecast'!$C$4-$AC$2)>1,(AN277*'Schedule Forecast'!$C$4-$AC$2),1),\"\")","v":""},{"$f":"IFERROR(IF((AO277*'Schedule Forecast'!$C$4-$AC$2)>1,(AO277*'Schedule Forecast'!$C$4-$AC$2),1),\"\")","v":""},{"$f":"IFERROR(IF((AP277*'Schedule Forecast'!$C$4-$AC$2)>1,(AP277*'Schedule Forecast'!$C$4-$AC$2),1),\"\")","v":""},{"$f":"IFERROR(IF((AQ277*'Schedule Forecast'!$C$4-$AC$2)>1,(AQ277*'Schedule Forecast'!$C$4-$AC$2),1),\"\")","v":""},{"$f":"IFERROR(IF((AR277*'Schedule Forecast'!$C$4-$AC$2)>1,(AR277*'Schedule Forecast'!$C$4-$AC$2),1),\"\")","v":""},{"$f":"IFERROR(IF((AS277*'Schedule Forecast'!$C$4-$AC$2)>1,(AS277*'Schedule Forecast'!$C$4-$AC$2),1),\"\")","v":""}]
[null,null,null,null,null,null,"Recommended:",{"$f":"IF(H236>=$EO$272,IF(H236<$EP$272-0.01,ROUND(IF(H278>1,(H278*$B$48)+1,H278)*2,0),\"\"),\"\")","v":""},"","","",2,2,2,2,2,2,2,2,2,2,2,2,2,2,2,2,2,2,2,2,2,2,2,2,2,2,"","","","","","","","",{"$f":"SUM(H279:AS279)/2","v":26}]
[]
[null,"Tuesday",null,null,null,null,null,null,null,null,null,null,null,null,null,null,null,null,{"$f":"S235","v":"Today's Date"},{"$f":"T5+6","v":"2014-11-25"},null,null,null,null,null,null,null,null,null,null,null,null,null,null,null,null,null,null,null,null,null,null,null,null,null,null,null,null,null,null,null,null,null,null,null,null,null,null,null,null,null,null,null,null,null,null,null,null,null,null,null,null,null,null,null,null,null,null,null,null,null,null,null,null,null,null,null,null,null,null,null,null,null,null,null,null,null,null,null,null,null,null,null,null,null,null,null,null,null,null,null,null,null,null,null,null,null,null,null,null,null,null,null,null,null,null,"Breakfast",null,"Lunch",null,"Dinner",null,"Total",null,null,"Breakfast",null,"Lunch",null,"Dinner",null,"Total",null,null,"Availability"]
[null,"Employee","Job",null,"Start","End",null,"05:00:00",{"$f":"H282+(0.5/24)","v":"05:30:00"},{"$f":"I282+(0.5/24)","v":"06:00:00"},{"$f":"J282+(0.5/24)","v":"06:30:00"},{"$f":"K282+(0.5/24)","v":"07:00:00"},{"$f":"L282+(0.5/24)","v":"07:30:00"},{"$f":"M282+(0.5/24)","v":"08:00:00"},{"$f":"N282+(0.5/24)","v":"08:30:00"},{"$f":"O282+(0.5/24)","v":"09:00:00"},{"$f":"P282+(0.5/24)","v":"09:30:00"},{"$f":"Q282+(0.5/24)","v":"10:00:00"},{"$f":"R282+(0.5/24)","v":"10:30:00"},{"$f":"S282+(0.5/24)","v":"11:00:00"},{"$f":"T282+(0.5/24)","v":"11:30:00"},{"$f":"U282+(0.5/24)","v":"12:00:00"},{"$f":"V282+(0.5/24)","v":"12:30:00"},{"$f":"W282+(0.5/24)","v":"13:00:00"},{"$f":"X282+(0.5/24)","v":"13:30:00"},{"$f":"Y282+(0.5/24)","v":"14:00:00"},{"$f":"Z282+(0.5/24)","v":"14:30:00"},{"$f":"AA282+(0.5/24)","v":"15:00:00"},{"$f":"AB282+(0.5/24)","v":"15:30:00"},{"$f":"AC282+(0.5/24)","v":"16:00:00"},{"$f":"AD282+(0.5/24)","v":"16:30:00"},{"$f":"AE282+(0.5/24)","v":"17:00:00"},{"$f":"AF282+(0.5/24)","v":"17:30:00"},{"$f":"AG282+(0.5/24)","v":"18:00:00"},{"$f":"AH282+(0.5/24)","v":"18:30:00"},{"$f":"AI282+(0.5/24)","v":"19:00:00"},{"$f":"AJ282+(0.5/24)","v":"19:30:00"},{"$f":"AK282+(0.5/24)","v":"20:00:00"},{"$f":"AL282+(0.5/24)","v":"20:30:00"},{"$f":"AM282+(0.5/24)","v":"21:00:00"},{"$f":"AN282+(0.5/24)","v":"21:30:00"},{"$f":"AO282+(0.5/24)","v":"22:00:00"},{"$f":"AP282+(0.5/24)","v":"22:30:00"},{"$f":"AQ282+(0.5/24)","v":"23:00:00"},{"$f":"AR282+(0.5/24)","v":"23:30:00"},"TOTAL",null,5,null,6,null,7,null,8,null,9,null,10,null,11,null,12,null,1,null,2,null,3,null,4,null,5,null,6,null,7,null,8,null,9,null,10,null,11,null,null,5,null,6,null,7,null,8,null,9,null,10,null,11,null,12,null,1,null,2,null,3,null,4,null,5,null,6,null,7,null,8,null,9,null,10,null,11,null,null,"Rate","Hrs","$","Hrs","$","Hrs","$","Hrs","$",null,"Hrs","$","Hrs","$","Hrs","$","Hrs","$",null,"Start","End","Start-Early","End-Late"]
[1,{"$f":"IF(VLOOKUP($A283,'Schedule Setup'!$A$4:$E$39,2,FALSE)=0,\"\",VLOOKUP($A283,'Schedule Setup'!$A$4:$E$39,2,FALSE))","v":"Shaun Payne"},{"$f":"IF(VLOOKUP($A283,'Schedule Setup'!$A$4:$E$39,4,FALSE)=0,\"\",VLOOKUP($A283,'Schedule Setup'!$A$4:$E$39,4,FALSE))","v":"General Manager (S)"},{"$f":"IF(B283<>\"\",IF(OR(C283=\"General Manager (S)\", C283=\"General Manager (H)\"), \"GM\",IF(C283=\"Acting Manager\",\"AM\",IF(C283=\"Shift Manager\",\"SM\",IF(C283=\"Team Lead\",\"TL\",\"TM\")))),\"\")","v":"GM"},null,null,null,{"$f":"AV283","v":"x"},"x","x","x","x","x","x","x","x","x","x","x","x","x","x","x","x","x","x","x","x","x","x","x","x","x","x","x","x","x","x","x","x","x","x","x","x","x",{"$f":"EC283","v":0},null,{"$f":"IF(AND($EO283<=H$6+0.01,$EP283>H$6+0.01),IF(AND(H$6<$F283-0.01,H$6>=$E283-0.01),$D283,\"\"),\"x\")","v":"x"},{"$f":"IF(AND($EO283<=I$6+0.01,$EP283>I$6+0.01),IF(AND(I$6<$F283-0.01,I$6>=$E283-0.01),$D283,\"\"),\"x\")","v":"x"},{"$f":"IF(AND($EO283<=J$6+0.01,$EP283>J$6+0.01),IF(AND(J$6<$F283-0.01,J$6>=$E283-0.01),$D283,\"\"),\"x\")","v":"x"},{"$f":"IF(AND($EO283<=K$6+0.01,$EP283>K$6+0.01),IF(AND(K$6<$F283-0.01,K$6>=$E283-0.01),$D283,\"\"),\"x\")","v":"x"},{"$f":"IF(AND($EO283<=L$6+0.01,$EP283>L$6+0.01),IF(AND(L$6<$F283-0.01,L$6>=$E283-0.01),$D283,\"\"),\"x\")","v":"x"},{"$f":"IF(AND($EO283<=M$6+0.01,$EP283>M$6+0.01),IF(AND(M$6<$F283-0.01,M$6>=$E283-0.01),$D283,\"\"),\"x\")","v":"x"},{"$f":"IF(AND($EO283<=N$6+0.01,$EP283>N$6+0.01),IF(AND(N$6<$F283-0.01,N$6>=$E283-0.01),$D283,\"\"),\"x\")","v":"x"},{"$f":"IF(AND($EO283<=O$6+0.01,$EP283>O$6+0.01),IF(AND(O$6<$F283-0.01,O$6>=$E283-0.01),$D283,\"\"),\"x\")","v":"x"},{"$f":"IF(AND($EO283<=P$6+0.01,$EP283>P$6+0.01),IF(AND(P$6<$F283-0.01,P$6>=$E283-0.01),$D283,\"\"),\"x\")","v":"x"},{"$f":"IF(AND($EO283<=Q$6+0.01,$EP283>Q$6+0.01),IF(AND(Q$6<$F283-0.01,Q$6>=$E283-0.01),$D283,\"\"),\"x\")","v":"x"},{"$f":"IF(AND($EO283<=R$6+0.01,$EP283>R$6+0.01),IF(AND(R$6<$F283-0.01,R$6>=$E283-0.01),$D283,\"\"),\"x\")","v":"x"},{"$f":"IF(AND($EO283<=S$6+0.01,$EP283>S$6+0.01),IF(AND(S$6<$F283-0.01,S$6>=$E283-0.01),$D283,\"\"),\"x\")","v":"x"},{"$f":"IF(AND($EO283<=T$6+0.01,$EP283>T$6+0.01),IF(AND(T$6<$F283-0.01,T$6>=$E283-0.01),$D283,\"\"),\"x\")","v":"x"},{"$f":"IF(AND($EO283<=U$6+0.01,$EP283>U$6+0.01),IF(AND(U$6<$F283-0.01,U$6>=$E283-0.01),$D283,\"\"),\"x\")","v":"x"},{"$f":"IF(AND($EO283<=V$6+0.01,$EP283>V$6+0.01),IF(AND(V$6<$F283-0.01,V$6>=$E283-0.01),$D283,\"\"),\"x\")","v":"x"},{"$f":"IF(AND($EO283<=W$6+0.01,$EP283>W$6+0.01),IF(AND(W$6<$F283-0.01,W$6>=$E283-0.01),$D283,\"\"),\"x\")","v":"x"},{"$f":"IF(AND($EO283<=X$6+0.01,$EP283>X$6+0.01),IF(AND(X$6<$F283-0.01,X$6>=$E283-0.01),$D283,\"\"),\"x\")","v":"x"},{"$f":"IF(AND($EO283<=Y$6+0.01,$EP283>Y$6+0.01),IF(AND(Y$6<$F283-0.01,Y$6>=$E283-0.01),$D283,\"\"),\"x\")","v":"x"},{"$f":"IF(AND($EO283<=Z$6+0.01,$EP283>Z$6+0.01),IF(AND(Z$6<$F283-0.01,Z$6>=$E283-0.01),$D283,\"\"),\"x\")","v":"x"},{"$f":"IF(AND($EO283<=AA$6+0.01,$EP283>AA$6+0.01),IF(AND(AA$6<$F283-0.01,AA$6>=$E283-0.01),$D283,\"\"),\"x\")","v":"x"},{"$f":"IF(AND($EO283<=AB$6+0.01,$EP283>AB$6+0.01),IF(AND(AB$6<$F283-0.01,AB$6>=$E283-0.01),$D283,\"\"),\"x\")","v":"x"},{"$f":"IF(AND($EO283<=AC$6+0.01,$EP283>AC$6+0.01),IF(AND(AC$6<$F283-0.01,AC$6>=$E283-0.01),$D283,\"\"),\"x\")","v":"x"},{"$f":"IF(AND($EO283<=AD$6+0.01,$EP283>AD$6+0.01),IF(AND(AD$6<$F283-0.01,AD$6>=$E283-0.01),$D283,\"\"),\"x\")","v":"x"},{"$f":"IF(AND($EO283<=AE$6+0.01,$EP283>AE$6+0.01),IF(AND(AE$6<$F283-0.01,AE$6>=$E283-0.01),$D283,\"\"),\"x\")","v":"x"},{"$f":"IF(AND($EO283<=AF$6+0.01,$EP283>AF$6+0.01),IF(AND(AF$6<$F283-0.01,AF$6>=$E283-0.01),$D283,\"\"),\"x\")","v":"x"},{"$f":"IF(AND($EO283<=AG$6+0.01,$EP283>AG$6+0.01),IF(AND(AG$6<$F283-0.01,AG$6>=$E283-0.01),$D283,\"\"),\"x\")","v":"x"},{"$f":"IF(AND($EO283<=AH$6+0.01,$EP283>AH$6+0.01),IF(AND(AH$6<$F283-0.01,AH$6>=$E283-0.01),$D283,\"\"),\"x\")","v":"x"},{"$f":"IF(AND($EO283<=AI$6+0.01,$EP283>AI$6+0.01),IF(AND(AI$6<$F283-0.01,AI$6>=$E283-0.01),$D283,\"\"),\"x\")","v":"x"},{"$f":"IF(AND($EO283<=AJ$6+0.01,$EP283>AJ$6+0.01),IF(AND(AJ$6<$F283-0.01,AJ$6>=$E283-0.01),$D283,\"\"),\"x\")","v":"x"},{"$f":"IF(AND($EO283<=AK$6+0.01,$EP283>AK$6+0.01),IF(AND(AK$6<$F283-0.01,AK$6>=$E283-0.01),$D283,\"\"),\"x\")","v":"x"},{"$f":"IF(AND($EO283<=AL$6+0.01,$EP283>AL$6+0.01),IF(AND(AL$6<$F283-0.01,AL$6>=$E283-0.01),$D283,\"\"),\"x\")","v":"x"},{"$f":"IF(AND($EO283<=AM$6+0.01,$EP283>AM$6+0.01),IF(AND(AM$6<$F283-0.01,AM$6>=$E283-0.01),$D283,\"\"),\"x\")","v":"x"},{"$f":"IF(AND($EO283<=AN$6+0.01,$EP283>AN$6+0.01),IF(AND(AN$6<$F283-0.01,AN$6>=$E283-0.01),$D283,\"\"),\"x\")","v":"x"},{"$f":"IF(AND($EO283<=AO$6+0.01,$EP283>AO$6+0.01),IF(AND(AO$6<$F283-0.01,AO$6>=$E283-0.01),$D283,\"\"),\"x\")","v":"x"},{"$f":"IF(AND($EO283<=AP$6+0.01,$EP283>AP$6+0.01),IF(AND(AP$6<$F283-0.01,AP$6>=$E283-0.01),$D283,\"\"),\"x\")","v":"x"},{"$f":"IF(AND($EO283<=AQ$6+0.01,$EP283>AQ$6+0.01),IF(AND(AQ$6<$F283-0.01,AQ$6>=$E283-0.01),$D283,\"\"),\"x\")","v":"x"},{"$f":"IF(AND($EO283<=AR$6+0.01,$EP283>AR$6+0.01),IF(AND(AR$6<$F283-0.01,AR$6>=$E283-0.01),$D283,\"\"),\"x\")","v":"x"},{"$f":"IF(AND($EO283<=AS$6+0.01,$EP283>AS$6+0.01),IF(AND(AS$6<$F283-0.01,AS$6>=$E283-0.01),$D283,\"\"),\"x\")","v":"x"},null,{"$f":"IF(AND(AV283<>\"\",AV283<>\"x\"),0.5,)","v":0},{"$f":"IF(AND(AW283<>\"\",AW283<>\"x\"),0.5,)","v":0},{"$f":"IF(AND(AX283<>\"\",AX283<>\"x\"),0.5,)","v":0},{"$f":"IF(AND(AY283<>\"\",AY283<>\"x\"),0.5,)","v":0},{"$f":"IF(AND(AZ283<>\"\",AZ283<>\"x\"),0.5,)","v":0},{"$f":"IF(AND(BA283<>\"\",BA283<>\"x\"),0.5,)","v":0},{"$f":"IF(AND(BB283<>\"\",BB283<>\"x\"),0.5,)","v":0},{"$f":"IF(AND(BC283<>\"\",BC283<>\"x\"),0.5,)","v":0},{"$f":"IF(AND(BD283<>\"\",BD283<>\"x\"),0.5,)","v":0},{"$f":"IF(AND(BE283<>\"\",BE283<>\"x\"),0.5,)","v":0},{"$f":"IF(AND(BF283<>\"\",BF283<>\"x\"),0.5,)","v":0},{"$f":"IF(AND(BG283<>\"\",BG283<>\"x\"),0.5,)","v":0},{"$f":"IF(AND(BH283<>\"\",BH283<>\"x\"),0.5,)","v":0},{"$f":"IF(AND(BI283<>\"\",BI283<>\"x\"),0.5,)","v":0},{"$f":"IF(AND(BJ283<>\"\",BJ283<>\"x\"),0.5,)","v":0},{"$f":"IF(AND(BK283<>\"\",BK283<>\"x\"),0.5,)","v":0},{"$f":"IF(AND(BL283<>\"\",BL283<>\"x\"),0.5,)","v":0},{"$f":"IF(AND(BM283<>\"\",BM283<>\"x\"),0.5,)","v":0},{"$f":"IF(AND(BN283<>\"\",BN283<>\"x\"),0.5,)","v":0},{"$f":"IF(AND(BO283<>\"\",BO283<>\"x\"),0.5,)","v":0},{"$f":"IF(AND(BP283<>\"\",BP283<>\"x\"),0.5,)","v":0},{"$f":"IF(AND(BQ283<>\"\",BQ283<>\"x\"),0.5,)","v":0},{"$f":"IF(AND(BR283<>\"\",BR283<>\"x\"),0.5,)","v":0},{"$f":"IF(AND(BS283<>\"\",BS283<>\"x\"),0.5,)","v":0},{"$f":"IF(AND(BT283<>\"\",BT283<>\"x\"),0.5,)","v":0},{"$f":"IF(AND(BU283<>\"\",BU283<>\"x\"),0.5,)","v":0},{"$f":"IF(AND(BV283<>\"\",BV283<>\"x\"),0.5,)","v":0},{"$f":"IF(AND(BW283<>\"\",BW283<>\"x\"),0.5,)","v":0},{"$f":"IF(AND(BX283<>\"\",BX283<>\"x\"),0.5,)","v":0},{"$f":"IF(AND(BY283<>\"\",BY283<>\"x\"),0.5,)","v":0},{"$f":"IF(AND(BZ283<>\"\",BZ283<>\"x\"),0.5,)","v":0},{"$f":"IF(AND(CA283<>\"\",CA283<>\"x\"),0.5,)","v":0},{"$f":"IF(AND(CB283<>\"\",CB283<>\"x\"),0.5,)","v":0},{"$f":"IF(AND(CC283<>\"\",CC283<>\"x\"),0.5,)","v":0},{"$f":"IF(AND(CD283<>\"\",CD283<>\"x\"),0.5,)","v":0},{"$f":"IF(AND(CE283<>\"\",CE283<>\"x\"),0.5,)","v":0},{"$f":"IF(AND(CF283<>\"\",CF283<>\"x\"),0.5,)","v":0},{"$f":"IF(AND(CG283<>\"\",CG283<>\"x\"),0.5,)","v":0},null,{"$f":"IF(VLOOKUP($A283,'Schedule Setup'!$A$4:$E$39,5,FALSE)=0,\"\",VLOOKUP($A283,'Schedule Setup'!$A$4:$E$39,5,FALSE))","v":""},{"$f":"SUM(CI283:CT283)","v":0},{"$f":"IFERROR(DW283*$DV283,\"\")","v":""},{"$f":"SUM(CU283:DF283)","v":0},{"$f":"IFERROR(DY283*$DV283,\"\")","v":""},{"$f":"SUM(DG283:DT283)","v":0},{"$f":"IFERROR(EA283*$DV283,\"\")","v":""},{"$f":"SUM(DW283,DY283,EA283)","v":0},{"$f":"IFERROR(EC283*$DV283,\"\")","v":""},null,{"$f":"IF(DW283>5,(DW283-0.5),DW283)","v":0},{"$f":"IFERROR(EF283*$DV283,\"\")","v":""},{"$f":"IF(DY283>5,(DY283-0.5),DY283)","v":0},{"$f":"IFERROR(EH283*$DV283,\"\")","v":""},{"$f":"IF(EA283>5,(EA283-0.5),EA283)","v":0},{"$f":"IFERROR(EJ283*$DV283,\"\")","v":""},{"$f":"SUM(EF283,EH283,EJ283)","v":0},{"$f":"IFERROR(EL283*$DV283,\"\")","v":""},null,{"$f":"'Schedule Setup'!R5","v":"UnAvail"},{"$f":"'Schedule Setup'!S5","v":"UnAvail"},{"$f":"EO283-(0.5/24)","v":{"$error":"#VALUE!"}},{"$f":"EP283+(0.5/24)","v":{"$error":"#VALUE!"}}]
[{"$f":"A283+1","v":2},{"$f":"IF(VLOOKUP($A284,'Schedule Setup'!$A$4:$E$39,2,FALSE)=0,\"\",VLOOKUP($A284,'Schedule Setup'!$A$4:$E$39,2,FALSE))","v":"Clay Huycke-McCall"},{"$f":"IF(VLOOKUP($A284,'Schedule Setup'!$A$4:$E$39,4,FALSE)=0,\"\",VLOOKUP($A284,'Schedule Setup'!$A$4:$E$39,4,FALSE))","v":"Shift Manager"},{"$f":"IF(B284<>\"\",IF(OR(C284=\"General Manager (S)\", C284=\"General Manager (H)\"), \"GM\",IF(C284=\"Acting Manager\",\"AM\",IF(C284=\"Shift Manager\",\"SM\",IF(C284=\"Team Lead\",\"TL\",\"TM\")))),\"\")","v":"SM"},"06:00:00","14:00:00",null,"x","x","SM","SM","SM","SM","SM","SM","SM","SM","SM","SM","SM","SM","SM","SM","SM","SM","","","","","","","","","","","","","","x","x","x","x","x","x","x",{"$f":"EC284","v":8},null,"x","x","SM","SM","SM","SM","SM","SM","SM","SM","SM","SM","SM","SM","SM","SM","SM","SM","","","","","","","","","","","","","","x","x","x","x","x","x","x",null,{"$f":"IF(AND(AV284<>\"\",AV284<>\"x\"),0.5,)","v":0},0,0.5,0.5,0.5,0.5,0.5,0.5,0.5,0.5,0.5,0.5,0.5,0.5,0.5,0.5,0.5,0.5,0,0,0,0,0,0,0,0,0,0,0,0,0,0,0,0,0,0,0,0,null,{"$f":"IF(VLOOKUP($A284,'Schedule Setup'!$A$4:$E$39,5,FALSE)=0,\"\",VLOOKUP($A284,'Schedule Setup'!$A$4:$E$39,5,FALSE))","v":""},5,"",3,"",0,"",{"$f":"SUM(DW284,DY284,EA284)","v":8},"",null,{"$f":"IF(DW284>5,(DW284-0.5),DW284)","v":5},"",{"$f":"IF(DY284>5,(DY284-0.5),DY284)","v":3},"",0,"",{"$f":"SUM(EF284,EH284,EJ284)","v":8},"",null,{"$f":"'Schedule Setup'!R6","v":"06:00:00"},{"$f":"'Schedule Setup'!S6","v":"20:30:00"},{"$f":"EO284-(0.5/24)","v":"05:30:00"},{"$f":"EP284+(0.5/24)","v":"21:00:00"}]
[{"$f":"A284+1","v":3},{"$f":"IF(VLOOKUP($A285,'Schedule Setup'!$A$4:$E$39,2,FALSE)=0,\"\",VLOOKUP($A285,'Schedule Setup'!$A$4:$E$39,2,FALSE))","v":"Shaina Hunt"},{"$f":"IF(VLOOKUP($A285,'Schedule Setup'!$A$4:$E$39,4,FALSE)=0,\"\",VLOOKUP($A285,'Schedule Setup'!$A$4:$E$39,4,FALSE))","v":"Shift Manager"},"SM","12:30:00","20:30:00",null,"x","x","","","","","","","","","","","","","","SM","SM","SM","SM","SM","SM","SM","SM","SM","SM","SM","SM","SM","SM","SM","SM","x","x","x","x","x","x","x",8,null,"x","x","","","","","","","","","","","","","","SM","SM","SM","SM","SM","SM","SM","SM","SM","SM","SM","SM","SM","SM","SM","SM","x","x","x","x","x","x","x",null,0,0,0,0,0,0,0,0,0,0,0,0,0,0,0,0.5,0.5,0.5,0.5,0.5,0.5,0.5,0.5,0.5,0.5,0.5,0.5,0.5,0.5,0.5,0.5,0,0,0,0,0,0,0,null,{"$f":"IF(VLOOKUP($A285,'Schedule Setup'!$A$4:$E$39,5,FALSE)=0,\"\",VLOOKUP($A285,'Schedule Setup'!$A$4:$E$39,5,FALSE))","v":""},0,"",4.5,"",3.5,"",{"$f":"SUM(DW285,DY285,EA285)","v":8},"",null,0,"",4.5,"",3.5,"",8,"",null,{"$f":"'Schedule Setup'!R7","v":"06:00:00"},{"$f":"'Schedule Setup'!S7","v":"20:30:00"},"05:30:00","21:00:00"]
[4,{"$f":"IF(VLOOKUP($A286,'Schedule Setup'!$A$4:$E$39,2,FALSE)=0,\"\",VLOOKUP($A286,'Schedule Setup'!$A$4:$E$39,2,FALSE))","v":"Christian Fink"},{"$f":"IF(VLOOKUP($A286,'Schedule Setup'!$A$4:$E$39,4,FALSE)=0,\"\",VLOOKUP($A286,'Schedule Setup'!$A$4:$E$39,4,FALSE))","v":"Team Lead"},"TL",null,null,null,"x","x","x","x","x","x","x","x","x","x","x","x","x","x","x","x","x","x","x","x","x","x","x","x","x","x","x","x","x","x","x","x","x","x","x","x","x","x",0,null,"x","x","x","x","x","x","x","x","x","x","x","x","x","x","x","x","x","x","x","x","x","x","x","x","x","x","x","x","x","x","x","x","x","x","x","x","x","x",null,0,0,0,0,0,0,0,0,0,0,0,0,0,0,0,0,0,0,0,0,0,0,0,0,0,0,0,0,0,0,0,0,0,0,0,0,0,0,null,{"$f":"IF(VLOOKUP($A286,'Schedule Setup'!$A$4:$E$39,5,FALSE)=0,\"\",VLOOKUP($A286,'Schedule Setup'!$A$4:$E$39,5,FALSE))","v":""},0,"",0,"",0,"",0,"",null,0,"",0,"",0,"",0,"",null,{"$f":"'Schedule Setup'!R8","v":"UnAvail"},{"$f":"'Schedule Setup'!S8","v":"UnAvail"},{"$error":"#VALUE!"},{"$error":"#VALUE!"}]
[5,{"$f":"IF(VLOOKUP($A287,'Schedule Setup'!$A$4:$E$39,2,FALSE)=0,\"\",VLOOKUP($A287,'Schedule Setup'!$A$4:$E$39,2,FALSE))","v":"Brendan Frye"},{"$f":"IF(VLOOKUP($A287,'Schedule Setup'!$A$4:$E$39,4,FALSE)=0,\"\",VLOOKUP($A287,'Schedule Setup'!$A$4:$E$39,4,FALSE))","v":"Team Member"},"TM",null,null,null,"x","x","x","x","","","","","","","","","","","","","","","","","","","","","","","","","","","","x","x","x","x","x","x","x",0,null,"x","x","x","x","","","","","","","","","","","","","","","","","","","","","","","","","","","","x","x","x","x","x","x","x",null,0,0,0,0,0,0,0,0,0,0,0,0,0,0,0,0,0,0,0,0,0,0,0,0,0,0,0,0,0,0,0,0,0,0,0,0,0,0,null,{"$f":"IF(VLOOKUP($A287,'Schedule Setup'!$A$4:$E$39,5,FALSE)=0,\"\",VLOOKUP($A287,'Schedule Setup'!$A$4:$E$39,5,FALSE))","v":""},0,"",0,"",0,"",0,"",null,0,"",0,"",0,"",0,"",null,{"$f":"'Schedule Setup'!R9","v":"07:00:00"},{"$f":"'Schedule Setup'!S9","v":"20:30:00"},"06:30:00","21:00:00"]
[6,{"$f":"IF(VLOOKUP($A288,'Schedule Setup'!$A$4:$E$39,2,FALSE)=0,\"\",VLOOKUP($A288,'Schedule Setup'!$A$4:$E$39,2,FALSE))","v":"Jordan Galli"},{"$f":"IF(VLOOKUP($A288,'Schedule Setup'!$A$4:$E$39,4,FALSE)=0,\"\",VLOOKUP($A288,'Schedule Setup'!$A$4:$E$39,4,FALSE))","v":"Team Member"},"TM","08:00:00","13:30:00",null,"x","x","x","x","","","TM","TM","TM","TM","TM","TM","TM","TM","TM","TM","TM","","","x","x","x","x","x","x","x","x","x","x","x","x","x","x","x","x","x","x","x",5.5,null,"x","x","x","x","","","TM","TM","TM","TM","TM","TM","TM","TM","TM","TM","TM","","","x","x","x","x","x","x","x","x","x","x","x","x","x","x","x","x","x","x","x",null,0,0,0,0,0,0,0.5,0.5,0.5,0.5,0.5,0.5,0.5,0.5,0.5,0.5,0.5,0,0,0,0,0,0,0,0,0,0,0,0,0,0,0,0,0,0,0,0,0,null,{"$f":"IF(VLOOKUP($A288,'Schedule Setup'!$A$4:$E$39,5,FALSE)=0,\"\",VLOOKUP($A288,'Schedule Setup'!$A$4:$E$39,5,FALSE))","v":""},3,"",2.5,"",0,"",5.5,"",null,3,"",2.5,"",0,"",5.5,"",null,{"$f":"'Schedule Setup'!R10","v":"07:00:00"},{"$f":"'Schedule Setup'!S10","v":"14:30:00"},"06:30:00","15:00:00"]
[7,{"$f":"IF(VLOOKUP($A289,'Schedule Setup'!$A$4:$E$39,2,FALSE)=0,\"\",VLOOKUP($A289,'Schedule Setup'!$A$4:$E$39,2,FALSE))","v":"Madelyn Hickey"},{"$f":"IF(VLOOKUP($A289,'Schedule Setup'!$A$4:$E$39,4,FALSE)=0,\"\",VLOOKUP($A289,'Schedule Setup'!$A$4:$E$39,4,FALSE))","v":"Team Member"},"TM",null,null,null,"x","x","x","x","x","x","x","x","x","x","x","x","x","x","x","x","x","x","x","x","x","x","x","x","x","x","x",{"$f":"BW289","v":"x"},"x","x","x","x","x","x","x","x","x","x",0,null,"x","x","x","x","x","x","x","x","x","x","x","x","x","x","x","x","x","x","x","x","x","x","x","x","x","x","x","x","x","x","x","x","x","x","x","x","x","x",null,0,0,0,0,0,0,0,0,0,0,0,0,0,0,0,0,0,0,0,0,0,0,0,0,0,0,0,0,0,0,0,0,0,0,0,0,0,0,null,{"$f":"IF(VLOOKUP($A289,'Schedule Setup'!$A$4:$E$39,5,FALSE)=0,\"\",VLOOKUP($A289,'Schedule Setup'!$A$4:$E$39,5,FALSE))","v":""},0,"",0,"",0,"",0,"",null,0,"",0,"",0,"",0,"",null,{"$f":"'Schedule Setup'!R11","v":"UnAvail"},{"$f":"'Schedule Setup'!S11","v":"UnAvail"},{"$error":"#VALUE!"},{"$error":"#VALUE!"}]
[8,{"$f":"IF(VLOOKUP($A290,'Schedule Setup'!$A$4:$E$39,2,FALSE)=0,\"\",VLOOKUP($A290,'Schedule Setup'!$A$4:$E$39,2,FALSE))","v":""},{"$f":"IF(VLOOKUP($A290,'Schedule Setup'!$A$4:$E$39,4,FALSE)=0,\"\",VLOOKUP($A290,'Schedule Setup'!$A$4:$E$39,4,FALSE))","v":""},"",null,null,null,{"$f":"AV290","v":"x"},"x","x","x","x","x","x","x","x","x","x","x","x","x","x","x",{"$f":"BL290","v":"x"},"x","x","x","x","x","x","x","x","x","x","x","x","x","x","x","x","x","x","x","x","x",0,null,"x","x","x","x","x","x","x","x","x","x","x","x","x","x","x","x","x","x","x","x","x","x","x","x","x","x","x","x","x","x","x","x","x",{"$f":"IF(AND($EO290<=AO$6+0.01,$EP290>AO$6+0.01),IF(AND(AO$6<$F290-0.01,AO$6>=$E290-0.01),$D290,\"\"),\"x\")","v":"x"},"x","x","x","x",null,0,0,0,0,0,0,0,0,0,0,0,0,0,0,0,0,0,0,0,0,0,0,0,0,0,0,0,0,0,0,0,0,0,0,0,0,0,0,null,{"$f":"IF(VLOOKUP($A290,'Schedule Setup'!$A$4:$E$39,5,FALSE)=0,\"\",VLOOKUP($A290,'Schedule Setup'!$A$4:$E$39,5,FALSE))","v":""},0,"",0,"",0,"",0,"",null,0,"",0,"",0,"",0,"",null,{"$f":"'Schedule Setup'!R12","v":"00:00:00"},{"$f":"'Schedule Setup'!S12","v":"00:00:00"},-2.0833333333333332E-2,"00:30:00"]
[9,{"$f":"IF(VLOOKUP($A291,'Schedule Setup'!$A$4:$E$39,2,FALSE)=0,\"\",VLOOKUP($A291,'Schedule Setup'!$A$4:$E$39,2,FALSE))","v":""},{"$f":"IF(VLOOKUP($A291,'Schedule Setup'!$A$4:$E$39,4,FALSE)=0,\"\",VLOOKUP($A291,'Schedule Setup'!$A$4:$E$39,4,FALSE))","v":""},"",null,null,null,"x","x","x","x","x","x","x","x","x","x","x","x","x","x","x","x","x","x","x","x","x","x","x","x","x","x","x","x","x","x","x","x","x","x","x","x","x","x",0,null,"x","x","x","x","x","x","x","x","x","x","x","x","x","x","x","x","x","x","x","x","x","x","x","x","x","x","x","x","x","x","x","x","x",{"$f":"IF(AND($EO291<=AO$6+0.01,$EP291>AO$6+0.01),IF(AND(AO$6<$F291-0.01,AO$6>=$E291-0.01),$D291,\"\"),\"x\")","v":"x"},"x","x","x","x",null,0,0,0,0,0,0,0,0,0,0,0,0,0,0,0,0,0,0,0,0,0,0,0,0,0,0,0,0,0,0,0,0,0,0,0,0,0,0,null,{"$f":"IF(VLOOKUP($A291,'Schedule Setup'!$A$4:$E$39,5,FALSE)=0,\"\",VLOOKUP($A291,'Schedule Setup'!$A$4:$E$39,5,FALSE))","v":""},0,{"$f":"IFERROR(DW291*$DV291,\"\")","v":""},0,"",0,"",0,"",null,0,"",0,"",0,"",0,"",null,{"$f":"'Schedule Setup'!R13","v":"00:00:00"},{"$f":"'Schedule Setup'!S13","v":"00:00:00"},-2.0833333333333332E-2,"00:30:00"]
[10,{"$f":"IF(VLOOKUP($A292,'Schedule Setup'!$A$4:$E$39,2,FALSE)=0,\"\",VLOOKUP($A292,'Schedule Setup'!$A$4:$E$39,2,FALSE))","v":""},{"$f":"IF(VLOOKUP($A292,'Schedule Setup'!$A$4:$E$39,4,FALSE)=0,\"\",VLOOKUP($A292,'Schedule Setup'!$A$4:$E$39,4,FALSE))","v":""},"",null,null,null,"x","x","x","x","x","x","x","x","x","x","x","x","x","x","x","x","x","x","x","x","x","x","x","x","x","x","x","x","x","x","x","x","x","x","x","x","x","x",0,null,"x","x","x","x","x","x","x","x","x","x","x","x","x","x","x","x","x","x","x","x","x","x","x","x","x","x","x","x","x","x","x","x","x","x","x","x","x","x",null,0,0,0,0,0,0,0,0,0,0,0,0,0,0,0,0,0,0,0,0,0,0,0,0,0,0,0,0,0,0,0,0,0,0,0,0,0,0,null,{"$f":"IF(VLOOKUP($A292,'Schedule Setup'!$A$4:$E$39,5,FALSE)=0,\"\",VLOOKUP($A292,'Schedule Setup'!$A$4:$E$39,5,FALSE))","v":""},0,"",0,"",0,"",0,"",null,0,"",0,"",0,"",0,"",null,{"$f":"'Schedule Setup'!R14","v":"00:00:00"},{"$f":"'Schedule Setup'!S14","v":"00:00:00"},-2.0833333333333332E-2,"00:30:00"]
[11,{"$f":"IF(VLOOKUP($A293,'Schedule Setup'!$A$4:$E$39,2,FALSE)=0,\"\",VLOOKUP($A293,'Schedule Setup'!$A$4:$E$39,2,FALSE))","v":""},{"$f":"IF(VLOOKUP($A293,'Schedule Setup'!$A$4:$E$39,4,FALSE)=0,\"\",VLOOKUP($A293,'Schedule Setup'!$A$4:$E$39,4,FALSE))","v":""},"",null,null,null,"x","x","x","x","x","x","x","x","x","x","x","x","x","x","x","x","x","x","x","x","x","x","x","x","x","x","x","x","x","x","x","x","x","x","x","x","x","x",0,null,"x","x","x","x","x","x","x","x","x","x","x","x","x","x","x","x","x","x","x","x","x","x","x","x","x","x","x","x","x","x","x","x","x","x","x","x","x","x",null,0,0,0,0,0,0,0,0,0,0,0,0,0,0,0,0,0,0,0,0,0,0,0,0,0,0,0,0,0,0,0,0,0,0,0,0,0,0,null,{"$f":"IF(VLOOKUP($A293,'Schedule Setup'!$A$4:$E$39,5,FALSE)=0,\"\",VLOOKUP($A293,'Schedule Setup'!$A$4:$E$39,5,FALSE))","v":""},0,"",0,"",0,"",0,"",null,0,"",0,"",0,"",0,"",null,{"$f":"'Schedule Setup'!R15","v":"00:00:00"},{"$f":"'Schedule Setup'!S15","v":"00:00:00"},-2.0833333333333332E-2,"00:30:00"]
[12,{"$f":"IF(VLOOKUP($A294,'Schedule Setup'!$A$4:$E$39,2,FALSE)=0,\"\",VLOOKUP($A294,'Schedule Setup'!$A$4:$E$39,2,FALSE))","v":""},{"$f":"IF(VLOOKUP($A294,'Schedule Setup'!$A$4:$E$39,4,FALSE)=0,\"\",VLOOKUP($A294,'Schedule Setup'!$A$4:$E$39,4,FALSE))","v":""},"",null,null,null,"x","x","x","x","x","x","x","x","x","x","x","x","x","x","x","x","x","x","x","x","x","x","x","x","x","x","x","x","x","x","x","x","x","x","x","x","x","x",0,null,"x","x","x","x","x","x","x","x","x","x","x","x","x","x","x","x","x","x","x","x","x","x","x","x","x","x","x","x","x","x","x","x","x","x","x","x","x","x",null,0,0,0,0,0,0,0,0,0,0,0,0,0,0,0,0,0,0,0,0,0,0,0,0,0,0,0,0,0,0,0,0,0,0,0,0,0,0,null,{"$f":"IF(VLOOKUP($A294,'Schedule Setup'!$A$4:$E$39,5,FALSE)=0,\"\",VLOOKUP($A294,'Schedule Setup'!$A$4:$E$39,5,FALSE))","v":""},0,"",0,"",0,"",0,"",null,0,"",0,"",0,"",0,"",null,{"$f":"'Schedule Setup'!R16","v":"00:00:00"},{"$f":"'Schedule Setup'!S16","v":"00:00:00"},-2.0833333333333332E-2,"00:30:00"]
[13,{"$f":"IF(VLOOKUP($A295,'Schedule Setup'!$A$4:$E$39,2,FALSE)=0,\"\",VLOOKUP($A295,'Schedule Setup'!$A$4:$E$39,2,FALSE))","v":""},{"$f":"IF(VLOOKUP($A295,'Schedule Setup'!$A$4:$E$39,4,FALSE)=0,\"\",VLOOKUP($A295,'Schedule Setup'!$A$4:$E$39,4,FALSE))","v":""},"",null,null,null,"x","x","x","x","x","x","x","x","x","x","x","x","x","x","x","x","x","x","x","x","x","x","x","x","x","x","x","x","x","x","x","x","x","x","x","x","x","x",0,null,"x","x","x","x","x","x","x","x","x","x","x","x","x","x","x","x","x","x","x","x","x","x","x","x","x","x","x","x","x","x","x","x","x","x","x","x","x","x",null,0,0,0,0,0,0,0,0,0,0,0,0,0,0,0,0,0,0,0,0,0,0,0,0,0,0,0,0,0,0,0,0,0,0,0,0,0,0,null,{"$f":"IF(VLOOKUP($A295,'Schedule Setup'!$A$4:$E$39,5,FALSE)=0,\"\",VLOOKUP($A295,'Schedule Setup'!$A$4:$E$39,5,FALSE))","v":""},0,"",0,"",0,"",0,"",null,0,"",0,"",0,"",0,"",null,{"$f":"'Schedule Setup'!R17","v":"00:00:00"},{"$f":"'Schedule Setup'!S17","v":"00:00:00"},-2.0833333333333332E-2,"00:30:00"]
[14,{"$f":"IF(VLOOKUP($A296,'Schedule Setup'!$A$4:$E$39,2,FALSE)=0,\"\",VLOOKUP($A296,'Schedule Setup'!$A$4:$E$39,2,FALSE))","v":"Matt Louden"},{"$f":"IF(VLOOKUP($A296,'Schedule Setup'!$A$4:$E$39,4,FALSE)=0,\"\",VLOOKUP($A296,'Schedule Setup'!$A$4:$E$39,4,FALSE))","v":"Team Member"},"TM",null,null,null,"x","x","x","x","","","","","","","","","","","","","","","","","","","","x","x","x","x","x","x","x","x","x","x","x","x","x","x","x",0,null,"x","x","x","x","","","","","","","","","","","","","","","","","","","","x","x","x","x","x","x","x","x","x","x","x","x","x","x","x",null,0,0,0,0,0,0,0,0,0,0,0,0,0,0,0,0,0,0,0,0,0,0,0,0,0,0,0,0,0,0,0,0,0,0,0,0,0,0,null,{"$f":"IF(VLOOKUP($A296,'Schedule Setup'!$A$4:$E$39,5,FALSE)=0,\"\",VLOOKUP($A296,'Schedule Setup'!$A$4:$E$39,5,FALSE))","v":""},0,"",0,"",0,"",0,"",null,0,"",0,"",0,"",0,"",null,{"$f":"'Schedule Setup'!R18","v":"07:00:00"},{"$f":"'Schedule Setup'!S18","v":"16:30:00"},"06:30:00","17:00:00"]
[15,{"$f":"IF(VLOOKUP($A297,'Schedule Setup'!$A$4:$E$39,2,FALSE)=0,\"\",VLOOKUP($A297,'Schedule Setup'!$A$4:$E$39,2,FALSE))","v":"Ani Reyes"},{"$f":"IF(VLOOKUP($A297,'Schedule Setup'!$A$4:$E$39,4,FALSE)=0,\"\",VLOOKUP($A297,'Schedule Setup'!$A$4:$E$39,4,FALSE))","v":"Team Member"},"TM","13:30:00","18:30:00",null,"x","x","x","x","","","","","","","","","","","","","","TM","TM","TM","TM","TM","TM","TM","TM","TM","TM","","","","","x","x","x","x","x","x","x",5,null,"x","x","x","x","","","","","","","","","","","","","","TM","TM","TM","TM","TM","TM","TM","TM","TM","TM","","","","","x","x","x","x","x","x","x",null,0,0,0,0,0,0,0,0,0,0,0,0,0,0,0,0,0,0.5,0.5,0.5,0.5,0.5,0.5,0.5,0.5,0.5,0.5,0,0,0,0,0,0,0,0,0,0,0,null,{"$f":"IF(VLOOKUP($A297,'Schedule Setup'!$A$4:$E$39,5,FALSE)=0,\"\",VLOOKUP($A297,'Schedule Setup'!$A$4:$E$39,5,FALSE))","v":""},0,"",3.5,"",1.5,"",5,"",null,0,"",3.5,"",1.5,"",5,"",null,{"$f":"'Schedule Setup'!R19","v":"07:00:00"},{"$f":"'Schedule Setup'!S19","v":"20:30:00"},"06:30:00","21:00:00"]
[16,{"$f":"IF(VLOOKUP($A298,'Schedule Setup'!$A$4:$E$39,2,FALSE)=0,\"\",VLOOKUP($A298,'Schedule Setup'!$A$4:$E$39,2,FALSE))","v":"Andrew Philips"},{"$f":"IF(VLOOKUP($A298,'Schedule Setup'!$A$4:$E$39,4,FALSE)=0,\"\",VLOOKUP($A298,'Schedule Setup'!$A$4:$E$39,4,FALSE))","v":"Team Member"},"TM","14:00:00","20:30:00",null,"x","x","x","x","","","","","","","","","","","","","","","TM","TM","TM","TM","TM","TM","TM","TM","TM","TM","TM","TM","TM","x","x","x","x","x","x","x",6.5,null,"x","x","x","x","","","","","","","","","","","","",{"$f":"IF(AND($EO298<=X$6+0.01,$EP298>X$6+0.01),IF(AND(X$6<$F298-0.01,X$6>=$E298-0.01),$D298,\"\"),\"x\")","v":""},{"$f":"IF(AND($EO298<=Y$6+0.01,$EP298>Y$6+0.01),IF(AND(Y$6<$F298-0.01,Y$6>=$E298-0.01),$D298,\"\"),\"x\")","v":""},{"$f":"IF(AND($EO298<=Z$6+0.01,$EP298>Z$6+0.01),IF(AND(Z$6<$F298-0.01,Z$6>=$E298-0.01),$D298,\"\"),\"x\")","v":"TM"},{"$f":"IF(AND($EO298<=AA$6+0.01,$EP298>AA$6+0.01),IF(AND(AA$6<$F298-0.01,AA$6>=$E298-0.01),$D298,\"\"),\"x\")","v":"TM"},{"$f":"IF(AND($EO298<=AB$6+0.01,$EP298>AB$6+0.01),IF(AND(AB$6<$F298-0.01,AB$6>=$E298-0.01),$D298,\"\"),\"x\")","v":"TM"},{"$f":"IF(AND($EO298<=AC$6+0.01,$EP298>AC$6+0.01),IF(AND(AC$6<$F298-0.01,AC$6>=$E298-0.01),$D298,\"\"),\"x\")","v":"TM"},{"$f":"IF(AND($EO298<=AD$6+0.01,$EP298>AD$6+0.01),IF(AND(AD$6<$F298-0.01,AD$6>=$E298-0.01),$D298,\"\"),\"x\")","v":"TM"},{"$f":"IF(AND($EO298<=AE$6+0.01,$EP298>AE$6+0.01),IF(AND(AE$6<$F298-0.01,AE$6>=$E298-0.01),$D298,\"\"),\"x\")","v":"TM"},{"$f":"IF(AND($EO298<=AF$6+0.01,$EP298>AF$6+0.01),IF(AND(AF$6<$F298-0.01,AF$6>=$E298-0.01),$D298,\"\"),\"x\")","v":"TM"},{"$f":"IF(AND($EO298<=AG$6+0.01,$EP298>AG$6+0.01),IF(AND(AG$6<$F298-0.01,AG$6>=$E298-0.01),$D298,\"\"),\"x\")","v":"TM"},{"$f":"IF(AND($EO298<=AH$6+0.01,$EP298>AH$6+0.01),IF(AND(AH$6<$F298-0.01,AH$6>=$E298-0.01),$D298,\"\"),\"x\")","v":"TM"},{"$f":"IF(AND($EO298<=AI$6+0.01,$EP298>AI$6+0.01),IF(AND(AI$6<$F298-0.01,AI$6>=$E298-0.01),$D298,\"\"),\"x\")","v":"TM"},{"$f":"IF(AND($EO298<=AJ$6+0.01,$EP298>AJ$6+0.01),IF(AND(AJ$6<$F298-0.01,AJ$6>=$E298-0.01),$D298,\"\"),\"x\")","v":"TM"},{"$f":"IF(AND($EO298<=AK$6+0.01,$EP298>AK$6+0.01),IF(AND(AK$6<$F298-0.01,AK$6>=$E298-0.01),$D298,\"\"),\"x\")","v":"TM"},{"$f":"IF(AND($EO298<=AL$6+0.01,$EP298>AL$6+0.01),IF(AND(AL$6<$F298-0.01,AL$6>=$E298-0.01),$D298,\"\"),\"x\")","v":"TM"},{"$f":"IF(AND($EO298<=AM$6+0.01,$EP298>AM$6+0.01),IF(AND(AM$6<$F298-0.01,AM$6>=$E298-0.01),$D298,\"\"),\"x\")","v":"x"},{"$f":"IF(AND($EO298<=AN$6+0.01,$EP298>AN$6+0.01),IF(AND(AN$6<$F298-0.01,AN$6>=$E298-0.01),$D298,\"\"),\"x\")","v":"x"},"x","x","x","x","x",null,0,0,0,0,0,0,0,0,0,0,0,0,0,0,0,0,0,0,0.5,0.5,0.5,0.5,0.5,0.5,0.5,0.5,0.5,0.5,0.5,0.5,0.5,0,0,0,0,0,0,0,null,{"$f":"IF(VLOOKUP($A298,'Schedule Setup'!$A$4:$E$39,5,FALSE)=0,\"\",VLOOKUP($A298,'Schedule Setup'!$A$4:$E$39,5,FALSE))","v":""},0,"",3,"",3.5,"",6.5,"",null,0,"",3,"",3.5,"",6.5,"",null,{"$f":"'Schedule Setup'!R20","v":"07:00:00"},{"$f":"'Schedule Setup'!S20","v":"20:30:00"},"06:30:00","21:00:00"]
[17,{"$f":"IF(VLOOKUP($A299,'Schedule Setup'!$A$4:$E$39,2,FALSE)=0,\"\",VLOOKUP($A299,'Schedule Setup'!$A$4:$E$39,2,FALSE))","v":""},{"$f":"IF(VLOOKUP($A299,'Schedule Setup'!$A$4:$E$39,4,FALSE)=0,\"\",VLOOKUP($A299,'Schedule Setup'!$A$4:$E$39,4,FALSE))","v":""},"",null,null,null,"x","x","x","x","x","x","x","x","x","x","x","x","x","x","x","x","x","x","x","x","x","x","x","x","x","x","x","x","x","x","x","x","x","x","x","x","x","x",0,null,{"$f":"IF(AND($EO299<=H$6+0.01,$EP299>H$6+0.01),IF(AND(H$6<$F299-0.01,H$6>=$E299-0.01),$D299,\"\"),\"x\")","v":"x"},{"$f":"IF(AND($EO299<=I$6+0.01,$EP299>I$6+0.01),IF(AND(I$6<$F299-0.01,I$6>=$E299-0.01),$D299,\"\"),\"x\")","v":"x"},{"$f":"IF(AND($EO299<=J$6+0.01,$EP299>J$6+0.01),IF(AND(J$6<$F299-0.01,J$6>=$E299-0.01),$D299,\"\"),\"x\")","v":"x"},{"$f":"IF(AND($EO299<=K$6+0.01,$EP299>K$6+0.01),IF(AND(K$6<$F299-0.01,K$6>=$E299-0.01),$D299,\"\"),\"x\")","v":"x"},{"$f":"IF(AND($EO299<=L$6+0.01,$EP299>L$6+0.01),IF(AND(L$6<$F299-0.01,L$6>=$E299-0.01),$D299,\"\"),\"x\")","v":"x"},{"$f":"IF(AND($EO299<=M$6+0.01,$EP299>M$6+0.01),IF(AND(M$6<$F299-0.01,M$6>=$E299-0.01),$D299,\"\"),\"x\")","v":"x"},{"$f":"IF(AND($EO299<=N$6+0.01,$EP299>N$6+0.01),IF(AND(N$6<$F299-0.01,N$6>=$E299-0.01),$D299,\"\"),\"x\")","v":"x"},{"$f":"IF(AND($EO299<=O$6+0.01,$EP299>O$6+0.01),IF(AND(O$6<$F299-0.01,O$6>=$E299-0.01),$D299,\"\"),\"x\")","v":"x"},{"$f":"IF(AND($EO299<=P$6+0.01,$EP299>P$6+0.01),IF(AND(P$6<$F299-0.01,P$6>=$E299-0.01),$D299,\"\"),\"x\")","v":"x"},{"$f":"IF(AND($EO299<=Q$6+0.01,$EP299>Q$6+0.01),IF(AND(Q$6<$F299-0.01,Q$6>=$E299-0.01),$D299,\"\"),\"x\")","v":"x"},{"$f":"IF(AND($EO299<=R$6+0.01,$EP299>R$6+0.01),IF(AND(R$6<$F299-0.01,R$6>=$E299-0.01),$D299,\"\"),\"x\")","v":"x"},{"$f":"IF(AND($EO299<=S$6+0.01,$EP299>S$6+0.01),IF(AND(S$6<$F299-0.01,S$6>=$E299-0.01),$D299,\"\"),\"x\")","v":"x"},{"$f":"IF(AND($EO299<=T$6+0.01,$EP299>T$6+0.01),IF(AND(T$6<$F299-0.01,T$6>=$E299-0.01),$D299,\"\"),\"x\")","v":"x"},{"$f":"IF(AND($EO299<=U$6+0.01,$EP299>U$6+0.01),IF(AND(U$6<$F299-0.01,U$6>=$E299-0.01),$D299,\"\"),\"x\")","v":"x"},{"$f":"IF(AND($EO299<=V$6+0.01,$EP299>V$6+0.01),IF(AND(V$6<$F299-0.01,V$6>=$E299-0.01),$D299,\"\"),\"x\")","v":"x"},{"$f":"IF(AND($EO299<=W$6+0.01,$EP299>W$6+0.01),IF(AND(W$6<$F299-0.01,W$6>=$E299-0.01),$D299,\"\"),\"x\")","v":"x"},"x","x","x","x","x","x","x","x","x","x","x","x","x","x","x","x","x","x","x","x","x","x",null,0,0,0,0,0,0,0,0,0,0,0,0,0,0,0,0,0,0,0,0,0,0,0,0,0,0,0,0,0,0,0,0,0,0,0,0,0,0,null,{"$f":"IF(VLOOKUP($A299,'Schedule Setup'!$A$4:$E$39,5,FALSE)=0,\"\",VLOOKUP($A299,'Schedule Setup'!$A$4:$E$39,5,FALSE))","v":""},0,"",0,"",0,"",0,"",null,0,"",0,"",0,"",0,"",null,{"$f":"'Schedule Setup'!R21","v":"00:00:00"},{"$f":"'Schedule Setup'!S21","v":"00:00:00"},-2.0833333333333332E-2,"00:30:00"]
[18,{"$f":"IF(VLOOKUP($A300,'Schedule Setup'!$A$4:$E$39,2,FALSE)=0,\"\",VLOOKUP($A300,'Schedule Setup'!$A$4:$E$39,2,FALSE))","v":""},{"$f":"IF(VLOOKUP($A300,'Schedule Setup'!$A$4:$E$39,4,FALSE)=0,\"\",VLOOKUP($A300,'Schedule Setup'!$A$4:$E$39,4,FALSE))","v":""},"",null,null,null,"x","x","x","x","x","x","x","x","x","x","x","x","x","x","x","x","x","x","x","x","x","x","x","x","x","x","x","x","x","x","x","x","x","x","x","x","x","x",0,null,"x","x","x","x","x","x","x","x","x","x","x","x","x","x","x","x","x","x","x","x","x","x","x","x","x","x","x","x","x","x","x","x","x","x","x","x","x","x",null,0,0,0,0,0,0,0,0,0,0,0,0,0,0,0,0,0,0,0,0,0,0,0,0,0,0,0,0,0,0,0,0,0,0,0,0,0,0,null,{"$f":"IF(VLOOKUP($A300,'Schedule Setup'!$A$4:$E$39,5,FALSE)=0,\"\",VLOOKUP($A300,'Schedule Setup'!$A$4:$E$39,5,FALSE))","v":""},0,"",0,"",0,"",0,"",null,0,"",0,"",0,"",0,"",null,{"$f":"'Schedule Setup'!R22","v":"00:00:00"},{"$f":"'Schedule Setup'!S22","v":"00:00:00"},-2.0833333333333332E-2,"00:30:00"]
[19,{"$f":"IF(VLOOKUP($A301,'Schedule Setup'!$A$4:$E$39,2,FALSE)=0,\"\",VLOOKUP($A301,'Schedule Setup'!$A$4:$E$39,2,FALSE))","v":"."},{"$f":"IF(VLOOKUP($A301,'Schedule Setup'!$A$4:$E$39,4,FALSE)=0,\"\",VLOOKUP($A301,'Schedule Setup'!$A$4:$E$39,4,FALSE))","v":""},"TM",null,null,null,"x","x","x","x","x","x","x","x","x","x","x","x","x","x","x","x","x","x","x","x","x","x","x","x","x","x","x","x","x","x","x","x","x","x","x","x","x","x",0,null,"x","x","x","x","x","x","x","x","x","x","x","x","x","x","x","x","x","x","x","x","x","x","x","x","x","x","x","x","x","x","x","x","x","x","x","x","x","x",null,0,0,0,0,0,0,0,0,0,0,0,0,0,0,0,0,0,0,0,0,0,0,0,0,0,0,0,0,0,0,0,0,0,0,0,0,0,0,null,{"$f":"IF(VLOOKUP($A301,'Schedule Setup'!$A$4:$E$39,5,FALSE)=0,\"\",VLOOKUP($A301,'Schedule Setup'!$A$4:$E$39,5,FALSE))","v":""},0,"",0,"",0,"",0,"",null,0,"",0,"",0,"",0,"",null,{"$f":"'Schedule Setup'!R23","v":"00:00:00"},{"$f":"'Schedule Setup'!S23","v":"00:00:00"},-2.0833333333333332E-2,"00:30:00"]
[20,{"$f":"IF(VLOOKUP($A302,'Schedule Setup'!$A$4:$E$39,2,FALSE)=0,\"\",VLOOKUP($A302,'Schedule Setup'!$A$4:$E$39,2,FALSE))","v":"Sean Duncan"},{"$f":"IF(VLOOKUP($A302,'Schedule Setup'!$A$4:$E$39,4,FALSE)=0,\"\",VLOOKUP($A302,'Schedule Setup'!$A$4:$E$39,4,FALSE))","v":"Team Lead"},"TL",null,null,null,"x","x","x","x","x","x","x","x","x","x","x","x","x","x","x","x","x","x","x","x","x","x","x","x","x","x","x","x","x","x","x","x","x","x","x","x","x","x",0,null,"x","x","x","x","x","x","x","x","x","x","x","x","x","x","x","x","x","x","x","x","x","x","x","x","x","x","x","x","x","x","x","x","x","x","x","x","x","x",null,0,0,0,0,0,0,0,0,0,0,0,0,0,0,0,0,0,0,0,0,0,0,0,0,0,0,0,0,0,0,0,0,0,0,0,0,0,0,null,{"$f":"IF(VLOOKUP($A302,'Schedule Setup'!$A$4:$E$39,5,FALSE)=0,\"\",VLOOKUP($A302,'Schedule Setup'!$A$4:$E$39,5,FALSE))","v":""},0,"",0,"",0,"",0,"",null,0,"",0,"",0,"",0,"",null,{"$f":"'Schedule Setup'!R24","v":"00:00:00"},{"$f":"'Schedule Setup'!S24","v":"00:00:00"},-2.0833333333333332E-2,"00:30:00"]
[21,{"$f":"IF(VLOOKUP($A303,'Schedule Setup'!$A$4:$E$39,2,FALSE)=0,\"\",VLOOKUP($A303,'Schedule Setup'!$A$4:$E$39,2,FALSE))","v":""},{"$f":"IF(VLOOKUP($A303,'Schedule Setup'!$A$4:$E$39,4,FALSE)=0,\"\",VLOOKUP($A303,'Schedule Setup'!$A$4:$E$39,4,FALSE))","v":""},"",null,null,null,"x","x","x","x","x","x","x","x","x","x","x","x","x","x","x","x","x","x","x","x","x","x","x","x","x","x","x","x","x","x","x","x","x","x","x","x","x","x",0,null,"x","x","x","x","x","x","x","x","x","x","x","x","x","x","x","x","x","x","x","x","x","x","x","x","x","x","x","x","x","x","x","x","x","x","x","x","x","x",null,0,0,0,0,0,0,0,0,0,0,0,0,0,0,0,0,0,0,0,0,0,0,0,0,0,0,0,0,0,0,0,0,0,0,0,0,0,0,null,{"$f":"IF(VLOOKUP($A303,'Schedule Setup'!$A$4:$E$39,5,FALSE)=0,\"\",VLOOKUP($A303,'Schedule Setup'!$A$4:$E$39,5,FALSE))","v":""},0,"",0,"",0,"",0,"",null,0,"",0,"",0,"",0,"",null,{"$f":"'Schedule Setup'!R25","v":"00:00:00"},{"$f":"'Schedule Setup'!S25","v":"00:00:00"},-2.0833333333333332E-2,"00:30:00"]
[22,{"$f":"IF(VLOOKUP($A304,'Schedule Setup'!$A$4:$E$39,2,FALSE)=0,\"\",VLOOKUP($A304,'Schedule Setup'!$A$4:$E$39,2,FALSE))","v":""},{"$f":"IF(VLOOKUP($A304,'Schedule Setup'!$A$4:$E$39,4,FALSE)=0,\"\",VLOOKUP($A304,'Schedule Setup'!$A$4:$E$39,4,FALSE))","v":""},"",null,null,null,"x","x","x","x","x","x","x","x","x","x","x","x","x","x","x","x","x","x","x","x","x","x","x","x","x","x","x","x","x","x","x","x","x","x","x","x","x","x",0,null,"x","x","x","x","x","x","x","x","x","x","x","x","x","x","x","x","x","x","x","x","x","x","x","x","x","x","x","x","x","x","x","x","x","x","x","x","x","x",null,0,0,0,0,0,0,0,0,0,0,0,0,0,0,0,0,0,0,0,0,0,0,0,0,0,0,0,0,0,0,0,0,0,0,0,0,0,0,null,{"$f":"IF(VLOOKUP($A304,'Schedule Setup'!$A$4:$E$39,5,FALSE)=0,\"\",VLOOKUP($A304,'Schedule Setup'!$A$4:$E$39,5,FALSE))","v":""},0,"",0,"",0,"",0,"",null,0,"",0,"",0,"",0,"",null,{"$f":"'Schedule Setup'!R26","v":"00:00:00"},{"$f":"'Schedule Setup'!S26","v":"00:00:00"},-2.0833333333333332E-2,"00:30:00"]
[23,{"$f":"IF(VLOOKUP($A305,'Schedule Setup'!$A$4:$E$39,2,FALSE)=0,\"\",VLOOKUP($A305,'Schedule Setup'!$A$4:$E$39,2,FALSE))","v":""},{"$f":"IF(VLOOKUP($A305,'Schedule Setup'!$A$4:$E$39,4,FALSE)=0,\"\",VLOOKUP($A305,'Schedule Setup'!$A$4:$E$39,4,FALSE))","v":""},"",null,null,null,"x","x","x","x","x","x","x","x","x","x","x","x","x","x","x","x","x","x","x","x","x","x","x","x","x","x","x","x","x","x","x","x","x","x","x","x","x","x",0,null,"x","x","x","x","x","x","x","x","x","x","x","x","x","x","x","x","x","x","x","x","x","x","x","x","x","x","x","x","x","x","x","x","x","x","x","x","x","x",null,0,0,0,0,0,0,0,0,0,0,0,0,0,0,0,0,0,0,0,0,0,0,0,0,0,0,0,0,0,0,0,0,0,0,0,0,0,0,null,{"$f":"IF(VLOOKUP($A305,'Schedule Setup'!$A$4:$E$39,5,FALSE)=0,\"\",VLOOKUP($A305,'Schedule Setup'!$A$4:$E$39,5,FALSE))","v":""},0,"",0,"",0,"",0,"",null,0,"",0,"",0,"",0,"",null,{"$f":"'Schedule Setup'!R27","v":"00:00:00"},{"$f":"'Schedule Setup'!S27","v":"00:00:00"},-2.0833333333333332E-2,"00:30:00"]
[24,{"$f":"IF(VLOOKUP($A306,'Schedule Setup'!$A$4:$E$39,2,FALSE)=0,\"\",VLOOKUP($A306,'Schedule Setup'!$A$4:$E$39,2,FALSE))","v":""},{"$f":"IF(VLOOKUP($A306,'Schedule Setup'!$A$4:$E$39,4,FALSE)=0,\"\",VLOOKUP($A306,'Schedule Setup'!$A$4:$E$39,4,FALSE))","v":""},{"$f":"IF(B306<>\"\",IF(OR(C306=\"General Manager (S)\", C306=\"General Manager (H)\"), \"GM\",IF(C306=\"Acting Manager\",\"AM\",IF(C306=\"Shift Manager\",\"SM\",IF(C306=\"Team Lead\",\"TL\",\"TM\")))),\"\")","v":""},null,null,null,{"$f":"AV306","v":"x"},{"$f":"AW306","v":"x"},{"$f":"AX306","v":"x"},{"$f":"AY306","v":"x"},{"$f":"AZ306","v":"x"},{"$f":"BA306","v":"x"},{"$f":"BB306","v":"x"},{"$f":"BC306","v":"x"},{"$f":"BD306","v":"x"},{"$f":"BE306","v":"x"},{"$f":"BF306","v":"x"},{"$f":"BG306","v":"x"},{"$f":"BH306","v":"x"},{"$f":"BI306","v":"x"},"x","x","x","x","x","x","x","x","x","x","x","x","x","x","x",{"$f":"BY306","v":"x"},{"$f":"BZ306","v":"x"},{"$f":"CA306","v":"x"},{"$f":"CB306","v":"x"},{"$f":"CC306","v":"x"},{"$f":"CD306","v":"x"},{"$f":"CE306","v":"x"},{"$f":"CF306","v":"x"},{"$f":"CG306","v":"x"},{"$f":"EC306","v":0},null,{"$f":"IF(AND($EO306<=H$6+0.01,$EP306>H$6+0.01),IF(AND(H$6<$F306-0.01,H$6>=$E306-0.01),$D306,\"\"),\"x\")","v":"x"},{"$f":"IF(AND($EO306<=I$6+0.01,$EP306>I$6+0.01),IF(AND(I$6<$F306-0.01,I$6>=$E306-0.01),$D306,\"\"),\"x\")","v":"x"},{"$f":"IF(AND($EO306<=J$6+0.01,$EP306>J$6+0.01),IF(AND(J$6<$F306-0.01,J$6>=$E306-0.01),$D306,\"\"),\"x\")","v":"x"},{"$f":"IF(AND($EO306<=K$6+0.01,$EP306>K$6+0.01),IF(AND(K$6<$F306-0.01,K$6>=$E306-0.01),$D306,\"\"),\"x\")","v":"x"},{"$f":"IF(AND($EO306<=L$6+0.01,$EP306>L$6+0.01),IF(AND(L$6<$F306-0.01,L$6>=$E306-0.01),$D306,\"\"),\"x\")","v":"x"},{"$f":"IF(AND($EO306<=M$6+0.01,$EP306>M$6+0.01),IF(AND(M$6<$F306-0.01,M$6>=$E306-0.01),$D306,\"\"),\"x\")","v":"x"},{"$f":"IF(AND($EO306<=N$6+0.01,$EP306>N$6+0.01),IF(AND(N$6<$F306-0.01,N$6>=$E306-0.01),$D306,\"\"),\"x\")","v":"x"},{"$f":"IF(AND($EO306<=O$6+0.01,$EP306>O$6+0.01),IF(AND(O$6<$F306-0.01,O$6>=$E306-0.01),$D306,\"\"),\"x\")","v":"x"},{"$f":"IF(AND($EO306<=P$6+0.01,$EP306>P$6+0.01),IF(AND(P$6<$F306-0.01,P$6>=$E306-0.01),$D306,\"\"),\"x\")","v":"x"},{"$f":"IF(AND($EO306<=Q$6+0.01,$EP306>Q$6+0.01),IF(AND(Q$6<$F306-0.01,Q$6>=$E306-0.01),$D306,\"\"),\"x\")","v":"x"},{"$f":"IF(AND($EO306<=R$6+0.01,$EP306>R$6+0.01),IF(AND(R$6<$F306-0.01,R$6>=$E306-0.01),$D306,\"\"),\"x\")","v":"x"},{"$f":"IF(AND($EO306<=S$6+0.01,$EP306>S$6+0.01),IF(AND(S$6<$F306-0.01,S$6>=$E306-0.01),$D306,\"\"),\"x\")","v":"x"},{"$f":"IF(AND($EO306<=T$6+0.01,$EP306>T$6+0.01),IF(AND(T$6<$F306-0.01,T$6>=$E306-0.01),$D306,\"\"),\"x\")","v":"x"},{"$f":"IF(AND($EO306<=U$6+0.01,$EP306>U$6+0.01),IF(AND(U$6<$F306-0.01,U$6>=$E306-0.01),$D306,\"\"),\"x\")","v":"x"},{"$f":"IF(AND($EO306<=V$6+0.01,$EP306>V$6+0.01),IF(AND(V$6<$F306-0.01,V$6>=$E306-0.01),$D306,\"\"),\"x\")","v":"x"},{"$f":"IF(AND($EO306<=W$6+0.01,$EP306>W$6+0.01),IF(AND(W$6<$F306-0.01,W$6>=$E306-0.01),$D306,\"\"),\"x\")","v":"x"},{"$f":"IF(AND($EO306<=X$6+0.01,$EP306>X$6+0.01),IF(AND(X$6<$F306-0.01,X$6>=$E306-0.01),$D306,\"\"),\"x\")","v":"x"},{"$f":"IF(AND($EO306<=Y$6+0.01,$EP306>Y$6+0.01),IF(AND(Y$6<$F306-0.01,Y$6>=$E306-0.01),$D306,\"\"),\"x\")","v":"x"},{"$f":"IF(AND($EO306<=Z$6+0.01,$EP306>Z$6+0.01),IF(AND(Z$6<$F306-0.01,Z$6>=$E306-0.01),$D306,\"\"),\"x\")","v":"x"},{"$f":"IF(AND($EO306<=AA$6+0.01,$EP306>AA$6+0.01),IF(AND(AA$6<$F306-0.01,AA$6>=$E306-0.01),$D306,\"\"),\"x\")","v":"x"},{"$f":"IF(AND($EO306<=AB$6+0.01,$EP306>AB$6+0.01),IF(AND(AB$6<$F306-0.01,AB$6>=$E306-0.01),$D306,\"\"),\"x\")","v":"x"},{"$f":"IF(AND($EO306<=AC$6+0.01,$EP306>AC$6+0.01),IF(AND(AC$6<$F306-0.01,AC$6>=$E306-0.01),$D306,\"\"),\"x\")","v":"x"},{"$f":"IF(AND($EO306<=AD$6+0.01,$EP306>AD$6+0.01),IF(AND(AD$6<$F306-0.01,AD$6>=$E306-0.01),$D306,\"\"),\"x\")","v":"x"},{"$f":"IF(AND($EO306<=AE$6+0.01,$EP306>AE$6+0.01),IF(AND(AE$6<$F306-0.01,AE$6>=$E306-0.01),$D306,\"\"),\"x\")","v":"x"},{"$f":"IF(AND($EO306<=AF$6+0.01,$EP306>AF$6+0.01),IF(AND(AF$6<$F306-0.01,AF$6>=$E306-0.01),$D306,\"\"),\"x\")","v":"x"},{"$f":"IF(AND($EO306<=AG$6+0.01,$EP306>AG$6+0.01),IF(AND(AG$6<$F306-0.01,AG$6>=$E306-0.01),$D306,\"\"),\"x\")","v":"x"},{"$f":"IF(AND($EO306<=AH$6+0.01,$EP306>AH$6+0.01),IF(AND(AH$6<$F306-0.01,AH$6>=$E306-0.01),$D306,\"\"),\"x\")","v":"x"},{"$f":"IF(AND($EO306<=AI$6+0.01,$EP306>AI$6+0.01),IF(AND(AI$6<$F306-0.01,AI$6>=$E306-0.01),$D306,\"\"),\"x\")","v":"x"},{"$f":"IF(AND($EO306<=AJ$6+0.01,$EP306>AJ$6+0.01),IF(AND(AJ$6<$F306-0.01,AJ$6>=$E306-0.01),$D306,\"\"),\"x\")","v":"x"},{"$f":"IF(AND($EO306<=AK$6+0.01,$EP306>AK$6+0.01),IF(AND(AK$6<$F306-0.01,AK$6>=$E306-0.01),$D306,\"\"),\"x\")","v":"x"},{"$f":"IF(AND($EO306<=AL$6+0.01,$EP306>AL$6+0.01),IF(AND(AL$6<$F306-0.01,AL$6>=$E306-0.01),$D306,\"\"),\"x\")","v":"x"},{"$f":"IF(AND($EO306<=AM$6+0.01,$EP306>AM$6+0.01),IF(AND(AM$6<$F306-0.01,AM$6>=$E306-0.01),$D306,\"\"),\"x\")","v":"x"},{"$f":"IF(AND($EO306<=AN$6+0.01,$EP306>AN$6+0.01),IF(AND(AN$6<$F306-0.01,AN$6>=$E306-0.01),$D306,\"\"),\"x\")","v":"x"},{"$f":"IF(AND($EO306<=AO$6+0.01,$EP306>AO$6+0.01),IF(AND(AO$6<$F306-0.01,AO$6>=$E306-0.01),$D306,\"\"),\"x\")","v":"x"},{"$f":"IF(AND($EO306<=AP$6+0.01,$EP306>AP$6+0.01),IF(AND(AP$6<$F306-0.01,AP$6>=$E306-0.01),$D306,\"\"),\"x\")","v":"x"},{"$f":"IF(AND($EO306<=AQ$6+0.01,$EP306>AQ$6+0.01),IF(AND(AQ$6<$F306-0.01,AQ$6>=$E306-0.01),$D306,\"\"),\"x\")","v":"x"},{"$f":"IF(AND($EO306<=AR$6+0.01,$EP306>AR$6+0.01),IF(AND(AR$6<$F306-0.01,AR$6>=$E306-0.01),$D306,\"\"),\"x\")","v":"x"},{"$f":"IF(AND($EO306<=AS$6+0.01,$EP306>AS$6+0.01),IF(AND(AS$6<$F306-0.01,AS$6>=$E306-0.01),$D306,\"\"),\"x\")","v":"x"},null,{"$f":"IF(AND(AV306<>\"\",AV306<>\"x\"),0.5,)","v":0},{"$f":"IF(AND(AW306<>\"\",AW306<>\"x\"),0.5,)","v":0},{"$f":"IF(AND(AX306<>\"\",AX306<>\"x\"),0.5,)","v":0},{"$f":"IF(AND(AY306<>\"\",AY306<>\"x\"),0.5,)","v":0},{"$f":"IF(AND(AZ306<>\"\",AZ306<>\"x\"),0.5,)","v":0},{"$f":"IF(AND(BA306<>\"\",BA306<>\"x\"),0.5,)","v":0},{"$f":"IF(AND(BB306<>\"\",BB306<>\"x\"),0.5,)","v":0},{"$f":"IF(AND(BC306<>\"\",BC306<>\"x\"),0.5,)","v":0},{"$f":"IF(AND(BD306<>\"\",BD306<>\"x\"),0.5,)","v":0},{"$f":"IF(AND(BE306<>\"\",BE306<>\"x\"),0.5,)","v":0},{"$f":"IF(AND(BF306<>\"\",BF306<>\"x\"),0.5,)","v":0},{"$f":"IF(AND(BG306<>\"\",BG306<>\"x\"),0.5,)","v":0},{"$f":"IF(AND(BH306<>\"\",BH306<>\"x\"),0.5,)","v":0},{"$f":"IF(AND(BI306<>\"\",BI306<>\"x\"),0.5,)","v":0},{"$f":"IF(AND(BJ306<>\"\",BJ306<>\"x\"),0.5,)","v":0},{"$f":"IF(AND(BK306<>\"\",BK306<>\"x\"),0.5,)","v":0},{"$f":"IF(AND(BL306<>\"\",BL306<>\"x\"),0.5,)","v":0},{"$f":"IF(AND(BM306<>\"\",BM306<>\"x\"),0.5,)","v":0},{"$f":"IF(AND(BN306<>\"\",BN306<>\"x\"),0.5,)","v":0},{"$f":"IF(AND(BO306<>\"\",BO306<>\"x\"),0.5,)","v":0},{"$f":"IF(AND(BP306<>\"\",BP306<>\"x\"),0.5,)","v":0},{"$f":"IF(AND(BQ306<>\"\",BQ306<>\"x\"),0.5,)","v":0},{"$f":"IF(AND(BR306<>\"\",BR306<>\"x\"),0.5,)","v":0},{"$f":"IF(AND(BS306<>\"\",BS306<>\"x\"),0.5,)","v":0},{"$f":"IF(AND(BT306<>\"\",BT306<>\"x\"),0.5,)","v":0},{"$f":"IF(AND(BU306<>\"\",BU306<>\"x\"),0.5,)","v":0},{"$f":"IF(AND(BV306<>\"\",BV306<>\"x\"),0.5,)","v":0},{"$f":"IF(AND(BW306<>\"\",BW306<>\"x\"),0.5,)","v":0},{"$f":"IF(AND(BX306<>\"\",BX306<>\"x\"),0.5,)","v":0},{"$f":"IF(AND(BY306<>\"\",BY306<>\"x\"),0.5,)","v":0},{"$f":"IF(AND(BZ306<>\"\",BZ306<>\"x\"),0.5,)","v":0},{"$f":"IF(AND(CA306<>\"\",CA306<>\"x\"),0.5,)","v":0},{"$f":"IF(AND(CB306<>\"\",CB306<>\"x\"),0.5,)","v":0},{"$f":"IF(AND(CC306<>\"\",CC306<>\"x\"),0.5,)","v":0},{"$f":"IF(AND(CD306<>\"\",CD306<>\"x\"),0.5,)","v":0},{"$f":"IF(AND(CE306<>\"\",CE306<>\"x\"),0.5,)","v":0},{"$f":"IF(AND(CF306<>\"\",CF306<>\"x\"),0.5,)","v":0},{"$f":"IF(AND(CG306<>\"\",CG306<>\"x\"),0.5,)","v":0},null,{"$f":"IF(VLOOKUP($A306,'Schedule Setup'!$A$4:$E$39,5,FALSE)=0,\"\",VLOOKUP($A306,'Schedule Setup'!$A$4:$E$39,5,FALSE))","v":""},{"$f":"SUM(CI306:CT306)","v":0},{"$f":"IFERROR(DW306*$DV306,\"\")","v":""},{"$f":"SUM(CU306:DF306)","v":0},{"$f":"IFERROR(DY306*$DV306,\"\")","v":""},{"$f":"SUM(DG306:DT306)","v":0},{"$f":"IFERROR(EA306*$DV306,\"\")","v":""},{"$f":"SUM(DW306,DY306,EA306)","v":0},{"$f":"IFERROR(EC306*$DV306,\"\")","v":""},null,{"$f":"IF(DW306>5,(DW306-0.5),DW306)","v":0},{"$f":"IFERROR(EF306*$DV306,\"\")","v":""},{"$f":"IF(DY306>5,(DY306-0.5),DY306)","v":0},{"$f":"IFERROR(EH306*$DV306,\"\")","v":""},{"$f":"IF(EA306>5,(EA306-0.5),EA306)","v":0},{"$f":"IFERROR(EJ306*$DV306,\"\")","v":""},{"$f":"SUM(EF306,EH306,EJ306)","v":0},{"$f":"IFERROR(EL306*$DV306,\"\")","v":""},null,{"$f":"'Schedule Setup'!R28","v":"00:00:00"},{"$f":"'Schedule Setup'!S28","v":"00:00:00"},{"$f":"EO306-(0.5/24)","v":-2.0833333333333332E-2},{"$f":"EP306+(0.5/24)","v":"00:30:00"}]
[25,{"$f":"IF(VLOOKUP($A307,'Schedule Setup'!$A$4:$E$39,2,FALSE)=0,\"\",VLOOKUP($A307,'Schedule Setup'!$A$4:$E$39,2,FALSE))","v":""},{"$f":"IF(VLOOKUP($A307,'Schedule Setup'!$A$4:$E$39,4,FALSE)=0,\"\",VLOOKUP($A307,'Schedule Setup'!$A$4:$E$39,4,FALSE))","v":""},"",null,null,null,"x","x","x","x","x","x","x","x","x","x","x","x","x","x","x","x","x","x","x","x","x","x","x","x","x","x","x","x","x","x","x","x","x","x","x","x","x","x",0,null,"x","x","x","x","x","x","x","x","x","x","x","x","x","x","x","x","x","x","x","x","x","x","x","x","x","x","x","x","x","x","x","x","x","x","x","x","x","x",null,0,0,0,0,0,0,0,0,0,0,0,0,0,0,0,0,0,0,0,0,0,0,0,0,0,0,0,0,0,0,0,0,0,0,0,0,0,0,null,{"$f":"IF(VLOOKUP($A307,'Schedule Setup'!$A$4:$E$39,5,FALSE)=0,\"\",VLOOKUP($A307,'Schedule Setup'!$A$4:$E$39,5,FALSE))","v":""},0,"",0,"",0,"",0,"",null,0,"",0,"",0,"",0,"",null,{"$f":"'Schedule Setup'!R29","v":"00:00:00"},{"$f":"'Schedule Setup'!S29","v":"00:00:00"},-2.0833333333333332E-2,"00:30:00"]
[26,{"$f":"IF(VLOOKUP($A308,'Schedule Setup'!$A$4:$E$39,2,FALSE)=0,\"\",VLOOKUP($A308,'Schedule Setup'!$A$4:$E$39,2,FALSE))","v":""},{"$f":"IF(VLOOKUP($A308,'Schedule Setup'!$A$4:$E$39,4,FALSE)=0,\"\",VLOOKUP($A308,'Schedule Setup'!$A$4:$E$39,4,FALSE))","v":""},"",null,null,null,"x","x","x","x","x","x","x","x","x","x","x","x","x","x","x","x","x","x","x","x","x","x","x","x","x","x","x","x","x","x","x","x","x","x","x","x","x","x",0,null,"x","x","x","x","x","x","x","x","x","x","x","x","x","x","x","x","x","x","x","x","x","x","x","x","x","x","x","x","x","x","x","x","x","x","x","x","x","x",null,0,0,0,0,0,0,0,0,0,0,0,0,0,0,0,0,0,0,0,0,0,0,0,0,0,0,0,0,0,0,0,0,0,0,0,0,0,0,null,{"$f":"IF(VLOOKUP($A308,'Schedule Setup'!$A$4:$E$39,5,FALSE)=0,\"\",VLOOKUP($A308,'Schedule Setup'!$A$4:$E$39,5,FALSE))","v":""},0,"",0,"",0,"",0,"",null,0,"",0,"",0,"",0,"",null,{"$f":"'Schedule Setup'!R30","v":"00:00:00"},{"$f":"'Schedule Setup'!S30","v":"00:00:00"},-2.0833333333333332E-2,"00:30:00"]
[27,{"$f":"IF(VLOOKUP($A309,'Schedule Setup'!$A$4:$E$39,2,FALSE)=0,\"\",VLOOKUP($A309,'Schedule Setup'!$A$4:$E$39,2,FALSE))","v":""},{"$f":"IF(VLOOKUP($A309,'Schedule Setup'!$A$4:$E$39,4,FALSE)=0,\"\",VLOOKUP($A309,'Schedule Setup'!$A$4:$E$39,4,FALSE))","v":""},"",null,null,null,"x","x","x","x","x","x","x","x","x","x","x","x","x","x","x","x","x","x","x","x","x","x","x","x","x","x","x","x","x","x","x","x","x","x","x","x","x","x",0,null,"x","x","x","x","x","x","x","x","x","x","x","x","x","x","x","x","x","x","x","x","x","x","x","x","x","x","x","x","x","x","x","x","x","x","x","x","x","x",null,0,0,0,0,0,0,0,0,0,0,0,0,0,0,0,0,0,0,0,0,0,0,0,0,0,0,0,0,0,0,0,0,0,0,0,0,0,0,null,{"$f":"IF(VLOOKUP($A309,'Schedule Setup'!$A$4:$E$39,5,FALSE)=0,\"\",VLOOKUP($A309,'Schedule Setup'!$A$4:$E$39,5,FALSE))","v":""},0,"",0,"",0,"",0,"",null,0,"",0,"",0,"",0,"",null,{"$f":"'Schedule Setup'!R31","v":"00:00:00"},{"$f":"'Schedule Setup'!S31","v":"00:00:00"},-2.0833333333333332E-2,"00:30:00"]
[28,{"$f":"IF(VLOOKUP($A310,'Schedule Setup'!$A$4:$E$39,2,FALSE)=0,\"\",VLOOKUP($A310,'Schedule Setup'!$A$4:$E$39,2,FALSE))","v":""},{"$f":"IF(VLOOKUP($A310,'Schedule Setup'!$A$4:$E$39,4,FALSE)=0,\"\",VLOOKUP($A310,'Schedule Setup'!$A$4:$E$39,4,FALSE))","v":""},"",null,null,null,"x","x","x","x","x","x","x","x","x","x","x","x","x","x","x","x","x","x","x","x","x","x","x","x","x","x","x","x","x","x","x","x","x","x","x","x","x","x",0,null,"x","x","x","x","x","x","x","x","x","x","x","x","x","x","x","x","x","x","x","x","x","x","x","x","x","x","x","x","x","x","x","x","x","x","x","x","x","x",null,0,0,0,0,0,0,0,0,0,0,0,0,0,0,0,0,0,0,0,0,0,0,0,0,0,0,0,0,0,0,0,0,0,0,0,0,0,0,null,{"$f":"IF(VLOOKUP($A310,'Schedule Setup'!$A$4:$E$39,5,FALSE)=0,\"\",VLOOKUP($A310,'Schedule Setup'!$A$4:$E$39,5,FALSE))","v":""},0,"",0,"",0,"",0,"",null,0,"",0,"",0,"",0,"",null,{"$f":"'Schedule Setup'!R32","v":"00:00:00"},{"$f":"'Schedule Setup'!S32","v":"00:00:00"},-2.0833333333333332E-2,"00:30:00"]
[29,{"$f":"IF(VLOOKUP($A311,'Schedule Setup'!$A$4:$E$39,2,FALSE)=0,\"\",VLOOKUP($A311,'Schedule Setup'!$A$4:$E$39,2,FALSE))","v":""},{"$f":"IF(VLOOKUP($A311,'Schedule Setup'!$A$4:$E$39,4,FALSE)=0,\"\",VLOOKUP($A311,'Schedule Setup'!$A$4:$E$39,4,FALSE))","v":""},"",null,null,null,"x","x","x","x","x","x","x","x","x","x","x","x","x","x","x","x","x","x","x","x","x","x","x","x","x","x","x","x","x","x","x","x","x","x","x","x","x","x",0,null,"x","x","x","x","x","x","x","x","x","x","x","x","x","x","x","x","x","x","x","x","x","x","x","x","x","x","x","x","x","x","x","x","x","x","x","x","x","x",null,0,0,0,0,0,0,0,0,0,0,0,0,0,0,0,0,0,0,0,0,0,0,0,0,0,0,0,0,0,0,0,0,0,0,0,0,0,0,null,{"$f":"IF(VLOOKUP($A311,'Schedule Setup'!$A$4:$E$39,5,FALSE)=0,\"\",VLOOKUP($A311,'Schedule Setup'!$A$4:$E$39,5,FALSE))","v":""},0,"",0,"",0,"",0,"",null,0,"",0,"",0,"",0,"",null,{"$f":"'Schedule Setup'!R33","v":"00:00:00"},{"$f":"'Schedule Setup'!S33","v":"00:00:00"},-2.0833333333333332E-2,"00:30:00"]
[30,{"$f":"IF(VLOOKUP($A312,'Schedule Setup'!$A$4:$E$39,2,FALSE)=0,\"\",VLOOKUP($A312,'Schedule Setup'!$A$4:$E$39,2,FALSE))","v":""},{"$f":"IF(VLOOKUP($A312,'Schedule Setup'!$A$4:$E$39,4,FALSE)=0,\"\",VLOOKUP($A312,'Schedule Setup'!$A$4:$E$39,4,FALSE))","v":""},"",null,null,null,"x","x","x","x","x","x","x","x","x","x","x","x","x","x","x","x","x","x","x","x","x","x","x","x","x","x","x","x","x","x","x","x","x","x","x","x","x","x",0,null,"x","x","x","x","x","x","x","x","x","x","x","x","x","x","x","x","x","x","x","x","x","x","x","x","x","x","x","x","x","x","x","x","x","x","x","x","x","x",null,0,0,0,0,0,0,0,0,0,0,0,0,0,0,0,0,0,0,0,0,0,0,0,0,0,0,0,0,0,0,0,0,0,0,0,0,0,0,null,{"$f":"IF(VLOOKUP($A312,'Schedule Setup'!$A$4:$E$39,5,FALSE)=0,\"\",VLOOKUP($A312,'Schedule Setup'!$A$4:$E$39,5,FALSE))","v":""},0,"",0,"",0,"",0,"",null,0,"",0,"",0,"",0,"",null,{"$f":"'Schedule Setup'!R34","v":"00:00:00"},{"$f":"'Schedule Setup'!S34","v":"00:00:00"},-2.0833333333333332E-2,"00:30:00"]
[31,{"$f":"IF(VLOOKUP($A313,'Schedule Setup'!$A$4:$E$39,2,FALSE)=0,\"\",VLOOKUP($A313,'Schedule Setup'!$A$4:$E$39,2,FALSE))","v":""},{"$f":"IF(VLOOKUP($A313,'Schedule Setup'!$A$4:$E$39,4,FALSE)=0,\"\",VLOOKUP($A313,'Schedule Setup'!$A$4:$E$39,4,FALSE))","v":""},"",null,null,null,"x","x","x","x","x","x","x","x","x","x","x","x","x","x","x","x","x","x","x","x","x","x","x","x","x","x","x","x","x","x","x","x","x","x","x","x","x","x",0,null,"x","x","x","x","x","x","x","x","x","x","x","x","x","x","x","x","x","x","x","x","x","x","x","x","x","x","x","x","x","x","x","x","x","x","x","x","x","x",null,0,0,0,0,0,0,0,0,0,0,0,0,0,0,0,0,0,0,0,0,0,0,0,0,0,0,0,0,0,0,0,0,0,0,0,0,0,0,null,{"$f":"IF(VLOOKUP($A313,'Schedule Setup'!$A$4:$E$39,5,FALSE)=0,\"\",VLOOKUP($A313,'Schedule Setup'!$A$4:$E$39,5,FALSE))","v":""},0,"",0,"",0,"",0,"",null,0,"",0,"",0,"",0,"",null,{"$f":"'Schedule Setup'!R35","v":"00:00:00"},{"$f":"'Schedule Setup'!S35","v":"00:00:00"},-2.0833333333333332E-2,"00:30:00"]
[32,{"$f":"IF(VLOOKUP($A314,'Schedule Setup'!$A$4:$E$39,2,FALSE)=0,\"\",VLOOKUP($A314,'Schedule Setup'!$A$4:$E$39,2,FALSE))","v":""},{"$f":"IF(VLOOKUP($A314,'Schedule Setup'!$A$4:$E$39,4,FALSE)=0,\"\",VLOOKUP($A314,'Schedule Setup'!$A$4:$E$39,4,FALSE))","v":""},"",null,null,null,"x","x","x","x","x","x","x","x","x","x","x","x","x","x","x","x","x","x","x","x","x","x","x","x","x","x","x","x","x","x","x","x","x","x","x","x","x","x",0,null,"x","x","x","x","x","x","x","x","x","x","x","x","x","x","x","x","x","x","x","x","x","x","x","x","x","x","x","x","x","x","x","x","x","x","x","x","x","x",null,0,0,0,0,0,0,0,0,0,0,0,0,0,0,0,0,0,0,0,0,0,0,0,0,0,0,0,0,0,0,0,0,0,0,0,0,0,0,null,{"$f":"IF(VLOOKUP($A314,'Schedule Setup'!$A$4:$E$39,5,FALSE)=0,\"\",VLOOKUP($A314,'Schedule Setup'!$A$4:$E$39,5,FALSE))","v":""},0,"",0,"",0,"",0,"",null,0,"",0,"",0,"",0,"",null,{"$f":"'Schedule Setup'!R36","v":"00:00:00"},{"$f":"'Schedule Setup'!S36","v":"00:00:00"},-2.0833333333333332E-2,"00:30:00"]
[33,{"$f":"IF(VLOOKUP($A315,'Schedule Setup'!$A$4:$E$39,2,FALSE)=0,\"\",VLOOKUP($A315,'Schedule Setup'!$A$4:$E$39,2,FALSE))","v":""},{"$f":"IF(VLOOKUP($A315,'Schedule Setup'!$A$4:$E$39,4,FALSE)=0,\"\",VLOOKUP($A315,'Schedule Setup'!$A$4:$E$39,4,FALSE))","v":""},"",null,null,null,"x","x","x","x","x","x","x","x","x","x","x","x","x","x","x","x","x","x","x","x","x","x","x","x","x","x","x","x","x","x","x","x","x","x","x","x","x","x",0,null,"x","x","x","x","x","x","x","x","x","x","x","x","x","x","x","x","x","x","x","x","x","x","x","x","x","x","x","x","x","x","x","x","x","x","x","x","x","x",null,0,0,0,0,0,0,0,0,0,0,0,0,0,0,0,0,0,0,0,0,0,0,0,0,0,0,0,0,0,0,0,0,0,0,0,0,0,0,null,{"$f":"IF(VLOOKUP($A315,'Schedule Setup'!$A$4:$E$39,5,FALSE)=0,\"\",VLOOKUP($A315,'Schedule Setup'!$A$4:$E$39,5,FALSE))","v":""},0,"",0,"",0,"",0,"",null,0,"",0,"",0,"",0,"",null,{"$f":"'Schedule Setup'!R37","v":"00:00:00"},{"$f":"'Schedule Setup'!S37","v":"00:00:00"},-2.0833333333333332E-2,"00:30:00"]
[34,{"$f":"IF(VLOOKUP($A316,'Schedule Setup'!$A$4:$E$39,2,FALSE)=0,\"\",VLOOKUP($A316,'Schedule Setup'!$A$4:$E$39,2,FALSE))","v":""},{"$f":"IF(VLOOKUP($A316,'Schedule Setup'!$A$4:$E$39,4,FALSE)=0,\"\",VLOOKUP($A316,'Schedule Setup'!$A$4:$E$39,4,FALSE))","v":""},"",null,null,null,"x","x","x","x","x","x","x","x","x","x","x","x","x","x","x",{"$f":"BK316","v":"x"},"x","x","x","x","x","x","x","x","x","x","x","x","x","x","x","x","x","x","x","x","x","x",0,null,"x","x","x","x","x","x","x","x","x","x","x","x","x","x","x","x","x","x","x","x","x","x","x","x","x","x","x","x","x","x","x","x","x","x","x","x","x","x",null,0,0,0,0,0,0,0,0,0,0,0,0,0,0,0,0,0,0,0,0,0,0,0,0,0,0,0,0,0,0,0,0,0,0,0,0,0,0,null,{"$f":"IF(VLOOKUP($A316,'Schedule Setup'!$A$4:$E$39,5,FALSE)=0,\"\",VLOOKUP($A316,'Schedule Setup'!$A$4:$E$39,5,FALSE))","v":""},0,"",0,"",0,"",0,"",null,0,"",0,"",0,"",0,"",null,{"$f":"'Schedule Setup'!R28","v":"00:00:00"},{"$f":"'Schedule Setup'!S28","v":"00:00:00"},-2.0833333333333332E-2,"00:30:00"]
[35,{"$f":"IF(VLOOKUP($A317,'Schedule Setup'!$A$4:$E$39,2,FALSE)=0,\"\",VLOOKUP($A317,'Schedule Setup'!$A$4:$E$39,2,FALSE))","v":""},{"$f":"IF(VLOOKUP($A317,'Schedule Setup'!$A$4:$E$39,4,FALSE)=0,\"\",VLOOKUP($A317,'Schedule Setup'!$A$4:$E$39,4,FALSE))","v":""},"",null,null,null,"x","x","x","x","x","x","x","x","x","x","x","x","x","x","x","x","x","x","x","x","x","x","x","x","x","x","x","x","x","x","x","x","x","x","x","x","x","x",0,null,"x","x","x","x","x","x","x","x","x","x","x","x","x","x","x","x","x","x","x","x","x","x","x","x","x","x","x","x","x","x","x","x","x","x","x","x","x","x",null,0,0,0,0,0,0,0,0,0,0,0,0,0,0,0,0,0,0,0,0,0,0,0,0,0,0,0,0,0,0,0,0,0,0,0,0,0,0,null,{"$f":"IF(VLOOKUP($A317,'Schedule Setup'!$A$4:$E$39,5,FALSE)=0,\"\",VLOOKUP($A317,'Schedule Setup'!$A$4:$E$39,5,FALSE))","v":""},0,"",0,"",0,"",0,"",null,0,"",0,"",0,"",0,"",null,{"$f":"'Schedule Setup'!R39","v":"00:00:00"},{"$f":"'Schedule Setup'!S39","v":"00:00:00"},-2.0833333333333332E-2,"00:30:00"]
[null,null,null,"Totals/Coverage",{"$f":"MIN(E283:E317)","v":"06:00:00"},{"$f":"MAX(F283:F317)","v":"20:30:00"},null,{"$f":"CI318","v":0},{"$f":"CJ318","v":0},{"$f":"CK318","v":1},{"$f":"CL318","v":1},{"$f":"CM318","v":1},{"$f":"CN318","v":1},{"$f":"CO318","v":2},{"$f":"CP318","v":2},{"$f":"CQ318","v":2},{"$f":"CR318","v":2},{"$f":"CS318","v":2},{"$f":"CT318","v":2},{"$f":"CU318","v":2},{"$f":"CV318","v":2},{"$f":"CW318","v":2},{"$f":"CX318","v":3},{"$f":"CY318","v":3},{"$f":"CZ318","v":3},{"$f":"DA318","v":3},{"$f":"DB318","v":3},{"$f":"DC318","v":3},{"$f":"DD318","v":3},{"$f":"DE318","v":3},{"$f":"DF318","v":3},{"$f":"DG318","v":3},{"$f":"DH318","v":3},{"$f":"DI318","v":3},{"$f":"DJ318","v":2},{"$f":"DK318","v":2},{"$f":"DL318","v":2},{"$f":"DM318","v":2},{"$f":"DN318","v":0},{"$f":"DO318","v":0},{"$f":"DP318","v":0},{"$f":"DQ318","v":0},{"$f":"DR318","v":0},{"$f":"DS318","v":0},{"$f":"DT318","v":0},{"$f":"SUM(AT283:AT317)","v":33},null,null,null,null,null,null,null,null,null,null,null,null,null,null,null,null,null,null,null,null,null,null,null,null,null,null,null,null,null,null,null,null,null,null,null,null,null,null,null,null,{"$f":"COUNTIF(CI283:CI317,0.5)","v":0},{"$f":"COUNTIF(CJ283:CJ317,0.5)","v":0},{"$f":"COUNTIF(CK283:CK317,0.5)","v":1},{"$f":"COUNTIF(CL283:CL317,0.5)","v":1},{"$f":"COUNTIF(CM283:CM317,0.5)","v":1},{"$f":"COUNTIF(CN283:CN317,0.5)","v":1},{"$f":"COUNTIF(CO283:CO317,0.5)","v":2},{"$f":"COUNTIF(CP283:CP317,0.5)","v":2},{"$f":"COUNTIF(CQ283:CQ317,0.5)","v":2},{"$f":"COUNTIF(CR283:CR317,0.5)","v":2},{"$f":"COUNTIF(CS283:CS317,0.5)","v":2},{"$f":"COUNTIF(CT283:CT317,0.5)","v":2},{"$f":"COUNTIF(CU283:CU317,0.5)","v":2},{"$f":"COUNTIF(CV283:CV317,0.5)","v":2},{"$f":"COUNTIF(CW283:CW317,0.5)","v":2},{"$f":"COUNTIF(CX283:CX317,0.5)","v":3},{"$f":"COUNTIF(CY283:CY317,0.5)","v":3},{"$f":"COUNTIF(CZ283:CZ317,0.5)","v":3},{"$f":"COUNTIF(DA283:DA317,0.5)","v":3},{"$f":"COUNTIF(DB283:DB317,0.5)","v":3},{"$f":"COUNTIF(DC283:DC317,0.5)","v":3},{"$f":"COUNTIF(DD283:DD317,0.5)","v":3},{"$f":"COUNTIF(DE283:DE317,0.5)","v":3},{"$f":"COUNTIF(DF283:DF317,0.5)","v":3},{"$f":"COUNTIF(DG283:DG317,0.5)","v":3},{"$f":"COUNTIF(DH283:DH317,0.5)","v":3},{"$f":"COUNTIF(DI283:DI317,0.5)","v":3},{"$f":"COUNTIF(DJ283:DJ317,0.5)","v":2},{"$f":"COUNTIF(DK283:DK317,0.5)","v":2},{"$f":"COUNTIF(DL283:DL317,0.5)","v":2},{"$f":"COUNTIF(DM283:DM317,0.5)","v":2},{"$f":"COUNTIF(DN283:DN317,0.5)","v":0},{"$f":"COUNTIF(DO283:DO317,0.5)","v":0},{"$f":"COUNTIF(DP283:DP317,0.5)","v":0},{"$f":"COUNTIF(DQ283:DQ317,0.5)","v":0},{"$f":"COUNTIF(DR283:DR317,0.5)","v":0},{"$f":"COUNTIF(DS283:DS317,0.5)","v":0},{"$f":"COUNTIF(DT283:DT317,0.5)","v":0},null,null,{"$f":"SUM(DW283:DW317)","v":8},0,16.5,0,8.5,0,33,0,null,{"$f":"SUM(EF283:EF317)","v":8},0,16.5,0,8.5,0,33,0,null,{"$f":"'Schedule Setup'!R40","v":"07:00:00"},{"$f":"'Schedule Setup'!S40","v":"20:00:00"},"06:30:00","20:30:00"]
[null,null,null,null,null,{"$f":"'Schedule Forecast'!A14","v":"Wk 10-21"},null,{"$f":"IFERROR(INDEX(INDIRECT(\"'\"&$F319&\"'!$I:$I\"),MATCH(H$6,INDIRECT(\"'\"&$F319&\"'!$A$1:$A$250\"),0)+1),0)","v":0},0,0,0,25.95,17.66,23.71,34.83,5.09,10.78,{"$f":"IFERROR(INDEX(INDIRECT(\"'\"&$F319&\"'!$I:$I\"),MATCH(R$6,INDIRECT(\"'\"&$F319&\"'!$A$1:$A$250\"),0)+1),0)","v":13.03},46.7,0,28.49,20.66,164.96,0,37.28,58.27,133.13999999999999,{"$f":"IFERROR(INDEX(INDIRECT(\"'\"&$F319&\"'!$I:$I\"),MATCH(AB$6,INDIRECT(\"'\"&$F319&\"'!$A$1:$A$250\"),0)+1),0)","v":209.73},134.30000000000001,34.18,77.5,83.13,29.04,41.41,14.07,0,6.89,{"$f":"IFERROR(INDEX(INDIRECT(\"'\"&$F319&\"'!$I:$I\"),MATCH(AL$6,INDIRECT(\"'\"&$F319&\"'!$A$1:$A$250\"),0)+1),0)","v":0},0,0,0,0,0,0,0]
[null,null,null,null,null,{"$f":"'Schedule Forecast'!A15","v":"Wk 10-28"},null,0,0,0,0,0,6.78,51.42,40.82,0,24.95,9.08,3.39,44.15,44.29,46.17,113.01,55.46,38.68,49.05,94.47,127.65,136.74,45.32,115.29,35.89,10.38,23.36,10.19,39.56,0,0,0,0,0,0,0,0,0]
[null,null,null,null,null,{"$f":"'Schedule Forecast'!A16","v":"Wk 11-4"},null,0,0,0,0,5.49,17.16,41.02,83.48,28.78,12.63,21.17,33.130000000000003,21.46,70.91,58.93,98.29,65.12,57.01,62.3,85.42,174.96,46.5,56.14,36.979999999999997,64.17,93.29,28.45,10.88,87.38,0,0,0,0,0,0,0,0,0]
[null,null,null,null,null,{"$f":"'Schedule Forecast'!A17","v":"Wk 11-11"},null,0,0,0,0,5.29,33.17,36.130000000000003,0,35.92,16.96,35.78,63.89,45.22,27.8,43.86,64.87,51.7,87.55,66.05,90.75,87.43,52.14,88.88,24.16,22.85,21.36,27.15,14.62,0,6.69,0,0,0,0,0,0,0,0]
[null,null,null,null,null,"AVERAGE",null,{"$f":"IFERROR(IF(AND(H$6>=$EO$318,H$6<$EP$318-0.001),AVERAGE(H319:H322),\"\"),\"\")","v":""},"","","",9.1824999999999992,18.692500000000003,38.07,39.782499999999999,17.447500000000002,16.329999999999998,19.765000000000001,36.777500000000003,27.7075,42.872500000000002,42.405000000000001,110.28250000000001,43.070000000000007,55.129999999999995,58.917500000000004,100.94499999999999,149.9425,92.42,56.129999999999995,63.482500000000002,51.51,38.517499999999998,30.092500000000001,12.44,31.734999999999999,3.395,"","","","","","","",""]
[null,null,null,null,null,null,null,{"$f":"IFERROR(IF((H323*'Schedule Forecast'!$C$4-$AC$2)>1,(H323*'Schedule Forecast'!$C$4-$AC$2),1),\"\")","v":""},{"$f":"IFERROR(IF((I323*'Schedule Forecast'!$C$4-$AC$2)>1,(I323*'Schedule Forecast'!$C$4-$AC$2),1),\"\")","v":""},{"$f":"IFERROR(IF((J323*'Schedule Forecast'!$C$4-$AC$2)>1,(J323*'Schedule Forecast'!$C$4-$AC$2),1),\"\")","v":""},{"$f":"IFERROR(IF((K323*'Schedule Forecast'!$C$4-$AC$2)>1,(K323*'Schedule Forecast'!$C$4-$AC$2),1),\"\")","v":""},{"$f":"IFERROR(IF((L323*'Schedule Forecast'!$C$4-$AC$2)>1,(L323*'Schedule Forecast'!$C$4-$AC$2),1),\"\")","v":1},{"$f":"IFERROR(IF((M323*'Schedule Forecast'!$C$4-$AC$2)>1,(M323*'Schedule Forecast'!$C$4-$AC$2),1),\"\")","v":1},{"$f":"IFERROR(IF((N323*'Schedule Forecast'!$C$4-$AC$2)>1,(N323*'Schedule Forecast'!$C$4-$AC$2),1),\"\")","v":1},{"$f":"IFERROR(IF((O323*'Schedule Forecast'!$C$4-$AC$2)>1,(O323*'Schedule Forecast'!$C$4-$AC$2),1),\"\")","v":1},{"$f":"IFERROR(IF((P323*'Schedule Forecast'!$C$4-$AC$2)>1,(P323*'Schedule Forecast'!$C$4-$AC$2),1),\"\")","v":1},{"$f":"IFERROR(IF((Q323*'Schedule Forecast'!$C$4-$AC$2)>1,(Q323*'Schedule Forecast'!$C$4-$AC$2),1),\"\")","v":1},{"$f":"IFERROR(IF((R323*'Schedule Forecast'!$C$4-$AC$2)>1,(R323*'Schedule Forecast'!$C$4-$AC$2),1),\"\")","v":1},{"$f":"IFERROR(IF((S323*'Schedule Forecast'!$C$4-$AC$2)>1,(S323*'Schedule Forecast'!$C$4-$AC$2),1),\"\")","v":1},{"$f":"IFERROR(IF((T323*'Schedule Forecast'!$C$4-$AC$2)>1,(T323*'Schedule Forecast'!$C$4-$AC$2),1),\"\")","v":1},{"$f":"IFERROR(IF((U323*'Schedule Forecast'!$C$4-$AC$2)>1,(U323*'Schedule Forecast'!$C$4-$AC$2),1),\"\")","v":1},{"$f":"IFERROR(IF((V323*'Schedule Forecast'!$C$4-$AC$2)>1,(V323*'Schedule Forecast'!$C$4-$AC$2),1),\"\")","v":1},{"$f":"IFERROR(IF((W323*'Schedule Forecast'!$C$4-$AC$2)>1,(W323*'Schedule Forecast'!$C$4-$AC$2),1),\"\")","v":10.953675000000004},{"$f":"IFERROR(IF((X323*'Schedule Forecast'!$C$4-$AC$2)>1,(X323*'Schedule Forecast'!$C$4-$AC$2),1),\"\")","v":1},{"$f":"IFERROR(IF((Y323*'Schedule Forecast'!$C$4-$AC$2)>1,(Y323*'Schedule Forecast'!$C$4-$AC$2),1),\"\")","v":1},{"$f":"IFERROR(IF((Z323*'Schedule Forecast'!$C$4-$AC$2)>1,(Z323*'Schedule Forecast'!$C$4-$AC$2),1),\"\")","v":1.194325000000001},{"$f":"IFERROR(IF((AA323*'Schedule Forecast'!$C$4-$AC$2)>1,(AA323*'Schedule Forecast'!$C$4-$AC$2),1),\"\")","v":9.179549999999999},{"$f":"IFERROR(IF((AB323*'Schedule Forecast'!$C$4-$AC$2)>1,(AB323*'Schedule Forecast'!$C$4-$AC$2),1),\"\")","v":18.489075},{"$f":"IFERROR(IF((AC323*'Schedule Forecast'!$C$4-$AC$2)>1,(AC323*'Schedule Forecast'!$C$4-$AC$2),1),\"\")","v":7.5597999999999992},{"$f":"IFERROR(IF((AD323*'Schedule Forecast'!$C$4-$AC$2)>1,(AD323*'Schedule Forecast'!$C$4-$AC$2),1),\"\")","v":1},{"$f":"IFERROR(IF((AE323*'Schedule Forecast'!$C$4-$AC$2)>1,(AE323*'Schedule Forecast'!$C$4-$AC$2),1),\"\")","v":2.061675000000001},{"$f":"IFERROR(IF((AF323*'Schedule Forecast'!$C$4-$AC$2)>1,(AF323*'Schedule Forecast'!$C$4-$AC$2),1),\"\")","v":1},{"$f":"IFERROR(IF((AG323*'Schedule Forecast'!$C$4-$AC$2)>1,(AG323*'Schedule Forecast'!$C$4-$AC$2),1),\"\")","v":1},{"$f":"IFERROR(IF((AH323*'Schedule Forecast'!$C$4-$AC$2)>1,(AH323*'Schedule Forecast'!$C$4-$AC$2),1),\"\")","v":1},{"$f":"IFERROR(IF((AI323*'Schedule Forecast'!$C$4-$AC$2)>1,(AI323*'Schedule Forecast'!$C$4-$AC$2),1),\"\")","v":1},{"$f":"IFERROR(IF((AJ323*'Schedule Forecast'!$C$4-$AC$2)>1,(AJ323*'Schedule Forecast'!$C$4-$AC$2),1),\"\")","v":1},{"$f":"IFERROR(IF((AK323*'Schedule Forecast'!$C$4-$AC$2)>1,(AK323*'Schedule Forecast'!$C$4-$AC$2),1),\"\")","v":1},{"$f":"IFERROR(IF((AL323*'Schedule Forecast'!$C$4-$AC$2)>1,(AL323*'Schedule Forecast'!$C$4-$AC$2),1),\"\")","v":""},{"$f":"IFERROR(IF((AM323*'Schedule Forecast'!$C$4-$AC$2)>1,(AM323*'Schedule Forecast'!$C$4-$AC$2),1),\"\")","v":""},{"$f":"IFERROR(IF((AN323*'Schedule Forecast'!$C$4-$AC$2)>1,(AN323*'Schedule Forecast'!$C$4-$AC$2),1),\"\")","v":""},{"$f":"IFERROR(IF((AO323*'Schedule Forecast'!$C$4-$AC$2)>1,(AO323*'Schedule Forecast'!$C$4-$AC$2),1),\"\")","v":""},{"$f":"IFERROR(IF((AP323*'Schedule Forecast'!$C$4-$AC$2)>1,(AP323*'Schedule Forecast'!$C$4-$AC$2),1),\"\")","v":""},{"$f":"IFERROR(IF((AQ323*'Schedule Forecast'!$C$4-$AC$2)>1,(AQ323*'Schedule Forecast'!$C$4-$AC$2),1),\"\")","v":""},{"$f":"IFERROR(IF((AR323*'Schedule Forecast'!$C$4-$AC$2)>1,(AR323*'Schedule Forecast'!$C$4-$AC$2),1),\"\")","v":""},{"$f":"IFERROR(IF((AS323*'Schedule Forecast'!$C$4-$AC$2)>1,(AS323*'Schedule Forecast'!$C$4-$AC$2),1),\"\")","v":""}]
[null,null,null,null,null,null,"Recommended:",{"$f":"IF(H282>=$EO$318,IF(H282<$EP$318-0.01,ROUND(IF(H324>1,(H324*$B$48)+1,H324)*2,0),\"\"),\"\")","v":""},"","","",2,2,2,2,2,2,2,2,2,2,2,2,2,2,2,2,2,2,2,2,2,2,2,2,2,2,"","","","","","","","",{"$f":"SUM(H325:AS325)/2","v":26}]

{"sheet":"Weekly Schedule","index":2,"n_rows":55,"n_cols":27,"rows_kept":55,"cut":false,"hidden":false,"merged":[[5,3,5,5],[4,3,4,5],[4,6,4,8],[5,6,5,8],[5,9,5,11],[42,18,42,19],[42,21,42,22],[42,3,42,4],[42,6,42,7],[42,9,42,10],[42,12,42,13],[42,15,42,16],[0,23,0,24],[1,23,1,24],[2,23,2,24],[5,15,5,17],[5,18,5,20],[5,21,5,23],[4,21,4,23],[4,18,4,20],[4,15,4,17],[1,6,1,15],[4,12,4,14],[4,9,4,11],[5,12,5,14]]}
[null,null,null,null,null,null,null,null,null,null,null,null,null,null,null,null,null,null,null,null,null,null,"For the Week of: ",{"$f":"'Shift Schedule'!O2","v":"2014-11-19"}]
[null,null,null,null,null,null,"Weekly Schedule ",null,null,null,null,null,null,null,null,null,null,null,null,null,null,null,"Period:",{"$f":"VLOOKUP(X1,'#Include'!A2:C53,2,FALSE)","v":12}]
[null,null,null,null,null,null,null,null,null,{"$f":"'Shift Schedule'!B2","v":"Store:"},{"$f":"'Shift Schedule'!D2","v":"1361 Danville"},null,null,null,null,null,null,null,null,null,null,null,"Week:",{"$f":"VLOOKUP(X1,'#Include'!A2:C53,3,FALSE)","v":3}]
[]
[null,null,null,"Wednesday",null,null,"Thursday",null,null,"Friday",null,null,"Saturday",null,null,"Sunday",null,null,"Monday",null,null,"Tuesday"]
[null,null,null,{"$f":"'Shift Schedule'!T5","v":"2014-11-19"},null,null,{"$f":"'Shift Schedule'!T51","v":"2014-11-20"},null,null,{"$f":"'Shift Schedule'!T97","v":"2014-11-21"},null,null,{"$f":"'Shift Schedule'!T143","v":"2014-11-22"},null,null,{"$f":"'Shift Schedule'!T189","v":"2014-11-23"},null,null,{"$f":"'Shift Schedule'!T235","v":"2014-11-24"},null,null,{"$f":"'Shift Schedule'!T281","v":"2014-11-25"}]
[null,"Employee","Job","Start","End","Hrs","Start","End","Hrs","Start","End","Hrs","Start","End","Hrs","Start","End","Hrs","Start","End","Hrs","Start","End","Hrs","Total Hrs"]
[1,{"$f":"IF(VLOOKUP($A8,'Schedule Setup'!$A$5:$E$39,2,FALSE)=0,\"\",VLOOKUP($A8,'Schedule Setup'!$A$5:$E$39,2,FALSE))","v":"Shaun Payne"},{"$f":"IF(VLOOKUP($A8,'Schedule Setup'!$A$5:$E$39,4,FALSE)=0,\"\",IF(OR(VLOOKUP($A8,'Schedule Setup'!$A$5:$E$39,4,FALSE)=\"General Manager (H)\", VLOOKUP($A8,'Schedule Setup'!$A$5:$E$39,4,FALSE)=\"General Manager (S)\"),\"General Manager\",VLOOKUP($A8,'Schedule Setup'!$A$5:$E$39,4,FALSE)))","v":"General Manager"},{"$f":"IF(VLOOKUP($A8,'Shift Schedule'!$A$7:$F$41,5,FALSE)=0,\"\",VLOOKUP($A8,'Shift Schedule'!$A$7:$F$41,5,FALSE))","v":"05:00:00"},{"$f":"IF(VLOOKUP($A8,'Shift Schedule'!$A$7:$F$41,6,FALSE)=0,\"\",VLOOKUP($A8,'Shift Schedule'!$A$7:$F$41,6,FALSE))","v":"13:30:00"},{"$f":"IFERROR((E8-D8)*24,\"\")","v":8.4999999999999964},{"$f":"IF(VLOOKUP($A8,'Shift Schedule'!$A$53:$F$87,5,FALSE)=0,\"\",VLOOKUP($A8,'Shift Schedule'!$A$53:$F$87,5,FALSE))","v":""},{"$f":"IF(VLOOKUP($A8,'Shift Schedule'!$A$53:$F$87,6,FALSE)=0,\"\",VLOOKUP($A8,'Shift Schedule'!$A$53:$F$87,6,FALSE))","v":""},{"$f":"IFERROR((H8-G8)*24,\"\")","v":""},{"$f":"IF(VLOOKUP($A8,'Shift Schedule'!$A$99:$F510,5,FALSE)=0,\"\",VLOOKUP($A8,'Shift Schedule'!$A$99:$F$133,5,FALSE))","v":""},{"$f":"IF(VLOOKUP($A8,'Shift Schedule'!$A$99:$F510,6,FALSE)=0,\"\",VLOOKUP($A8,'Shift Schedule'!$A$99:$F$133,6,FALSE))","v":""},{"$f":"IFERROR((K8-J8)*24,\"\")","v":""},{"$f":"IF(VLOOKUP($A8,'Shift Schedule'!$A$145:$F$179,5,FALSE)=0,\"\",VLOOKUP($A8,'Shift Schedule'!$A$145:$F$179,5,FALSE))","v":"06:00:00"},{"$f":"IF(VLOOKUP($A8,'Shift Schedule'!$A$145:$F$179,6,FALSE)=0,\"\",VLOOKUP($A8,'Shift Schedule'!$A$145:$F$179,6,FALSE))","v":"14:00:00"},{"$f":"IFERROR((N8-M8)*24,\"\")","v":7.9999999999999982},{"$f":"IF(VLOOKUP($A8,'Shift Schedule'!$A$191:$F$225,5,FALSE)=0,\"\",VLOOKUP($A8,'Shift Schedule'!$A$191:$F$225,5,FALSE))","v":"07:00:00"},{"$f":"IF(VLOOKUP($A8,'Shift Schedule'!$A$191:$F$225,6,FALSE)=0,\"\",VLOOKUP($A8,'Shift Schedule'!$A$191:$F$225,6,FALSE))","v":"14:00:00"},{"$f":"IFERROR((Q8-P8)*24,\"\")","v":6.9999999999999991},{"$f":"IF(VLOOKUP($A8,'Shift Schedule'!$A$237:$F$271,5,FALSE)=0,\"\",VLOOKUP($A8,'Shift Schedule'!$A$237:$F$271,5,FALSE))","v":""},{"$f":"IF(VLOOKUP($A8,'Shift Schedule'!$A$237:$F$271,6,FALSE)=0,\"\",VLOOKUP($A8,'Shift Schedule'!$A$237:$F$271,6,FALSE))","v":""},{"$f":"IFERROR((T8-S8)*24,\"\")","v":""},{"$f":"IF(VLOOKUP($A8,'Shift Schedule'!$A$283:$F$317,5,FALSE)=0,\"\",VLOOKUP($A8,'Shift Schedule'!$A$283:$F$317,5,FALSE))","v":""},{"$f":"IF(VLOOKUP($A8,'Shift Schedule'!$A$283:$F$317,6,FALSE)=0,\"\",VLOOKUP($A8,'Shift Schedule'!$A$283:$F$317,6,FALSE))","v":""},{"$f":"IFERROR((W8-V8)*24,\"\")","v":""},{"$f":"IF(SUM(F8,I8,L8,O8,R8,U8,X8)=0,\"\",SUM(F8,I8,L8,O8,R8,U8,X8))","v":23.499999999999993},null,{"$f":"Y8","v":23.499999999999993}]
[{"$f":"A8+1","v":2},{"$f":"IF(VLOOKUP($A9,'Schedule Setup'!$A$5:$E$39,2,FALSE)=0,\"\",VLOOKUP($A9,'Schedule Setup'!$A$5:$E$39,2,FALSE))","v":"Clay Huycke-McCall"},{"$f":"IF(VLOOKUP($A9,'Schedule Setup'!$A$5:$E$39,4,FALSE)=0,\"\",IF(OR(VLOOKUP($A9,'Schedule Setup'!$A$5:$E$39,4,FALSE)=\"General Manager (H)\", VLOOKUP($A9,'Schedule Setup'!$A$5:$E$39,4,FALSE)=\"General Manager (S)\"),\"General Manager\",VLOOKUP($A9,'Schedule Setup'!$A$5:$E$39,4,FALSE)))","v":"Shift Manager"},{"$f":"IF(VLOOKUP($A9,'Shift Schedule'!$A$7:$F$41,5,FALSE)=0,\"\",VLOOKUP($A9,'Shift Schedule'!$A$7:$F$41,5,FALSE))","v":""},{"$f":"IF(VLOOKUP($A9,'Shift Schedule'!$A$7:$F$41,6,FALSE)=0,\"\",VLOOKUP($A9,'Shift Schedule'!$A$7:$F$41,6,FALSE))","v":""},{"$f":"IFERROR((E9-D9)*24,\"\")","v":""},{"$f":"IF(VLOOKUP($A9,'Shift Schedule'!$A$53:$F$87,5,FALSE)=0,\"\",VLOOKUP($A9,'Shift Schedule'!$A$53:$F$87,5,FALSE))","v":""},{"$f":"IF(VLOOKUP($A9,'Shift Schedule'!$A$53:$F$87,6,FALSE)=0,\"\",VLOOKUP($A9,'Shift Schedule'!$A$53:$F$87,6,FALSE))","v":""},{"$f":"IFERROR((H9-G9)*24,\"\")","v":""},{"$f":"IF(VLOOKUP($A9,'Shift Schedule'!$A$99:$F511,5,FALSE)=0,\"\",VLOOKUP($A9,'Shift Schedule'!$A$99:$F$133,5,FALSE))","v":""},{"$f":"IF(VLOOKUP($A9,'Shift Schedule'!$A$99:$F511,6,FALSE)=0,\"\",VLOOKUP($A9,'Shift Schedule'!$A$99:$F$133,6,FALSE))","v":""},{"$f":"IFERROR((K9-J9)*24,\"\")","v":""},{"$f":"IF(VLOOKUP($A9,'Shift Schedule'!$A$145:$F$179,5,FALSE)=0,\"\",VLOOKUP($A9,'Shift Schedule'!$A$145:$F$179,5,FALSE))","v":""},{"$f":"IF(VLOOKUP($A9,'Shift Schedule'!$A$145:$F$179,6,FALSE)=0,\"\",VLOOKUP($A9,'Shift Schedule'!$A$145:$F$179,6,FALSE))","v":""},{"$f":"IFERROR((N9-M9)*24,\"\")","v":""},{"$f":"IF(VLOOKUP($A9,'Shift Schedule'!$A$191:$F$225,5,FALSE)=0,\"\",VLOOKUP($A9,'Shift Schedule'!$A$191:$F$225,5,FALSE))","v":""},{"$f":"IF(VLOOKUP($A9,'Shift Schedule'!$A$191:$F$225,6,FALSE)=0,\"\",VLOOKUP($A9,'Shift Schedule'!$A$191:$F$225,6,FALSE))","v":""},{"$f":"IFERROR((Q9-P9)*24,\"\")","v":""},{"$f":"IF(VLOOKUP($A9,'Shift Schedule'!$A$237:$F$271,5,FALSE)=0,\"\",VLOOKUP($A9,'Shift Schedule'!$A$237:$F$271,5,FALSE))","v":"06:00:00"},{"$f":"IF(VLOOKUP($A9,'Shift Schedule'!$A$237:$F$271,6,FALSE)=0,\"\",VLOOKUP($A9,'Shift Schedule'!$A$237:$F$271,6,FALSE))","v":"15:00:00"},{"$f":"IFERROR((T9-S9)*24,\"\")","v":9},{"$f":"IF(VLOOKUP($A9,'Shift Schedule'!$A$283:$F$317,5,FALSE)=0,\"\",VLOOKUP($A9,'Shift Schedule'!$A$283:$F$317,5,FALSE))","v":"06:00:00"},{"$f":"IF(VLOOKUP($A9,'Shift Schedule'!$A$283:$F$317,6,FALSE)=0,\"\",VLOOKUP($A9,'Shift Schedule'!$A$283:$F$317,6,FALSE))","v":"14:00:00"},{"$f":"IFERROR((W9-V9)*24,\"\")","v":7.9999999999999982},{"$f":"IF(SUM(F9,I9,L9,O9,R9,U9,X9)=0,\"\",SUM(F9,I9,L9,O9,R9,U9,X9))","v":17},null,{"$f":"Y9","v":17}]
[{"$f":"A9+1","v":3},{"$f":"IF(VLOOKUP($A10,'Schedule Setup'!$A$5:$E$39,2,FALSE)=0,\"\",VLOOKUP($A10,'Schedule Setup'!$A$5:$E$39,2,FALSE))","v":"Shaina Hunt"},{"$f":"IF(VLOOKUP($A10,'Schedule Setup'!$A$5:$E$39,4,FALSE)=0,\"\",IF(OR(VLOOKUP($A10,'Schedule Setup'!$A$5:$E$39,4,FALSE)=\"General Manager (H)\", VLOOKUP($A10,'Schedule Setup'!$A$5:$E$39,4,FALSE)=\"General Manager (S)\"),\"General Manager\",VLOOKUP($A10,'Schedule Setup'!$A$5:$E$39,4,FALSE)))","v":"Shift Manager"},{"$f":"IF(VLOOKUP($A10,'Shift Schedule'!$A$7:$F$41,5,FALSE)=0,\"\",VLOOKUP($A10,'Shift Schedule'!$A$7:$F$41,5,FALSE))","v":"12:30:00"},{"$f":"IF(VLOOKUP($A10,'Shift Schedule'!$A$7:$F$41,6,FALSE)=0,\"\",VLOOKUP($A10,'Shift Schedule'!$A$7:$F$41,6,FALSE))","v":"20:30:00"},8.0000000000000142,{"$f":"IF(VLOOKUP($A10,'Shift Schedule'!$A$53:$F$87,5,FALSE)=0,\"\",VLOOKUP($A10,'Shift Schedule'!$A$53:$F$87,5,FALSE))","v":"06:00:00"},{"$f":"IF(VLOOKUP($A10,'Shift Schedule'!$A$53:$F$87,6,FALSE)=0,\"\",VLOOKUP($A10,'Shift Schedule'!$A$53:$F$87,6,FALSE))","v":"14:30:00"},8.5,{"$f":"IF(VLOOKUP($A10,'Shift Schedule'!$A$99:$F512,5,FALSE)=0,\"\",VLOOKUP($A10,'Shift Schedule'!$A$99:$F$133,5,FALSE))","v":"06:00:00"},{"$f":"IF(VLOOKUP($A10,'Shift Schedule'!$A$99:$F512,6,FALSE)=0,\"\",VLOOKUP($A10,'Shift Schedule'!$A$99:$F$133,6,FALSE))","v":"14:00:00"},7.9999999999999982,{"$f":"IF(VLOOKUP($A10,'Shift Schedule'!$A$145:$F$179,5,FALSE)=0,\"\",VLOOKUP($A10,'Shift Schedule'!$A$145:$F$179,5,FALSE))","v":""},{"$f":"IF(VLOOKUP($A10,'Shift Schedule'!$A$145:$F$179,6,FALSE)=0,\"\",VLOOKUP($A10,'Shift Schedule'!$A$145:$F$179,6,FALSE))","v":""},"",{"$f":"IF(VLOOKUP($A10,'Shift Schedule'!$A$191:$F$225,5,FALSE)=0,\"\",VLOOKUP($A10,'Shift Schedule'!$A$191:$F$225,5,FALSE))","v":"12:00:00"},{"$f":"IF(VLOOKUP($A10,'Shift Schedule'!$A$191:$F$225,6,FALSE)=0,\"\",VLOOKUP($A10,'Shift Schedule'!$A$191:$F$225,6,FALSE))","v":"19:30:00"},7.5000000000000133,{"$f":"IF(VLOOKUP($A10,'Shift Schedule'!$A$237:$F$271,5,FALSE)=0,\"\",VLOOKUP($A10,'Shift Schedule'!$A$237:$F$271,5,FALSE))","v":""},{"$f":"IF(VLOOKUP($A10,'Shift Schedule'!$A$237:$F$271,6,FALSE)=0,\"\",VLOOKUP($A10,'Shift Schedule'!$A$237:$F$271,6,FALSE))","v":""},"",{"$f":"IF(VLOOKUP($A10,'Shift Schedule'!$A$283:$F$317,5,FALSE)=0,\"\",VLOOKUP($A10,'Shift Schedule'!$A$283:$F$317,5,FALSE))","v":"12:30:00"},{"$f":"IF(VLOOKUP($A10,'Shift Schedule'!$A$283:$F$317,6,FALSE)=0,\"\",VLOOKUP($A10,'Shift Schedule'!$A$283:$F$317,6,FALSE))","v":"20:30:00"},8.0000000000000142,40.000000000000043,null,40.000000000000043]
[4,{"$f":"IF(VLOOKUP($A11,'Schedule Setup'!$A$5:$E$39,2,FALSE)=0,\"\",VLOOKUP($A11,'Schedule Setup'!$A$5:$E$39,2,FALSE))","v":"Christian Fink"},{"$f":"IF(VLOOKUP($A11,'Schedule Setup'!$A$5:$E$39,4,FALSE)=0,\"\",IF(OR(VLOOKUP($A11,'Schedule Setup'!$A$5:$E$39,4,FALSE)=\"General Manager (H)\", VLOOKUP($A11,'Schedule Setup'!$A$5:$E$39,4,FALSE)=\"General Manager (S)\"),\"General Manager\",VLOOKUP($A11,'Schedule Setup'!$A$5:$E$39,4,FALSE)))","v":"Team Lead"},{"$f":"IF(VLOOKUP($A11,'Shift Schedule'!$A$7:$F$41,5,FALSE)=0,\"\",VLOOKUP($A11,'Shift Schedule'!$A$7:$F$41,5,FALSE))","v":""},{"$f":"IF(VLOOKUP($A11,'Shift Schedule'!$A$7:$F$41,6,FALSE)=0,\"\",VLOOKUP($A11,'Shift Schedule'!$A$7:$F$41,6,FALSE))","v":""},"",{"$f":"IF(VLOOKUP($A11,'Shift Schedule'!$A$53:$F$87,5,FALSE)=0,\"\",VLOOKUP($A11,'Shift Schedule'!$A$53:$F$87,5,FALSE))","v":"12:30:00"},{"$f":"IF(VLOOKUP($A11,'Shift Schedule'!$A$53:$F$87,6,FALSE)=0,\"\",VLOOKUP($A11,'Shift Schedule'!$A$53:$F$87,6,FALSE))","v":"20:30:00"},8.0000000000000142,{"$f":"IF(VLOOKUP($A11,'Shift Schedule'!$A$99:$F513,5,FALSE)=0,\"\",VLOOKUP($A11,'Shift Schedule'!$A$99:$F$133,5,FALSE))","v":"13:30:00"},{"$f":"IF(VLOOKUP($A11,'Shift Schedule'!$A$99:$F513,6,FALSE)=0,\"\",VLOOKUP($A11,'Shift Schedule'!$A$99:$F$133,6,FALSE))","v":"21:30:00"},8.0000000000000142,{"$f":"IF(VLOOKUP($A11,'Shift Schedule'!$A$145:$F$179,5,FALSE)=0,\"\",VLOOKUP($A11,'Shift Schedule'!$A$145:$F$179,5,FALSE))","v":"13:30:00"},{"$f":"IF(VLOOKUP($A11,'Shift Schedule'!$A$145:$F$179,6,FALSE)=0,\"\",VLOOKUP($A11,'Shift Schedule'!$A$145:$F$179,6,FALSE))","v":"21:30:00"},8.0000000000000142,{"$f":"IF(VLOOKUP($A11,'Shift Schedule'!$A$191:$F$225,5,FALSE)=0,\"\",VLOOKUP($A11,'Shift Schedule'!$A$191:$F$225,5,FALSE))","v":""},{"$f":"IF(VLOOKUP($A11,'Shift Schedule'!$A$191:$F$225,6,FALSE)=0,\"\",VLOOKUP($A11,'Shift Schedule'!$A$191:$F$225,6,FALSE))","v":""},"",{"$f":"IF(VLOOKUP($A11,'Shift Schedule'!$A$237:$F$271,5,FALSE)=0,\"\",VLOOKUP($A11,'Shift Schedule'!$A$237:$F$271,5,FALSE))","v":""},{"$f":"IF(VLOOKUP($A11,'Shift Schedule'!$A$237:$F$271,6,FALSE)=0,\"\",VLOOKUP($A11,'Shift Schedule'!$A$237:$F$271,6,FALSE))","v":""},"",{"$f":"IF(VLOOKUP($A11,'Shift Schedule'!$A$283:$F$317,5,FALSE)=0,\"\",VLOOKUP($A11,'Shift Schedule'!$A$283:$F$317,5,FALSE))","v":""},{"$f":"IF(VLOOKUP($A11,'Shift Schedule'!$A$283:$F$317,6,FALSE)=0,\"\",VLOOKUP($A11,'Shift Schedule'!$A$283:$F$317,6,FALSE))","v":""},"",24.000000000000043,null,24.000000000000043]
[5,{"$f":"IF(VLOOKUP($A12,'Schedule Setup'!$A$5:$E$39,2,FALSE)=0,\"\",VLOOKUP($A12,'Schedule Setup'!$A$5:$E$39,2,FALSE))","v":"Brendan Frye"},{"$f":"IF(VLOOKUP($A12,'Schedule Setup'!$A$5:$E$39,4,FALSE)=0,\"\",IF(OR(VLOOKUP($A12,'Schedule Setup'!$A$5:$E$39,4,FALSE)=\"General Manager (H)\", VLOOKUP($A12,'Schedule Setup'!$A$5:$E$39,4,FALSE)=\"General Manager (S)\"),\"General Manager\",VLOOKUP($A12,'Schedule Setup'!$A$5:$E$39,4,FALSE)))","v":"Team Member"},{"$f":"IF(VLOOKUP($A12,'Shift Schedule'!$A$7:$F$41,5,FALSE)=0,\"\",VLOOKUP($A12,'Shift Schedule'!$A$7:$F$41,5,FALSE))","v":"08:00:00"},{"$f":"IF(VLOOKUP($A12,'Shift Schedule'!$A$7:$F$41,6,FALSE)=0,\"\",VLOOKUP($A12,'Shift Schedule'!$A$7:$F$41,6,FALSE))","v":"16:00:00"},8.0000000000000036,{"$f":"IF(VLOOKUP($A12,'Shift Schedule'!$A$53:$F$87,5,FALSE)=0,\"\",VLOOKUP($A12,'Shift Schedule'!$A$53:$F$87,5,FALSE))","v":"08:00:00"},{"$f":"IF(VLOOKUP($A12,'Shift Schedule'!$A$53:$F$87,6,FALSE)=0,\"\",VLOOKUP($A12,'Shift Schedule'!$A$53:$F$87,6,FALSE))","v":"16:00:00"},8.0000000000000036,{"$f":"IF(VLOOKUP($A12,'Shift Schedule'!$A$99:$F514,5,FALSE)=0,\"\",VLOOKUP($A12,'Shift Schedule'!$A$99:$F$133,5,FALSE))","v":"14:30:00"},{"$f":"IF(VLOOKUP($A12,'Shift Schedule'!$A$99:$F514,6,FALSE)=0,\"\",VLOOKUP($A12,'Shift Schedule'!$A$99:$F$133,6,FALSE))","v":"21:30:00"},7.0000000000000124,{"$f":"IF(VLOOKUP($A12,'Shift Schedule'!$A$145:$F$179,5,FALSE)=0,\"\",VLOOKUP($A12,'Shift Schedule'!$A$145:$F$179,5,FALSE))","v":"14:30:00"},{"$f":"IF(VLOOKUP($A12,'Shift Schedule'!$A$145:$F$179,6,FALSE)=0,\"\",VLOOKUP($A12,'Shift Schedule'!$A$145:$F$179,6,FALSE))","v":"21:30:00"},7.0000000000000124,{"$f":"IF(VLOOKUP($A12,'Shift Schedule'!$A$191:$F$225,5,FALSE)=0,\"\",VLOOKUP($A12,'Shift Schedule'!$A$191:$F$225,5,FALSE))","v":""},{"$f":"IF(VLOOKUP($A12,'Shift Schedule'!$A$191:$F$225,6,FALSE)=0,\"\",VLOOKUP($A12,'Shift Schedule'!$A$191:$F$225,6,FALSE))","v":""},"",{"$f":"IF(VLOOKUP($A12,'Shift Schedule'!$A$237:$F$271,5,FALSE)=0,\"\",VLOOKUP($A12,'Shift Schedule'!$A$237:$F$271,5,FALSE))","v":"08:00:00"},{"$f":"IF(VLOOKUP($A12,'Shift Schedule'!$A$237:$F$271,6,FALSE)=0,\"\",VLOOKUP($A12,'Shift Schedule'!$A$237:$F$271,6,FALSE))","v":"15:00:00"},7.0000000000000018,{"$f":"IF(VLOOKUP($A12,'Shift Schedule'!$A$283:$F$317,5,FALSE)=0,\"\",VLOOKUP($A12,'Shift Schedule'!$A$283:$F$317,5,FALSE))","v":""},{"$f":"IF(VLOOKUP($A12,'Shift Schedule'!$A$283:$F$317,6,FALSE)=0,\"\",VLOOKUP($A12,'Shift Schedule'!$A$283:$F$317,6,FALSE))","v":""},"",37.000000000000036,null,37.000000000000036]
[6,{"$f":"IF(VLOOKUP($A13,'Schedule Setup'!$A$5:$E$39,2,FALSE)=0,\"\",VLOOKUP($A13,'Schedule Setup'!$A$5:$E$39,2,FALSE))","v":"Jordan Galli"},{"$f":"IF(VLOOKUP($A13,'Schedule Setup'!$A$5:$E$39,4,FALSE)=0,\"\",IF(OR(VLOOKUP($A13,'Schedule Setup'!$A$5:$E$39,4,FALSE)=\"General Manager (H)\", VLOOKUP($A13,'Schedule Setup'!$A$5:$E$39,4,FALSE)=\"General Manager (S)\"),\"General Manager\",VLOOKUP($A13,'Schedule Setup'!$A$5:$E$39,4,FALSE)))","v":"Team Member"},{"$f":"IF(VLOOKUP($A13,'Shift Schedule'!$A$7:$F$41,5,FALSE)=0,\"\",VLOOKUP($A13,'Shift Schedule'!$A$7:$F$41,5,FALSE))","v":"13:30:00"},{"$f":"IF(VLOOKUP($A13,'Shift Schedule'!$A$7:$F$41,6,FALSE)=0,\"\",VLOOKUP($A13,'Shift Schedule'!$A$7:$F$41,6,FALSE))","v":"20:30:00"},{"$f":"IFERROR((E13-D13)*24,\"\")","v":7.0000000000000124},{"$f":"IF(VLOOKUP($A13,'Shift Schedule'!$A$53:$F$87,5,FALSE)=0,\"\",VLOOKUP($A13,'Shift Schedule'!$A$53:$F$87,5,FALSE))","v":"14:30:00"},{"$f":"IF(VLOOKUP($A13,'Shift Schedule'!$A$53:$F$87,6,FALSE)=0,\"\",VLOOKUP($A13,'Shift Schedule'!$A$53:$F$87,6,FALSE))","v":"20:30:00"},{"$f":"IFERROR((H13-G13)*24,\"\")","v":6.0000000000000107},{"$f":"IF(VLOOKUP($A13,'Shift Schedule'!$A$99:$F515,5,FALSE)=0,\"\",VLOOKUP($A13,'Shift Schedule'!$A$99:$F$133,5,FALSE))","v":"08:00:00"},{"$f":"IF(VLOOKUP($A13,'Shift Schedule'!$A$99:$F515,6,FALSE)=0,\"\",VLOOKUP($A13,'Shift Schedule'!$A$99:$F$133,6,FALSE))","v":"16:00:00"},{"$f":"IFERROR((K13-J13)*24,\"\")","v":8.0000000000000036},{"$f":"IF(VLOOKUP($A13,'Shift Schedule'!$A$145:$F$179,5,FALSE)=0,\"\",VLOOKUP($A13,'Shift Schedule'!$A$145:$F$179,5,FALSE))","v":"08:00:00"},{"$f":"IF(VLOOKUP($A13,'Shift Schedule'!$A$145:$F$179,6,FALSE)=0,\"\",VLOOKUP($A13,'Shift Schedule'!$A$145:$F$179,6,FALSE))","v":"15:00:00"},{"$f":"IFERROR((N13-M13)*24,\"\")","v":7.0000000000000018},{"$f":"IF(VLOOKUP($A13,'Shift Schedule'!$A$191:$F$225,5,FALSE)=0,\"\",VLOOKUP($A13,'Shift Schedule'!$A$191:$F$225,5,FALSE))","v":""},{"$f":"IF(VLOOKUP($A13,'Shift Schedule'!$A$191:$F$225,6,FALSE)=0,\"\",VLOOKUP($A13,'Shift Schedule'!$A$191:$F$225,6,FALSE))","v":""},{"$f":"IFERROR((Q13-P13)*24,\"\")","v":""},{"$f":"IF(VLOOKUP($A13,'Shift Schedule'!$A$237:$F$271,5,FALSE)=0,\"\",VLOOKUP($A13,'Shift Schedule'!$A$237:$F$271,5,FALSE))","v":""},{"$f":"IF(VLOOKUP($A13,'Shift Schedule'!$A$237:$F$271,6,FALSE)=0,\"\",VLOOKUP($A13,'Shift Schedule'!$A$237:$F$271,6,FALSE))","v":""},{"$f":"IFERROR((T13-S13)*24,\"\")","v":""},{"$f":"IF(VLOOKUP($A13,'Shift Schedule'!$A$283:$F$317,5,FALSE)=0,\"\",VLOOKUP($A13,'Shift Schedule'!$A$283:$F$317,5,FALSE))","v":"08:00:00"},{"$f":"IF(VLOOKUP($A13,'Shift Schedule'!$A$283:$F$317,6,FALSE)=0,\"\",VLOOKUP($A13,'Shift Schedule'!$A$283:$F$317,6,FALSE))","v":"13:30:00"},5.4999999999999991,33.500000000000028,null,33.500000000000028]
[7,{"$f":"IF(VLOOKUP($A14,'Schedule Setup'!$A$5:$E$39,2,FALSE)=0,\"\",VLOOKUP($A14,'Schedule Setup'!$A$5:$E$39,2,FALSE))","v":"Madelyn Hickey"},{"$f":"IF(VLOOKUP($A14,'Schedule Setup'!$A$5:$E$39,4,FALSE)=0,\"\",IF(OR(VLOOKUP($A14,'Schedule Setup'!$A$5:$E$39,4,FALSE)=\"General Manager (H)\", VLOOKUP($A14,'Schedule Setup'!$A$5:$E$39,4,FALSE)=\"General Manager (S)\"),\"General Manager\",VLOOKUP($A14,'Schedule Setup'!$A$5:$E$39,4,FALSE)))","v":"Team Member"},{"$f":"IF(VLOOKUP($A14,'Shift Schedule'!$A$7:$F$41,5,FALSE)=0,\"\",VLOOKUP($A14,'Shift Schedule'!$A$7:$F$41,5,FALSE))","v":""},{"$f":"IF(VLOOKUP($A14,'Shift Schedule'!$A$7:$F$41,6,FALSE)=0,\"\",VLOOKUP($A14,'Shift Schedule'!$A$7:$F$41,6,FALSE))","v":""},"",{"$f":"IF(VLOOKUP($A14,'Shift Schedule'!$A$53:$F$87,5,FALSE)=0,\"\",VLOOKUP($A14,'Shift Schedule'!$A$53:$F$87,5,FALSE))","v":""},{"$f":"IF(VLOOKUP($A14,'Shift Schedule'!$A$53:$F$87,6,FALSE)=0,\"\",VLOOKUP($A14,'Shift Schedule'!$A$53:$F$87,6,FALSE))","v":""},"",{"$f":"IF(VLOOKUP($A14,'Shift Schedule'!$A$99:$F516,5,FALSE)=0,\"\",VLOOKUP($A14,'Shift Schedule'!$A$99:$F$133,5,FALSE))","v":""},{"$f":"IF(VLOOKUP($A14,'Shift Schedule'!$A$99:$F516,6,FALSE)=0,\"\",VLOOKUP($A14,'Shift Schedule'!$A$99:$F$133,6,FALSE))","v":""},"",{"$f":"IF(VLOOKUP($A14,'Shift Schedule'!$A$145:$F$179,5,FALSE)=0,\"\",VLOOKUP($A14,'Shift Schedule'!$A$145:$F$179,5,FALSE))","v":""},{"$f":"IF(VLOOKUP($A14,'Shift Schedule'!$A$145:$F$179,6,FALSE)=0,\"\",VLOOKUP($A14,'Shift Schedule'!$A$145:$F$179,6,FALSE))","v":""},"",{"$f":"IF(VLOOKUP($A14,'Shift Schedule'!$A$191:$F$225,5,FALSE)=0,\"\",VLOOKUP($A14,'Shift Schedule'!$A$191:$F$225,5,FALSE))","v":"13:30:00"},{"$f":"IF(VLOOKUP($A14,'Shift Schedule'!$A$191:$F$225,6,FALSE)=0,\"\",VLOOKUP($A14,'Shift Schedule'!$A$191:$F$225,6,FALSE))","v":"19:30:00"},6.0000000000000107,{"$f":"IF(VLOOKUP($A14,'Shift Schedule'!$A$237:$F$271,5,FALSE)=0,\"\",VLOOKUP($A14,'Shift Schedule'!$A$237:$F$271,5,FALSE))","v":"14:30:00"},{"$f":"IF(VLOOKUP($A14,'Shift Schedule'!$A$237:$F$271,6,FALSE)=0,\"\",VLOOKUP($A14,'Shift Schedule'!$A$237:$F$271,6,FALSE))","v":"20:30:00"},6.0000000000000107,{"$f":"IF(VLOOKUP($A14,'Shift Schedule'!$A$283:$F$317,5,FALSE)=0,\"\",VLOOKUP($A14,'Shift Schedule'!$A$283:$F$317,5,FALSE))","v":""},{"$f":"IF(VLOOKUP($A14,'Shift Schedule'!$A$283:$F$317,6,FALSE)=0,\"\",VLOOKUP($A14,'Shift Schedule'!$A$283:$F$317,6,FALSE))","v":""},"",12.000000000000021,null,12.000000000000021]
[8,{"$f":"IF(VLOOKUP($A15,'Schedule Setup'!$A$5:$E$39,2,FALSE)=0,\"\",VLOOKUP($A15,'Schedule Setup'!$A$5:$E$39,2,FALSE))","v":""},{"$f":"IF(VLOOKUP($A15,'Schedule Setup'!$A$5:$E$39,4,FALSE)=0,\"\",IF(OR(VLOOKUP($A15,'Schedule Setup'!$A$5:$E$39,4,FALSE)=\"General Manager (H)\", VLOOKUP($A15,'Schedule Setup'!$A$5:$E$39,4,FALSE)=\"General Manager (S)\"),\"General Manager\",VLOOKUP($A15,'Schedule Setup'!$A$5:$E$39,4,FALSE)))","v":""},{"$f":"IF(VLOOKUP($A15,'Shift Schedule'!$A$7:$F$41,5,FALSE)=0,\"\",VLOOKUP($A15,'Shift Schedule'!$A$7:$F$41,5,FALSE))","v":""},{"$f":"IF(VLOOKUP($A15,'Shift Schedule'!$A$7:$F$41,6,FALSE)=0,\"\",VLOOKUP($A15,'Shift Schedule'!$A$7:$F$41,6,FALSE))","v":""},"",{"$f":"IF(VLOOKUP($A15,'Shift Schedule'!$A$53:$F$87,5,FALSE)=0,\"\",VLOOKUP($A15,'Shift Schedule'!$A$53:$F$87,5,FALSE))","v":""},{"$f":"IF(VLOOKUP($A15,'Shift Schedule'!$A$53:$F$87,6,FALSE)=0,\"\",VLOOKUP($A15,'Shift Schedule'!$A$53:$F$87,6,FALSE))","v":""},"",{"$f":"IF(VLOOKUP($A15,'Shift Schedule'!$A$99:$F517,5,FALSE)=0,\"\",VLOOKUP($A15,'Shift Schedule'!$A$99:$F$133,5,FALSE))","v":""},{"$f":"IF(VLOOKUP($A15,'Shift Schedule'!$A$99:$F517,6,FALSE)=0,\"\",VLOOKUP($A15,'Shift Schedule'!$A$99:$F$133,6,FALSE))","v":""},"",{"$f":"IF(VLOOKUP($A15,'Shift Schedule'!$A$145:$F$179,5,FALSE)=0,\"\",VLOOKUP($A15,'Shift Schedule'!$A$145:$F$179,5,FALSE))","v":""},{"$f":"IF(VLOOKUP($A15,'Shift Schedule'!$A$145:$F$179,6,FALSE)=0,\"\",VLOOKUP($A15,'Shift Schedule'!$A$145:$F$179,6,FALSE))","v":""},"",{"$f":"IF(VLOOKUP($A15,'Shift Schedule'!$A$191:$F$225,5,FALSE)=0,\"\",VLOOKUP($A15,'Shift Schedule'!$A$191:$F$225,5,FALSE))","v":""},{"$f":"IF(VLOOKUP($A15,'Shift Schedule'!$A$191:$F$225,6,FALSE)=0,\"\",VLOOKUP($A15,'Shift Schedule'!$A$191:$F$225,6,FALSE))","v":""},"",{"$f":"IF(VLOOKUP($A15,'Shift Schedule'!$A$237:$F$271,5,FALSE)=0,\"\",VLOOKUP($A15,'Shift Schedule'!$A$237:$F$271,5,FALSE))","v":""},{"$f":"IF(VLOOKUP($A15,'Shift Schedule'!$A$237:$F$271,6,FALSE)=0,\"\",VLOOKUP($A15,'Shift Schedule'!$A$237:$F$271,6,FALSE))","v":""},"",{"$f":"IF(VLOOKUP($A15,'Shift Schedule'!$A$283:$F$317,5,FALSE)=0,\"\",VLOOKUP($A15,'Shift Schedule'!$A$283:$F$317,5,FALSE))","v":""},{"$f":"IF(VLOOKUP($A15,'Shift Schedule'!$A$283:$F$317,6,FALSE)=0,\"\",VLOOKUP($A15,'Shift Schedule'!$A$283:$F$317,6,FALSE))","v":""},"","",null,""]
[9,{"$f":"IF(VLOOKUP($A16,'Schedule Setup'!$A$5:$E$39,2,FALSE)=0,\"\",VLOOKUP($A16,'Schedule Setup'!$A$5:$E$39,2,FALSE))","v":""},{"$f":"IF(VLOOKUP($A16,'Schedule Setup'!$A$5:$E$39,4,FALSE)=0,\"\",IF(OR(VLOOKUP($A16,'Schedule Setup'!$A$5:$E$39,4,FALSE)=\"General Manager (H)\", VLOOKUP($A16,'Schedule Setup'!$A$5:$E$39,4,FALSE)=\"General Manager (S)\"),\"General Manager\",VLOOKUP($A16,'Schedule Setup'!$A$5:$E$39,4,FALSE)))","v":""},{"$f":"IF(VLOOKUP($A16,'Shift Schedule'!$A$7:$F$41,5,FALSE)=0,\"\",VLOOKUP($A16,'Shift Schedule'!$A$7:$F$41,5,FALSE))","v":""},{"$f":"IF(VLOOKUP($A16,'Shift Schedule'!$A$7:$F$41,6,FALSE)=0,\"\",VLOOKUP($A16,'Shift Schedule'!$A$7:$F$41,6,FALSE))","v":""},"",{"$f":"IF(VLOOKUP($A16,'Shift Schedule'!$A$53:$F$87,5,FALSE)=0,\"\",VLOOKUP($A16,'Shift Schedule'!$A$53:$F$87,5,FALSE))","v":""},{"$f":"IF(VLOOKUP($A16,'Shift Schedule'!$A$53:$F$87,6,FALSE)=0,\"\",VLOOKUP($A16,'Shift Schedule'!$A$53:$F$87,6,FALSE))","v":""},"",{"$f":"IF(VLOOKUP($A16,'Shift Schedule'!$A$99:$F518,5,FALSE)=0,\"\",VLOOKUP($A16,'Shift Schedule'!$A$99:$F$133,5,FALSE))","v":""},{"$f":"IF(VLOOKUP($A16,'Shift Schedule'!$A$99:$F518,6,FALSE)=0,\"\",VLOOKUP($A16,'Shift Schedule'!$A$99:$F$133,6,FALSE))","v":""},"",{"$f":"IF(VLOOKUP($A16,'Shift Schedule'!$A$145:$F$179,5,FALSE)=0,\"\",VLOOKUP($A16,'Shift Schedule'!$A$145:$F$179,5,FALSE))","v":""},{"$f":"IF(VLOOKUP($A16,'Shift Schedule'!$A$145:$F$179,6,FALSE)=0,\"\",VLOOKUP($A16,'Shift Schedule'!$A$145:$F$179,6,FALSE))","v":""},"",{"$f":"IF(VLOOKUP($A16,'Shift Schedule'!$A$191:$F$225,5,FALSE)=0,\"\",VLOOKUP($A16,'Shift Schedule'!$A$191:$F$225,5,FALSE))","v":""},{"$f":"IF(VLOOKUP($A16,'Shift Schedule'!$A$191:$F$225,6,FALSE)=0,\"\",VLOOKUP($A16,'Shift Schedule'!$A$191:$F$225,6,FALSE))","v":""},"",{"$f":"IF(VLOOKUP($A16,'Shift Schedule'!$A$237:$F$271,5,FALSE)=0,\"\",VLOOKUP($A16,'Shift Schedule'!$A$237:$F$271,5,FALSE))","v":""},{"$f":"IF(VLOOKUP($A16,'Shift Schedule'!$A$237:$F$271,6,FALSE)=0,\"\",VLOOKUP($A16,'Shift Schedule'!$A$237:$F$271,6,FALSE))","v":""},"",{"$f":"IF(VLOOKUP($A16,'Shift Schedule'!$A$283:$F$317,5,FALSE)=0,\"\",VLOOKUP($A16,'Shift Schedule'!$A$283:$F$317,5,FALSE))","v":""},{"$f":"IF(VLOOKUP($A16,'Shift Schedule'!$A$283:$F$317,6,FALSE)=0,\"\",VLOOKUP($A16,'Shift Schedule'!$A$283:$F$317,6,FALSE))","v":""},"","",null,""]
[10,{"$f":"IF(VLOOKUP($A17,'Schedule Setup'!$A$5:$E$39,2,FALSE)=0,\"\",VLOOKUP($A17,'Schedule Setup'!$A$5:$E$39,2,FALSE))","v":""},{"$f":"IF(VLOOKUP($A17,'Schedule Setup'!$A$5:$E$39,4,FALSE)=0,\"\",IF(OR(VLOOKUP($A17,'Schedule Setup'!$A$5:$E$39,4,FALSE)=\"General Manager (H)\", VLOOKUP($A17,'Schedule Setup'!$A$5:$E$39,4,FALSE)=\"General Manager (S)\"),\"General Manager\",VLOOKUP($A17,'Schedule Setup'!$A$5:$E$39,4,FALSE)))","v":""},{"$f":"IF(VLOOKUP($A17,'Shift Schedule'!$A$7:$F$41,5,FALSE)=0,\"\",VLOOKUP($A17,'Shift Schedule'!$A$7:$F$41,5,FALSE))","v":""},{"$f":"IF(VLOOKUP($A17,'Shift Schedule'!$A$7:$F$41,6,FALSE)=0,\"\",VLOOKUP($A17,'Shift Schedule'!$A$7:$F$41,6,FALSE))","v":""},"",{"$f":"IF(VLOOKUP($A17,'Shift Schedule'!$A$53:$F$87,5,FALSE)=0,\"\",VLOOKUP($A17,'Shift Schedule'!$A$53:$F$87,5,FALSE))","v":""},{"$f":"IF(VLOOKUP($A17,'Shift Schedule'!$A$53:$F$87,6,FALSE)=0,\"\",VLOOKUP($A17,'Shift Schedule'!$A$53:$F$87,6,FALSE))","v":""},"",{"$f":"IF(VLOOKUP($A17,'Shift Schedule'!$A$99:$F519,5,FALSE)=0,\"\",VLOOKUP($A17,'Shift Schedule'!$A$99:$F$133,5,FALSE))","v":""},{"$f":"IF(VLOOKUP($A17,'Shift Schedule'!$A$99:$F519,6,FALSE)=0,\"\",VLOOKUP($A17,'Shift Schedule'!$A$99:$F$133,6,FALSE))","v":""},"",{"$f":"IF(VLOOKUP($A17,'Shift Schedule'!$A$145:$F$179,5,FALSE)=0,\"\",VLOOKUP($A17,'Shift Schedule'!$A$145:$F$179,5,FALSE))","v":""},{"$f":"IF(VLOOKUP($A17,'Shift Schedule'!$A$145:$F$179,6,FALSE)=0,\"\",VLOOKUP($A17,'Shift Schedule'!$A$145:$F$179,6,FALSE))","v":""},"",{"$f":"IF(VLOOKUP($A17,'Shift Schedule'!$A$191:$F$225,5,FALSE)=0,\"\",VLOOKUP($A17,'Shift Schedule'!$A$191:$F$225,5,FALSE))","v":""},{"$f":"IF(VLOOKUP($A17,'Shift Schedule'!$A$191:$F$225,6,FALSE)=0,\"\",VLOOKUP($A17,'Shift Schedule'!$A$191:$F$225,6,FALSE))","v":""},"",{"$f":"IF(VLOOKUP($A17,'Shift Schedule'!$A$237:$F$271,5,FALSE)=0,\"\",VLOOKUP($A17,'Shift Schedule'!$A$237:$F$271,5,FALSE))","v":""},{"$f":"IF(VLOOKUP($A17,'Shift Schedule'!$A$237:$F$271,6,FALSE)=0,\"\",VLOOKUP($A17,'Shift Schedule'!$A$237:$F$271,6,FALSE))","v":""},"",{"$f":"IF(VLOOKUP($A17,'Shift Schedule'!$A$283:$F$317,5,FALSE)=0,\"\",VLOOKUP($A17,'Shift Schedule'!$A$283:$F$317,5,FALSE))","v":""},{"$f":"IF(VLOOKUP($A17,'Shift Schedule'!$A$283:$F$317,6,FALSE)=0,\"\",VLOOKUP($A17,'Shift Schedule'!$A$283:$F$317,6,FALSE))","v":""},"","",null,""]
[11,{"$f":"IF(VLOOKUP($A18,'Schedule Setup'!$A$5:$E$39,2,FALSE)=0,\"\",VLOOKUP($A18,'Schedule Setup'!$A$5:$E$39,2,FALSE))","v":""},{"$f":"IF(VLOOKUP($A18,'Schedule Setup'!$A$5:$E$39,4,FALSE)=0,\"\",IF(OR(VLOOKUP($A18,'Schedule Setup'!$A$5:$E$39,4,FALSE)=\"General Manager (H)\", VLOOKUP($A18,'Schedule Setup'!$A$5:$E$39,4,FALSE)=\"General Manager (S)\"),\"General Manager\",VLOOKUP($A18,'Schedule Setup'!$A$5:$E$39,4,FALSE)))","v":""},{"$f":"IF(VLOOKUP($A18,'Shift Schedule'!$A$7:$F$41,5,FALSE)=0,\"\",VLOOKUP($A18,'Shift Schedule'!$A$7:$F$41,5,FALSE))","v":""},{"$f":"IF(VLOOKUP($A18,'Shift Schedule'!$A$7:$F$41,6,FALSE)=0,\"\",VLOOKUP($A18,'Shift Schedule'!$A$7:$F$41,6,FALSE))","v":""},"",{"$f":"IF(VLOOKUP($A18,'Shift Schedule'!$A$53:$F$87,5,FALSE)=0,\"\",VLOOKUP($A18,'Shift Schedule'!$A$53:$F$87,5,FALSE))","v":""},{"$f":"IF(VLOOKUP($A18,'Shift Schedule'!$A$53:$F$87,6,FALSE)=0,\"\",VLOOKUP($A18,'Shift Schedule'!$A$53:$F$87,6,FALSE))","v":""},"",{"$f":"IF(VLOOKUP($A18,'Shift Schedule'!$A$99:$F520,5,FALSE)=0,\"\",VLOOKUP($A18,'Shift Schedule'!$A$99:$F$133,5,FALSE))","v":""},{"$f":"IF(VLOOKUP($A18,'Shift Schedule'!$A$99:$F520,6,FALSE)=0,\"\",VLOOKUP($A18,'Shift Schedule'!$A$99:$F$133,6,FALSE))","v":""},"",{"$f":"IF(VLOOKUP($A18,'Shift Schedule'!$A$145:$F$179,5,FALSE)=0,\"\",VLOOKUP($A18,'Shift Schedule'!$A$145:$F$179,5,FALSE))","v":""},{"$f":"IF(VLOOKUP($A18,'Shift Schedule'!$A$145:$F$179,6,FALSE)=0,\"\",VLOOKUP($A18,'Shift Schedule'!$A$145:$F$179,6,FALSE))","v":""},"",{"$f":"IF(VLOOKUP($A18,'Shift Schedule'!$A$191:$F$225,5,FALSE)=0,\"\",VLOOKUP($A18,'Shift Schedule'!$A$191:$F$225,5,FALSE))","v":""},{"$f":"IF(VLOOKUP($A18,'Shift Schedule'!$A$191:$F$225,6,FALSE)=0,\"\",VLOOKUP($A18,'Shift Schedule'!$A$191:$F$225,6,FALSE))","v":""},"",{"$f":"IF(VLOOKUP($A18,'Shift Schedule'!$A$237:$F$271,5,FALSE)=0,\"\",VLOOKUP($A18,'Shift Schedule'!$A$237:$F$271,5,FALSE))","v":""},{"$f":"IF(VLOOKUP($A18,'Shift Schedule'!$A$237:$F$271,6,FALSE)=0,\"\",VLOOKUP($A18,'Shift Schedule'!$A$237:$F$271,6,FALSE))","v":""},"",{"$f":"IF(VLOOKUP($A18,'Shift Schedule'!$A$283:$F$317,5,FALSE)=0,\"\",VLOOKUP($A18,'Shift Schedule'!$A$283:$F$317,5,FALSE))","v":""},{"$f":"IF(VLOOKUP($A18,'Shift Schedule'!$A$283:$F$317,6,FALSE)=0,\"\",VLOOKUP($A18,'Shift Schedule'!$A$283:$F$317,6,FALSE))","v":""},"","",null,""]
[12,{"$f":"IF(VLOOKUP($A19,'Schedule Setup'!$A$5:$E$39,2,FALSE)=0,\"\",VLOOKUP($A19,'Schedule Setup'!$A$5:$E$39,2,FALSE))","v":""},{"$f":"IF(VLOOKUP($A19,'Schedule Setup'!$A$5:$E$39,4,FALSE)=0,\"\",IF(OR(VLOOKUP($A19,'Schedule Setup'!$A$5:$E$39,4,FALSE)=\"General Manager (H)\", VLOOKUP($A19,'Schedule Setup'!$A$5:$E$39,4,FALSE)=\"General Manager (S)\"),\"General Manager\",VLOOKUP($A19,'Schedule Setup'!$A$5:$E$39,4,FALSE)))","v":""},{"$f":"IF(VLOOKUP($A19,'Shift Schedule'!$A$7:$F$41,5,FALSE)=0,\"\",VLOOKUP($A19,'Shift Schedule'!$A$7:$F$41,5,FALSE))","v":""},{"$f":"IF(VLOOKUP($A19,'Shift Schedule'!$A$7:$F$41,6,FALSE)=0,\"\",VLOOKUP($A19,'Shift Schedule'!$A$7:$F$41,6,FALSE))","v":""},"",{"$f":"IF(VLOOKUP($A19,'Shift Schedule'!$A$53:$F$87,5,FALSE)=0,\"\",VLOOKUP($A19,'Shift Schedule'!$A$53:$F$87,5,FALSE))","v":""},{"$f":"IF(VLOOKUP($A19,'Shift Schedule'!$A$53:$F$87,6,FALSE)=0,\"\",VLOOKUP($A19,'Shift Schedule'!$A$53:$F$87,6,FALSE))","v":""},"",{"$f":"IF(VLOOKUP($A19,'Shift Schedule'!$A$99:$F521,5,FALSE)=0,\"\",VLOOKUP($A19,'Shift Schedule'!$A$99:$F$133,5,FALSE))","v":""},{"$f":"IF(VLOOKUP($A19,'Shift Schedule'!$A$99:$F521,6,FALSE)=0,\"\",VLOOKUP($A19,'Shift Schedule'!$A$99:$F$133,6,FALSE))","v":""},"",{"$f":"IF(VLOOKUP($A19,'Shift Schedule'!$A$145:$F$179,5,FALSE)=0,\"\",VLOOKUP($A19,'Shift Schedule'!$A$145:$F$179,5,FALSE))","v":""},{"$f":"IF(VLOOKUP($A19,'Shift Schedule'!$A$145:$F$179,6,FALSE)=0,\"\",VLOOKUP($A19,'Shift Schedule'!$A$145:$F$179,6,FALSE))","v":""},"",{"$f":"IF(VLOOKUP($A19,'Shift Schedule'!$A$191:$F$225,5,FALSE)=0,\"\",VLOOKUP($A19,'Shift Schedule'!$A$191:$F$225,5,FALSE))","v":""},{"$f":"IF(VLOOKUP($A19,'Shift Schedule'!$A$191:$F$225,6,FALSE)=0,\"\",VLOOKUP($A19,'Shift Schedule'!$A$191:$F$225,6,FALSE))","v":""},"",{"$f":"IF(VLOOKUP($A19,'Shift Schedule'!$A$237:$F$271,5,FALSE)=0,\"\",VLOOKUP($A19,'Shift Schedule'!$A$237:$F$271,5,FALSE))","v":""},{"$f":"IF(VLOOKUP($A19,'Shift Schedule'!$A$237:$F$271,6,FALSE)=0,\"\",VLOOKUP($A19,'Shift Schedule'!$A$237:$F$271,6,FALSE))","v":""},"",{"$f":"IF(VLOOKUP($A19,'Shift Schedule'!$A$283:$F$317,5,FALSE)=0,\"\",VLOOKUP($A19,'Shift Schedule'!$A$283:$F$317,5,FALSE))","v":""},{"$f":"IF(VLOOKUP($A19,'Shift Schedule'!$A$283:$F$317,6,FALSE)=0,\"\",VLOOKUP($A19,'Shift Schedule'!$A$283:$F$317,6,FALSE))","v":""},"","",null,""]
[13,{"$f":"IF(VLOOKUP($A20,'Schedule Setup'!$A$5:$E$39,2,FALSE)=0,\"\",VLOOKUP($A20,'Schedule Setup'!$A$5:$E$39,2,FALSE))","v":""},{"$f":"IF(VLOOKUP($A20,'Schedule Setup'!$A$5:$E$39,4,FALSE)=0,\"\",IF(OR(VLOOKUP($A20,'Schedule Setup'!$A$5:$E$39,4,FALSE)=\"General Manager (H)\", VLOOKUP($A20,'Schedule Setup'!$A$5:$E$39,4,FALSE)=\"General Manager (S)\"),\"General Manager\",VLOOKUP($A20,'Schedule Setup'!$A$5:$E$39,4,FALSE)))","v":""},{"$f":"IF(VLOOKUP($A20,'Shift Schedule'!$A$7:$F$41,5,FALSE)=0,\"\",VLOOKUP($A20,'Shift Schedule'!$A$7:$F$41,5,FALSE))","v":""},{"$f":"IF(VLOOKUP($A20,'Shift Schedule'!$A$7:$F$41,6,FALSE)=0,\"\",VLOOKUP($A20,'Shift Schedule'!$A$7:$F$41,6,FALSE))","v":""},"",{"$f":"IF(VLOOKUP($A20,'Shift Schedule'!$A$53:$F$87,5,FALSE)=0,\"\",VLOOKUP($A20,'Shift Schedule'!$A$53:$F$87,5,FALSE))","v":""},{"$f":"IF(VLOOKUP($A20,'Shift Schedule'!$A$53:$F$87,6,FALSE)=0,\"\",VLOOKUP($A20,'Shift Schedule'!$A$53:$F$87,6,FALSE))","v":""},"",{"$f":"IF(VLOOKUP($A20,'Shift Schedule'!$A$99:$F522,5,FALSE)=0,\"\",VLOOKUP($A20,'Shift Schedule'!$A$99:$F$133,5,FALSE))","v":""},{"$f":"IF(VLOOKUP($A20,'Shift Schedule'!$A$99:$F522,6,FALSE)=0,\"\",VLOOKUP($A20,'Shift Schedule'!$A$99:$F$133,6,FALSE))","v":""},"",{"$f":"IF(VLOOKUP($A20,'Shift Schedule'!$A$145:$F$179,5,FALSE)=0,\"\",VLOOKUP($A20,'Shift Schedule'!$A$145:$F$179,5,FALSE))","v":""},{"$f":"IF(VLOOKUP($A20,'Shift Schedule'!$A$145:$F$179,6,FALSE)=0,\"\",VLOOKUP($A20,'Shift Schedule'!$A$145:$F$179,6,FALSE))","v":""},"",{"$f":"IF(VLOOKUP($A20,'Shift Schedule'!$A$191:$F$225,5,FALSE)=0,\"\",VLOOKUP($A20,'Shift Schedule'!$A$191:$F$225,5,FALSE))","v":""},{"$f":"IF(VLOOKUP($A20,'Shift Schedule'!$A$191:$F$225,6,FALSE)=0,\"\",VLOOKUP($A20,'Shift Schedule'!$A$191:$F$225,6,FALSE))","v":""},"",{"$f":"IF(VLOOKUP($A20,'Shift Schedule'!$A$237:$F$271,5,FALSE)=0,\"\",VLOOKUP($A20,'Shift Schedule'!$A$237:$F$271,5,FALSE))","v":""},{"$f":"IF(VLOOKUP($A20,'Shift Schedule'!$A$237:$F$271,6,FALSE)=0,\"\",VLOOKUP($A20,'Shift Schedule'!$A$237:$F$271,6,FALSE))","v":""},"",{"$f":"IF(VLOOKUP($A20,'Shift Schedule'!$A$283:$F$317,5,FALSE)=0,\"\",VLOOKUP($A20,'Shift Schedule'!$A$283:$F$317,5,FALSE))","v":""},{"$f":"IF(VLOOKUP($A20,'Shift Schedule'!$A$283:$F$317,6,FALSE)=0,\"\",VLOOKUP($A20,'Shift Schedule'!$A$283:$F$317,6,FALSE))","v":""},"","",null,""]
[14,{"$f":"IF(VLOOKUP($A21,'Schedule Setup'!$A$5:$E$39,2,FALSE)=0,\"\",VLOOKUP($A21,'Schedule Setup'!$A$5:$E$39,2,FALSE))","v":"Matt Louden"},{"$f":"IF(VLOOKUP($A21,'Schedule Setup'!$A$5:$E$39,4,FALSE)=0,\"\",IF(OR(VLOOKUP($A21,'Schedule Setup'!$A$5:$E$39,4,FALSE)=\"General Manager (H)\", VLOOKUP($A21,'Schedule Setup'!$A$5:$E$39,4,FALSE)=\"General Manager (S)\"),\"General Manager\",VLOOKUP($A21,'Schedule Setup'!$A$5:$E$39,4,FALSE)))","v":"Team Member"},{"$f":"IF(VLOOKUP($A21,'Shift Schedule'!$A$7:$F$41,5,FALSE)=0,\"\",VLOOKUP($A21,'Shift Schedule'!$A$7:$F$41,5,FALSE))","v":"14:30:00"},{"$f":"IF(VLOOKUP($A21,'Shift Schedule'!$A$7:$F$41,6,FALSE)=0,\"\",VLOOKUP($A21,'Shift Schedule'!$A$7:$F$41,6,FALSE))","v":"18:30:00"},4.0000000000000071,{"$f":"IF(VLOOKUP($A21,'Shift Schedule'!$A$53:$F$87,5,FALSE)=0,\"\",VLOOKUP($A21,'Shift Schedule'!$A$53:$F$87,5,FALSE))","v":""},{"$f":"IF(VLOOKUP($A21,'Shift Schedule'!$A$53:$F$87,6,FALSE)=0,\"\",VLOOKUP($A21,'Shift Schedule'!$A$53:$F$87,6,FALSE))","v":""},"",{"$f":"IF(VLOOKUP($A21,'Shift Schedule'!$A$99:$F523,5,FALSE)=0,\"\",VLOOKUP($A21,'Shift Schedule'!$A$99:$F$133,5,FALSE))","v":"11:30:00"},{"$f":"IF(VLOOKUP($A21,'Shift Schedule'!$A$99:$F523,6,FALSE)=0,\"\",VLOOKUP($A21,'Shift Schedule'!$A$99:$F$133,6,FALSE))","v":"16:30:00"},5.0000000000000071,{"$f":"IF(VLOOKUP($A21,'Shift Schedule'!$A$145:$F$179,5,FALSE)=0,\"\",VLOOKUP($A21,'Shift Schedule'!$A$145:$F$179,5,FALSE))","v":""},{"$f":"IF(VLOOKUP($A21,'Shift Schedule'!$A$145:$F$179,6,FALSE)=0,\"\",VLOOKUP($A21,'Shift Schedule'!$A$145:$F$179,6,FALSE))","v":""},"",{"$f":"IF(VLOOKUP($A21,'Shift Schedule'!$A$191:$F$225,5,FALSE)=0,\"\",VLOOKUP($A21,'Shift Schedule'!$A$191:$F$225,5,FALSE))","v":"12:30:00"},{"$f":"IF(VLOOKUP($A21,'Shift Schedule'!$A$191:$F$225,6,FALSE)=0,\"\",VLOOKUP($A21,'Shift Schedule'!$A$191:$F$225,6,FALSE))","v":"17:00:00"},4.500000000000008,{"$f":"IF(VLOOKUP($A21,'Shift Schedule'!$A$237:$F$271,5,FALSE)=0,\"\",VLOOKUP($A21,'Shift Schedule'!$A$237:$F$271,5,FALSE))","v":""},{"$f":"IF(VLOOKUP($A21,'Shift Schedule'!$A$237:$F$271,6,FALSE)=0,\"\",VLOOKUP($A21,'Shift Schedule'!$A$237:$F$271,6,FALSE))","v":""},"",{"$f":"IF(VLOOKUP($A21,'Shift Schedule'!$A$283:$F$317,5,FALSE)=0,\"\",VLOOKUP($A21,'Shift Schedule'!$A$283:$F$317,5,FALSE))","v":""},{"$f":"IF(VLOOKUP($A21,'Shift Schedule'!$A$283:$F$317,6,FALSE)=0,\"\",VLOOKUP($A21,'Shift Schedule'!$A$283:$F$317,6,FALSE))","v":""},"",13.500000000000021,null,13.500000000000021]
[15,{"$f":"IF(VLOOKUP($A22,'Schedule Setup'!$A$5:$E$39,2,FALSE)=0,\"\",VLOOKUP($A22,'Schedule Setup'!$A$5:$E$39,2,FALSE))","v":"Ani Reyes"},{"$f":"IF(VLOOKUP($A22,'Schedule Setup'!$A$5:$E$39,4,FALSE)=0,\"\",IF(OR(VLOOKUP($A22,'Schedule Setup'!$A$5:$E$39,4,FALSE)=\"General Manager (H)\", VLOOKUP($A22,'Schedule Setup'!$A$5:$E$39,4,FALSE)=\"General Manager (S)\"),\"General Manager\",VLOOKUP($A22,'Schedule Setup'!$A$5:$E$39,4,FALSE)))","v":"Team Member"},{"$f":"IF(VLOOKUP($A22,'Shift Schedule'!$A$7:$F$41,5,FALSE)=0,\"\",VLOOKUP($A22,'Shift Schedule'!$A$7:$F$41,5,FALSE))","v":""},{"$f":"IF(VLOOKUP($A22,'Shift Schedule'!$A$7:$F$41,6,FALSE)=0,\"\",VLOOKUP($A22,'Shift Schedule'!$A$7:$F$41,6,FALSE))","v":""},"",{"$f":"IF(VLOOKUP($A22,'Shift Schedule'!$A$53:$F$87,5,FALSE)=0,\"\",VLOOKUP($A22,'Shift Schedule'!$A$53:$F$87,5,FALSE))","v":"15:00:00"},{"$f":"IF(VLOOKUP($A22,'Shift Schedule'!$A$53:$F$87,6,FALSE)=0,\"\",VLOOKUP($A22,'Shift Schedule'!$A$53:$F$87,6,FALSE))","v":"18:30:00"},3.5000000000000062,{"$f":"IF(VLOOKUP($A22,'Shift Schedule'!$A$99:$F524,5,FALSE)=0,\"\",VLOOKUP($A22,'Shift Schedule'!$A$99:$F$133,5,FALSE))","v":"15:30:00"},{"$f":"IF(VLOOKUP($A22,'Shift Schedule'!$A$99:$F524,6,FALSE)=0,\"\",VLOOKUP($A22,'Shift Schedule'!$A$99:$F$133,6,FALSE))","v":"19:30:00"},4.0000000000000071,{"$f":"IF(VLOOKUP($A22,'Shift Schedule'!$A$145:$F$179,5,FALSE)=0,\"\",VLOOKUP($A22,'Shift Schedule'!$A$145:$F$179,5,FALSE))","v":""},{"$f":"IF(VLOOKUP($A22,'Shift Schedule'!$A$145:$F$179,6,FALSE)=0,\"\",VLOOKUP($A22,'Shift Schedule'!$A$145:$F$179,6,FALSE))","v":""},"",{"$f":"IF(VLOOKUP($A22,'Shift Schedule'!$A$191:$F$225,5,FALSE)=0,\"\",VLOOKUP($A22,'Shift Schedule'!$A$191:$F$225,5,FALSE))","v":"08:00:00"},{"$f":"IF(VLOOKUP($A22,'Shift Schedule'!$A$191:$F$225,6,FALSE)=0,\"\",VLOOKUP($A22,'Shift Schedule'!$A$191:$F$225,6,FALSE))","v":"13:00:00"},4.9999999999999982,{"$f":"IF(VLOOKUP($A22,'Shift Schedule'!$A$237:$F$271,5,FALSE)=0,\"\",VLOOKUP($A22,'Shift Schedule'!$A$237:$F$271,5,FALSE))","v":""},{"$f":"IF(VLOOKUP($A22,'Shift Schedule'!$A$237:$F$271,6,FALSE)=0,\"\",VLOOKUP($A22,'Shift Schedule'!$A$237:$F$271,6,FALSE))","v":""},"",{"$f":"IF(VLOOKUP($A22,'Shift Schedule'!$A$283:$F$317,5,FALSE)=0,\"\",VLOOKUP($A22,'Shift Schedule'!$A$283:$F$317,5,FALSE))","v":"13:30:00"},{"$f":"IF(VLOOKUP($A22,'Shift Schedule'!$A$283:$F$317,6,FALSE)=0,\"\",VLOOKUP($A22,'Shift Schedule'!$A$283:$F$317,6,FALSE))","v":"18:30:00"},5.0000000000000089,17.500000000000021,null,17.500000000000021]
[16,{"$f":"IF(VLOOKUP($A23,'Schedule Setup'!$A$5:$E$39,2,FALSE)=0,\"\",VLOOKUP($A23,'Schedule Setup'!$A$5:$E$39,2,FALSE))","v":"Andrew Philips"},{"$f":"IF(VLOOKUP($A23,'Schedule Setup'!$A$5:$E$39,4,FALSE)=0,\"\",IF(OR(VLOOKUP($A23,'Schedule Setup'!$A$5:$E$39,4,FALSE)=\"General Manager (H)\", VLOOKUP($A23,'Schedule Setup'!$A$5:$E$39,4,FALSE)=\"General Manager (S)\"),\"General Manager\",VLOOKUP($A23,'Schedule Setup'!$A$5:$E$39,4,FALSE)))","v":"Team Member"},{"$f":"IF(VLOOKUP($A23,'Shift Schedule'!$A$7:$F$41,5,FALSE)=0,\"\",VLOOKUP($A23,'Shift Schedule'!$A$7:$F$41,5,FALSE))","v":""},{"$f":"IF(VLOOKUP($A23,'Shift Schedule'!$A$7:$F$41,6,FALSE)=0,\"\",VLOOKUP($A23,'Shift Schedule'!$A$7:$F$41,6,FALSE))","v":""},"",{"$f":"IF(VLOOKUP($A23,'Shift Schedule'!$A$53:$F$87,5,FALSE)=0,\"\",VLOOKUP($A23,'Shift Schedule'!$A$53:$F$87,5,FALSE))","v":""},{"$f":"IF(VLOOKUP($A23,'Shift Schedule'!$A$53:$F$87,6,FALSE)=0,\"\",VLOOKUP($A23,'Shift Schedule'!$A$53:$F$87,6,FALSE))","v":""},"",{"$f":"IF(VLOOKUP($A23,'Shift Schedule'!$A$99:$F525,5,FALSE)=0,\"\",VLOOKUP($A23,'Shift Schedule'!$A$99:$F$133,5,FALSE))","v":""},{"$f":"IF(VLOOKUP($A23,'Shift Schedule'!$A$99:$F525,6,FALSE)=0,\"\",VLOOKUP($A23,'Shift Schedule'!$A$99:$F$133,6,FALSE))","v":""},"",{"$f":"IF(VLOOKUP($A23,'Shift Schedule'!$A$145:$F$179,5,FALSE)=0,\"\",VLOOKUP($A23,'Shift Schedule'!$A$145:$F$179,5,FALSE))","v":"11:30:00"},{"$f":"IF(VLOOKUP($A23,'Shift Schedule'!$A$145:$F$179,6,FALSE)=0,\"\",VLOOKUP($A23,'Shift Schedule'!$A$145:$F$179,6,FALSE))","v":"17:00:00"},5.5000000000000089,{"$f":"IF(VLOOKUP($A23,'Shift Schedule'!$A$191:$F$225,5,FALSE)=0,\"\",VLOOKUP($A23,'Shift Schedule'!$A$191:$F$225,5,FALSE))","v":""},{"$f":"IF(VLOOKUP($A23,'Shift Schedule'!$A$191:$F$225,6,FALSE)=0,\"\",VLOOKUP($A23,'Shift Schedule'!$A$191:$F$225,6,FALSE))","v":""},"",{"$f":"IF(VLOOKUP($A23,'Shift Schedule'!$A$237:$F$271,5,FALSE)=0,\"\",VLOOKUP($A23,'Shift Schedule'!$A$237:$F$271,5,FALSE))","v":"12:00:00"},{"$f":"IF(VLOOKUP($A23,'Shift Schedule'!$A$237:$F$271,6,FALSE)=0,\"\",VLOOKUP($A23,'Shift Schedule'!$A$237:$F$271,6,FALSE))","v":"18:00:00"},6.0000000000000107,{"$f":"IF(VLOOKUP($A23,'Shift Schedule'!$A$283:$F$317,5,FALSE)=0,\"\",VLOOKUP($A23,'Shift Schedule'!$A$283:$F$317,5,FALSE))","v":"14:00:00"},{"$f":"IF(VLOOKUP($A23,'Shift Schedule'!$A$283:$F$317,6,FALSE)=0,\"\",VLOOKUP($A23,'Shift Schedule'!$A$283:$F$317,6,FALSE))","v":"20:30:00"},6.5000000000000115,18.000000000000032,null,18.000000000000032]
[17,{"$f":"IF(VLOOKUP($A24,'Schedule Setup'!$A$5:$E$39,2,FALSE)=0,\"\",VLOOKUP($A24,'Schedule Setup'!$A$5:$E$39,2,FALSE))","v":""},{"$f":"IF(VLOOKUP($A24,'Schedule Setup'!$A$5:$E$39,4,FALSE)=0,\"\",IF(OR(VLOOKUP($A24,'Schedule Setup'!$A$5:$E$39,4,FALSE)=\"General Manager (H)\", VLOOKUP($A24,'Schedule Setup'!$A$5:$E$39,4,FALSE)=\"General Manager (S)\"),\"General Manager\",VLOOKUP($A24,'Schedule Setup'!$A$5:$E$39,4,FALSE)))","v":""},{"$f":"IF(VLOOKUP($A24,'Shift Schedule'!$A$7:$F$41,5,FALSE)=0,\"\",VLOOKUP($A24,'Shift Schedule'!$A$7:$F$41,5,FALSE))","v":""},{"$f":"IF(VLOOKUP($A24,'Shift Schedule'!$A$7:$F$41,6,FALSE)=0,\"\",VLOOKUP($A24,'Shift Schedule'!$A$7:$F$41,6,FALSE))","v":""},"",{"$f":"IF(VLOOKUP($A24,'Shift Schedule'!$A$53:$F$87,5,FALSE)=0,\"\",VLOOKUP($A24,'Shift Schedule'!$A$53:$F$87,5,FALSE))","v":""},{"$f":"IF(VLOOKUP($A24,'Shift Schedule'!$A$53:$F$87,6,FALSE)=0,\"\",VLOOKUP($A24,'Shift Schedule'!$A$53:$F$87,6,FALSE))","v":""},"",{"$f":"IF(VLOOKUP($A24,'Shift Schedule'!$A$99:$F526,5,FALSE)=0,\"\",VLOOKUP($A24,'Shift Schedule'!$A$99:$F$133,5,FALSE))","v":""},{"$f":"IF(VLOOKUP($A24,'Shift Schedule'!$A$99:$F526,6,FALSE)=0,\"\",VLOOKUP($A24,'Shift Schedule'!$A$99:$F$133,6,FALSE))","v":""},"",{"$f":"IF(VLOOKUP($A24,'Shift Schedule'!$A$145:$F$179,5,FALSE)=0,\"\",VLOOKUP($A24,'Shift Schedule'!$A$145:$F$179,5,FALSE))","v":""},{"$f":"IF(VLOOKUP($A24,'Shift Schedule'!$A$145:$F$179,6,FALSE)=0,\"\",VLOOKUP($A24,'Shift Schedule'!$A$145:$F$179,6,FALSE))","v":""},"",{"$f":"IF(VLOOKUP($A24,'Shift Schedule'!$A$191:$F$225,5,FALSE)=0,\"\",VLOOKUP($A24,'Shift Schedule'!$A$191:$F$225,5,FALSE))","v":""},{"$f":"IF(VLOOKUP($A24,'Shift Schedule'!$A$191:$F$225,6,FALSE)=0,\"\",VLOOKUP($A24,'Shift Schedule'!$A$191:$F$225,6,FALSE))","v":""},"",{"$f":"IF(VLOOKUP($A24,'Shift Schedule'!$A$237:$F$271,5,FALSE)=0,\"\",VLOOKUP($A24,'Shift Schedule'!$A$237:$F$271,5,FALSE))","v":""},{"$f":"IF(VLOOKUP($A24,'Shift Schedule'!$A$237:$F$271,6,FALSE)=0,\"\",VLOOKUP($A24,'Shift Schedule'!$A$237:$F$271,6,FALSE))","v":""},"",{"$f":"IF(VLOOKUP($A24,'Shift Schedule'!$A$283:$F$317,5,FALSE)=0,\"\",VLOOKUP($A24,'Shift Schedule'!$A$283:$F$317,5,FALSE))","v":""},{"$f":"IF(VLOOKUP($A24,'Shift Schedule'!$A$283:$F$317,6,FALSE)=0,\"\",VLOOKUP($A24,'Shift Schedule'!$A$283:$F$317,6,FALSE))","v":""},"","",null,""]
[18,{"$f":"IF(VLOOKUP($A25,'Schedule Setup'!$A$5:$E$39,2,FALSE)=0,\"\",VLOOKUP($A25,'Schedule Setup'!$A$5:$E$39,2,FALSE))","v":""},{"$f":"IF(VLOOKUP($A25,'Schedule Setup'!$A$5:$E$39,4,FALSE)=0,\"\",IF(OR(VLOOKUP($A25,'Schedule Setup'!$A$5:$E$39,4,FALSE)=\"General Manager (H)\", VLOOKUP($A25,'Schedule Setup'!$A$5:$E$39,4,FALSE)=\"General Manager (S)\"),\"General Manager\",VLOOKUP($A25,'Schedule Setup'!$A$5:$E$39,4,FALSE)))","v":""},{"$f":"IF(VLOOKUP($A25,'Shift Schedule'!$A$7:$F$41,5,FALSE)=0,\"\",VLOOKUP($A25,'Shift Schedule'!$A$7:$F$41,5,FALSE))","v":""},{"$f":"IF(VLOOKUP($A25,'Shift Schedule'!$A$7:$F$41,6,FALSE)=0,\"\",VLOOKUP($A25,'Shift Schedule'!$A$7:$F$41,6,FALSE))","v":""},"",{"$f":"IF(VLOOKUP($A25,'Shift Schedule'!$A$53:$F$87,5,FALSE)=0,\"\",VLOOKUP($A25,'Shift Schedule'!$A$53:$F$87,5,FALSE))","v":""},{"$f":"IF(VLOOKUP($A25,'Shift Schedule'!$A$53:$F$87,6,FALSE)=0,\"\",VLOOKUP($A25,'Shift Schedule'!$A$53:$F$87,6,FALSE))","v":""},"",{"$f":"IF(VLOOKUP($A25,'Shift Schedule'!$A$99:$F527,5,FALSE)=0,\"\",VLOOKUP($A25,'Shift Schedule'!$A$99:$F$133,5,FALSE))","v":""},{"$f":"IF(VLOOKUP($A25,'Shift Schedule'!$A$99:$F527,6,FALSE)=0,\"\",VLOOKUP($A25,'Shift Schedule'!$A$99:$F$133,6,FALSE))","v":""},"",{"$f":"IF(VLOOKUP($A25,'Shift Schedule'!$A$145:$F$179,5,FALSE)=0,\"\",VLOOKUP($A25,'Shift Schedule'!$A$145:$F$179,5,FALSE))","v":""},{"$f":"IF(VLOOKUP($A25,'Shift Schedule'!$A$145:$F$179,6,FALSE)=0,\"\",VLOOKUP($A25,'Shift Schedule'!$A$145:$F$179,6,FALSE))","v":""},"",{"$f":"IF(VLOOKUP($A25,'Shift Schedule'!$A$191:$F$225,5,FALSE)=0,\"\",VLOOKUP($A25,'Shift Schedule'!$A$191:$F$225,5,FALSE))","v":""},{"$f":"IF(VLOOKUP($A25,'Shift Schedule'!$A$191:$F$225,6,FALSE)=0,\"\",VLOOKUP($A25,'Shift Schedule'!$A$191:$F$225,6,FALSE))","v":""},"",{"$f":"IF(VLOOKUP($A25,'Shift Schedule'!$A$237:$F$271,5,FALSE)=0,\"\",VLOOKUP($A25,'Shift Schedule'!$A$237:$F$271,5,FALSE))","v":""},{"$f":"IF(VLOOKUP($A25,'Shift Schedule'!$A$237:$F$271,6,FALSE)=0,\"\",VLOOKUP($A25,'Shift Schedule'!$A$237:$F$271,6,FALSE))","v":""},"",{"$f":"IF(VLOOKUP($A25,'Shift Schedule'!$A$283:$F$317,5,FALSE)=0,\"\",VLOOKUP($A25,'Shift Schedule'!$A$283:$F$317,5,FALSE))","v":""},{"$f":"IF(VLOOKUP($A25,'Shift Schedule'!$A$283:$F$317,6,FALSE)=0,\"\",VLOOKUP($A25,'Shift Schedule'!$A$283:$F$317,6,FALSE))","v":""},"","",null,""]
[19,{"$f":"IF(VLOOKUP($A26,'Schedule Setup'!$A$5:$E$39,2,FALSE)=0,\"\",VLOOKUP($A26,'Schedule Setup'!$A$5:$E$39,2,FALSE))","v":"."},{"$f":"IF(VLOOKUP($A26,'Schedule Setup'!$A$5:$E$39,4,FALSE)=0,\"\",IF(OR(VLOOKUP($A26,'Schedule Setup'!$A$5:$E$39,4,FALSE)=\"General Manager (H)\", VLOOKUP($A26,'Schedule Setup'!$A$5:$E$39,4,FALSE)=\"General Manager (S)\"),\"General Manager\",VLOOKUP($A26,'Schedule Setup'!$A$5:$E$39,4,FALSE)))","v":""},{"$f":"IF(VLOOKUP($A26,'Shift Schedule'!$A$7:$F$41,5,FALSE)=0,\"\",VLOOKUP($A26,'Shift Schedule'!$A$7:$F$41,5,FALSE))","v":""},{"$f":"IF(VLOOKUP($A26,'Shift Schedule'!$A$7:$F$41,6,FALSE)=0,\"\",VLOOKUP($A26,'Shift Schedule'!$A$7:$F$41,6,FALSE))","v":""},"",{"$f":"IF(VLOOKUP($A26,'Shift Schedule'!$A$53:$F$87,5,FALSE)=0,\"\",VLOOKUP($A26,'Shift Schedule'!$A$53:$F$87,5,FALSE))","v":""},{"$f":"IF(VLOOKUP($A26,'Shift Schedule'!$A$53:$F$87,6,FALSE)=0,\"\",VLOOKUP($A26,'Shift Schedule'!$A$53:$F$87,6,FALSE))","v":""},"",{"$f":"IF(VLOOKUP($A26,'Shift Schedule'!$A$99:$F528,5,FALSE)=0,\"\",VLOOKUP($A26,'Shift Schedule'!$A$99:$F$133,5,FALSE))","v":""},{"$f":"IF(VLOOKUP($A26,'Shift Schedule'!$A$99:$F528,6,FALSE)=0,\"\",VLOOKUP($A26,'Shift Schedule'!$A$99:$F$133,6,FALSE))","v":""},"",{"$f":"IF(VLOOKUP($A26,'Shift Schedule'!$A$145:$F$179,5,FALSE)=0,\"\",VLOOKUP($A26,'Shift Schedule'!$A$145:$F$179,5,FALSE))","v":""},{"$f":"IF(VLOOKUP($A26,'Shift Schedule'!$A$145:$F$179,6,FALSE)=0,\"\",VLOOKUP($A26,'Shift Schedule'!$A$145:$F$179,6,FALSE))","v":""},"",{"$f":"IF(VLOOKUP($A26,'Shift Schedule'!$A$191:$F$225,5,FALSE)=0,\"\",VLOOKUP($A26,'Shift Schedule'!$A$191:$F$225,5,FALSE))","v":""},{"$f":"IF(VLOOKUP($A26,'Shift Schedule'!$A$191:$F$225,6,FALSE)=0,\"\",VLOOKUP($A26,'Shift Schedule'!$A$191:$F$225,6,FALSE))","v":""},"",{"$f":"IF(VLOOKUP($A26,'Shift Schedule'!$A$237:$F$271,5,FALSE)=0,\"\",VLOOKUP($A26,'Shift Schedule'!$A$237:$F$271,5,FALSE))","v":""},{"$f":"IF(VLOOKUP($A26,'Shift Schedule'!$A$237:$F$271,6,FALSE)=0,\"\",VLOOKUP($A26,'Shift Schedule'!$A$237:$F$271,6,FALSE))","v":""},"",{"$f":"IF(VLOOKUP($A26,'Shift Schedule'!$A$283:$F$317,5,FALSE)=0,\"\",VLOOKUP($A26,'Shift Schedule'!$A$283:$F$317,5,FALSE))","v":""},{"$f":"IF(VLOOKUP($A26,'Shift Schedule'!$A$283:$F$317,6,FALSE)=0,\"\",VLOOKUP($A26,'Shift Schedule'!$A$283:$F$317,6,FALSE))","v":""},{"$f":"IFERROR((W26-V26)*24,\"\")","v":""},"",null,""]
[20,{"$f":"IF(VLOOKUP($A27,'Schedule Setup'!$A$5:$E$39,2,FALSE)=0,\"\",VLOOKUP($A27,'Schedule Setup'!$A$5:$E$39,2,FALSE))","v":"Sean Duncan"},{"$f":"IF(VLOOKUP($A27,'Schedule Setup'!$A$5:$E$39,4,FALSE)=0,\"\",IF(OR(VLOOKUP($A27,'Schedule Setup'!$A$5:$E$39,4,FALSE)=\"General Manager (H)\", VLOOKUP($A27,'Schedule Setup'!$A$5:$E$39,4,FALSE)=\"General Manager (S)\"),\"General Manager\",VLOOKUP($A27,'Schedule Setup'!$A$5:$E$39,4,FALSE)))","v":"Team Lead"},{"$f":"IF(VLOOKUP($A27,'Shift Schedule'!$A$7:$F$41,5,FALSE)=0,\"\",VLOOKUP($A27,'Shift Schedule'!$A$7:$F$41,5,FALSE))","v":""},{"$f":"IF(VLOOKUP($A27,'Shift Schedule'!$A$7:$F$41,6,FALSE)=0,\"\",VLOOKUP($A27,'Shift Schedule'!$A$7:$F$41,6,FALSE))","v":""},"",{"$f":"IF(VLOOKUP($A27,'Shift Schedule'!$A$53:$F$87,5,FALSE)=0,\"\",VLOOKUP($A27,'Shift Schedule'!$A$53:$F$87,5,FALSE))","v":""},{"$f":"IF(VLOOKUP($A27,'Shift Schedule'!$A$53:$F$87,6,FALSE)=0,\"\",VLOOKUP($A27,'Shift Schedule'!$A$53:$F$87,6,FALSE))","v":""},"",{"$f":"IF(VLOOKUP($A27,'Shift Schedule'!$A$99:$F529,5,FALSE)=0,\"\",VLOOKUP($A27,'Shift Schedule'!$A$99:$F$133,5,FALSE))","v":""},{"$f":"IF(VLOOKUP($A27,'Shift Schedule'!$A$99:$F529,6,FALSE)=0,\"\",VLOOKUP($A27,'Shift Schedule'!$A$99:$F$133,6,FALSE))","v":""},"",{"$f":"IF(VLOOKUP($A27,'Shift Schedule'!$A$145:$F$179,5,FALSE)=0,\"\",VLOOKUP($A27,'Shift Schedule'!$A$145:$F$179,5,FALSE))","v":""},{"$f":"IF(VLOOKUP($A27,'Shift Schedule'!$A$145:$F$179,6,FALSE)=0,\"\",VLOOKUP($A27,'Shift Schedule'!$A$145:$F$179,6,FALSE))","v":""},"",{"$f":"IF(VLOOKUP($A27,'Shift Schedule'!$A$191:$F$225,5,FALSE)=0,\"\",VLOOKUP($A27,'Shift Schedule'!$A$191:$F$225,5,FALSE))","v":""},{"$f":"IF(VLOOKUP($A27,'Shift Schedule'!$A$191:$F$225,6,FALSE)=0,\"\",VLOOKUP($A27,'Shift Schedule'!$A$191:$F$225,6,FALSE))","v":""},"",{"$f":"IF(VLOOKUP($A27,'Shift Schedule'!$A$237:$F$271,5,FALSE)=0,\"\",VLOOKUP($A27,'Shift Schedule'!$A$237:$F$271,5,FALSE))","v":"14:30:00"},{"$f":"IF(VLOOKUP($A27,'Shift Schedule'!$A$237:$F$271,6,FALSE)=0,\"\",VLOOKUP($A27,'Shift Schedule'!$A$237:$F$271,6,FALSE))","v":"20:30:00"},6.0000000000000107,{"$f":"IF(VLOOKUP($A27,'Shift Schedule'!$A$283:$F$317,5,FALSE)=0,\"\",VLOOKUP($A27,'Shift Schedule'!$A$283:$F$317,5,FALSE))","v":""},{"$f":"IF(VLOOKUP($A27,'Shift Schedule'!$A$283:$F$317,6,FALSE)=0,\"\",VLOOKUP($A27,'Shift Schedule'!$A$283:$F$317,6,FALSE))","v":""},"",6.0000000000000107,null,6.0000000000000107]
[21,{"$f":"IF(VLOOKUP($A28,'Schedule Setup'!$A$5:$E$39,2,FALSE)=0,\"\",VLOOKUP($A28,'Schedule Setup'!$A$5:$E$39,2,FALSE))","v":""},{"$f":"IF(VLOOKUP($A28,'Schedule Setup'!$A$5:$E$39,4,FALSE)=0,\"\",IF(OR(VLOOKUP($A28,'Schedule Setup'!$A$5:$E$39,4,FALSE)=\"General Manager (H)\", VLOOKUP($A28,'Schedule Setup'!$A$5:$E$39,4,FALSE)=\"General Manager (S)\"),\"General Manager\",VLOOKUP($A28,'Schedule Setup'!$A$5:$E$39,4,FALSE)))","v":""},{"$f":"IF(VLOOKUP($A28,'Shift Schedule'!$A$7:$F$41,5,FALSE)=0,\"\",VLOOKUP($A28,'Shift Schedule'!$A$7:$F$41,5,FALSE))","v":""},{"$f":"IF(VLOOKUP($A28,'Shift Schedule'!$A$7:$F$41,6,FALSE)=0,\"\",VLOOKUP($A28,'Shift Schedule'!$A$7:$F$41,6,FALSE))","v":""},"",{"$f":"IF(VLOOKUP($A28,'Shift Schedule'!$A$53:$F$87,5,FALSE)=0,\"\",VLOOKUP($A28,'Shift Schedule'!$A$53:$F$87,5,FALSE))","v":""},{"$f":"IF(VLOOKUP($A28,'Shift Schedule'!$A$53:$F$87,6,FALSE)=0,\"\",VLOOKUP($A28,'Shift Schedule'!$A$53:$F$87,6,FALSE))","v":""},"",{"$f":"IF(VLOOKUP($A28,'Shift Schedule'!$A$99:$F530,5,FALSE)=0,\"\",VLOOKUP($A28,'Shift Schedule'!$A$99:$F$133,5,FALSE))","v":""},{"$f":"IF(VLOOKUP($A28,'Shift Schedule'!$A$99:$F530,6,FALSE)=0,\"\",VLOOKUP($A28,'Shift Schedule'!$A$99:$F$133,6,FALSE))","v":""},"",{"$f":"IF(VLOOKUP($A28,'Shift Schedule'!$A$145:$F$179,5,FALSE)=0,\"\",VLOOKUP($A28,'Shift Schedule'!$A$145:$F$179,5,FALSE))","v":""},{"$f":"IF(VLOOKUP($A28,'Shift Schedule'!$A$145:$F$179,6,FALSE)=0,\"\",VLOOKUP($A28,'Shift Schedule'!$A$145:$F$179,6,FALSE))","v":""},"",{"$f":"IF(VLOOKUP($A28,'Shift Schedule'!$A$191:$F$225,5,FALSE)=0,\"\",VLOOKUP($A28,'Shift Schedule'!$A$191:$F$225,5,FALSE))","v":""},{"$f":"IF(VLOOKUP($A28,'Shift Schedule'!$A$191:$F$225,6,FALSE)=0,\"\",VLOOKUP($A28,'Shift Schedule'!$A$191:$F$225,6,FALSE))","v":""},"",{"$f":"IF(VLOOKUP($A28,'Shift Schedule'!$A$237:$F$271,5,FALSE)=0,\"\",VLOOKUP($A28,'Shift Schedule'!$A$237:$F$271,5,FALSE))","v":""},{"$f":"IF(VLOOKUP($A28,'Shift Schedule'!$A$237:$F$271,6,FALSE)=0,\"\",VLOOKUP($A28,'Shift Schedule'!$A$237:$F$271,6,FALSE))","v":""},"",{"$f":"IF(VLOOKUP($A28,'Shift Schedule'!$A$283:$F$317,5,FALSE)=0,\"\",VLOOKUP($A28,'Shift Schedule'!$A$283:$F$317,5,FALSE))","v":""},{"$f":"IF(VLOOKUP($A28,'Shift Schedule'!$A$283:$F$317,6,FALSE)=0,\"\",VLOOKUP($A28,'Shift Schedule'!$A$283:$F$317,6,FALSE))","v":""},"","",null,""]
[22,{"$f":"IF(VLOOKUP($A29,'Schedule Setup'!$A$5:$E$39,2,FALSE)=0,\"\",VLOOKUP($A29,'Schedule Setup'!$A$5:$E$39,2,FALSE))","v":""},{"$f":"IF(VLOOKUP($A29,'Schedule Setup'!$A$5:$E$39,4,FALSE)=0,\"\",IF(OR(VLOOKUP($A29,'Schedule Setup'!$A$5:$E$39,4,FALSE)=\"General Manager (H)\", VLOOKUP($A29,'Schedule Setup'!$A$5:$E$39,4,FALSE)=\"General Manager (S)\"),\"General Manager\",VLOOKUP($A29,'Schedule Setup'!$A$5:$E$39,4,FALSE)))","v":""},{"$f":"IF(VLOOKUP($A29,'Shift Schedule'!$A$7:$F$41,5,FALSE)=0,\"\",VLOOKUP($A29,'Shift Schedule'!$A$7:$F$41,5,FALSE))","v":""},{"$f":"IF(VLOOKUP($A29,'Shift Schedule'!$A$7:$F$41,6,FALSE)=0,\"\",VLOOKUP($A29,'Shift Schedule'!$A$7:$F$41,6,FALSE))","v":""},"",{"$f":"IF(VLOOKUP($A29,'Shift Schedule'!$A$53:$F$87,5,FALSE)=0,\"\",VLOOKUP($A29,'Shift Schedule'!$A$53:$F$87,5,FALSE))","v":""},{"$f":"IF(VLOOKUP($A29,'Shift Schedule'!$A$53:$F$87,6,FALSE)=0,\"\",VLOOKUP($A29,'Shift Schedule'!$A$53:$F$87,6,FALSE))","v":""},"",{"$f":"IF(VLOOKUP($A29,'Shift Schedule'!$A$99:$F531,5,FALSE)=0,\"\",VLOOKUP($A29,'Shift Schedule'!$A$99:$F$133,5,FALSE))","v":""},{"$f":"IF(VLOOKUP($A29,'Shift Schedule'!$A$99:$F531,6,FALSE)=0,\"\",VLOOKUP($A29,'Shift Schedule'!$A$99:$F$133,6,FALSE))","v":""},"",{"$f":"IF(VLOOKUP($A29,'Shift Schedule'!$A$145:$F$179,5,FALSE)=0,\"\",VLOOKUP($A29,'Shift Schedule'!$A$145:$F$179,5,FALSE))","v":""},{"$f":"IF(VLOOKUP($A29,'Shift Schedule'!$A$145:$F$179,6,FALSE)=0,\"\",VLOOKUP($A29,'Shift Schedule'!$A$145:$F$179,6,FALSE))","v":""},"",{"$f":"IF(VLOOKUP($A29,'Shift Schedule'!$A$191:$F$225,5,FALSE)=0,\"\",VLOOKUP($A29,'Shift Schedule'!$A$191:$F$225,5,FALSE))","v":""},{"$f":"IF(VLOOKUP($A29,'Shift Schedule'!$A$191:$F$225,6,FALSE)=0,\"\",VLOOKUP($A29,'Shift Schedule'!$A$191:$F$225,6,FALSE))","v":""},"",{"$f":"IF(VLOOKUP($A29,'Shift Schedule'!$A$237:$F$271,5,FALSE)=0,\"\",VLOOKUP($A29,'Shift Schedule'!$A$237:$F$271,5,FALSE))","v":""},{"$f":"IF(VLOOKUP($A29,'Shift Schedule'!$A$237:$F$271,6,FALSE)=0,\"\",VLOOKUP($A29,'Shift Schedule'!$A$237:$F$271,6,FALSE))","v":""},"",{"$f":"IF(VLOOKUP($A29,'Shift Schedule'!$A$283:$F$317,5,FALSE)=0,\"\",VLOOKUP($A29,'Shift Schedule'!$A$283:$F$317,5,FALSE))","v":""},{"$f":"IF(VLOOKUP($A29,'Shift Schedule'!$A$283:$F$317,6,FALSE)=0,\"\",VLOOKUP($A29,'Shift Schedule'!$A$283:$F$317,6,FALSE))","v":""},"","",null,""]
[23,{"$f":"IF(VLOOKUP($A30,'Schedule Setup'!$A$5:$E$39,2,FALSE)=0,\"\",VLOOKUP($A30,'Schedule Setup'!$A$5:$E$39,2,FALSE))","v":""},{"$f":"IF(VLOOKUP($A30,'Schedule Setup'!$A$5:$E$39,4,FALSE)=0,\"\",IF(OR(VLOOKUP($A30,'Schedule Setup'!$A$5:$E$39,4,FALSE)=\"General Manager (H)\", VLOOKUP($A30,'Schedule Setup'!$A$5:$E$39,4,FALSE)=\"General Manager (S)\"),\"General Manager\",VLOOKUP($A30,'Schedule Setup'!$A$5:$E$39,4,FALSE)))","v":""},{"$f":"IF(VLOOKUP($A30,'Shift Schedule'!$A$7:$F$41,5,FALSE)=0,\"\",VLOOKUP($A30,'Shift Schedule'!$A$7:$F$41,5,FALSE))","v":""},{"$f":"IF(VLOOKUP($A30,'Shift Schedule'!$A$7:$F$41,6,FALSE)=0,\"\",VLOOKUP($A30,'Shift Schedule'!$A$7:$F$41,6,FALSE))","v":""},{"$f":"IFERROR((E30-D30)*24,\"\")","v":""},{"$f":"IF(VLOOKUP($A30,'Shift Schedule'!$A$53:$F$87,5,FALSE)=0,\"\",VLOOKUP($A30,'Shift Schedule'!$A$53:$F$87,5,FALSE))","v":""},{"$f":"IF(VLOOKUP($A30,'Shift Schedule'!$A$53:$F$87,6,FALSE)=0,\"\",VLOOKUP($A30,'Shift Schedule'!$A$53:$F$87,6,FALSE))","v":""},{"$f":"IFERROR((H30-G30)*24,\"\")","v":""},{"$f":"IF(VLOOKUP($A30,'Shift Schedule'!$A$99:$F532,5,FALSE)=0,\"\",VLOOKUP($A30,'Shift Schedule'!$A$99:$F$133,5,FALSE))","v":""},{"$f":"IF(VLOOKUP($A30,'Shift Schedule'!$A$99:$F532,6,FALSE)=0,\"\",VLOOKUP($A30,'Shift Schedule'!$A$99:$F$133,6,FALSE))","v":""},{"$f":"IFERROR((K30-J30)*24,\"\")","v":""},{"$f":"IF(VLOOKUP($A30,'Shift Schedule'!$A$145:$F$179,5,FALSE)=0,\"\",VLOOKUP($A30,'Shift Schedule'!$A$145:$F$179,5,FALSE))","v":""},{"$f":"IF(VLOOKUP($A30,'Shift Schedule'!$A$145:$F$179,6,FALSE)=0,\"\",VLOOKUP($A30,'Shift Schedule'!$A$145:$F$179,6,FALSE))","v":""},{"$f":"IFERROR((N30-M30)*24,\"\")","v":""},{"$f":"IF(VLOOKUP($A30,'Shift Schedule'!$A$191:$F$225,5,FALSE)=0,\"\",VLOOKUP($A30,'Shift Schedule'!$A$191:$F$225,5,FALSE))","v":""},{"$f":"IF(VLOOKUP($A30,'Shift Schedule'!$A$191:$F$225,6,FALSE)=0,\"\",VLOOKUP($A30,'Shift Schedule'!$A$191:$F$225,6,FALSE))","v":""},{"$f":"IFERROR((Q30-P30)*24,\"\")","v":""},{"$f":"IF(VLOOKUP($A30,'Shift Schedule'!$A$237:$F$271,5,FALSE)=0,\"\",VLOOKUP($A30,'Shift Schedule'!$A$237:$F$271,5,FALSE))","v":""},{"$f":"IF(VLOOKUP($A30,'Shift Schedule'!$A$237:$F$271,6,FALSE)=0,\"\",VLOOKUP($A30,'Shift Schedule'!$A$237:$F$271,6,FALSE))","v":""},{"$f":"IFERROR((T30-S30)*24,\"\")","v":""},{"$f":"IF(VLOOKUP($A30,'Shift Schedule'!$A$283:$F$317,5,FALSE)=0,\"\",VLOOKUP($A30,'Shift Schedule'!$A$283:$F$317,5,FALSE))","v":""},{"$f":"IF(VLOOKUP($A30,'Shift Schedule'!$A$283:$F$317,6,FALSE)=0,\"\",VLOOKUP($A30,'Shift Schedule'!$A$283:$F$317,6,FALSE))","v":""},{"$f":"IFERROR((W30-V30)*24,\"\")","v":""},{"$f":"IF(SUM(F30,I30,L30,O30,R30,U30,X30)=0,\"\",SUM(F30,I30,L30,O30,R30,U30,X30))","v":""},null,""]
[24,{"$f":"IF(VLOOKUP($A31,'Schedule Setup'!$A$5:$E$39,2,FALSE)=0,\"\",VLOOKUP($A31,'Schedule Setup'!$A$5:$E$39,2,FALSE))","v":""},{"$f":"IF(VLOOKUP($A31,'Schedule Setup'!$A$5:$E$39,4,FALSE)=0,\"\",IF(OR(VLOOKUP($A31,'Schedule Setup'!$A$5:$E$39,4,FALSE)=\"General Manager (H)\", VLOOKUP($A31,'Schedule Setup'!$A$5:$E$39,4,FALSE)=\"General Manager (S)\"),\"General Manager\",VLOOKUP($A31,'Schedule Setup'!$A$5:$E$39,4,FALSE)))","v":""},{"$f":"IF(VLOOKUP($A31,'Shift Schedule'!$A$7:$F$41,5,FALSE)=0,\"\",VLOOKUP($A31,'Shift Schedule'!$A$7:$F$41,5,FALSE))","v":""},{"$f":"IF(VLOOKUP($A31,'Shift Schedule'!$A$7:$F$41,6,FALSE)=0,\"\",VLOOKUP($A31,'Shift Schedule'!$A$7:$F$41,6,FALSE))","v":""},"",{"$f":"IF(VLOOKUP($A31,'Shift Schedule'!$A$53:$F$87,5,FALSE)=0,\"\",VLOOKUP($A31,'Shift Schedule'!$A$53:$F$87,5,FALSE))","v":""},{"$f":"IF(VLOOKUP($A31,'Shift Schedule'!$A$53:$F$87,6,FALSE)=0,\"\",VLOOKUP($A31,'Shift Schedule'!$A$53:$F$87,6,FALSE))","v":""},"",{"$f":"IF(VLOOKUP($A31,'Shift Schedule'!$A$99:$F533,5,FALSE)=0,\"\",VLOOKUP($A31,'Shift Schedule'!$A$99:$F$133,5,FALSE))","v":""},{"$f":"IF(VLOOKUP($A31,'Shift Schedule'!$A$99:$F533,6,FALSE)=0,\"\",VLOOKUP($A31,'Shift Schedule'!$A$99:$F$133,6,FALSE))","v":""},"",{"$f":"IF(VLOOKUP($A31,'Shift Schedule'!$A$145:$F$179,5,FALSE)=0,\"\",VLOOKUP($A31,'Shift Schedule'!$A$145:$F$179,5,FALSE))","v":""},{"$f":"IF(VLOOKUP($A31,'Shift Schedule'!$A$145:$F$179,6,FALSE)=0,\"\",VLOOKUP($A31,'Shift Schedule'!$A$145:$F$179,6,FALSE))","v":""},"",{"$f":"IF(VLOOKUP($A31,'Shift Schedule'!$A$191:$F$225,5,FALSE)=0,\"\",VLOOKUP($A31,'Shift Schedule'!$A$191:$F$225,5,FALSE))","v":""},{"$f":"IF(VLOOKUP($A31,'Shift Schedule'!$A$191:$F$225,6,FALSE)=0,\"\",VLOOKUP($A31,'Shift Schedule'!$A$191:$F$225,6,FALSE))","v":""},"",{"$f":"IF(VLOOKUP($A31,'Shift Schedule'!$A$237:$F$271,5,FALSE)=0,\"\",VLOOKUP($A31,'Shift Schedule'!$A$237:$F$271,5,FALSE))","v":""},{"$f":"IF(VLOOKUP($A31,'Shift Schedule'!$A$237:$F$271,6,FALSE)=0,\"\",VLOOKUP($A31,'Shift Schedule'!$A$237:$F$271,6,FALSE))","v":""},"",{"$f":"IF(VLOOKUP($A31,'Shift Schedule'!$A$283:$F$317,5,FALSE)=0,\"\",VLOOKUP($A31,'Shift Schedule'!$A$283:$F$317,5,FALSE))","v":""},{"$f":"IF(VLOOKUP($A31,'Shift Schedule'!$A$283:$F$317,6,FALSE)=0,\"\",VLOOKUP($A31,'Shift Schedule'!$A$283:$F$317,6,FALSE))","v":""},"","",null,""]
[25,{"$f":"IF(VLOOKUP($A32,'Schedule Setup'!$A$5:$E$39,2,FALSE)=0,\"\",VLOOKUP($A32,'Schedule Setup'!$A$5:$E$39,2,FALSE))","v":""},{"$f":"IF(VLOOKUP($A32,'Schedule Setup'!$A$5:$E$39,4,FALSE)=0,\"\",IF(OR(VLOOKUP($A32,'Schedule Setup'!$A$5:$E$39,4,FALSE)=\"General Manager (H)\", VLOOKUP($A32,'Schedule Setup'!$A$5:$E$39,4,FALSE)=\"General Manager (S)\"),\"General Manager\",VLOOKUP($A32,'Schedule Setup'!$A$5:$E$39,4,FALSE)))","v":""},{"$f":"IF(VLOOKUP($A32,'Shift Schedule'!$A$7:$F$41,5,FALSE)=0,\"\",VLOOKUP($A32,'Shift Schedule'!$A$7:$F$41,5,FALSE))","v":""},{"$f":"IF(VLOOKUP($A32,'Shift Schedule'!$A$7:$F$41,6,FALSE)=0,\"\",VLOOKUP($A32,'Shift Schedule'!$A$7:$F$41,6,FALSE))","v":""},"",{"$f":"IF(VLOOKUP($A32,'Shift Schedule'!$A$53:$F$87,5,FALSE)=0,\"\",VLOOKUP($A32,'Shift Schedule'!$A$53:$F$87,5,FALSE))","v":""},{"$f":"IF(VLOOKUP($A32,'Shift Schedule'!$A$53:$F$87,6,FALSE)=0,\"\",VLOOKUP($A32,'Shift Schedule'!$A$53:$F$87,6,FALSE))","v":""},"",{"$f":"IF(VLOOKUP($A32,'Shift Schedule'!$A$99:$F534,5,FALSE)=0,\"\",VLOOKUP($A32,'Shift Schedule'!$A$99:$F$133,5,FALSE))","v":""},{"$f":"IF(VLOOKUP($A32,'Shift Schedule'!$A$99:$F534,6,FALSE)=0,\"\",VLOOKUP($A32,'Shift Schedule'!$A$99:$F$133,6,FALSE))","v":""},"",{"$f":"IF(VLOOKUP($A32,'Shift Schedule'!$A$145:$F$179,5,FALSE)=0,\"\",VLOOKUP($A32,'Shift Schedule'!$A$145:$F$179,5,FALSE))","v":""},{"$f":"IF(VLOOKUP($A32,'Shift Schedule'!$A$145:$F$179,6,FALSE)=0,\"\",VLOOKUP($A32,'Shift Schedule'!$A$145:$F$179,6,FALSE))","v":""},"",{"$f":"IF(VLOOKUP($A32,'Shift Schedule'!$A$191:$F$225,5,FALSE)=0,\"\",VLOOKUP($A32,'Shift Schedule'!$A$191:$F$225,5,FALSE))","v":""},{"$f":"IF(VLOOKUP($A32,'Shift Schedule'!$A$191:$F$225,6,FALSE)=0,\"\",VLOOKUP($A32,'Shift Schedule'!$A$191:$F$225,6,FALSE))","v":""},"",{"$f":"IF(VLOOKUP($A32,'Shift Schedule'!$A$237:$F$271,5,FALSE)=0,\"\",VLOOKUP($A32,'Shift Schedule'!$A$237:$F$271,5,FALSE))","v":""},{"$f":"IF(VLOOKUP($A32,'Shift Schedule'!$A$237:$F$271,6,FALSE)=0,\"\",VLOOKUP($A32,'Shift Schedule'!$A$237:$F$271,6,FALSE))","v":""},"",{"$f":"IF(VLOOKUP($A32,'Shift Schedule'!$A$283:$F$317,5,FALSE)=0,\"\",VLOOKUP($A32,'Shift Schedule'!$A$283:$F$317,5,FALSE))","v":""},{"$f":"IF(VLOOKUP($A32,'Shift Schedule'!$A$283:$F$317,6,FALSE)=0,\"\",VLOOKUP($A32,'Shift Schedule'!$A$283:$F$317,6,FALSE))","v":""},"",""]
[26,{"$f":"IF(VLOOKUP($A33,'Schedule Setup'!$A$5:$E$39,2,FALSE)=0,\"\",VLOOKUP($A33,'Schedule Setup'!$A$5:$E$39,2,FALSE))","v":""},{"$f":"IF(VLOOKUP($A33,'Schedule Setup'!$A$5:$E$39,4,FALSE)=0,\"\",IF(OR(VLOOKUP($A33,'Schedule Setup'!$A$5:$E$39,4,FALSE)=\"General Manager (H)\", VLOOKUP($A33,'Schedule Setup'!$A$5:$E$39,4,FALSE)=\"General Manager (S)\"),\"General Manager\",VLOOKUP($A33,'Schedule Setup'!$A$5:$E$39,4,FALSE)))","v":""},{"$f":"IF(VLOOKUP($A33,'Shift Schedule'!$A$7:$F$41,5,FALSE)=0,\"\",VLOOKUP($A33,'Shift Schedule'!$A$7:$F$41,5,FALSE))","v":""},{"$f":"IF(VLOOKUP($A33,'Shift Schedule'!$A$7:$F$41,6,FALSE)=0,\"\",VLOOKUP($A33,'Shift Schedule'!$A$7:$F$41,6,FALSE))","v":""},"",{"$f":"IF(VLOOKUP($A33,'Shift Schedule'!$A$53:$F$87,5,FALSE)=0,\"\",VLOOKUP($A33,'Shift Schedule'!$A$53:$F$87,5,FALSE))","v":""},{"$f":"IF(VLOOKUP($A33,'Shift Schedule'!$A$53:$F$87,6,FALSE)=0,\"\",VLOOKUP($A33,'Shift Schedule'!$A$53:$F$87,6,FALSE))","v":""},"",{"$f":"IF(VLOOKUP($A33,'Shift Schedule'!$A$99:$F535,5,FALSE)=0,\"\",VLOOKUP($A33,'Shift Schedule'!$A$99:$F$133,5,FALSE))","v":""},{"$f":"IF(VLOOKUP($A33,'Shift Schedule'!$A$99:$F535,6,FALSE)=0,\"\",VLOOKUP($A33,'Shift Schedule'!$A$99:$F$133,6,FALSE))","v":""},"",{"$f":"IF(VLOOKUP($A33,'Shift Schedule'!$A$145:$F$179,5,FALSE)=0,\"\",VLOOKUP($A33,'Shift Schedule'!$A$145:$F$179,5,FALSE))","v":""},{"$f":"IF(VLOOKUP($A33,'Shift Schedule'!$A$145:$F$179,6,FALSE)=0,\"\",VLOOKUP($A33,'Shift Schedule'!$A$145:$F$179,6,FALSE))","v":""},"",{"$f":"IF(VLOOKUP($A33,'Shift Schedule'!$A$191:$F$225,5,FALSE)=0,\"\",VLOOKUP($A33,'Shift Schedule'!$A$191:$F$225,5,FALSE))","v":""},{"$f":"IF(VLOOKUP($A33,'Shift Schedule'!$A$191:$F$225,6,FALSE)=0,\"\",VLOOKUP($A33,'Shift Schedule'!$A$191:$F$225,6,FALSE))","v":""},"",{"$f":"IF(VLOOKUP($A33,'Shift Schedule'!$A$237:$F$271,5,FALSE)=0,\"\",VLOOKUP($A33,'Shift Schedule'!$A$237:$F$271,5,FALSE))","v":""},{"$f":"IF(VLOOKUP($A33,'Shift Schedule'!$A$237:$F$271,6,FALSE)=0,\"\",VLOOKUP($A33,'Shift Schedule'!$A$237:$F$271,6,FALSE))","v":""},"",{"$f":"IF(VLOOKUP($A33,'Shift Schedule'!$A$283:$F$317,5,FALSE)=0,\"\",VLOOKUP($A33,'Shift Schedule'!$A$283:$F$317,5,FALSE))","v":""},{"$f":"IF(VLOOKUP($A33,'Shift Schedule'!$A$283:$F$317,6,FALSE)=0,\"\",VLOOKUP($A33,'Shift Schedule'!$A$283:$F$317,6,FALSE))","v":""},"",""]
[27,{"$f":"IF(VLOOKUP($A34,'Schedule Setup'!$A$5:$E$39,2,FALSE)=0,\"\",VLOOKUP($A34,'Schedule Setup'!$A$5:$E$39,2,FALSE))","v":""},{"$f":"IF(VLOOKUP($A34,'Schedule Setup'!$A$5:$E$39,4,FALSE)=0,\"\",IF(OR(VLOOKUP($A34,'Schedule Setup'!$A$5:$E$39,4,FALSE)=\"General Manager (H)\", VLOOKUP($A34,'Schedule Setup'!$A$5:$E$39,4,FALSE)=\"General Manager (S)\"),\"General Manager\",VLOOKUP($A34,'Schedule Setup'!$A$5:$E$39,4,FALSE)))","v":""},{"$f":"IF(VLOOKUP($A34,'Shift Schedule'!$A$7:$F$41,5,FALSE)=0,\"\",VLOOKUP($A34,'Shift Schedule'!$A$7:$F$41,5,FALSE))","v":""},{"$f":"IF(VLOOKUP($A34,'Shift Schedule'!$A$7:$F$41,6,FALSE)=0,\"\",VLOOKUP($A34,'Shift Schedule'!$A$7:$F$41,6,FALSE))","v":""},"",{"$f":"IF(VLOOKUP($A34,'Shift Schedule'!$A$53:$F$87,5,FALSE)=0,\"\",VLOOKUP($A34,'Shift Schedule'!$A$53:$F$87,5,FALSE))","v":""},{"$f":"IF(VLOOKUP($A34,'Shift Schedule'!$A$53:$F$87,6,FALSE)=0,\"\",VLOOKUP($A34,'Shift Schedule'!$A$53:$F$87,6,FALSE))","v":""},"",{"$f":"IF(VLOOKUP($A34,'Shift Schedule'!$A$99:$F536,5,FALSE)=0,\"\",VLOOKUP($A34,'Shift Schedule'!$A$99:$F$133,5,FALSE))","v":""},{"$f":"IF(VLOOKUP($A34,'Shift Schedule'!$A$99:$F536,6,FALSE)=0,\"\",VLOOKUP($A34,'Shift Schedule'!$A$99:$F$133,6,FALSE))","v":""},"",{"$f":"IF(VLOOKUP($A34,'Shift Schedule'!$A$145:$F$179,5,FALSE)=0,\"\",VLOOKUP($A34,'Shift Schedule'!$A$145:$F$179,5,FALSE))","v":""},{"$f":"IF(VLOOKUP($A34,'Shift Schedule'!$A$145:$F$179,6,FALSE)=0,\"\",VLOOKUP($A34,'Shift Schedule'!$A$145:$F$179,6,FALSE))","v":""},"",{"$f":"IF(VLOOKUP($A34,'Shift Schedule'!$A$191:$F$225,5,FALSE)=0,\"\",VLOOKUP($A34,'Shift Schedule'!$A$191:$F$225,5,FALSE))","v":""},{"$f":"IF(VLOOKUP($A34,'Shift Schedule'!$A$191:$F$225,6,FALSE)=0,\"\",VLOOKUP($A34,'Shift Schedule'!$A$191:$F$225,6,FALSE))","v":""},"",{"$f":"IF(VLOOKUP($A34,'Shift Schedule'!$A$237:$F$271,5,FALSE)=0,\"\",VLOOKUP($A34,'Shift Schedule'!$A$237:$F$271,5,FALSE))","v":""},{"$f":"IF(VLOOKUP($A34,'Shift Schedule'!$A$237:$F$271,6,FALSE)=0,\"\",VLOOKUP($A34,'Shift Schedule'!$A$237:$F$271,6,FALSE))","v":""},"",{"$f":"IF(VLOOKUP($A34,'Shift Schedule'!$A$283:$F$317,5,FALSE)=0,\"\",VLOOKUP($A34,'Shift Schedule'!$A$283:$F$317,5,FALSE))","v":""},{"$f":"IF(VLOOKUP($A34,'Shift Schedule'!$A$283:$F$317,6,FALSE)=0,\"\",VLOOKUP($A34,'Shift Schedule'!$A$283:$F$317,6,FALSE))","v":""},"",""]
[28,{"$f":"IF(VLOOKUP($A35,'Schedule Setup'!$A$5:$E$39,2,FALSE)=0,\"\",VLOOKUP($A35,'Schedule Setup'!$A$5:$E$39,2,FALSE))","v":""},{"$f":"IF(VLOOKUP($A35,'Schedule Setup'!$A$5:$E$39,4,FALSE)=0,\"\",IF(OR(VLOOKUP($A35,'Schedule Setup'!$A$5:$E$39,4,FALSE)=\"General Manager (H)\", VLOOKUP($A35,'Schedule Setup'!$A$5:$E$39,4,FALSE)=\"General Manager (S)\"),\"General Manager\",VLOOKUP($A35,'Schedule Setup'!$A$5:$E$39,4,FALSE)))","v":""},{"$f":"IF(VLOOKUP($A35,'Shift Schedule'!$A$7:$F$41,5,FALSE)=0,\"\",VLOOKUP($A35,'Shift Schedule'!$A$7:$F$41,5,FALSE))","v":""},{"$f":"IF(VLOOKUP($A35,'Shift Schedule'!$A$7:$F$41,6,FALSE)=0,\"\",VLOOKUP($A35,'Shift Schedule'!$A$7:$F$41,6,FALSE))","v":""},"",{"$f":"IF(VLOOKUP($A35,'Shift Schedule'!$A$53:$F$87,5,FALSE)=0,\"\",VLOOKUP($A35,'Shift Schedule'!$A$53:$F$87,5,FALSE))","v":""},{"$f":"IF(VLOOKUP($A35,'Shift Schedule'!$A$53:$F$87,6,FALSE)=0,\"\",VLOOKUP($A35,'Shift Schedule'!$A$53:$F$87,6,FALSE))","v":""},"",{"$f":"IF(VLOOKUP($A35,'Shift Schedule'!$A$99:$F537,5,FALSE)=0,\"\",VLOOKUP($A35,'Shift Schedule'!$A$99:$F$133,5,FALSE))","v":""},{"$f":"IF(VLOOKUP($A35,'Shift Schedule'!$A$99:$F537,6,FALSE)=0,\"\",VLOOKUP($A35,'Shift Schedule'!$A$99:$F$133,6,FALSE))","v":""},"",{"$f":"IF(VLOOKUP($A35,'Shift Schedule'!$A$145:$F$179,5,FALSE)=0,\"\",VLOOKUP($A35,'Shift Schedule'!$A$145:$F$179,5,FALSE))","v":""},{"$f":"IF(VLOOKUP($A35,'Shift Schedule'!$A$145:$F$179,6,FALSE)=0,\"\",VLOOKUP($A35,'Shift Schedule'!$A$145:$F$179,6,FALSE))","v":""},"",{"$f":"IF(VLOOKUP($A35,'Shift Schedule'!$A$191:$F$225,5,FALSE)=0,\"\",VLOOKUP($A35,'Shift Schedule'!$A$191:$F$225,5,FALSE))","v":""},{"$f":"IF(VLOOKUP($A35,'Shift Schedule'!$A$191:$F$225,6,FALSE)=0,\"\",VLOOKUP($A35,'Shift Schedule'!$A$191:$F$225,6,FALSE))","v":""},"",{"$f":"IF(VLOOKUP($A35,'Shift Schedule'!$A$237:$F$271,5,FALSE)=0,\"\",VLOOKUP($A35,'Shift Schedule'!$A$237:$F$271,5,FALSE))","v":""},{"$f":"IF(VLOOKUP($A35,'Shift Schedule'!$A$237:$F$271,6,FALSE)=0,\"\",VLOOKUP($A35,'Shift Schedule'!$A$237:$F$271,6,FALSE))","v":""},"",{"$f":"IF(VLOOKUP($A35,'Shift Schedule'!$A$283:$F$317,5,FALSE)=0,\"\",VLOOKUP($A35,'Shift Schedule'!$A$283:$F$317,5,FALSE))","v":""},{"$f":"IF(VLOOKUP($A35,'Shift Schedule'!$A$283:$F$317,6,FALSE)=0,\"\",VLOOKUP($A35,'Shift Schedule'!$A$283:$F$317,6,FALSE))","v":""},"",""]
[29,{"$f":"IF(VLOOKUP($A36,'Schedule Setup'!$A$5:$E$39,2,FALSE)=0,\"\",VLOOKUP($A36,'Schedule Setup'!$A$5:$E$39,2,FALSE))","v":""},{"$f":"IF(VLOOKUP($A36,'Schedule Setup'!$A$5:$E$39,4,FALSE)=0,\"\",IF(OR(VLOOKUP($A36,'Schedule Setup'!$A$5:$E$39,4,FALSE)=\"General Manager (H)\", VLOOKUP($A36,'Schedule Setup'!$A$5:$E$39,4,FALSE)=\"General Manager (S)\"),\"General Manager\",VLOOKUP($A36,'Schedule Setup'!$A$5:$E$39,4,FALSE)))","v":""},{"$f":"IF(VLOOKUP($A36,'Shift Schedule'!$A$7:$F$41,5,FALSE)=0,\"\",VLOOKUP($A36,'Shift Schedule'!$A$7:$F$41,5,FALSE))","v":""},{"$f":"IF(VLOOKUP($A36,'Shift Schedule'!$A$7:$F$41,6,FALSE)=0,\"\",VLOOKUP($A36,'Shift Schedule'!$A$7:$F$41,6,FALSE))","v":""},"",{"$f":"IF(VLOOKUP($A36,'Shift Schedule'!$A$53:$F$87,5,FALSE)=0,\"\",VLOOKUP($A36,'Shift Schedule'!$A$53:$F$87,5,FALSE))","v":""},{"$f":"IF(VLOOKUP($A36,'Shift Schedule'!$A$53:$F$87,6,FALSE)=0,\"\",VLOOKUP($A36,'Shift Schedule'!$A$53:$F$87,6,FALSE))","v":""},"",{"$f":"IF(VLOOKUP($A36,'Shift Schedule'!$A$99:$F538,5,FALSE)=0,\"\",VLOOKUP($A36,'Shift Schedule'!$A$99:$F$133,5,FALSE))","v":""},{"$f":"IF(VLOOKUP($A36,'Shift Schedule'!$A$99:$F538,6,FALSE)=0,\"\",VLOOKUP($A36,'Shift Schedule'!$A$99:$F$133,6,FALSE))","v":""},"",{"$f":"IF(VLOOKUP($A36,'Shift Schedule'!$A$145:$F$179,5,FALSE)=0,\"\",VLOOKUP($A36,'Shift Schedule'!$A$145:$F$179,5,FALSE))","v":""},{"$f":"IF(VLOOKUP($A36,'Shift Schedule'!$A$145:$F$179,6,FALSE)=0,\"\",VLOOKUP($A36,'Shift Schedule'!$A$145:$F$179,6,FALSE))","v":""},"",{"$f":"IF(VLOOKUP($A36,'Shift Schedule'!$A$191:$F$225,5,FALSE)=0,\"\",VLOOKUP($A36,'Shift Schedule'!$A$191:$F$225,5,FALSE))","v":""},{"$f":"IF(VLOOKUP($A36,'Shift Schedule'!$A$191:$F$225,6,FALSE)=0,\"\",VLOOKUP($A36,'Shift Schedule'!$A$191:$F$225,6,FALSE))","v":""},"",{"$f":"IF(VLOOKUP($A36,'Shift Schedule'!$A$237:$F$271,5,FALSE)=0,\"\",VLOOKUP($A36,'Shift Schedule'!$A$237:$F$271,5,FALSE))","v":""},{"$f":"IF(VLOOKUP($A36,'Shift Schedule'!$A$237:$F$271,6,FALSE)=0,\"\",VLOOKUP($A36,'Shift Schedule'!$A$237:$F$271,6,FALSE))","v":""},"",{"$f":"IF(VLOOKUP($A36,'Shift Schedule'!$A$283:$F$317,5,FALSE)=0,\"\",VLOOKUP($A36,'Shift Schedule'!$A$283:$F$317,5,FALSE))","v":""},{"$f":"IF(VLOOKUP($A36,'Shift Schedule'!$A$283:$F$317,6,FALSE)=0,\"\",VLOOKUP($A36,'Shift Schedule'!$A$283:$F$317,6,FALSE))","v":""},"",""]
[30,{"$f":"IF(VLOOKUP($A37,'Schedule Setup'!$A$5:$E$39,2,FALSE)=0,\"\",VLOOKUP($A37,'Schedule Setup'!$A$5:$E$39,2,FALSE))","v":""},{"$f":"IF(VLOOKUP($A37,'Schedule Setup'!$A$5:$E$39,4,FALSE)=0,\"\",IF(OR(VLOOKUP($A37,'Schedule Setup'!$A$5:$E$39,4,FALSE)=\"General Manager (H)\", VLOOKUP($A37,'Schedule Setup'!$A$5:$E$39,4,FALSE)=\"General Manager (S)\"),\"General Manager\",VLOOKUP($A37,'Schedule Setup'!$A$5:$E$39,4,FALSE)))","v":""},{"$f":"IF(VLOOKUP($A37,'Shift Schedule'!$A$7:$F$41,5,FALSE)=0,\"\",VLOOKUP($A37,'Shift Schedule'!$A$7:$F$41,5,FALSE))","v":""},{"$f":"IF(VLOOKUP($A37,'Shift Schedule'!$A$7:$F$41,6,FALSE)=0,\"\",VLOOKUP($A37,'Shift Schedule'!$A$7:$F$41,6,FALSE))","v":""},"",{"$f":"IF(VLOOKUP($A37,'Shift Schedule'!$A$53:$F$87,5,FALSE)=0,\"\",VLOOKUP($A37,'Shift Schedule'!$A$53:$F$87,5,FALSE))","v":""},{"$f":"IF(VLOOKUP($A37,'Shift Schedule'!$A$53:$F$87,6,FALSE)=0,\"\",VLOOKUP($A37,'Shift Schedule'!$A$53:$F$87,6,FALSE))","v":""},"",{"$f":"IF(VLOOKUP($A37,'Shift Schedule'!$A$99:$F539,5,FALSE)=0,\"\",VLOOKUP($A37,'Shift Schedule'!$A$99:$F$133,5,FALSE))","v":""},{"$f":"IF(VLOOKUP($A37,'Shift Schedule'!$A$99:$F539,6,FALSE)=0,\"\",VLOOKUP($A37,'Shift Schedule'!$A$99:$F$133,6,FALSE))","v":""},"",{"$f":"IF(VLOOKUP($A37,'Shift Schedule'!$A$145:$F$179,5,FALSE)=0,\"\",VLOOKUP($A37,'Shift Schedule'!$A$145:$F$179,5,FALSE))","v":""},{"$f":"IF(VLOOKUP($A37,'Shift Schedule'!$A$145:$F$179,6,FALSE)=0,\"\",VLOOKUP($A37,'Shift Schedule'!$A$145:$F$179,6,FALSE))","v":""},"",{"$f":"IF(VLOOKUP($A37,'Shift Schedule'!$A$191:$F$225,5,FALSE)=0,\"\",VLOOKUP($A37,'Shift Schedule'!$A$191:$F$225,5,FALSE))","v":""},{"$f":"IF(VLOOKUP($A37,'Shift Schedule'!$A$191:$F$225,6,FALSE)=0,\"\",VLOOKUP($A37,'Shift Schedule'!$A$191:$F$225,6,FALSE))","v":""},"",{"$f":"IF(VLOOKUP($A37,'Shift Schedule'!$A$237:$F$271,5,FALSE)=0,\"\",VLOOKUP($A37,'Shift Schedule'!$A$237:$F$271,5,FALSE))","v":""},{"$f":"IF(VLOOKUP($A37,'Shift Schedule'!$A$237:$F$271,6,FALSE)=0,\"\",VLOOKUP($A37,'Shift Schedule'!$A$237:$F$271,6,FALSE))","v":""},"",{"$f":"IF(VLOOKUP($A37,'Shift Schedule'!$A$283:$F$317,5,FALSE)=0,\"\",VLOOKUP($A37,'Shift Schedule'!$A$283:$F$317,5,FALSE))","v":""},{"$f":"IF(VLOOKUP($A37,'Shift Schedule'!$A$283:$F$317,6,FALSE)=0,\"\",VLOOKUP($A37,'Shift Schedule'!$A$283:$F$317,6,FALSE))","v":""},"",{"$f":"IF(SUM(F37,I37,L37,O37,R37,U37,X37)=0,\"\",SUM(F37,I37,L37,O37,R37,U37,X37))","v":""}]
[31,{"$f":"IF(VLOOKUP($A38,'Schedule Setup'!$A$5:$E$39,2,FALSE)=0,\"\",VLOOKUP($A38,'Schedule Setup'!$A$5:$E$39,2,FALSE))","v":""},{"$f":"IF(VLOOKUP($A38,'Schedule Setup'!$A$5:$E$39,4,FALSE)=0,\"\",IF(OR(VLOOKUP($A38,'Schedule Setup'!$A$5:$E$39,4,FALSE)=\"General Manager (H)\", VLOOKUP($A38,'Schedule Setup'!$A$5:$E$39,4,FALSE)=\"General Manager (S)\"),\"General Manager\",VLOOKUP($A38,'Schedule Setup'!$A$5:$E$39,4,FALSE)))","v":""},{"$f":"IF(VLOOKUP($A38,'Shift Schedule'!$A$7:$F$41,5,FALSE)=0,\"\",VLOOKUP($A38,'Shift Schedule'!$A$7:$F$41,5,FALSE))","v":""},{"$f":"IF(VLOOKUP($A38,'Shift Schedule'!$A$7:$F$41,6,FALSE)=0,\"\",VLOOKUP($A38,'Shift Schedule'!$A$7:$F$41,6,FALSE))","v":""},"",{"$f":"IF(VLOOKUP($A38,'Shift Schedule'!$A$53:$F$87,5,FALSE)=0,\"\",VLOOKUP($A38,'Shift Schedule'!$A$53:$F$87,5,FALSE))","v":""},{"$f":"IF(VLOOKUP($A38,'Shift Schedule'!$A$53:$F$87,6,FALSE)=0,\"\",VLOOKUP($A38,'Shift Schedule'!$A$53:$F$87,6,FALSE))","v":""},"",{"$f":"IF(VLOOKUP($A38,'Shift Schedule'!$A$99:$F540,5,FALSE)=0,\"\",VLOOKUP($A38,'Shift Schedule'!$A$99:$F$133,5,FALSE))","v":""},{"$f":"IF(VLOOKUP($A38,'Shift Schedule'!$A$99:$F540,6,FALSE)=0,\"\",VLOOKUP($A38,'Shift Schedule'!$A$99:$F$133,6,FALSE))","v":""},"",{"$f":"IF(VLOOKUP($A38,'Shift Schedule'!$A$145:$F$179,5,FALSE)=0,\"\",VLOOKUP($A38,'Shift Schedule'!$A$145:$F$179,5,FALSE))","v":""},{"$f":"IF(VLOOKUP($A38,'Shift Schedule'!$A$145:$F$179,6,FALSE)=0,\"\",VLOOKUP($A38,'Shift Schedule'!$A$145:$F$179,6,FALSE))","v":""},"",{"$f":"IF(VLOOKUP($A38,'Shift Schedule'!$A$191:$F$225,5,FALSE)=0,\"\",VLOOKUP($A38,'Shift Schedule'!$A$191:$F$225,5,FALSE))","v":""},{"$f":"IF(VLOOKUP($A38,'Shift Schedule'!$A$191:$F$225,6,FALSE)=0,\"\",VLOOKUP($A38,'Shift Schedule'!$A$191:$F$225,6,FALSE))","v":""},"",{"$f":"IF(VLOOKUP($A38,'Shift Schedule'!$A$237:$F$271,5,FALSE)=0,\"\",VLOOKUP($A38,'Shift Schedule'!$A$237:$F$271,5,FALSE))","v":""},{"$f":"IF(VLOOKUP($A38,'Shift Schedule'!$A$237:$F$271,6,FALSE)=0,\"\",VLOOKUP($A38,'Shift Schedule'!$A$237:$F$271,6,FALSE))","v":""},"",{"$f":"IF(VLOOKUP($A38,'Shift Schedule'!$A$283:$F$317,5,FALSE)=0,\"\",VLOOKUP($A38,'Shift Schedule'!$A$283:$F$317,5,FALSE))","v":""},{"$f":"IF(VLOOKUP($A38,'Shift Schedule'!$A$283:$F$317,6,FALSE)=0,\"\",VLOOKUP($A38,'Shift Schedule'!$A$283:$F$317,6,FALSE))","v":""},"",""]
[32,{"$f":"IF(VLOOKUP($A39,'Schedule Setup'!$A$5:$E$39,2,FALSE)=0,\"\",VLOOKUP($A39,'Schedule Setup'!$A$5:$E$39,2,FALSE))","v":""},{"$f":"IF(VLOOKUP($A39,'Schedule Setup'!$A$5:$E$39,4,FALSE)=0,\"\",IF(OR(VLOOKUP($A39,'Schedule Setup'!$A$5:$E$39,4,FALSE)=\"General Manager (H)\", VLOOKUP($A39,'Schedule Setup'!$A$5:$E$39,4,FALSE)=\"General Manager (S)\"),\"General Manager\",VLOOKUP($A39,'Schedule Setup'!$A$5:$E$39,4,FALSE)))","v":""},{"$f":"IF(VLOOKUP($A39,'Shift Schedule'!$A$7:$F$41,5,FALSE)=0,\"\",VLOOKUP($A39,'Shift Schedule'!$A$7:$F$41,5,FALSE))","v":""},{"$f":"IF(VLOOKUP($A39,'Shift Schedule'!$A$7:$F$41,6,FALSE)=0,\"\",VLOOKUP($A39,'Shift Schedule'!$A$7:$F$41,6,FALSE))","v":""},"",{"$f":"IF(VLOOKUP($A39,'Shift Schedule'!$A$53:$F$87,5,FALSE)=0,\"\",VLOOKUP($A39,'Shift Schedule'!$A$53:$F$87,5,FALSE))","v":""},{"$f":"IF(VLOOKUP($A39,'Shift Schedule'!$A$53:$F$87,6,FALSE)=0,\"\",VLOOKUP($A39,'Shift Schedule'!$A$53:$F$87,6,FALSE))","v":""},"",{"$f":"IF(VLOOKUP($A39,'Shift Schedule'!$A$99:$F541,5,FALSE)=0,\"\",VLOOKUP($A39,'Shift Schedule'!$A$99:$F$133,5,FALSE))","v":""},{"$f":"IF(VLOOKUP($A39,'Shift Schedule'!$A$99:$F541,6,FALSE)=0,\"\",VLOOKUP($A39,'Shift Schedule'!$A$99:$F$133,6,FALSE))","v":""},"",{"$f":"IF(VLOOKUP($A39,'Shift Schedule'!$A$145:$F$179,5,FALSE)=0,\"\",VLOOKUP($A39,'Shift Schedule'!$A$145:$F$179,5,FALSE))","v":""},{"$f":"IF(VLOOKUP($A39,'Shift Schedule'!$A$145:$F$179,6,FALSE)=0,\"\",VLOOKUP($A39,'Shift Schedule'!$A$145:$F$179,6,FALSE))","v":""},"",{"$f":"IF(VLOOKUP($A39,'Shift Schedule'!$A$191:$F$225,5,FALSE)=0,\"\",VLOOKUP($A39,'Shift Schedule'!$A$191:$F$225,5,FALSE))","v":""},{"$f":"IF(VLOOKUP($A39,'Shift Schedule'!$A$191:$F$225,6,FALSE)=0,\"\",VLOOKUP($A39,'Shift Schedule'!$A$191:$F$225,6,FALSE))","v":""},"",{"$f":"IF(VLOOKUP($A39,'Shift Schedule'!$A$237:$F$271,5,FALSE)=0,\"\",VLOOKUP($A39,'Shift Schedule'!$A$237:$F$271,5,FALSE))","v":""},{"$f":"IF(VLOOKUP($A39,'Shift Schedule'!$A$237:$F$271,6,FALSE)=0,\"\",VLOOKUP($A39,'Shift Schedule'!$A$237:$F$271,6,FALSE))","v":""},"",{"$f":"IF(VLOOKUP($A39,'Shift Schedule'!$A$283:$F$317,5,FALSE)=0,\"\",VLOOKUP($A39,'Shift Schedule'!$A$283:$F$317,5,FALSE))","v":""},{"$f":"IF(VLOOKUP($A39,'Shift Schedule'!$A$283:$F$317,6,FALSE)=0,\"\",VLOOKUP($A39,'Shift Schedule'!$A$283:$F$317,6,FALSE))","v":""},"",""]
[33,{"$f":"IF(VLOOKUP($A40,'Schedule Setup'!$A$5:$E$39,2,FALSE)=0,\"\",VLOOKUP($A40,'Schedule Setup'!$A$5:$E$39,2,FALSE))","v":""},{"$f":"IF(VLOOKUP($A40,'Schedule Setup'!$A$5:$E$39,4,FALSE)=0,\"\",IF(OR(VLOOKUP($A40,'Schedule Setup'!$A$5:$E$39,4,FALSE)=\"General Manager (H)\", VLOOKUP($A40,'Schedule Setup'!$A$5:$E$39,4,FALSE)=\"General Manager (S)\"),\"General Manager\",VLOOKUP($A40,'Schedule Setup'!$A$5:$E$39,4,FALSE)))","v":""},{"$f":"IF(VLOOKUP($A40,'Shift Schedule'!$A$7:$F$41,5,FALSE)=0,\"\",VLOOKUP($A40,'Shift Schedule'!$A$7:$F$41,5,FALSE))","v":""},{"$f":"IF(VLOOKUP($A40,'Shift Schedule'!$A$7:$F$41,6,FALSE)=0,\"\",VLOOKUP($A40,'Shift Schedule'!$A$7:$F$41,6,FALSE))","v":""},"",{"$f":"IF(VLOOKUP($A40,'Shift Schedule'!$A$53:$F$87,5,FALSE)=0,\"\",VLOOKUP($A40,'Shift Schedule'!$A$53:$F$87,5,FALSE))","v":""},{"$f":"IF(VLOOKUP($A40,'Shift Schedule'!$A$53:$F$87,6,FALSE)=0,\"\",VLOOKUP($A40,'Shift Schedule'!$A$53:$F$87,6,FALSE))","v":""},"",{"$f":"IF(VLOOKUP($A40,'Shift Schedule'!$A$99:$F542,5,FALSE)=0,\"\",VLOOKUP($A40,'Shift Schedule'!$A$99:$F$133,5,FALSE))","v":""},{"$f":"IF(VLOOKUP($A40,'Shift Schedule'!$A$99:$F542,6,FALSE)=0,\"\",VLOOKUP($A40,'Shift Schedule'!$A$99:$F$133,6,FALSE))","v":""},"",{"$f":"IF(VLOOKUP($A40,'Shift Schedule'!$A$145:$F$179,5,FALSE)=0,\"\",VLOOKUP($A40,'Shift Schedule'!$A$145:$F$179,5,FALSE))","v":""},{"$f":"IF(VLOOKUP($A40,'Shift Schedule'!$A$145:$F$179,6,FALSE)=0,\"\",VLOOKUP($A40,'Shift Schedule'!$A$145:$F$179,6,FALSE))","v":""},"",{"$f":"IF(VLOOKUP($A40,'Shift Schedule'!$A$191:$F$225,5,FALSE)=0,\"\",VLOOKUP($A40,'Shift Schedule'!$A$191:$F$225,5,FALSE))","v":""},{"$f":"IF(VLOOKUP($A40,'Shift Schedule'!$A$191:$F$225,6,FALSE)=0,\"\",VLOOKUP($A40,'Shift Schedule'!$A$191:$F$225,6,FALSE))","v":""},"",{"$f":"IF(VLOOKUP($A40,'Shift Schedule'!$A$237:$F$271,5,FALSE)=0,\"\",VLOOKUP($A40,'Shift Schedule'!$A$237:$F$271,5,FALSE))","v":""},{"$f":"IF(VLOOKUP($A40,'Shift Schedule'!$A$237:$F$271,6,FALSE)=0,\"\",VLOOKUP($A40,'Shift Schedule'!$A$237:$F$271,6,FALSE))","v":""},"",{"$f":"IF(VLOOKUP($A40,'Shift Schedule'!$A$283:$F$317,5,FALSE)=0,\"\",VLOOKUP($A40,'Shift Schedule'!$A$283:$F$317,5,FALSE))","v":""},{"$f":"IF(VLOOKUP($A40,'Shift Schedule'!$A$283:$F$317,6,FALSE)=0,\"\",VLOOKUP($A40,'Shift Schedule'!$A$283:$F$317,6,FALSE))","v":""},"",""]
[34,{"$f":"IF(VLOOKUP($A41,'Schedule Setup'!$A$5:$E$39,2,FALSE)=0,\"\",VLOOKUP($A41,'Schedule Setup'!$A$5:$E$39,2,FALSE))","v":""},{"$f":"IF(VLOOKUP($A41,'Schedule Setup'!$A$5:$E$39,4,FALSE)=0,\"\",IF(OR(VLOOKUP($A41,'Schedule Setup'!$A$5:$E$39,4,FALSE)=\"General Manager (H)\", VLOOKUP($A41,'Schedule Setup'!$A$5:$E$39,4,FALSE)=\"General Manager (S)\"),\"General Manager\",VLOOKUP($A41,'Schedule Setup'!$A$5:$E$39,4,FALSE)))","v":""},{"$f":"IF(VLOOKUP($A41,'Shift Schedule'!$A$7:$F$41,5,FALSE)=0,\"\",VLOOKUP($A41,'Shift Schedule'!$A$7:$F$41,5,FALSE))","v":""},{"$f":"IF(VLOOKUP($A41,'Shift Schedule'!$A$7:$F$41,6,FALSE)=0,\"\",VLOOKUP($A41,'Shift Schedule'!$A$7:$F$41,6,FALSE))","v":""},"",{"$f":"IF(VLOOKUP($A41,'Shift Schedule'!$A$53:$F$87,5,FALSE)=0,\"\",VLOOKUP($A41,'Shift Schedule'!$A$53:$F$87,5,FALSE))","v":""},{"$f":"IF(VLOOKUP($A41,'Shift Schedule'!$A$53:$F$87,6,FALSE)=0,\"\",VLOOKUP($A41,'Shift Schedule'!$A$53:$F$87,6,FALSE))","v":""},"",{"$f":"IF(VLOOKUP($A41,'Shift Schedule'!$A$99:$F543,5,FALSE)=0,\"\",VLOOKUP($A41,'Shift Schedule'!$A$99:$F$133,5,FALSE))","v":""},{"$f":"IF(VLOOKUP($A41,'Shift Schedule'!$A$99:$F543,6,FALSE)=0,\"\",VLOOKUP($A41,'Shift Schedule'!$A$99:$F$133,6,FALSE))","v":""},"",{"$f":"IF(VLOOKUP($A41,'Shift Schedule'!$A$145:$F$179,5,FALSE)=0,\"\",VLOOKUP($A41,'Shift Schedule'!$A$145:$F$179,5,FALSE))","v":""},{"$f":"IF(VLOOKUP($A41,'Shift Schedule'!$A$145:$F$179,6,FALSE)=0,\"\",VLOOKUP($A41,'Shift Schedule'!$A$145:$F$179,6,FALSE))","v":""},"",{"$f":"IF(VLOOKUP($A41,'Shift Schedule'!$A$191:$F$225,5,FALSE)=0,\"\",VLOOKUP($A41,'Shift Schedule'!$A$191:$F$225,5,FALSE))","v":""},{"$f":"IF(VLOOKUP($A41,'Shift Schedule'!$A$191:$F$225,6,FALSE)=0,\"\",VLOOKUP($A41,'Shift Schedule'!$A$191:$F$225,6,FALSE))","v":""},"",{"$f":"IF(VLOOKUP($A41,'Shift Schedule'!$A$237:$F$271,5,FALSE)=0,\"\",VLOOKUP($A41,'Shift Schedule'!$A$237:$F$271,5,FALSE))","v":""},{"$f":"IF(VLOOKUP($A41,'Shift Schedule'!$A$237:$F$271,6,FALSE)=0,\"\",VLOOKUP($A41,'Shift Schedule'!$A$237:$F$271,6,FALSE))","v":""},"",{"$f":"IF(VLOOKUP($A41,'Shift Schedule'!$A$283:$F$317,5,FALSE)=0,\"\",VLOOKUP($A41,'Shift Schedule'!$A$283:$F$317,5,FALSE))","v":""},{"$f":"IF(VLOOKUP($A41,'Shift Schedule'!$A$283:$F$317,6,FALSE)=0,\"\",VLOOKUP($A41,'Shift Schedule'!$A$283:$F$317,6,FALSE))","v":""},"",""]
[35,{"$f":"IF(VLOOKUP($A42,'Schedule Setup'!$A$5:$E$39,2,FALSE)=0,\"\",VLOOKUP($A42,'Schedule Setup'!$A$5:$E$39,2,FALSE))","v":""},{"$f":"IF(VLOOKUP($A42,'Schedule Setup'!$A$5:$E$39,4,FALSE)=0,\"\",IF(OR(VLOOKUP($A42,'Schedule Setup'!$A$5:$E$39,4,FALSE)=\"General Manager (H)\", VLOOKUP($A42,'Schedule Setup'!$A$5:$E$39,4,FALSE)=\"General Manager (S)\"),\"General Manager\",VLOOKUP($A42,'Schedule Setup'!$A$5:$E$39,4,FALSE)))","v":""},{"$f":"IF(VLOOKUP($A42,'Shift Schedule'!$A$7:$F$41,5,FALSE)=0,\"\",VLOOKUP($A42,'Shift Schedule'!$A$7:$F$41,5,FALSE))","v":""},{"$f":"IF(VLOOKUP($A42,'Shift Schedule'!$A$7:$F$41,6,FALSE)=0,\"\",VLOOKUP($A42,'Shift Schedule'!$A$7:$F$41,6,FALSE))","v":""},"",{"$f":"IF(VLOOKUP($A42,'Shift Schedule'!$A$53:$F$87,5,FALSE)=0,\"\",VLOOKUP($A42,'Shift Schedule'!$A$53:$F$87,5,FALSE))","v":""},{"$f":"IF(VLOOKUP($A42,'Shift Schedule'!$A$53:$F$87,6,FALSE)=0,\"\",VLOOKUP($A42,'Shift Schedule'!$A$53:$F$87,6,FALSE))","v":""},"",{"$f":"IF(VLOOKUP($A42,'Shift Schedule'!$A$99:$F544,5,FALSE)=0,\"\",VLOOKUP($A42,'Shift Schedule'!$A$99:$F$133,5,FALSE))","v":""},{"$f":"IF(VLOOKUP($A42,'Shift Schedule'!$A$99:$F544,6,FALSE)=0,\"\",VLOOKUP($A42,'Shift Schedule'!$A$99:$F$133,6,FALSE))","v":""},"",{"$f":"IF(VLOOKUP($A42,'Shift Schedule'!$A$145:$F$179,5,FALSE)=0,\"\",VLOOKUP($A42,'Shift Schedule'!$A$145:$F$179,5,FALSE))","v":""},{"$f":"IF(VLOOKUP($A42,'Shift Schedule'!$A$145:$F$179,6,FALSE)=0,\"\",VLOOKUP($A42,'Shift Schedule'!$A$145:$F$179,6,FALSE))","v":""},"",{"$f":"IF(VLOOKUP($A42,'Shift Schedule'!$A$191:$F$225,5,FALSE)=0,\"\",VLOOKUP($A42,'Shift Schedule'!$A$191:$F$225,5,FALSE))","v":""},{"$f":"IF(VLOOKUP($A42,'Shift Schedule'!$A$191:$F$225,6,FALSE)=0,\"\",VLOOKUP($A42,'Shift Schedule'!$A$191:$F$225,6,FALSE))","v":""},"",{"$f":"IF(VLOOKUP($A42,'Shift Schedule'!$A$237:$F$271,5,FALSE)=0,\"\",VLOOKUP($A42,'Shift Schedule'!$A$237:$F$271,5,FALSE))","v":""},{"$f":"IF(VLOOKUP($A42,'Shift Schedule'!$A$237:$F$271,6,FALSE)=0,\"\",VLOOKUP($A42,'Shift Schedule'!$A$237:$F$271,6,FALSE))","v":""},"",{"$f":"IF(VLOOKUP($A42,'Shift Schedule'!$A$283:$F$317,5,FALSE)=0,\"\",VLOOKUP($A42,'Shift Schedule'!$A$283:$F$317,5,FALSE))","v":""},{"$f":"IF(VLOOKUP($A42,'Shift Schedule'!$A$283:$F$317,6,FALSE)=0,\"\",VLOOKUP($A42,'Shift Schedule'!$A$283:$F$317,6,FALSE))","v":""},"","",null,""]
[null,"Totals / Coverage",null,{"$f":"'Shift Schedule'!AT42","v":35.5},null,{"$f":"IFERROR(SUM(F8:F42),\"\")","v":35.500000000000036},{"$f":"'Shift Schedule'!AT88","v":33.5},null,{"$f":"IFERROR(SUM(I8:I42),\"\")","v":34.000000000000036},{"$f":"'Shift Schedule'!AT134","v":40},null,{"$f":"IFERROR(SUM(L8:L42),\"\")","v":40.00000000000005},{"$f":"'Shift Schedule'!AT180","v":35.5},null,{"$f":"IFERROR(SUM(O8:O42),\"\")","v":35.500000000000036},{"$f":"'Shift Schedule'!AT226","v":30},null,{"$f":"IFERROR(SUM(R8:R42),\"\")","v":30.000000000000028},{"$f":"'Shift Schedule'!AT272","v":34},null,{"$f":"IFERROR(SUM(U8:U42),\"\")","v":34.000000000000028},{"$f":"'Shift Schedule'!AT318","v":33},null,{"$f":"IFERROR(SUM(X8:X42),\"\")","v":33.000000000000036},{"$f":"IF(SUM(Y8:Y42)=\"\",\"\",SUM(Y8:Y42))","v":242.00000000000026}]
[]
[null,"Events",null,"Start","End",null,"Start","End",null,"Start","End",null,"Start","End",null,"Start","End",null,"Start","End",null,"Start","End"]
[null,{"$f":"IF(ISBLANK('Schedule Setup'!D43),\"\",'Schedule Setup'!D43)","v":"Stone Valley"},null,{"$f":"IF(ISBLANK('Schedule Setup'!F43),\"\",'Schedule Setup'!F43)","v":""},{"$f":"IF(ISBLANK('Schedule Setup'!G43),\"\",'Schedule Setup'!G43)","v":""},null,{"$f":"IF(ISBLANK('Schedule Setup'!H43),\"\",'Schedule Setup'!H43)","v":"09:00:00"},{"$f":"IF(ISBLANK('Schedule Setup'!I43),\"\",'Schedule Setup'!I43)","v":""},null,{"$f":"IF(ISBLANK('Schedule Setup'!J43),\"\",'Schedule Setup'!J43)","v":""},{"$f":"IF(ISBLANK('Schedule Setup'!K43),\"\",'Schedule Setup'!K43)","v":""},null,{"$f":"IF(ISBLANK('Schedule Setup'!L43),\"\",'Schedule Setup'!L43)","v":""},{"$f":"IF(ISBLANK('Schedule Setup'!M43),\"\",'Schedule Setup'!M43)","v":""},null,{"$f":"IF(ISBLANK('Schedule Setup'!N43),\"\",'Schedule Setup'!N43)","v":""},{"$f":"IF(ISBLANK('Schedule Setup'!O43),\"\",'Schedule Setup'!O43)","v":""},null,{"$f":"IF(ISBLANK('Schedule Setup'!P43),\"\",'Schedule Setup'!P43)","v":""},{"$f":"IF(ISBLANK('Schedule Setup'!Q43),\"\",'Schedule Setup'!Q43)","v":""},null,{"$f":"IF(ISBLANK('Schedule Setup'!R43),\"\",'Schedule Setup'!R43)","v":""},{"$f":"IF(ISBLANK('Schedule Setup'!S43),\"\",'Schedule Setup'!S43)","v":""}]
[null,{"$f":"IF(ISBLANK('Schedule Setup'!D44),\"\",'Schedule Setup'!D44)","v":"Choice Lunch"},null,{"$f":"IF(ISBLANK('Schedule Setup'!F44),\"\",'Schedule Setup'!F44)","v":""},{"$f":"IF(ISBLANK('Schedule Setup'!G44),\"\",'Schedule Setup'!G44)","v":""},null,{"$f":"IF(ISBLANK('Schedule Setup'!H44),\"\",'Schedule Setup'!H44)","v":"10:30:00"},{"$f":"IF(ISBLANK('Schedule Setup'!I44),\"\",'Schedule Setup'!I44)","v":""},null,{"$f":"IF(ISBLANK('Schedule Setup'!J44),\"\",'Schedule Setup'!J44)","v":""},{"$f":"IF(ISBLANK('Schedule Setup'!K44),\"\",'Schedule Setup'!K44)","v":""},null,{"$f":"IF(ISBLANK('Schedule Setup'!L44),\"\",'Schedule Setup'!L44)","v":""},{"$f":"IF(ISBLANK('Schedule Setup'!M44),\"\",'Schedule Setup'!M44)","v":""},null,{"$f":"IF(ISBLANK('Schedule Setup'!N44),\"\",'Schedule Setup'!N44)","v":""},{"$f":"IF(ISBLANK('Schedule Setup'!O44),\"\",'Schedule Setup'!O44)","v":""},null,{"$f":"IF(ISBLANK('Schedule Setup'!P44),\"\",'Schedule Setup'!P44)","v":""},{"$f":"IF(ISBLANK('Schedule Setup'!Q44),\"\",'Schedule Setup'!Q44)","v":""},null,{"$f":"IF(ISBLANK('Schedule Setup'!R44),\"\",'Schedule Setup'!R44)","v":""},{"$f":"IF(ISBLANK('Schedule Setup'!S44),\"\",'Schedule Setup'!S44)","v":""}]
[null,{"$f":"IF(ISBLANK('Schedule Setup'!D45),\"\",'Schedule Setup'!D45)","v":"Training - Clay"},null,{"$f":"IF(ISBLANK('Schedule Setup'!F45),\"\",'Schedule Setup'!F45)","v":""},{"$f":"IF(ISBLANK('Schedule Setup'!G45),\"\",'Schedule Setup'!G45)","v":""},null,{"$f":"IF(ISBLANK('Schedule Setup'!H45),\"\",'Schedule Setup'!H45)","v":""},{"$f":"IF(ISBLANK('Schedule Setup'!I45),\"\",'Schedule Setup'!I45)","v":""},null,{"$f":"IF(ISBLANK('Schedule Setup'!J45),\"\",'Schedule Setup'!J45)","v":""},{"$f":"IF(ISBLANK('Schedule Setup'!K45),\"\",'Schedule Setup'!K45)","v":""},null,{"$f":"IF(ISBLANK('Schedule Setup'!L45),\"\",'Schedule Setup'!L45)","v":""},{"$f":"IF(ISBLANK('Schedule Setup'!M45),\"\",'Schedule Setup'!M45)","v":""},null,{"$f":"IF(ISBLANK('Schedule Setup'!N45),\"\",'Schedule Setup'!N45)","v":""},{"$f":"IF(ISBLANK('Schedule Setup'!O45),\"\",'Schedule Setup'!O45)","v":""},null,{"$f":"IF(ISBLANK('Schedule Setup'!P45),\"\",'Schedule Setup'!P45)","v":""},{"$f":"IF(ISBLANK('Schedule Setup'!Q45),\"\",'Schedule Setup'!Q45)","v":""},null,{"$f":"IF(ISBLANK('Schedule Setup'!R45),\"\",'Schedule Setup'!R45)","v":""},{"$f":"IF(ISBLANK('Schedule Setup'!S45),\"\",'Schedule Setup'!S45)","v":""}]
[null,{"$f":"IF(ISBLANK('Schedule Setup'!D46),\"\",'Schedule Setup'!D46)","v":"Training - Shaina"},null,{"$f":"IF(ISBLANK('Schedule Setup'!F46),\"\",'Schedule Setup'!F46)","v":""},{"$f":"IF(ISBLANK('Schedule Setup'!G46),\"\",'Schedule Setup'!G46)","v":""},null,{"$f":"IF(ISBLANK('Schedule Setup'!H46),\"\",'Schedule Setup'!H46)","v":""},{"$f":"IF(ISBLANK('Schedule Setup'!I46),\"\",'Schedule Setup'!I46)","v":""},null,{"$f":"IF(ISBLANK('Schedule Setup'!J46),\"\",'Schedule Setup'!J46)","v":""},{"$f":"IF(ISBLANK('Schedule Setup'!K46),\"\",'Schedule Setup'!K46)","v":""},null,{"$f":"IF(ISBLANK('Schedule Setup'!L46),\"\",'Schedule Setup'!L46)","v":""},{"$f":"IF(ISBLANK('Schedule Setup'!M46),\"\",'Schedule Setup'!M46)","v":""},null,{"$f":"IF(ISBLANK('Schedule Setup'!N46),\"\",'Schedule Setup'!N46)","v":""},{"$f":"IF(ISBLANK('Schedule Setup'!O46),\"\",'Schedule Setup'!O46)","v":""},null,{"$f":"IF(ISBLANK('Schedule Setup'!P46),\"\",'Schedule Setup'!P46)","v":""},{"$f":"IF(ISBLANK('Schedule Setup'!Q46),\"\",'Schedule Setup'!Q46)","v":""},null,{"$f":"IF(ISBLANK('Schedule Setup'!R46),\"\",'Schedule Setup'!R46)","v":""},{"$f":"IF(ISBLANK('Schedule Setup'!S46),\"\",'Schedule Setup'!S46)","v":""}]
[null,{"$f":"IF(ISBLANK('Schedule Setup'!D47),\"\",'Schedule Setup'!D47)","v":"No School"},null,{"$f":"IF(ISBLANK('Schedule Setup'!F47),\"\",'Schedule Setup'!F47)","v":""},{"$f":"IF(ISBLANK('Schedule Setup'!G47),\"\",'Schedule Setup'!G47)","v":""},null,{"$f":"IF(ISBLANK('Schedule Setup'!H47),\"\",'Schedule Setup'!H47)","v":""},{"$f":"IF(ISBLANK('Schedule Setup'!I47),\"\",'Schedule Setup'!I47)","v":""},null,{"$f":"IF(ISBLANK('Schedule Setup'!J47),\"\",'Schedule Setup'!J47)","v":""},{"$f":"IF(ISBLANK('Schedule Setup'!K47),\"\",'Schedule Setup'!K47)","v":""},null,{"$f":"IF(ISBLANK('Schedule Setup'!L47),\"\",'Schedule Setup'!L47)","v":""},{"$f":"IF(ISBLANK('Schedule Setup'!M47),\"\",'Schedule Setup'!M47)","v":""},null,{"$f":"IF(ISBLANK('Schedule Setup'!N47),\"\",'Schedule Setup'!N47)","v":""},{"$f":"IF(ISBLANK('Schedule Setup'!O47),\"\",'Schedule Setup'!O47)","v":""},null,{"$f":"IF(ISBLANK('Schedule Setup'!P47),\"\",'Schedule Setup'!P47)","v":"Req. Off"},{"$f":"IF(ISBLANK('Schedule Setup'!Q47),\"\",'Schedule Setup'!Q47)","v":"Req. Off"},null,{"$f":"IF(ISBLANK('Schedule Setup'!R47),\"\",'Schedule Setup'!R47)","v":"Req. Off"},{"$f":"IF(ISBLANK('Schedule Setup'!S47),\"\",'Schedule Setup'!S47)","v":"Req. Off"}]
[null,{"$f":"IF(ISBLANK('Schedule Setup'!D48),\"\",'Schedule Setup'!D48)","v":""},null,{"$f":"IF(ISBLANK('Schedule Setup'!F48),\"\",'Schedule Setup'!F48)","v":""},{"$f":"IF(ISBLANK('Schedule Setup'!G48),\"\",'Schedule Setup'!G48)","v":""},null,{"$f":"IF(ISBLANK('Schedule Setup'!H48),\"\",'Schedule Setup'!H48)","v":""},{"$f":"IF(ISBLANK('Schedule Setup'!I48),\"\",'Schedule Setup'!I48)","v":""},null,{"$f":"IF(ISBLANK('Schedule Setup'!J48),\"\",'Schedule Setup'!J48)","v":""},{"$f":"IF(ISBLANK('Schedule Setup'!K48),\"\",'Schedule Setup'!K48)","v":""},null,{"$f":"IF(ISBLANK('Schedule Setup'!L48),\"\",'Schedule Setup'!L48)","v":""},{"$f":"IF(ISBLANK('Schedule Setup'!M48),\"\",'Schedule Setup'!M48)","v":""},null,{"$f":"IF(ISBLANK('Schedule Setup'!N48),\"\",'Schedule Setup'!N48)","v":""},{"$f":"IF(ISBLANK('Schedule Setup'!O48),\"\",'Schedule Setup'!O48)","v":""},null,{"$f":"IF(ISBLANK('Schedule Setup'!P48),\"\",'Schedule Setup'!P48)","v":""},{"$f":"IF(ISBLANK('Schedule Setup'!Q48),\"\",'Schedule Setup'!Q48)","v":""},null,{"$f":"IF(ISBLANK('Schedule Setup'!R48),\"\",'Schedule Setup'!R48)","v":""},{"$f":"IF(ISBLANK('Schedule Setup'!S48),\"\",'Schedule Setup'!S48)","v":""}]
[]
[null,"Remember:"]
[null,"1.  All Time Off Requests Should be Submitted for Approval a minimum of 3 Weeks in Advance.",null,null,null,null,null,null,null,null,null,null,null,"3.  The MIC must Approve ALL Schedule Changes."]
[null,"2.  Should You NEED Time off After the Schedule is Posted, it is YOUR Responsibility fo cover your Shift.",null,null,null,null,null,null,null,null,null,null,null,"4.  All Schedule Changes MUST be Marked in Pen and Initialed by MIC or GM"]

{"sheet":"Schedule Forecast","index":3,"n_rows":52,"n_cols":31,"rows_kept":52,"cut":false,"hidden":false,"merged":[[24,0,24,28],[35,0,35,28],[43,0,43,28],[12,0,12,28],[19,0,19,28],[9,17,9,20],[9,21,9,24],[9,25,9,28],[10,1,10,4],[10,5,10,8],[10,9,10,12],[10,13,10,16],[10,17,10,20],[10,21,10,24],[10,25,10,28],[9,13,9,16],[6,0,6,1],[6,2,6,3],[9,1,9,4],[9,5,9,8],[9,9,9,12],[8,1,8,4],[8,5,8,6],[5,0,5,1],[5,2,5,3],[0,9,0,20],[0,29,0,30],[1,11,1,12],[1,13,1,15],[1,29,1,30],[2,29,2,30],[3,0,3,1],[3,2,3,3],[3,29,3,30],[4,0,4,1],[4,2,4,3],[5,11,5,12]]}
[null,null,null,null,null,null,null,null,null,"Weekly Schedule Forecast",null,null,null,null,null,null,null,null,null,null,null,null,null,null,null,null,null,null,"For the Week of: ",{"$f":"'Shift Schedule'!O2","v":"2014-11-19"}]
[null,null,null,null,null,null,null,null,null,null,null,{"$f":"'Shift Schedule'!B2","v":"Store:"},null,{"$f":"'Weekly Schedule'!K3","v":"1361 Danville"},null,null,null,null,null,null,null,null,null,null,null,null,null,null,"Period:",{"$f":"'Weekly Schedule'!X2","v":12}]
[null,null,null,null,null,null,null,null,null,null,null,null,null,null,null,null,null,null,null,null,null,null,null,null,null,null,null,null,"Week:",{"$f":"'Weekly Schedule'!X3","v":3}]
["Labor Budget-",null,0.19]
["Scheduled Labor-",null,{"$f":"AE31","v":0}]
["Labor Variance ($)-",null,{"$f":"AE45","v":-1741.3994}]
["Labor Variance (Hr)-",null,{"$f":"AE46","v":""}]
[]
[]
[null,"Wednesday",null,null,null,"Thursday",null,null,null,"Friday",null,null,null,"Saturday",null,null,null,"Sunday",null,null,null,"Monday",null,null,null,"Tuesday"]
[null,{"$f":"'Shift Schedule'!T5","v":"2014-11-19"},null,null,null,{"$f":"'Shift Schedule'!T51","v":"2014-11-20"},null,null,null,{"$f":"'Shift Schedule'!T97","v":"2014-11-21"},null,null,null,{"$f":"'Shift Schedule'!T143","v":"2014-11-22"},null,null,null,{"$f":"'Shift Schedule'!T189","v":"2014-11-23"},null,null,null,{"$f":"'Shift Schedule'!T235","v":"2014-11-24"},null,null,null,{"$f":"'Shift Schedule'!T281","v":"2014-11-25"},null,null,null,null,"Weekly"]
["Daypart","Bfst","Lunch","Dinner","Total","Bfst","Lunch","Dinner","Total","Bfst","Lunch","Dinner","Total","Bfst","Lunch","Dinner","Total","Bfst","Lunch","Dinner","Total","Bfst","Lunch","Dinner","Total","Bfst","Lunch","Dinner","Total",null,"Total"]
["Forecasted Sales"]
[{"$f":"\"Wk \"&MONTH('Shift Schedule'!B46)&\"-\"&DAY('Shift Schedule'!B46)","v":"Wk 10-21"},{"$f":"IF(SUM('Shift Schedule'!H43:S43)=0,\"\",SUM('Shift Schedule'!H43:S43))","v":6246.2099999999991},{"$f":"IF(SUM('Shift Schedule'!T43:AE43)=0,\"\",SUM('Shift Schedule'!T43:AE43))","v":946.39},{"$f":"IF(SUM('Shift Schedule'!AF43:AS43)=0,\"\",SUM('Shift Schedule'!AF43:AS43))","v":149.92000000000002},{"$f":"IF(SUM(B14:D14)=0,\"\",SUM(B14:D14))","v":7342.5199999999995},{"$f":"IF(SUM('Shift Schedule'!H89:S89)=0,\"\",SUM('Shift Schedule'!H89:S89))","v":236.63},{"$f":"IF(SUM('Shift Schedule'!T89:AE89)=0,\"\",SUM('Shift Schedule'!T89:AE89))","v":1157.24},{"$f":"IF(SUM('Shift Schedule'!AF89:AS89)=0,\"\",SUM('Shift Schedule'!AF89:AS89))","v":204.8},{"$f":"IF(SUM(F14:H14)=0,\"\",SUM(F14:H14))","v":1598.6699999999998},{"$f":"IF(SUM('Shift Schedule'!H135:S135)=0,\"\",SUM('Shift Schedule'!H135:S135))","v":203.14},{"$f":"IF(SUM('Shift Schedule'!T135:AE135)=0,\"\",SUM('Shift Schedule'!T135:AE135))","v":1050.43},{"$f":"IF(SUM('Shift Schedule'!AF135:AS135)=0,\"\",SUM('Shift Schedule'!AF135:AS135))","v":173.46},{"$f":"IF(SUM(J14:L14)=0,\"\",SUM(J14:L14))","v":1427.0300000000002},{"$f":"IF(SUM('Shift Schedule'!H181:S181)=0,\"\",SUM('Shift Schedule'!H181:S181))","v":419.59},{"$f":"IF(SUM('Shift Schedule'!T181:AE181)=0,\"\",SUM('Shift Schedule'!T181:AE181))","v":1114.57},{"$f":"IF(SUM('Shift Schedule'!AF181:AS181)=0,\"\",SUM('Shift Schedule'!AF181:AS181))","v":123.05000000000001},{"$f":"IF(SUM(N14:P14)=0,\"\",SUM(N14:P14))","v":1657.2099999999998},{"$f":"IF(SUM('Shift Schedule'!H227:S227)=0,\"\",SUM('Shift Schedule'!H227:S227))","v":157.63},{"$f":"IF(SUM('Shift Schedule'!T227:AE227)=0,\"\",SUM('Shift Schedule'!T227:AE227))","v":927.37999999999988},{"$f":"IF(SUM('Shift Schedule'!AF227:AS227)=0,\"\",SUM('Shift Schedule'!AF227:AS227))","v":61.129999999999995},{"$f":"IF(SUM(R14:T14)=0,\"\",SUM(R14:T14))","v":1146.1399999999999},{"$f":"IF(SUM('Shift Schedule'!H273:S273)=0,\"\",SUM('Shift Schedule'!H273:S273))","v":192.06},{"$f":"IF(SUM('Shift Schedule'!T273:AE273)=0,\"\",SUM('Shift Schedule'!T273:AE273))","v":592.33000000000004},{"$f":"IF(SUM('Shift Schedule'!AF273:AS273)=0,\"\",SUM('Shift Schedule'!AF273:AS273))","v":180.53},{"$f":"IF(SUM(V14:X14)=0,\"\",SUM(V14:X14))","v":964.92000000000007},{"$f":"IF(SUM('Shift Schedule'!H319:S319)=0,\"\",SUM('Shift Schedule'!H319:S319))","v":177.75},{"$f":"IF(SUM('Shift Schedule'!T319:AE319)=0,\"\",SUM('Shift Schedule'!T319:AE319))","v":898.50999999999988},{"$f":"IF(SUM('Shift Schedule'!AF319:AS319)=0,\"\",SUM('Shift Schedule'!AF319:AS319))","v":174.53999999999996},{"$f":"IF(SUM(Z14:AB14)=0,\"\",SUM(Z14:AB14))","v":1250.7999999999997},null,{"$f":"IF(SUM(E14,I14,M14,Q14,U14,Y14,AC14)=0,\"\",SUM(E14,I14,M14,Q14,U14,Y14,AC14))","v":15387.289999999997}]
[{"$f":"\"Wk \"&MONTH('Shift Schedule'!B45)&\"-\"&DAY('Shift Schedule'!B45)","v":"Wk 10-28"},{"$f":"IF(SUM('Shift Schedule'!H44:S44)=0,\"\",SUM('Shift Schedule'!H44:S44))","v":209.37},{"$f":"IF(SUM('Shift Schedule'!T44:AE44)=0,\"\",SUM('Shift Schedule'!T44:AE44))","v":947.6400000000001},{"$f":"IF(SUM('Shift Schedule'!AF44:AS44)=0,\"\",SUM('Shift Schedule'!AF44:AS44))","v":164.09},{"$f":"IF(SUM(B15:D15)=0,\"\",SUM(B15:D15))","v":1321.1000000000001},{"$f":"IF(SUM('Shift Schedule'!H90:S90)=0,\"\",SUM('Shift Schedule'!H90:S90))","v":280.45999999999998},{"$f":"IF(SUM('Shift Schedule'!T90:AE90)=0,\"\",SUM('Shift Schedule'!T90:AE90))","v":1001.0699999999999},{"$f":"IF(SUM('Shift Schedule'!AF90:AS90)=0,\"\",SUM('Shift Schedule'!AF90:AS90))","v":257.12},1538.65,{"$f":"IF(SUM('Shift Schedule'!H136:S136)=0,\"\",SUM('Shift Schedule'!H136:S136))","v":223.70000000000002},{"$f":"IF(SUM('Shift Schedule'!T136:AE136)=0,\"\",SUM('Shift Schedule'!T136:AE136))","v":1116.1000000000001},{"$f":"IF(SUM('Shift Schedule'!AF136:AS136)=0,\"\",SUM('Shift Schedule'!AF136:AS136))","v":233.61},{"$f":"IF(SUM(J15:L15)=0,\"\",SUM(J15:L15))","v":1573.4100000000003},{"$f":"IF(SUM('Shift Schedule'!H182:S182)=0,\"\",SUM('Shift Schedule'!H182:S182))","v":179.79},{"$f":"IF(SUM('Shift Schedule'!T182:AE182)=0,\"\",SUM('Shift Schedule'!T182:AE182))","v":699.31000000000006},{"$f":"IF(SUM('Shift Schedule'!AF182:AS182)=0,\"\",SUM('Shift Schedule'!AF182:AS182))","v":276.78999999999996},1155.8899999999999,{"$f":"IF(SUM('Shift Schedule'!H228:S228)=0,\"\",SUM('Shift Schedule'!H228:S228))","v":240.37},{"$f":"IF(SUM('Shift Schedule'!T228:AE228)=0,\"\",SUM('Shift Schedule'!T228:AE228))","v":768.45000000000016},{"$f":"IF(SUM('Shift Schedule'!AF228:AS228)=0,\"\",SUM('Shift Schedule'!AF228:AS228))","v":54.23},1063.0500000000002,{"$f":"IF(SUM('Shift Schedule'!H274:S274)=0,\"\",SUM('Shift Schedule'!H274:S274))","v":121.89},{"$f":"IF(SUM('Shift Schedule'!T274:AE274)=0,\"\",SUM('Shift Schedule'!T274:AE274))","v":770.55000000000018},{"$f":"IF(SUM('Shift Schedule'!AF274:AS274)=0,\"\",SUM('Shift Schedule'!AF274:AS274))","v":93.99},986.43000000000018,{"$f":"IF(SUM('Shift Schedule'!H320:S320)=0,\"\",SUM('Shift Schedule'!H320:S320))","v":136.44},{"$f":"IF(SUM('Shift Schedule'!T320:AE320)=0,\"\",SUM('Shift Schedule'!T320:AE320))","v":910.28},{"$f":"IF(SUM('Shift Schedule'!AF320:AS320)=0,\"\",SUM('Shift Schedule'!AF320:AS320))","v":119.38},1166.0999999999999,null,8804.6299999999992]
[{"$f":"\"Wk \"&MONTH('Shift Schedule'!B44)&\"-\"&DAY('Shift Schedule'!B44)","v":"Wk 11-4"},{"$f":"IF(SUM('Shift Schedule'!H45:S45)=0,\"\",SUM('Shift Schedule'!H45:S45))","v":185.17},{"$f":"IF(SUM('Shift Schedule'!T45:AE45)=0,\"\",SUM('Shift Schedule'!T45:AE45))","v":1069.5},{"$f":"IF(SUM('Shift Schedule'!AF45:AS45)=0,\"\",SUM('Shift Schedule'!AF45:AS45))","v":160.19},{"$f":"IF(SUM(B16:D16)=0,\"\",SUM(B16:D16))","v":1414.8600000000001},{"$f":"IF(SUM('Shift Schedule'!H91:S91)=0,\"\",SUM('Shift Schedule'!H91:S91))","v":412.51000000000005},{"$f":"IF(SUM('Shift Schedule'!T91:AE91)=0,\"\",SUM('Shift Schedule'!T91:AE91))","v":927.6099999999999},{"$f":"IF(SUM('Shift Schedule'!AF91:AS91)=0,\"\",SUM('Shift Schedule'!AF91:AS91))","v":278.86},1618.98,{"$f":"IF(SUM('Shift Schedule'!H137:S137)=0,\"\",SUM('Shift Schedule'!H137:S137))","v":134.59},{"$f":"IF(SUM('Shift Schedule'!T137:AE137)=0,\"\",SUM('Shift Schedule'!T137:AE137))","v":436.7},{"$f":"IF(SUM('Shift Schedule'!AF137:AS137)=0,\"\",SUM('Shift Schedule'!AF137:AS137))","v":58.790000000000006},630.07999999999993,{"$f":"IF(SUM('Shift Schedule'!H183:S183)=0,\"\",SUM('Shift Schedule'!H183:S183))","v":199.71999999999997},{"$f":"IF(SUM('Shift Schedule'!T183:AE183)=0,\"\",SUM('Shift Schedule'!T183:AE183))","v":797.5200000000001},{"$f":"IF(SUM('Shift Schedule'!AF183:AS183)=0,\"\",SUM('Shift Schedule'!AF183:AS183))","v":130.88999999999999},1128.1300000000001,{"$f":"IF(SUM('Shift Schedule'!H229:S229)=0,\"\",SUM('Shift Schedule'!H229:S229))","v":179.92},{"$f":"IF(SUM('Shift Schedule'!T229:AE229)=0,\"\",SUM('Shift Schedule'!T229:AE229))","v":730.2700000000001},{"$f":"IF(SUM('Shift Schedule'!AF229:AS229)=0,\"\",SUM('Shift Schedule'!AF229:AS229))","v":36.56},946.75,{"$f":"IF(SUM('Shift Schedule'!H275:S275)=0,\"\",SUM('Shift Schedule'!H275:S275))","v":143.67000000000002},{"$f":"IF(SUM('Shift Schedule'!T275:AE275)=0,\"\",SUM('Shift Schedule'!T275:AE275))","v":714.8900000000001},{"$f":"IF(SUM('Shift Schedule'!AF275:AS275)=0,\"\",SUM('Shift Schedule'!AF275:AS275))","v":108.6},967.1600000000002,{"$f":"IF(SUM('Shift Schedule'!H321:S321)=0,\"\",SUM('Shift Schedule'!H321:S321))","v":242.86},{"$f":"IF(SUM('Shift Schedule'!T321:AE321)=0,\"\",SUM('Shift Schedule'!T321:AE321))","v":834.0200000000001},{"$f":"IF(SUM('Shift Schedule'!AF321:AS321)=0,\"\",SUM('Shift Schedule'!AF321:AS321))","v":284.16999999999996},1361.0500000000002,null,8067.01]
[{"$f":"\"Wk \"&MONTH('Shift Schedule'!B43)&\"-\"&DAY('Shift Schedule'!B43)","v":"Wk 11-11"},{"$f":"IF(SUM('Shift Schedule'!H46:S46)=0,\"\",SUM('Shift Schedule'!H46:S46))","v":167.04},{"$f":"IF(SUM('Shift Schedule'!T46:AE46)=0,\"\",SUM('Shift Schedule'!T46:AE46))","v":959.16999999999985},{"$f":"IF(SUM('Shift Schedule'!AF46:AS46)=0,\"\",SUM('Shift Schedule'!AF46:AS46))","v":169.92000000000002},{"$f":"IF(SUM(B17:D17)=0,\"\",SUM(B17:D17))","v":1296.1299999999999},{"$f":"IF(SUM('Shift Schedule'!H92:S92)=0,\"\",SUM('Shift Schedule'!H92:S92))","v":353.51},{"$f":"IF(SUM('Shift Schedule'!T92:AE92)=0,\"\",SUM('Shift Schedule'!T92:AE92))","v":1044.1600000000001},{"$f":"IF(SUM('Shift Schedule'!AF92:AS92)=0,\"\",SUM('Shift Schedule'!AF92:AS92))","v":370.84999999999997},1768.52,{"$f":"IF(SUM('Shift Schedule'!H138:S138)=0,\"\",SUM('Shift Schedule'!H138:S138))","v":415.71000000000004},{"$f":"IF(SUM('Shift Schedule'!T138:AE138)=0,\"\",SUM('Shift Schedule'!T138:AE138))","v":922.41000000000008},{"$f":"IF(SUM('Shift Schedule'!AF138:AS138)=0,\"\",SUM('Shift Schedule'!AF138:AS138))","v":132.19},1470.3100000000002,{"$f":"IF(SUM('Shift Schedule'!H184:S184)=0,\"\",SUM('Shift Schedule'!H184:S184))","v":326.85000000000002},{"$f":"IF(SUM('Shift Schedule'!T184:AE184)=0,\"\",SUM('Shift Schedule'!T184:AE184))","v":832.35},{"$f":"IF(SUM('Shift Schedule'!AF184:AS184)=0,\"\",SUM('Shift Schedule'!AF184:AS184))","v":130.53},{"$f":"IF(SUM(N17:P17)=0,\"\",SUM(N17:P17))","v":1289.73},{"$f":"IF(SUM('Shift Schedule'!H230:S230)=0,\"\",SUM('Shift Schedule'!H230:S230))","v":178.26},{"$f":"IF(SUM('Shift Schedule'!T230:AE230)=0,\"\",SUM('Shift Schedule'!T230:AE230))","v":917.86000000000013},{"$f":"IF(SUM('Shift Schedule'!AF230:AS230)=0,\"\",SUM('Shift Schedule'!AF230:AS230))","v":73.709999999999994},1169.8300000000002,{"$f":"IF(SUM('Shift Schedule'!H276:S276)=0,\"\",SUM('Shift Schedule'!H276:S276))","v":134.07999999999998},{"$f":"IF(SUM('Shift Schedule'!T276:AE276)=0,\"\",SUM('Shift Schedule'!T276:AE276))","v":898.02},{"$f":"IF(SUM('Shift Schedule'!AF276:AS276)=0,\"\",SUM('Shift Schedule'!AF276:AS276))","v":88.42},1120.52,{"$f":"IF(SUM('Shift Schedule'!H322:S322)=0,\"\",SUM('Shift Schedule'!H322:S322))","v":227.14},{"$f":"IF(SUM('Shift Schedule'!T322:AE322)=0,\"\",SUM('Shift Schedule'!T322:AE322))","v":730.41},{"$f":"IF(SUM('Shift Schedule'!AF322:AS322)=0,\"\",SUM('Shift Schedule'!AF322:AS322))","v":92.67},1050.22,null,{"$f":"IF(SUM(E17,I17,M17,Q17,U17,Y17,AC17)=0,\"\",SUM(E17,I17,M17,Q17,U17,Y17,AC17))","v":9165.26}]
["Avg Last 4wk Sales",{"$f":"IF(SUM(B14:B17)=0,\"\",AVERAGE(B14:B17))","v":1701.9474999999998},{"$f":"IF(SUM(C14:C17)=0,\"\",AVERAGE(C14:C17))","v":980.67499999999995},{"$f":"IF(SUM(D14:D17)=0,\"\",AVERAGE(D14:D17))","v":161.03},{"$f":"IF(SUM(B18:D18)=0,\"\",SUM(B18:D18))","v":2843.6524999999997},{"$f":"IF(SUM(F14:F17)=0,\"\",AVERAGE(F14:F17))","v":320.77749999999997},{"$f":"IF(SUM(G14:G17)=0,\"\",AVERAGE(G14:G17))","v":1032.52},{"$f":"IF(SUM(H14:H17)=0,\"\",AVERAGE(H14:H17))","v":277.90749999999997},1631.2049999999999,{"$f":"IF(SUM(J14:J17)=0,\"\",AVERAGE(J14:J17))","v":244.28500000000003},{"$f":"IF(SUM(K14:K17)=0,\"\",AVERAGE(K14:K17))","v":881.41000000000008},{"$f":"IF(SUM(L14:L17)=0,\"\",AVERAGE(L14:L17))","v":149.51250000000002},1275.2075000000002,{"$f":"IF(SUM(N14:N17)=0,\"\",AVERAGE(N14:N17))","v":281.48749999999995},{"$f":"IF(SUM(O14:O17)=0,\"\",AVERAGE(O14:O17))","v":860.9375},{"$f":"IF(SUM(P14:P17)=0,\"\",AVERAGE(P14:P17))","v":165.315},1307.74,{"$f":"IF(SUM(R14:R17)=0,\"\",AVERAGE(R14:R17))","v":189.04499999999999},{"$f":"IF(SUM(S14:S17)=0,\"\",AVERAGE(S14:S17))","v":835.99},{"$f":"IF(SUM(T14:T17)=0,\"\",AVERAGE(T14:T17))","v":56.407499999999999},{"$f":"IF(SUM(R18:T18)=0,\"\",SUM(R18:T18))","v":1081.4425000000001},{"$f":"IF(SUM(V14:V17)=0,\"\",AVERAGE(V14:V17))","v":147.92500000000001},{"$f":"IF(SUM(W14:W17)=0,\"\",AVERAGE(W14:W17))","v":743.9475000000001},{"$f":"IF(SUM(X14:X17)=0,\"\",AVERAGE(X14:X17))","v":117.88500000000001},1009.7575000000002,{"$f":"IF(SUM(Z14:Z17)=0,\"\",AVERAGE(Z14:Z17))","v":196.04749999999999},{"$f":"IF(SUM(AA14:AA17)=0,\"\",AVERAGE(AA14:AA17))","v":843.30499999999995},{"$f":"IF(SUM(AB14:AB17)=0,\"\",AVERAGE(AB14:AB17))","v":167.68999999999997},1207.0425,null,10356.047500000001]
["PY Sales",null,null,null,"",null,null,null,"",null,null,null,"",null,null,null,{"$f":"IF(SUM(N19:P19)=0,\"\",SUM(N19:P19))","v":""},null,null,null,"",null,null,null,"",null,null,null,"",null,""]
[]
["Sales Forecast",167.04,959.16999999999985,169.92000000000002,1296.1299999999999,353.51,1044.1600000000001,370.84999999999997,{"$f":"IF(SUM(F21:H21)=0,\"\",SUM(F21:H21))","v":1768.52},415.71000000000004,922.41000000000008,132.19,{"$f":"IF(SUM(J21:L21)=0,\"\",SUM(J21:L21))","v":1470.3100000000002},326.85000000000002,832.35,130.53,{"$f":"IF(SUM(N21:P21)=0,\"\",SUM(N21:P21))","v":1289.73},178.26,917.86000000000013,73.709999999999994,{"$f":"IF(SUM(R21:T21)=0,\"\",SUM(R21:T21))","v":1169.8300000000002},134.07999999999998,898.02,88.42,{"$f":"IF(SUM(V21:X21)=0,\"\",SUM(V21:X21))","v":1120.52},227.14,730.41,92.67,{"$f":"IF(SUM(Z21:AB21)=0,\"\",SUM(Z21:AB21))","v":1050.22},null,{"$f":"IF(SUM(E21,I21,M21,Q21,U21,Y21,AC21)=0,\"\",SUM(E21,I21,M21,Q21,U21,Y21,AC21))","v":9165.26}]
["Outside Sales",null,null,null,"",null,null,null,"",null,null,null,"",null,null,null,"",null,null,null,"",null,null,null,"",null,null,null,"",null,{"$f":"IF(SUM(E22,I22,M22,Q22,U22,Y22,AC22)=0,\"\",SUM(E22,I22,M22,Q22,U22,Y22,AC22))","v":""}]
["Sales Forecast-Total",{"$f":"IF(SUM(B21:B22)=0,\"\",SUM(B21:B22))","v":167.04},959.16999999999985,169.92000000000002,1296.1299999999999,{"$f":"IF(SUM(F21:F22)=0,\"\",SUM(F21:F22))","v":353.51},{"$f":"IF(SUM(G21:G22)=0,\"\",SUM(G21:G22))","v":1044.1600000000001},370.84999999999997,1768.52,415.71000000000004,922.41000000000008,132.19,1470.3100000000002,326.85000000000002,832.35,130.53,1289.73,178.26,917.86000000000013,73.709999999999994,1169.8300000000002,134.07999999999998,898.02,88.42,1120.52,227.14,730.41,92.67,1050.22,null,{"$f":"IF(SUM(E23,I23,M23,Q23,U23,Y23,AC23)=0,\"\",SUM(E23,I23,M23,Q23,U23,Y23,AC23))","v":9165.26}]
[]
["Forecasted Schedule"]
["Scheduled Labor Hrs",{"$f":"IF('Shift Schedule'!EF42=0,\"\",'Shift Schedule'!EF42)","v":8.5},{"$f":"IF('Shift Schedule'!EH42=0,\"\",'Shift Schedule'!EH42)","v":18},{"$f":"IF('Shift Schedule'!EJ42=0,\"\",'Shift Schedule'!EJ42)","v":8.5},{"$f":"IF(SUM(B26:D26)=0,\"\",SUM(B26:D26))","v":35},{"$f":"IF('Shift Schedule'!EF88=0,\"\",'Shift Schedule'!EF88)","v":8},{"$f":"IF('Shift Schedule'!EH88=0,\"\",'Shift Schedule'!EH88)","v":17},{"$f":"IF('Shift Schedule'!EJ88=0,\"\",'Shift Schedule'!EJ88)","v":8.5},{"$f":"IF(SUM(F26:H26)=0,\"\",SUM(F26:H26))","v":33.5},{"$f":"IF('Shift Schedule'!EF134=0,\"\",'Shift Schedule'!EF134)","v":8},{"$f":"IF('Shift Schedule'!EH134=0,\"\",'Shift Schedule'!EH134)","v":20.5},{"$f":"IF('Shift Schedule'!EJ134=0,\"\",'Shift Schedule'!EJ134)","v":11.5},{"$f":"IF(SUM(J26:L26)=0,\"\",SUM(J26:L26))","v":40},{"$f":"IF('Shift Schedule'!EF180=0,\"\",'Shift Schedule'!EF180)","v":8},{"$f":"IF('Shift Schedule'!EH180=0,\"\",'Shift Schedule'!EH180)","v":18},{"$f":"IF('Shift Schedule'!EJ180=0,\"\",'Shift Schedule'!EJ180)","v":9},{"$f":"IF(SUM(N26:P26)=0,\"\",SUM(N26:P26))","v":35},{"$f":"IF('Shift Schedule'!EF226=0,\"\",'Shift Schedule'!EF226)","v":7},{"$f":"IF('Shift Schedule'!EH226=0,\"\",'Shift Schedule'!EH226)","v":18},{"$f":"IF('Shift Schedule'!EJ226=0,\"\",'Shift Schedule'!EJ226)","v":5},{"$f":"IF(SUM(R26:T26)=0,\"\",SUM(R26:T26))","v":30},{"$f":"IF('Shift Schedule'!EF272=0,\"\",'Shift Schedule'!EF272)","v":8},{"$f":"IF('Shift Schedule'!EH272=0,\"\",'Shift Schedule'!EH272)","v":18},{"$f":"IF('Shift Schedule'!EJ272=0,\"\",'Shift Schedule'!EJ272)","v":8},{"$f":"IF(SUM(V26:X26)=0,\"\",SUM(V26:X26))","v":34},{"$f":"IF('Shift Schedule'!EF318=0,\"\",'Shift Schedule'!EF318)","v":8},{"$f":"IF('Shift Schedule'!EH318=0,\"\",'Shift Schedule'!EH318)","v":16.5},{"$f":"IF('Shift Schedule'!EJ318=0,\"\",'Shift Schedule'!EJ318)","v":8.5},{"$f":"IF(SUM(Z26:AB26)=0,\"\",SUM(Z26:AB26))","v":33},null,{"$f":"IF(SUM(E26,I26,M26,Q26,U26,Y26,AC26)=\"\",\"\",SUM(E26,I26,M26,Q26,U26,Y26,AC26))","v":240.5}]
["Scheduled Labor $",{"$f":"IF('Shift Schedule'!EG42=0,\"\",'Shift Schedule'!EG42)","v":""},{"$f":"IF('Shift Schedule'!EI42=0,\"\",'Shift Schedule'!EI42)","v":""},{"$f":"IF('Shift Schedule'!EK42=0,\"\",'Shift Schedule'!EK42)","v":""},{"$f":"IF(SUM(B27:D27)=0,\"\",SUM(B27:D27))","v":""},{"$f":"IF('Shift Schedule'!EG88=0,\"\",'Shift Schedule'!EG88)","v":""},{"$f":"IF('Shift Schedule'!EI88=0,\"\",'Shift Schedule'!EI88)","v":""},{"$f":"IF('Shift Schedule'!EK88=0,\"\",'Shift Schedule'!EK88)","v":""},{"$f":"IF(SUM(F27:H27)=0,\"\",SUM(F27:H27))","v":""},{"$f":"IF('Shift Schedule'!EG134=0,\"\",'Shift Schedule'!EG134)","v":""},{"$f":"IF('Shift Schedule'!EI134=0,\"\",'Shift Schedule'!EI134)","v":""},{"$f":"IF('Shift Schedule'!EK134=0,\"\",'Shift Schedule'!EK134)","v":""},{"$f":"IF(SUM(J27:L27)=0,\"\",SUM(J27:L27))","v":""},{"$f":"IF('Shift Schedule'!EG180=0,\"\",'Shift Schedule'!EG180)","v":""},{"$f":"IF('Shift Schedule'!EI180=0,\"\",'Shift Schedule'!EI180)","v":""},{"$f":"IF('Shift Schedule'!EK180=0,\"\",'Shift Schedule'!EK180)","v":""},{"$f":"IF(SUM(N27:P27)=0,\"\",SUM(N27:P27))","v":""},{"$f":"IF('Shift Schedule'!EG226=0,\"\",'Shift Schedule'!EG226)","v":""},{"$f":"IF('Shift Schedule'!EI226=0,\"\",'Shift Schedule'!EI226)","v":""},{"$f":"IF('Shift Schedule'!EK226=0,\"\",'Shift Schedule'!EK226)","v":""},{"$f":"IF(SUM(R27:T27)=0,\"\",SUM(R27:T27))","v":""},{"$f":"IF('Shift Schedule'!EG272=0,\"\",'Shift Schedule'!EG272)","v":""},{"$f":"IF('Shift Schedule'!EI272=0,\"\",'Shift Schedule'!EI272)","v":""},{"$f":"IF('Shift Schedule'!EK272=0,\"\",'Shift Schedule'!EK272)","v":""},{"$f":"IF(SUM(V27:X27)=0,\"\",SUM(V27:X27))","v":""},{"$f":"IF('Shift Schedule'!EG318=0,\"\",'Shift Schedule'!EG318)","v":""},{"$f":"IF('Shift Schedule'!EI318=0,\"\",'Shift Schedule'!EI318)","v":""},{"$f":"IF('Shift Schedule'!EK318=0,\"\",'Shift Schedule'!EK318)","v":""},{"$f":"IF(SUM(Z27:AB27)=0,\"\",SUM(Z27:AB27))","v":""},null,{"$f":"IF(SUM(E27,I27,M27,Q27,U27,Y27,AC27)=\"\",\"\",SUM(E27,I27,M27,Q27,U27,Y27,AC27))","v":0}]
["GM Hours Scheduled",{"$f":"IFERROR(VLOOKUP(\"General Manager (S)\",'Shift Schedule'!$C$7:$EM$41,125,FALSE),0)","v":6},{"$f":"IFERROR(VLOOKUP(\"General Manager (S)\",'Shift Schedule'!$C$7:$EM$41,127,FALSE),0)","v":2.5},{"$f":"IFERROR(VLOOKUP(\"General Manager (S)\",'Shift Schedule'!$C$7:$EM$41,129,FALSE),0)","v":0},{"$f":"IFERROR(VLOOKUP(\"General Manager (S)\",'Shift Schedule'!$C$7:$EM$41,131,FALSE),0)","v":8.5},{"$f":"IFERROR(VLOOKUP(\"General Manager (S)\",'Shift Schedule'!$C$53:$EM$87,125,FALSE),0)","v":0},{"$f":"IFERROR(VLOOKUP(\"General Manager (S)\",'Shift Schedule'!$C$53:$EM$87,127,FALSE),0)","v":0},{"$f":"IFERROR(VLOOKUP(\"General Manager (S)\",'Shift Schedule'!$C$53:$EM$87,129,FALSE),0)","v":0},{"$f":"IFERROR(VLOOKUP(\"General Manager (S)\",'Shift Schedule'!$C$53:$EM$87,131,FALSE),0)","v":0},{"$f":"IFERROR(VLOOKUP(\"General Manager (S)\",'Shift Schedule'!$C$99:$EM$133,125,FALSE),0)","v":0},{"$f":"IFERROR(VLOOKUP(\"General Manager (S)\",'Shift Schedule'!$C$99:$EM$133,127,FALSE),0)","v":0},{"$f":"IFERROR(VLOOKUP(\"General Manager (S)\",'Shift Schedule'!$C$99:$EM$133,129,FALSE),0)","v":0},{"$f":"IFERROR(VLOOKUP(\"General Manager (S)\",'Shift Schedule'!$C$99:$EM$133,131,FALSE),0)","v":0},{"$f":"IFERROR(VLOOKUP(\"General Manager (S)\",'Shift Schedule'!$C$145:$EM$179,125,FALSE),0)","v":5},{"$f":"IFERROR(VLOOKUP(\"General Manager (S)\",'Shift Schedule'!$C$145:$EM$179,127,FALSE),0)","v":3},{"$f":"IFERROR(VLOOKUP(\"General Manager (S)\",'Shift Schedule'!$C$145:$EM$179,129,FALSE),0)","v":0},{"$f":"IFERROR(VLOOKUP(\"General Manager (S)\",'Shift Schedule'!$C$145:$EM$179,131,FALSE),0)","v":8},{"$f":"IFERROR(VLOOKUP(\"General Manager (S)\",'Shift Schedule'!$C$191:$EM$225,125,FALSE),0)","v":4},{"$f":"IFERROR(VLOOKUP(\"General Manager (S)\",'Shift Schedule'!$C$191:$EM$225,127,FALSE),0)","v":3},{"$f":"IFERROR(VLOOKUP(\"General Manager (S)\",'Shift Schedule'!$C$191:$EM$225,129,FALSE),0)","v":0},{"$f":"IFERROR(VLOOKUP(\"General Manager (S)\",'Shift Schedule'!$C$191:$EM$225,131,FALSE),0)","v":7},{"$f":"IFERROR(VLOOKUP(\"General Manager (S)\",'Shift Schedule'!$C$237:$EM$271,125,FALSE),0)","v":0},{"$f":"IFERROR(VLOOKUP(\"General Manager (S)\",'Shift Schedule'!$C$237:$EM$271,127,FALSE),0)","v":0},{"$f":"IFERROR(VLOOKUP(\"General Manager (S)\",'Shift Schedule'!$C$237:$EM$271,129,FALSE),0)","v":0},{"$f":"IFERROR(VLOOKUP(\"General Manager (S)\",'Shift Schedule'!$C$237:$EM$271,131,FALSE),0)","v":0},{"$f":"IFERROR(VLOOKUP(\"General Manager (S)\",'Shift Schedule'!$C$283:$EM$317,125,FALSE),0)","v":0},{"$f":"IFERROR(VLOOKUP(\"General Manager (S)\",'Shift Schedule'!$C$283:$EM$317,127,FALSE),0)","v":0},{"$f":"IFERROR(VLOOKUP(\"General Manager (S)\",'Shift Schedule'!$C$283:$EM$317,129,FALSE),0)","v":0},{"$f":"IFERROR(VLOOKUP(\"General Manager (S)\",'Shift Schedule'!$C$283:$EM$317,131,FALSE),0)","v":0},null,{"$f":"IF(SUM(E28,I28,M28,Q28,U28,Y28,AC28)=\"\",\"\",SUM(E28,I28,M28,Q28,U28,Y28,AC28))","v":23.5}]
["Scheduled Labor Hrs",{"$f":"IF(SUM(B26,B28)=0,\"\",B26-B28)","v":2.5},{"$f":"IF(SUM(C26,C28)=0,\"\",C26-C28)","v":15.5},8.5,26.5,{"$f":"IF(SUM(F26,F28)=0,\"\",F26-F28)","v":8},{"$f":"IF(SUM(G26,G28)=0,\"\",G26-G28)","v":17},8.5,33.5,{"$f":"IF(SUM(J26,J28)=0,\"\",J26-J28)","v":8},{"$f":"IF(SUM(K26,K28)=0,\"\",K26-K28)","v":20.5},11.5,40,{"$f":"IF(SUM(N26,N28)=0,\"\",N26-N28)","v":3},{"$f":"IF(SUM(O26,O28)=0,\"\",O26-O28)","v":15},9,27,{"$f":"IF(SUM(R26,R28)=0,\"\",R26-R28)","v":3},{"$f":"IF(SUM(S26,S28)=0,\"\",S26-S28)","v":15},5,23,{"$f":"IF(SUM(V26,V28)=0,\"\",V26-V28)","v":8},{"$f":"IF(SUM(W26,W28)=0,\"\",W26-W28)","v":18},8,34,{"$f":"IF(SUM(Z26,Z28)=0,\"\",Z26-Z28)","v":8},{"$f":"IF(SUM(AA26,AA28)=0,\"\",AA26-AA28)","v":16.5},8.5,33,null,{"$f":"IF(SUM(E29,I29,M29,Q29,U29,Y29,AC29)=\"\",\"\",SUM(E29,I29,M29,Q29,U29,Y29,AC29))","v":217}]
["Scheduled Labor $",{"$f":"B27","v":""},{"$f":"C27","v":""},"","",{"$f":"F27","v":""},{"$f":"G27","v":""},"","",{"$f":"J27","v":""},{"$f":"K27","v":""},"","",{"$f":"N27","v":""},{"$f":"O27","v":""},"","",{"$f":"R27","v":""},{"$f":"S27","v":""},"","",{"$f":"V27","v":""},{"$f":"W27","v":""},"","",{"$f":"Z27","v":""},{"$f":"AA27","v":""},"","",null,{"$f":"IF(SUM(E30,I30,M30,Q30,U30,Y30,AC30)=\"\",\"\",SUM(E30,I30,M30,Q30,U30,Y30,AC30))","v":0}]
["Forecasted Labor %",{"$f":"IFERROR(B30/B23,\"\")","v":""},{"$f":"IFERROR(C30/C23,\"\")","v":""},"","",{"$f":"IFERROR(F30/F23,\"\")","v":""},{"$f":"IFERROR(G30/G23,\"\")","v":""},"","",{"$f":"IFERROR(J30/J23,\"\")","v":""},{"$f":"IFERROR(K30/K23,\"\")","v":""},"","",{"$f":"IFERROR(N30/N23,\"\")","v":""},{"$f":"IFERROR(O30/O23,\"\")","v":""},"","",{"$f":"IFERROR(R30/R23,\"\")","v":""},{"$f":"IFERROR(S30/S23,\"\")","v":""},"","",{"$f":"IFERROR(V30/V23,\"\")","v":""},{"$f":"IFERROR(W30/W23,\"\")","v":""},"","",{"$f":"IFERROR(Z30/Z23,\"\")","v":""},{"$f":"IFERROR(AA30/AA23,\"\")","v":""},"","",null,0]
[]
["Average Wage $",{"$f":"IFERROR(B30/B29,\"\")","v":""},{"$f":"IFERROR(C30/C29,\"\")","v":""},"","",{"$f":"IFERROR(F30/F29,\"\")","v":""},{"$f":"IFERROR(G30/G29,\"\")","v":""},"","",{"$f":"IFERROR(J30/J29,\"\")","v":""},{"$f":"IFERROR(K30/K29,\"\")","v":""},"","",{"$f":"IFERROR(N30/N29,\"\")","v":""},{"$f":"IFERROR(O30/O29,\"\")","v":""},"","",{"$f":"IFERROR(R30/R29,\"\")","v":""},{"$f":"IFERROR(S30/S29,\"\")","v":""},"","",{"$f":"IFERROR(V30/V29,\"\")","v":""},{"$f":"IFERROR(W30/W29,\"\")","v":""},"","",{"$f":"IFERROR(Z30/Z29,\"\")","v":""},{"$f":"IFERROR(AA30/AA29,\"\")","v":""},"","",null,0]
["Forecasted SPMH",{"$f":"IFERROR(B23/B29,\"\")","v":66.816000000000003},{"$f":"IFERROR(C23/C29,\"\")","v":61.881935483870954},19.990588235294119,48.910566037735848,{"$f":"IFERROR(F23/F29,\"\")","v":44.188749999999999},{"$f":"IFERROR(G23/G29,\"\")","v":61.421176470588243},43.629411764705878,52.791641791044775,{"$f":"IFERROR(J23/J29,\"\")","v":51.963750000000005},{"$f":"IFERROR(K23/K29,\"\")","v":44.995609756097565},11.494782608695653,36.757750000000001,{"$f":"IFERROR(N23/N29,\"\")","v":108.95},{"$f":"IFERROR(O23/O29,\"\")","v":55.49},14.503333333333334,47.767777777777781,{"$f":"IFERROR(R23/R29,\"\")","v":59.419999999999995},{"$f":"IFERROR(S23/S29,\"\")","v":61.190666666666672},14.741999999999999,50.862173913043485,{"$f":"IFERROR(V23/V29,\"\")","v":16.759999999999998},{"$f":"IFERROR(W23/W29,\"\")","v":49.89},11.0525,32.956470588235291,{"$f":"IFERROR(Z23/Z29,\"\")","v":28.392499999999998},{"$f":"IFERROR(AA23/AA29,\"\")","v":44.267272727272726},10.902352941176471,31.824848484848484,null,{"$f":"IFERROR(AE23/AE29,\"\")","v":42.236221198156684}]
[]
["Labor Budget"]
["Labor Budget $",{"$f":"IFERROR(B23*$C$4,\"\")","v":31.7376},{"$f":"IFERROR(C23*$C$4,\"\")","v":182.24229999999997},32.284800000000004,246.26469999999998,67.166899999999998,198.39040000000003,70.461500000000001,336.0188,78.98490000000001,175.25790000000001,25.116099999999999,279.35890000000006,62.101500000000009,158.1465,24.800699999999999,245.0487,33.869399999999999,174.39340000000001,14.004899999999999,222.26770000000002,25.475199999999997,170.62379999999999,16.799800000000001,212.89879999999999,43.156599999999997,138.77789999999999,17.607300000000002,199.54179999999999,null,1741.3994]
["Labor Credit $",{"$f":"IFERROR(VLOOKUP(\"Acting Manager\",'Shift Schedule'!$C$7:$EM$41,178,FALSE),0)","v":0},{"$f":"IFERROR(VLOOKUP(\"Acting Manager\",'Shift Schedule'!$C$7:$EM$41,180,FALSE),0)","v":0},{"$f":"IFERROR(VLOOKUP(\"Acting Manager\",'Shift Schedule'!$C$7:$EM$41,182,FALSE),0)","v":0},{"$f":"IFERROR(VLOOKUP(\"Acting Manager\",'Shift Schedule'!$C$7:$EM$41,184,FALSE),0)","v":0},{"$f":"IFERROR(VLOOKUP(\"Acting Manager\",'Shift Schedule'!$C$53:$EM$87,178,FALSE),0)","v":0},{"$f":"IFERROR(VLOOKUP(\"Acting Manager\",'Shift Schedule'!$C$53:$EM$87,180,FALSE),0)","v":0},{"$f":"IFERROR(VLOOKUP(\"Acting Manager\",'Shift Schedule'!$C$53:$EM$87,182,FALSE),0)","v":0},{"$f":"IFERROR(VLOOKUP(\"Acting Manager\",'Shift Schedule'!$C$53:$EM$87,184,FALSE),0)","v":0},{"$f":"IFERROR(VLOOKUP(\"Acting Manager\",'Shift Schedule'!$C$99:$EM$133,178,FALSE),0)","v":0},{"$f":"IFERROR(VLOOKUP(\"Acting Manager\",'Shift Schedule'!$C$99:$EM$133,180,FALSE),0)","v":0},{"$f":"IFERROR(VLOOKUP(\"Acting Manager\",'Shift Schedule'!$C$99:$EM$133,182,FALSE),0)","v":0},{"$f":"IFERROR(VLOOKUP(\"Acting Manager\",'Shift Schedule'!$C$99:$EM$133,184,FALSE),0)","v":0},{"$f":"IFERROR(VLOOKUP(\"Acting Manager\",'Shift Schedule'!$C$145:$EM$179,178,FALSE),0)","v":0},{"$f":"IFERROR(VLOOKUP(\"Acting Manager\",'Shift Schedule'!$C$145:$EM$179,180,FALSE),0)","v":0},{"$f":"IFERROR(VLOOKUP(\"Acting Manager\",'Shift Schedule'!$C$145:$EM$179,182,FALSE),0)","v":0},{"$f":"IFERROR(VLOOKUP(\"Acting Manager\",'Shift Schedule'!$C$145:$EM$179,184,FALSE),0)","v":0},{"$f":"IFERROR(VLOOKUP(\"Acting Manager\",'Shift Schedule'!$C$191:$EM$225,178,FALSE),0)","v":0},{"$f":"IFERROR(VLOOKUP(\"Acting Manager\",'Shift Schedule'!$C$191:$EM$225,180,FALSE),0)","v":0},{"$f":"IFERROR(VLOOKUP(\"Acting Manager\",'Shift Schedule'!$C$191:$EM$225,182,FALSE),0)","v":0},{"$f":"IFERROR(VLOOKUP(\"Acting Manager\",'Shift Schedule'!$C$191:$EM$225,184,FALSE),0)","v":0},{"$f":"IFERROR(VLOOKUP(\"Acting Manager\",'Shift Schedule'!$C$237:$EM$271,178,FALSE),0)","v":0},{"$f":"IFERROR(VLOOKUP(\"Acting Manager\",'Shift Schedule'!$C$237:$EM$271,180,FALSE),0)","v":0},{"$f":"IFERROR(VLOOKUP(\"Acting Manager\",'Shift Schedule'!$C$237:$EM$271,182,FALSE),0)","v":0},{"$f":"IFERROR(VLOOKUP(\"Acting Manager\",'Shift Schedule'!$C$237:$EM$271,184,FALSE),0)","v":0},{"$f":"IFERROR(VLOOKUP(\"Acting Manager\",'Shift Schedule'!$C$283:$EM$317,178,FALSE),0)","v":0},{"$f":"IFERROR(VLOOKUP(\"Acting Manager\",'Shift Schedule'!$C$283:$EM$317,180,FALSE),0)","v":0},{"$f":"IFERROR(VLOOKUP(\"Acting Manager\",'Shift Schedule'!$C$283:$EM$317,182,FALSE),0)","v":0},{"$f":"IFERROR(VLOOKUP(\"Acting Manager\",'Shift Schedule'!$C$283:$EM$317,184,FALSE),0)","v":0},null,{"$f":"IF(SUM(E38,I38,M38,Q38,U38,Y38,AC38)=\"\",\"\",SUM(E38,I38,M38,Q38,U38,Y38,AC38))","v":0}]
["Labor Credit Hrs",{"$f":"IFERROR(VLOOKUP(\"Acting Manager\",'Shift Schedule'!$C$7:$EM$41,177,FALSE),0)","v":0},{"$f":"IFERROR(VLOOKUP(\"Acting Manager\",'Shift Schedule'!$C$7:$EM$41,179,FALSE),0)","v":0},{"$f":"IFERROR(VLOOKUP(\"Acting Manager\",'Shift Schedule'!$C$7:$EM$41,181,FALSE),0)","v":0},{"$f":"IFERROR(VLOOKUP(\"Acting Manager\",'Shift Schedule'!$C$7:$EM$41,183,FALSE),0)","v":0},{"$f":"IFERROR(VLOOKUP(\"Acting Manager\",'Shift Schedule'!$C$53:$EM$87,177,FALSE),0)","v":0},{"$f":"IFERROR(VLOOKUP(\"Acting Manager\",'Shift Schedule'!$C$53:$EM$87,179,FALSE),0)","v":0},{"$f":"IFERROR(VLOOKUP(\"Acting Manager\",'Shift Schedule'!$C$53:$EM$87,181,FALSE),0)","v":0},{"$f":"IFERROR(VLOOKUP(\"Acting Manager\",'Shift Schedule'!$C$53:$EM$87,183,FALSE),0)","v":0},{"$f":"IFERROR(VLOOKUP(\"Acting Manager\",'Shift Schedule'!$C$99:$EM$133,177,FALSE),0)","v":0},{"$f":"IFERROR(VLOOKUP(\"Acting Manager\",'Shift Schedule'!$C$99:$EM$133,179,FALSE),0)","v":0},{"$f":"IFERROR(VLOOKUP(\"Acting Manager\",'Shift Schedule'!$C$99:$EM$133,181,FALSE),0)","v":0},{"$f":"IFERROR(VLOOKUP(\"Acting Manager\",'Shift Schedule'!$C$99:$EM$133,183,FALSE),0)","v":0},{"$f":"IFERROR(VLOOKUP(\"Acting Manager\",'Shift Schedule'!$C$145:$EM$179,177,FALSE),0)","v":0},{"$f":"IFERROR(VLOOKUP(\"Acting Manager\",'Shift Schedule'!$C$145:$EM$179,179,FALSE),0)","v":0},{"$f":"IFERROR(VLOOKUP(\"Acting Manager\",'Shift Schedule'!$C$145:$EM$179,181,FALSE),0)","v":0},{"$f":"IFERROR(VLOOKUP(\"Acting Manager\",'Shift Schedule'!$C$145:$EM$179,183,FALSE),0)","v":0},{"$f":"IFERROR(VLOOKUP(\"Acting Manager\",'Shift Schedule'!$C$191:$EM$225,177,FALSE),0)","v":0},{"$f":"IFERROR(VLOOKUP(\"Acting Manager\",'Shift Schedule'!$C$191:$EM$225,179,FALSE),0)","v":0},{"$f":"IFERROR(VLOOKUP(\"Acting Manager\",'Shift Schedule'!$C$191:$EM$225,181,FALSE),0)","v":0},{"$f":"IFERROR(VLOOKUP(\"Acting Manager\",'Shift Schedule'!$C$191:$EM$225,183,FALSE),0)","v":0},{"$f":"IFERROR(VLOOKUP(\"Acting Manager\",'Shift Schedule'!$C$237:$EM$271,177,FALSE),0)","v":0},{"$f":"IFERROR(VLOOKUP(\"Acting Manager\",'Shift Schedule'!$C$237:$EM$271,179,FALSE),0)","v":0},{"$f":"IFERROR(VLOOKUP(\"Acting Manager\",'Shift Schedule'!$C$237:$EM$271,181,FALSE),0)","v":0},{"$f":"IFERROR(VLOOKUP(\"Acting Manager\",'Shift Schedule'!$C$237:$EM$271,183,FALSE),0)","v":0},{"$f":"IFERROR(VLOOKUP(\"Acting Manager\",'Shift Schedule'!$C$283:$EM$317,177,FALSE),0)","v":0},{"$f":"IFERROR(VLOOKUP(\"Acting Manager\",'Shift Schedule'!$C$283:$EM$317,179,FALSE),0)","v":0},{"$f":"IFERROR(VLOOKUP(\"Acting Manager\",'Shift Schedule'!$C$283:$EM$317,181,FALSE),0)","v":0},{"$f":"IFERROR(VLOOKUP(\"Acting Manager\",'Shift Schedule'!$C$283:$EM$317,183,FALSE),0)","v":0},null,{"$f":"IF(SUM(E39,I39,M39,Q39,U39,Y39,AC39)=\"\",\"\",SUM(E39,I39,M39,Q39,U39,Y39,AC39))","v":0}]
["Labor Budget Hrs",{"$f":"IFERROR(B37/B33,\"\")","v":""},"","","",{"$f":"IFERROR(F37/F33,\"\")","v":""},{"$f":"IFERROR(G37/G33,\"\")","v":""},"","",{"$f":"IFERROR(J37/J33,\"\")","v":""},{"$f":"IFERROR(K37/K33,\"\")","v":""},"","",{"$f":"IFERROR(N37/N33,\"\")","v":""},{"$f":"IFERROR(O37/O33,\"\")","v":""},"","",{"$f":"IFERROR(R37/R33,\"\")","v":""},{"$f":"IFERROR(S37/S33,\"\")","v":""},"","",{"$f":"IFERROR(V37/V33,\"\")","v":""},{"$f":"IFERROR(W37/W33,\"\")","v":""},"","",{"$f":"IFERROR(Z37/Z33,\"\")","v":""},{"$f":"IFERROR(AA37/AA33,\"\")","v":""},"","",null,""]
["Labor Budget $",{"$f":"IFERROR(B37-B38,\"\")","v":31.7376},182.24229999999997,32.284800000000004,246.26469999999998,{"$f":"IFERROR(F37-F38,\"\")","v":67.166899999999998},{"$f":"IFERROR(G37-G38,\"\")","v":198.39040000000003},70.461500000000001,336.0188,{"$f":"IFERROR(J37-J38,\"\")","v":78.98490000000001},{"$f":"IFERROR(K37-K38,\"\")","v":175.25790000000001},25.116099999999999,279.35890000000006,{"$f":"IFERROR(N37-N38,\"\")","v":62.101500000000009},{"$f":"IFERROR(O37-O38,\"\")","v":158.1465},24.800699999999999,245.0487,{"$f":"IFERROR(R37-R38,\"\")","v":33.869399999999999},{"$f":"IFERROR(S37-S38,\"\")","v":174.39340000000001},14.004899999999999,222.26770000000002,{"$f":"IFERROR(V37-V38,\"\")","v":25.475199999999997},{"$f":"IFERROR(W37-W38,\"\")","v":170.62379999999999},16.799800000000001,212.89879999999999,{"$f":"IFERROR(Z37-Z38,\"\")","v":43.156599999999997},{"$f":"IFERROR(AA37-AA38,\"\")","v":138.77789999999999},17.607300000000002,199.54179999999999,null,1741.3994]
["Labor Budget Hrs",{"$f":"IFERROR(B40-B39,\"\")","v":""},"","","",{"$f":"IFERROR(F40-F39,\"\")","v":""},{"$f":"IFERROR(G40-G39,\"\")","v":""},"","",{"$f":"IFERROR(J40-J39,\"\")","v":""},{"$f":"IFERROR(K40-K39,\"\")","v":""},"","",{"$f":"IFERROR(N40-N39,\"\")","v":""},{"$f":"IFERROR(O40-O39,\"\")","v":""},"","",{"$f":"IFERROR(R40-R39,\"\")","v":""},{"$f":"IFERROR(S40-S39,\"\")","v":""},"","",{"$f":"IFERROR(V40-V39,\"\")","v":""},{"$f":"IFERROR(W40-W39,\"\")","v":""},"","",{"$f":"IFERROR(Z40-Z39,\"\")","v":""},{"$f":"IFERROR(AA40-AA39,\"\")","v":""},"","",null,""]
[]
["Labor Variance"]
["Variance $",{"$f":"IFERROR(B30-B37,\"\")","v":""},"","","",{"$f":"IFERROR(F30-F37,\"\")","v":""},{"$f":"IFERROR(G30-G37,\"\")","v":""},"","","","","","","","","","","","","","","","","","","","","","",null,{"$f":"IFERROR(AE30-AE37,\"\")","v":-1741.3994}]
["Variance Hrs",{"$f":"IFERROR(B29-B42,\"\")","v":""},"","","",{"$f":"IFERROR(F29-F42,\"\")","v":""},{"$f":"IFERROR(G29-G42,\"\")","v":""},"","","","","","","","","","","","","","","","","","","","","","",null,{"$f":"IFERROR(AE29-AE42,\"\")","v":""}]
["Variance %",{"$f":"IFERROR(B45/B23,\"\")","v":""},"","","",{"$f":"IFERROR(F45/F23,\"\")","v":""},{"$f":"IFERROR(G45/G23,\"\")","v":""},"","","","","","","","","","","","","","","","","","","","","","",null,{"$f":"IFERROR(AE45/AE23,\"\")","v":-0.19}]
[]
[]
["Remember:"]
["1.  This Forecast Must be Completed Along with the Schedule Every Week"]
["2.  This Forecast Must Stapled to the Back of the Schedule Every Week."]

{"sheet":"Schedule Forecast-Detailed","index":4,"n_rows":47,"n_cols":31,"rows_kept":47,"cut":false,"hidden":false,"merged":[[10,13,10,16],[15,0,15,28],[6,0,6,1],[30,0,30,28],[38,0,38,28],[12,0,12,28],[20,0,20,28],[10,17,10,20],[10,21,10,24],[10,25,10,28],[10,5,10,8],[10,9,10,12],[2,29,2,30],[4,0,4,1],[4,2,4,3],[5,0,5,1],[5,2,5,3],[3,0,3,1],[0,9,0,20],[1,11,1,12],[1,13,1,15],[10,1,10,4],[0,29,0,30],[1,29,1,30],[3,29,3,30],[3,2,3,3],[9,17,9,20],[9,21,9,24],[9,25,9,28],[9,1,9,4],[9,5,9,8],[6,2,6,3],[9,9,9,12],[9,13,9,16]]}
[null,null,null,null,null,null,null,null,null,"Weekly Schedule Forecast",null,null,null,null,null,null,null,null,null,null,null,null,null,null,null,null,null,null,"For the Week of: ",{"$f":"'Shift Schedule'!O2","v":"2014-11-19"}]
[null,null,null,null,null,null,null,null,null,null,null,{"$f":"'Shift Schedule'!B2","v":"Store:"},null,{"$f":"'Shift Schedule'!D2","v":"1361 Danville"},null,null,null,null,null,null,null,null,null,null,null,null,null,null,"Period:",{"$f":"'Weekly Schedule'!X2","v":12}]
[null,null,null,null,null,null,null,null,null,null,null,null,null,null,null,null,null,null,null,null,null,null,null,null,null,null,null,null,"Week:",{"$f":"'Weekly Schedule'!X3","v":3}]
["Labor Budget-",null,{"$f":"'Schedule Forecast'!C4:D4","v":0.19}]
["Scheduled Labor-",null,{"$f":"AE27","v":0}]
["Labor Variance ($)-",null,{"$f":"AE40","v":-1741.3994}]
["Labor Variance (Hr)-",null,{"$f":"AE41","v":""}]
[]
[]
[null,"Wednesday",null,null,null,"Thursday",null,null,null,"Friday",null,null,null,"Saturday",null,null,null,"Sunday",null,null,null,"Monday",null,null,null,"Tuesday"]
[null,{"$f":"'Shift Schedule'!T5","v":"2014-11-19"},null,null,null,{"$f":"'Shift Schedule'!T51","v":"2014-11-20"},null,null,null,{"$f":"'Shift Schedule'!T97","v":"2014-11-21"},null,null,null,{"$f":"'Shift Schedule'!T143","v":"2014-11-22"},null,null,null,{"$f":"'Shift Schedule'!T189","v":"2014-11-23"},null,null,null,{"$f":"'Shift Schedule'!T235","v":"2014-11-24"},null,null,null,{"$f":"'Shift Schedule'!T281","v":"2014-11-25"},null,null,null,null,"Weekly"]
["Daypart","Bfst","Lunch","Dinner","Total","Bfst","Lunch","Dinner","Total","Bfst","Lunch","Dinner","Total","Bfst","Lunch","Dinner","Total","Bfst","Lunch","Dinner","Total","Bfst","Lunch","Dinner","Total","Bfst","Lunch","Dinner","Total",null,"Total"]
["Forecasted Sales"]
["Avg Last 4wk Sales",{"$f":"'Schedule Forecast'!B18","v":1701.9474999999998},{"$f":"'Schedule Forecast'!C18","v":980.67499999999995},{"$f":"'Schedule Forecast'!D18","v":161.03},{"$f":"'Schedule Forecast'!E18","v":2843.6524999999997},{"$f":"'Schedule Forecast'!F18","v":320.77749999999997},{"$f":"'Schedule Forecast'!G18","v":1032.52},{"$f":"'Schedule Forecast'!H18","v":277.90749999999997},{"$f":"'Schedule Forecast'!I18","v":1631.2049999999999},{"$f":"'Schedule Forecast'!J18","v":244.28500000000003},{"$f":"'Schedule Forecast'!K18","v":881.41000000000008},{"$f":"'Schedule Forecast'!L18","v":149.51250000000002},{"$f":"'Schedule Forecast'!M18","v":1275.2075000000002},{"$f":"'Schedule Forecast'!N18","v":281.48749999999995},{"$f":"'Schedule Forecast'!O18","v":860.9375},{"$f":"'Schedule Forecast'!P18","v":165.315},{"$f":"'Schedule Forecast'!Q18","v":1307.74},{"$f":"'Schedule Forecast'!R18","v":189.04499999999999},{"$f":"'Schedule Forecast'!S18","v":835.99},{"$f":"'Schedule Forecast'!T18","v":56.407499999999999},{"$f":"'Schedule Forecast'!U18","v":1081.4425000000001},{"$f":"'Schedule Forecast'!V18","v":147.92500000000001},{"$f":"'Schedule Forecast'!W18","v":743.9475000000001},{"$f":"'Schedule Forecast'!X18","v":117.88500000000001},{"$f":"'Schedule Forecast'!Y18","v":1009.7575000000002},{"$f":"'Schedule Forecast'!Z18","v":196.04749999999999},{"$f":"'Schedule Forecast'!AA18","v":843.30499999999995},{"$f":"'Schedule Forecast'!AB18","v":167.68999999999997},{"$f":"'Schedule Forecast'!AC18","v":1207.0425},null,{"$f":"'Schedule Forecast'!AE18","v":10356.047500000001}]
["PY Sales",{"$f":"'Schedule Forecast'!B19","v":0},{"$f":"'Schedule Forecast'!C19","v":0},{"$f":"'Schedule Forecast'!D19","v":0},{"$f":"IF(SUM(B15:D15)=0,\"\",SUM(B15:D15))","v":""},{"$f":"'Schedule Forecast'!F19","v":0},{"$f":"'Schedule Forecast'!G19","v":0},{"$f":"'Schedule Forecast'!H19","v":0},{"$f":"IF(SUM(F15:H15)=0,\"\",SUM(F15:H15))","v":""},{"$f":"'Schedule Forecast'!J19","v":0},{"$f":"'Schedule Forecast'!K19","v":0},{"$f":"'Schedule Forecast'!L19","v":0},{"$f":"'Schedule Forecast'!M19","v":""},{"$f":"'Schedule Forecast'!N19","v":0},{"$f":"'Schedule Forecast'!O19","v":0},{"$f":"'Schedule Forecast'!P19","v":0},{"$f":"IF(SUM(N15:P15)=0,\"\",SUM(N15:P15))","v":""},{"$f":"'Schedule Forecast'!R19","v":0},{"$f":"'Schedule Forecast'!S19","v":0},{"$f":"'Schedule Forecast'!T19","v":0},{"$f":"'Schedule Forecast'!U19","v":""},{"$f":"'Schedule Forecast'!V19","v":0},{"$f":"'Schedule Forecast'!W19","v":0},{"$f":"'Schedule Forecast'!X19","v":0},{"$f":"IF(SUM(V15:X15)=0,\"\",SUM(V15:X15))","v":""},{"$f":"'Schedule Forecast'!Z19","v":0},{"$f":"'Schedule Forecast'!AA19","v":0},{"$f":"'Schedule Forecast'!AB19","v":0},{"$f":"'Schedule Forecast'!AC19","v":""},null,{"$f":"IF(SUM(E15,I15,M15,Q15,U15,Y15,AC15)=0,\"\",SUM(E15,I15,M15,Q15,U15,Y15,AC15))","v":""}]
[]
["Sales Forecast",{"$f":"'Schedule Forecast'!B21","v":167.04},{"$f":"'Schedule Forecast'!C21","v":959.16999999999985},{"$f":"'Schedule Forecast'!D21","v":169.92000000000002},{"$f":"'Schedule Forecast'!E21","v":1296.1299999999999},{"$f":"'Schedule Forecast'!F21","v":353.51},{"$f":"'Schedule Forecast'!G21","v":1044.1600000000001},{"$f":"'Schedule Forecast'!H21","v":370.84999999999997},{"$f":"'Schedule Forecast'!I21","v":1768.52},{"$f":"'Schedule Forecast'!J21","v":415.71000000000004},{"$f":"'Schedule Forecast'!K21","v":922.41000000000008},{"$f":"'Schedule Forecast'!L21","v":132.19},{"$f":"'Schedule Forecast'!M21","v":1470.3100000000002},{"$f":"'Schedule Forecast'!N21","v":326.85000000000002},{"$f":"'Schedule Forecast'!O21","v":832.35},{"$f":"'Schedule Forecast'!P21","v":130.53},{"$f":"'Schedule Forecast'!Q21","v":1289.73},{"$f":"'Schedule Forecast'!R21","v":178.26},{"$f":"'Schedule Forecast'!S21","v":917.86000000000013},{"$f":"'Schedule Forecast'!T21","v":73.709999999999994},{"$f":"'Schedule Forecast'!U21","v":1169.8300000000002},{"$f":"'Schedule Forecast'!V21","v":134.07999999999998},{"$f":"'Schedule Forecast'!W21","v":898.02},{"$f":"'Schedule Forecast'!X21","v":88.42},{"$f":"'Schedule Forecast'!Y21","v":1120.52},{"$f":"'Schedule Forecast'!Z21","v":227.14},{"$f":"'Schedule Forecast'!AA21","v":730.41},{"$f":"'Schedule Forecast'!AB21","v":92.67},{"$f":"'Schedule Forecast'!AC21","v":1050.22},null,{"$f":"'Schedule Forecast'!AE21","v":9165.26}]
["Outside Sales",{"$f":"'Schedule Forecast'!B22","v":0},{"$f":"'Schedule Forecast'!C22","v":0},{"$f":"'Schedule Forecast'!D22","v":0},{"$f":"'Schedule Forecast'!E22","v":""},{"$f":"'Schedule Forecast'!F22","v":0},{"$f":"'Schedule Forecast'!G22","v":0},{"$f":"'Schedule Forecast'!H22","v":0},{"$f":"'Schedule Forecast'!I22","v":""},{"$f":"'Schedule Forecast'!J22","v":0},{"$f":"'Schedule Forecast'!K22","v":0},{"$f":"'Schedule Forecast'!L22","v":0},{"$f":"'Schedule Forecast'!M22","v":""},{"$f":"'Schedule Forecast'!N22","v":0},{"$f":"'Schedule Forecast'!O22","v":0},{"$f":"'Schedule Forecast'!P22","v":0},{"$f":"'Schedule Forecast'!Q22","v":""},{"$f":"'Schedule Forecast'!R22","v":0},{"$f":"'Schedule Forecast'!S22","v":0},{"$f":"'Schedule Forecast'!T22","v":0},{"$f":"'Schedule Forecast'!U22","v":""},{"$f":"'Schedule Forecast'!V22","v":0},{"$f":"'Schedule Forecast'!W22","v":0},{"$f":"'Schedule Forecast'!X22","v":0},{"$f":"'Schedule Forecast'!Y22","v":""},{"$f":"'Schedule Forecast'!Z22","v":0},{"$f":"'Schedule Forecast'!AA22","v":0},{"$f":"'Schedule Forecast'!AB22","v":0},{"$f":"'Schedule Forecast'!AC22","v":""},null,{"$f":"'Schedule Forecast'!AE22","v":""}]
["Sales Forecast-Total",{"$f":"IF(SUM(B17:B18)=0,\"\",SUM(B17:B18))","v":167.04},959.16999999999985,169.92000000000002,1296.1299999999999,{"$f":"IF(SUM(F17:F18)=0,\"\",SUM(F17:F18))","v":353.51},{"$f":"IF(SUM(G17:G18)=0,\"\",SUM(G17:G18))","v":1044.1600000000001},370.84999999999997,1768.52,415.71000000000004,922.41000000000008,132.19,1470.3100000000002,326.85000000000002,832.35,130.53,1289.73,178.26,917.86000000000013,73.709999999999994,1169.8300000000002,134.07999999999998,898.02,88.42,1120.52,227.14,730.41,92.67,1050.22,null,{"$f":"IF(SUM(E19,I19,M19,Q19,U19,Y19,AC19)=0,\"\",SUM(E19,I19,M19,Q19,U19,Y19,AC19))","v":9165.26}]
[]
["Forecasted Schedule"]
["Scheduled Labor Hrs",{"$f":"IF('Shift Schedule'!EF42=0,\"\",'Shift Schedule'!EF42)","v":8.5},{"$f":"IF('Shift Schedule'!EH42=0,\"\",'Shift Schedule'!EH42)","v":18},{"$f":"IF('Shift Schedule'!EJ42=0,\"\",'Shift Schedule'!EJ42)","v":8.5},{"$f":"IF(SUM(B22:D22)=0,\"\",SUM(B22:D22))","v":35},{"$f":"IF('Shift Schedule'!EF88=0,\"\",'Shift Schedule'!EF88)","v":8},{"$f":"IF('Shift Schedule'!EH88=0,\"\",'Shift Schedule'!EH88)","v":17},{"$f":"IF('Shift Schedule'!EJ88=0,\"\",'Shift Schedule'!EJ88)","v":8.5},{"$f":"IF(SUM(F22:H22)=0,\"\",SUM(F22:H22))","v":33.5},{"$f":"IF('Shift Schedule'!EF134=0,\"\",'Shift Schedule'!EF134)","v":8},{"$f":"IF('Shift Schedule'!EH134=0,\"\",'Shift Schedule'!EH134)","v":20.5},{"$f":"IF('Shift Schedule'!EJ134=0,\"\",'Shift Schedule'!EJ134)","v":11.5},{"$f":"IF(SUM(J22:L22)=0,\"\",SUM(J22:L22))","v":40},{"$f":"IF('Shift Schedule'!EF180=0,\"\",'Shift Schedule'!EF180)","v":8},{"$f":"IF('Shift Schedule'!EH180=0,\"\",'Shift Schedule'!EH180)","v":18},{"$f":"IF('Shift Schedule'!EJ180=0,\"\",'Shift Schedule'!EJ180)","v":9},{"$f":"IF(SUM(N22:P22)=0,\"\",SUM(N22:P22))","v":35},{"$f":"IF('Shift Schedule'!EF226=0,\"\",'Shift Schedule'!EF226)","v":7},{"$f":"IF('Shift Schedule'!EH226=0,\"\",'Shift Schedule'!EH226)","v":18},{"$f":"IF('Shift Schedule'!EJ226=0,\"\",'Shift Schedule'!EJ226)","v":5},{"$f":"IF(SUM(R22:T22)=0,\"\",SUM(R22:T22))","v":30},{"$f":"IF('Shift Schedule'!EF272=0,\"\",'Shift Schedule'!EF272)","v":8},{"$f":"IF('Shift Schedule'!EH272=0,\"\",'Shift Schedule'!EH272)","v":18},{"$f":"IF('Shift Schedule'!EJ272=0,\"\",'Shift Schedule'!EJ272)","v":8},{"$f":"IF(SUM(V22:X22)=0,\"\",SUM(V22:X22))","v":34},{"$f":"IF('Shift Schedule'!EF318=0,\"\",'Shift Schedule'!EF318)","v":8},{"$f":"IF('Shift Schedule'!EH318=0,\"\",'Shift Schedule'!EH318)","v":16.5},{"$f":"IF('Shift Schedule'!EJ318=0,\"\",'Shift Schedule'!EJ318)","v":8.5},{"$f":"IF(SUM(Z22:AB22)=0,\"\",SUM(Z22:AB22))","v":33},null,{"$f":"IF(SUM(E22,I22,M22,Q22,U22,Y22,AC22)=\"\",\"\",SUM(E22,I22,M22,Q22,U22,Y22,AC22))","v":240.5}]
["Scheduled Labor $",{"$f":"IF('Shift Schedule'!EG42=0,\"\",'Shift Schedule'!EG42)","v":""},{"$f":"IF('Shift Schedule'!EI42=0,\"\",'Shift Schedule'!EI42)","v":""},{"$f":"IF('Shift Schedule'!EK42=0,\"\",'Shift Schedule'!EK42)","v":""},{"$f":"IF(SUM(B23:D23)=0,\"\",SUM(B23:D23))","v":""},{"$f":"IF('Shift Schedule'!EG88=0,\"\",'Shift Schedule'!EG88)","v":""},{"$f":"IF('Shift Schedule'!EI88=0,\"\",'Shift Schedule'!EI88)","v":""},{"$f":"IF('Shift Schedule'!EK88=0,\"\",'Shift Schedule'!EK88)","v":""},{"$f":"IF(SUM(F23:H23)=0,\"\",SUM(F23:H23))","v":""},{"$f":"IF('Shift Schedule'!EG134=0,\"\",'Shift Schedule'!EG134)","v":""},{"$f":"IF('Shift Schedule'!EI134=0,\"\",'Shift Schedule'!EI134)","v":""},{"$f":"IF('Shift Schedule'!EK134=0,\"\",'Shift Schedule'!EK134)","v":""},{"$f":"IF(SUM(J23:L23)=0,\"\",SUM(J23:L23))","v":""},{"$f":"IF('Shift Schedule'!EG180=0,\"\",'Shift Schedule'!EG180)","v":""},{"$f":"IF('Shift Schedule'!EI180=0,\"\",'Shift Schedule'!EI180)","v":""},{"$f":"IF('Shift Schedule'!EK180=0,\"\",'Shift Schedule'!EK180)","v":""},{"$f":"IF(SUM(N23:P23)=0,\"\",SUM(N23:P23))","v":""},{"$f":"IF('Shift Schedule'!EG226=0,\"\",'Shift Schedule'!EG226)","v":""},{"$f":"IF('Shift Schedule'!EI226=0,\"\",'Shift Schedule'!EI226)","v":""},{"$f":"IF('Shift Schedule'!EK226=0,\"\",'Shift Schedule'!EK226)","v":""},{"$f":"IF(SUM(R23:T23)=0,\"\",SUM(R23:T23))","v":""},{"$f":"IF('Shift Schedule'!EG272=0,\"\",'Shift Schedule'!EG272)","v":""},{"$f":"IF('Shift Schedule'!EI272=0,\"\",'Shift Schedule'!EI272)","v":""},{"$f":"IF('Shift Schedule'!EK272=0,\"\",'Shift Schedule'!EK272)","v":""},{"$f":"IF(SUM(V23:X23)=0,\"\",SUM(V23:X23))","v":""},{"$f":"IF('Shift Schedule'!EG318=0,\"\",'Shift Schedule'!EG318)","v":""},{"$f":"IF('Shift Schedule'!EI318=0,\"\",'Shift Schedule'!EI318)","v":""},{"$f":"IF('Shift Schedule'!EK318=0,\"\",'Shift Schedule'!EK318)","v":""},{"$f":"IF(SUM(Z23:AB23)=0,\"\",SUM(Z23:AB23))","v":""},null,{"$f":"IF(SUM(E23,I23,M23,Q23,U23,Y23,AC23)=\"\",\"\",SUM(E23,I23,M23,Q23,U23,Y23,AC23))","v":0}]
["GM Hours Scheduled",{"$f":"IFERROR(VLOOKUP(\"General Manager\",'Shift Schedule'!$C$7:$EM$41,169,FALSE),0)","v":0},{"$f":"IFERROR(VLOOKUP(\"General Manager\",'Shift Schedule'!$C$7:$EM$41,171,FALSE),0)","v":0},{"$f":"IFERROR(VLOOKUP(\"General Manager\",'Shift Schedule'!$C$7:$EM$41,173,FALSE),0)","v":0},{"$f":"IFERROR(VLOOKUP(\"General Manager\",'Shift Schedule'!$C$7:$EM$41,175,FALSE),0)","v":0},{"$f":"IFERROR(VLOOKUP(\"General Manager\",'Shift Schedule'!$C$53:$EM$87,169,FALSE),0)","v":0},{"$f":"IFERROR(VLOOKUP(\"General Manager\",'Shift Schedule'!$C$53:$EM$87,171,FALSE),0)","v":0},{"$f":"IFERROR(VLOOKUP(\"General Manager\",'Shift Schedule'!$C$53:$EM$87,173,FALSE),0)","v":0},{"$f":"IFERROR(VLOOKUP(\"General Manager\",'Shift Schedule'!$C$53:$EM$87,175,FALSE),0)","v":0},{"$f":"IFERROR(VLOOKUP(\"General Manager\",'Shift Schedule'!$C$99:$EM$133,169,FALSE),0)","v":0},{"$f":"IFERROR(VLOOKUP(\"General Manager\",'Shift Schedule'!$C$99:$EM$133,171,FALSE),0)","v":0},{"$f":"IFERROR(VLOOKUP(\"General Manager\",'Shift Schedule'!$C$99:$EM$133,173,FALSE),0)","v":0},{"$f":"IFERROR(VLOOKUP(\"General Manager\",'Shift Schedule'!$C$99:$EM$133,175,FALSE),0)","v":0},{"$f":"IFERROR(VLOOKUP(\"General Manager\",'Shift Schedule'!$C$145:$EM$179,169,FALSE),0)","v":0},{"$f":"IFERROR(VLOOKUP(\"General Manager\",'Shift Schedule'!$C$145:$EM$179,171,FALSE),0)","v":0},{"$f":"IFERROR(VLOOKUP(\"General Manager\",'Shift Schedule'!$C$145:$EM$179,173,FALSE),0)","v":0},{"$f":"IFERROR(VLOOKUP(\"General Manager\",'Shift Schedule'!$C$145:$EM$179,175,FALSE),0)","v":0},{"$f":"IFERROR(VLOOKUP(\"General Manager\",'Shift Schedule'!$C$191:$EM$225,169,FALSE),0)","v":0},{"$f":"IFERROR(VLOOKUP(\"General Manager\",'Shift Schedule'!$C$191:$EM$225,171,FALSE),0)","v":0},{"$f":"IFERROR(VLOOKUP(\"General Manager\",'Shift Schedule'!$C$191:$EM$225,173,FALSE),0)","v":0},{"$f":"IFERROR(VLOOKUP(\"General Manager\",'Shift Schedule'!$C$191:$EM$225,175,FALSE),0)","v":0},{"$f":"IFERROR(VLOOKUP(\"General Manager\",'Shift Schedule'!$C$237:$EM$271,169,FALSE),0)","v":0},{"$f":"IFERROR(VLOOKUP(\"General Manager\",'Shift Schedule'!$C$237:$EM$271,171,FALSE),0)","v":0},{"$f":"IFERROR(VLOOKUP(\"General Manager\",'Shift Schedule'!$C$237:$EM$271,173,FALSE),0)","v":0},{"$f":"IFERROR(VLOOKUP(\"General Manager\",'Shift Schedule'!$C$237:$EM$271,175,FALSE),0)","v":0},{"$f":"IFERROR(VLOOKUP(\"General Manager\",'Shift Schedule'!$C$283:$EM$317,169,FALSE),0)","v":0},{"$f":"IFERROR(VLOOKUP(\"General Manager\",'Shift Schedule'!$C$283:$EM$317,171,FALSE),0)","v":0},{"$f":"IFERROR(VLOOKUP(\"General Manager\",'Shift Schedule'!$C$283:$EM$317,173,FALSE),0)","v":0},{"$f":"IFERROR(VLOOKUP(\"General Manager\",'Shift Schedule'!$C$283:$EM$317,175,FALSE),0)","v":0},null,{"$f":"IF(SUM(E24,I24,M24,Q24,U24,Y24,AC24)=\"\",\"\",SUM(E24,I24,M24,Q24,U24,Y24,AC24))","v":0}]
["Hourly Labor Hrs",{"$f":"IF(SUM(B22,B24)=0,\"\",B22-B24)","v":8.5},{"$f":"IF(SUM(C22,C24)=0,\"\",C22-C24)","v":18},8.5,35,{"$f":"IF(SUM(F22,F24)=0,\"\",F22-F24)","v":8},{"$f":"IF(SUM(G22,G24)=0,\"\",G22-G24)","v":17},{"$f":"IF(SUM(H22,H24)=0,\"\",H22-H24)","v":8.5},{"$f":"IF(SUM(I22,I24)=0,\"\",I22-I24)","v":33.5},{"$f":"IF(SUM(J22,J24)=0,\"\",J22-J24)","v":8},{"$f":"IF(SUM(K22,K24)=0,\"\",K22-K24)","v":20.5},{"$f":"IF(SUM(L22,L24)=0,\"\",L22-L24)","v":11.5},{"$f":"IF(SUM(M22,M24)=0,\"\",M22-M24)","v":40},{"$f":"IF(SUM(N22,N24)=0,\"\",N22-N24)","v":8},{"$f":"IF(SUM(O22,O24)=0,\"\",O22-O24)","v":18},{"$f":"IF(SUM(P22,P24)=0,\"\",P22-P24)","v":9},{"$f":"IF(SUM(Q22,Q24)=0,\"\",Q22-Q24)","v":35},{"$f":"IF(SUM(R22,R24)=0,\"\",R22-R24)","v":7},{"$f":"IF(SUM(S22,S24)=0,\"\",S22-S24)","v":18},{"$f":"IF(SUM(T22,T24)=0,\"\",T22-T24)","v":5},{"$f":"IF(SUM(U22,U24)=0,\"\",U22-U24)","v":30},{"$f":"IF(SUM(V22,V24)=0,\"\",V22-V24)","v":8},{"$f":"IF(SUM(W22,W24)=0,\"\",W22-W24)","v":18},{"$f":"IF(SUM(X22,X24)=0,\"\",X22-X24)","v":8},{"$f":"IF(SUM(Y22,Y24)=0,\"\",Y22-Y24)","v":34},{"$f":"IF(SUM(Z22,Z24)=0,\"\",Z22-Z24)","v":8},{"$f":"IF(SUM(AA22,AA24)=0,\"\",AA22-AA24)","v":16.5},{"$f":"IF(SUM(AB22,AB24)=0,\"\",AB22-AB24)","v":8.5},{"$f":"IF(SUM(AC22,AC24)=0,\"\",AC22-AC24)","v":33},null,{"$f":"IF(SUM(E25,I25,M25,Q25,U25,Y25,AC25)=\"\",\"\",SUM(E25,I25,M25,Q25,U25,Y25,AC25))","v":240.5}]
["Hourly Labor $",{"$f":"B23","v":""},{"$f":"C23","v":""},"","",{"$f":"F23","v":""},{"$f":"G23","v":""},"","",{"$f":"J23","v":""},{"$f":"K23","v":""},"","",{"$f":"N23","v":""},{"$f":"O23","v":""},"","",{"$f":"R23","v":""},{"$f":"S23","v":""},"","",{"$f":"V23","v":""},{"$f":"W23","v":""},"","",{"$f":"Z23","v":""},{"$f":"AA23","v":""},"","",null,{"$f":"IF(SUM(E26,I26,M26,Q26,U26,Y26,AC26)=\"\",\"\",SUM(E26,I26,M26,Q26,U26,Y26,AC26))","v":0}]
["Forecasted Labor %",{"$f":"IFERROR(B26/B19,\"\")","v":""},"","","",{"$f":"IFERROR(F26/F19,\"\")","v":""},{"$f":"IFERROR(G26/G19,\"\")","v":""},"","",{"$f":"IFERROR(J26/J19,\"\")","v":""},{"$f":"IFERROR(K26/K19,\"\")","v":""},{"$f":"IFERROR(L26/L19,\"\")","v":""},{"$f":"IFERROR(M26/M19,\"\")","v":""},{"$f":"IFERROR(N26/N19,\"\")","v":""},{"$f":"IFERROR(O26/O19,\"\")","v":""},{"$f":"IFERROR(P26/P19,\"\")","v":""},{"$f":"IFERROR(Q26/Q19,\"\")","v":""},{"$f":"IFERROR(R26/R19,\"\")","v":""},{"$f":"IFERROR(S26/S19,\"\")","v":""},{"$f":"IFERROR(T26/T19,\"\")","v":""},{"$f":"IFERROR(U26/U19,\"\")","v":""},{"$f":"IFERROR(V26/V19,\"\")","v":""},{"$f":"IFERROR(W26/W19,\"\")","v":""},{"$f":"IFERROR(X26/X19,\"\")","v":""},{"$f":"IFERROR(Y26/Y19,\"\")","v":""},{"$f":"IFERROR(Z26/Z19,\"\")","v":""},{"$f":"IFERROR(AA26/AA19,\"\")","v":""},{"$f":"IFERROR(AB26/AB19,\"\")","v":""},{"$f":"IFERROR(AC26/AC19,\"\")","v":""},null,0]
["Average Wage $",{"$f":"IFERROR(B26/B25,\"\")","v":""},"","","","","","","","","","","","","","","","","","","","","","","","","","","",null,{"$f":"IFERROR(AE26/AE25,\"\")","v":0}]
["Forecasted SPMH",{"$f":"IFERROR(B19/B25,\"\")","v":19.651764705882353},53.287222222222212,19.990588235294119,37.032285714285713,44.188749999999999,61.421176470588243,43.629411764705878,52.791641791044775,51.963750000000005,44.995609756097565,11.494782608695653,36.757750000000001,40.856250000000003,46.241666666666667,14.503333333333334,36.849428571428575,25.465714285714284,50.992222222222232,14.741999999999999,38.994333333333337,16.759999999999998,49.89,11.0525,32.956470588235291,28.392499999999998,44.267272727272726,10.902352941176471,31.824848484848484,null,{"$f":"IFERROR(AE19/AE25,\"\")","v":38.109189189189188}]
[]
["Labor Budget"]
["Labor Budget $",{"$f":"IFERROR(B19*$C$4,\"\")","v":31.7376},182.24229999999997,32.284800000000004,246.26469999999998,67.166899999999998,198.39040000000003,70.461500000000001,336.0188,78.98490000000001,175.25790000000001,25.116099999999999,279.35890000000006,62.101500000000009,158.1465,24.800699999999999,245.0487,33.869399999999999,174.39340000000001,14.004899999999999,222.26770000000002,25.475199999999997,170.62379999999999,16.799800000000001,212.89879999999999,43.156599999999997,138.77789999999999,17.607300000000002,199.54179999999999,null,{"$f":"IFERROR(AE19*$C$4,\"\")","v":1741.3994}]
["Labor Credit $",{"$f":"IFERROR(VLOOKUP(\"Acting Manager\",'Shift Schedule'!$C$7:$EM$41,178,FALSE),0)","v":0},{"$f":"IFERROR(VLOOKUP(\"Acting Manager\",'Shift Schedule'!$C$7:$EM$41,180,FALSE),0)","v":0},{"$f":"IFERROR(VLOOKUP(\"Acting Manager\",'Shift Schedule'!$C$7:$EM$41,182,FALSE),0)","v":0},{"$f":"IFERROR(VLOOKUP(\"Acting Manager\",'Shift Schedule'!$C$7:$EM$41,184,FALSE),0)","v":0},{"$f":"IFERROR(VLOOKUP(\"Acting Manager\",'Shift Schedule'!$C$53:$EM$87,178,FALSE),0)","v":0},{"$f":"IFERROR(VLOOKUP(\"Acting Manager\",'Shift Schedule'!$C$53:$EM$87,180,FALSE),0)","v":0},{"$f":"IFERROR(VLOOKUP(\"Acting Manager\",'Shift Schedule'!$C$53:$EM$87,182,FALSE),0)","v":0},{"$f":"IFERROR(VLOOKUP(\"Acting Manager\",'Shift Schedule'!$C$53:$EM$87,184,FALSE),0)","v":0},{"$f":"IFERROR(VLOOKUP(\"Acting Manager\",'Shift Schedule'!$C$99:$EM$133,178,FALSE),0)","v":0},{"$f":"IFERROR(VLOOKUP(\"Acting Manager\",'Shift Schedule'!$C$99:$EM$133,180,FALSE),0)","v":0},{"$f":"IFERROR(VLOOKUP(\"Acting Manager\",'Shift Schedule'!$C$99:$EM$133,182,FALSE),0)","v":0},{"$f":"IFERROR(VLOOKUP(\"Acting Manager\",'Shift Schedule'!$C$99:$EM$133,184,FALSE),0)","v":0},{"$f":"IFERROR(VLOOKUP(\"Acting Manager\",'Shift Schedule'!$C$145:$EM$179,178,FALSE),0)","v":0},{"$f":"IFERROR(VLOOKUP(\"Acting Manager\",'Shift Schedule'!$C$145:$EM$179,180,FALSE),0)","v":0},{"$f":"IFERROR(VLOOKUP(\"Acting Manager\",'Shift Schedule'!$C$145:$EM$179,182,FALSE),0)","v":0},{"$f":"IFERROR(VLOOKUP(\"Acting Manager\",'Shift Schedule'!$C$145:$EM$179,184,FALSE),0)","v":0},{"$f":"IFERROR(VLOOKUP(\"Acting Manager\",'Shift Schedule'!$C$191:$EM$225,178,FALSE),0)","v":0},{"$f":"IFERROR(VLOOKUP(\"Acting Manager\",'Shift Schedule'!$C$191:$EM$225,180,FALSE),0)","v":0},{"$f":"IFERROR(VLOOKUP(\"Acting Manager\",'Shift Schedule'!$C$191:$EM$225,182,FALSE),0)","v":0},{"$f":"IFERROR(VLOOKUP(\"Acting Manager\",'Shift Schedule'!$C$191:$EM$225,184,FALSE),0)","v":0},{"$f":"IFERROR(VLOOKUP(\"Acting Manager\",'Shift Schedule'!$C$237:$EM$271,178,FALSE),0)","v":0},{"$f":"IFERROR(VLOOKUP(\"Acting Manager\",'Shift Schedule'!$C$237:$EM$271,180,FALSE),0)","v":0},{"$f":"IFERROR(VLOOKUP(\"Acting Manager\",'Shift Schedule'!$C$237:$EM$271,182,FALSE),0)","v":0},{"$f":"IFERROR(VLOOKUP(\"Acting Manager\",'Shift Schedule'!$C$237:$EM$271,184,FALSE),0)","v":0},{"$f":"IFERROR(VLOOKUP(\"Acting Manager\",'Shift Schedule'!$C$283:$EM$317,178,FALSE),0)","v":0},{"$f":"IFERROR(VLOOKUP(\"Acting Manager\",'Shift Schedule'!$C$283:$EM$317,180,FALSE),0)","v":0},{"$f":"IFERROR(VLOOKUP(\"Acting Manager\",'Shift Schedule'!$C$283:$EM$317,182,FALSE),0)","v":0},{"$f":"IFERROR(VLOOKUP(\"Acting Manager\",'Shift Schedule'!$C$283:$EM$317,184,FALSE),0)","v":0},null,{"$f":"IF(SUM(E33,I33,M33,Q33,U33,Y33,AC33)=\"\",\"\",SUM(E33,I33,M33,Q33,U33,Y33,AC33))","v":0}]
["Labor Credit Hrs",{"$f":"IFERROR(VLOOKUP(\"Acting Manager\",'Shift Schedule'!$C$7:$EM$41,177,FALSE),0)","v":0},{"$f":"IFERROR(VLOOKUP(\"Acting Manager\",'Shift Schedule'!$C$7:$EM$41,179,FALSE),0)","v":0},{"$f":"IFERROR(VLOOKUP(\"Acting Manager\",'Shift Schedule'!$C$7:$EM$41,181,FALSE),0)","v":0},{"$f":"IFERROR(VLOOKUP(\"Acting Manager\",'Shift Schedule'!$C$7:$EM$41,183,FALSE),0)","v":0},{"$f":"IFERROR(VLOOKUP(\"Acting Manager\",'Shift Schedule'!$C$53:$EM$87,177,FALSE),0)","v":0},{"$f":"IFERROR(VLOOKUP(\"Acting Manager\",'Shift Schedule'!$C$53:$EM$87,179,FALSE),0)","v":0},{"$f":"IFERROR(VLOOKUP(\"Acting Manager\",'Shift Schedule'!$C$53:$EM$87,181,FALSE),0)","v":0},{"$f":"IFERROR(VLOOKUP(\"Acting Manager\",'Shift Schedule'!$C$53:$EM$87,183,FALSE),0)","v":0},{"$f":"IFERROR(VLOOKUP(\"Acting Manager\",'Shift Schedule'!$C$99:$EM$133,177,FALSE),0)","v":0},{"$f":"IFERROR(VLOOKUP(\"Acting Manager\",'Shift Schedule'!$C$99:$EM$133,179,FALSE),0)","v":0},{"$f":"IFERROR(VLOOKUP(\"Acting Manager\",'Shift Schedule'!$C$99:$EM$133,181,FALSE),0)","v":0},{"$f":"IFERROR(VLOOKUP(\"Acting Manager\",'Shift Schedule'!$C$99:$EM$133,183,FALSE),0)","v":0},{"$f":"IFERROR(VLOOKUP(\"Acting Manager\",'Shift Schedule'!$C$145:$EM$179,177,FALSE),0)","v":0},{"$f":"IFERROR(VLOOKUP(\"Acting Manager\",'Shift Schedule'!$C$145:$EM$179,179,FALSE),0)","v":0},{"$f":"IFERROR(VLOOKUP(\"Acting Manager\",'Shift Schedule'!$C$145:$EM$179,181,FALSE),0)","v":0},{"$f":"IFERROR(VLOOKUP(\"Acting Manager\",'Shift Schedule'!$C$145:$EM$179,183,FALSE),0)","v":0},{"$f":"IFERROR(VLOOKUP(\"Acting Manager\",'Shift Schedule'!$C$191:$EM$225,177,FALSE),0)","v":0},{"$f":"IFERROR(VLOOKUP(\"Acting Manager\",'Shift Schedule'!$C$191:$EM$225,179,FALSE),0)","v":0},{"$f":"IFERROR(VLOOKUP(\"Acting Manager\",'Shift Schedule'!$C$191:$EM$225,181,FALSE),0)","v":0},{"$f":"IFERROR(VLOOKUP(\"Acting Manager\",'Shift Schedule'!$C$191:$EM$225,183,FALSE),0)","v":0},{"$f":"IFERROR(VLOOKUP(\"Acting Manager\",'Shift Schedule'!$C$237:$EM$271,177,FALSE),0)","v":0},{"$f":"IFERROR(VLOOKUP(\"General Manager\",'Shift Schedule'!$C$237:$EM$271,179,FALSE),0)","v":0},{"$f":"IFERROR(VLOOKUP(\"General Manager\",'Shift Schedule'!$C$237:$EM$271,181,FALSE),0)","v":0},{"$f":"IFERROR(VLOOKUP(\"General Manager\",'Shift Schedule'!$C$237:$EM$271,183,FALSE),0)","v":0},{"$f":"IFERROR(VLOOKUP(\"Acting Manager\",'Shift Schedule'!$C$283:$EM$317,177,FALSE),0)","v":0},{"$f":"IFERROR(VLOOKUP(\"Acting Manager\",'Shift Schedule'!$C$283:$EM$317,179,FALSE),0)","v":0},{"$f":"IFERROR(VLOOKUP(\"Acting Manager\",'Shift Schedule'!$C$283:$EM$317,181,FALSE),0)","v":0},{"$f":"IFERROR(VLOOKUP(\"Acting Manager\",'Shift Schedule'!$C$283:$EM$317,183,FALSE),0)","v":0},null,{"$f":"IF(SUM(E34,I34,M34,Q34,U34,Y34,AC34)=\"\",\"\",SUM(E34,I34,M34,Q34,U34,Y34,AC34))","v":0}]
["Labor Budget Hrs",{"$f":"IFERROR(B32/B28,\"\")","v":""},"","","",{"$f":"IFERROR(F32/F28,\"\")","v":""},{"$f":"IFERROR(G32/G28,\"\")","v":""},"","",{"$f":"IFERROR(J32/J28,\"\")","v":""},{"$f":"IFERROR(K32/K28,\"\")","v":""},"","",{"$f":"IFERROR(N32/N28,\"\")","v":""},{"$f":"IFERROR(O32/O28,\"\")","v":""},"","",{"$f":"IFERROR(R32/R28,\"\")","v":""},{"$f":"IFERROR(S32/S28,\"\")","v":""},"","",{"$f":"IFERROR(V32/V28,\"\")","v":""},{"$f":"IFERROR(W32/W28,\"\")","v":""},"","",{"$f":"IFERROR(Z32/Z28,\"\")","v":""},{"$f":"IFERROR(AA32/AA28,\"\")","v":""},"","",null,""]
["Adj. Labor Budget $",{"$f":"IFERROR(B32-B33,\"\")","v":31.7376},{"$f":"IFERROR(C32-C33,\"\")","v":182.24229999999997},32.284800000000004,246.26469999999998,{"$f":"IFERROR(F32-F33,\"\")","v":67.166899999999998},{"$f":"IFERROR(G32-G33,\"\")","v":198.39040000000003},70.461500000000001,336.0188,{"$f":"IFERROR(J32-J33,\"\")","v":78.98490000000001},{"$f":"IFERROR(K32-K33,\"\")","v":175.25790000000001},25.116099999999999,279.35890000000006,{"$f":"IFERROR(N32-N33,\"\")","v":62.101500000000009},{"$f":"IFERROR(O32-O33,\"\")","v":158.1465},24.800699999999999,245.0487,{"$f":"IFERROR(R32-R33,\"\")","v":33.869399999999999},{"$f":"IFERROR(S32-S33,\"\")","v":174.39340000000001},14.004899999999999,222.26770000000002,{"$f":"IFERROR(V32-V33,\"\")","v":25.475199999999997},{"$f":"IFERROR(W32-W33,\"\")","v":170.62379999999999},16.799800000000001,212.89879999999999,{"$f":"IFERROR(Z32-Z33,\"\")","v":43.156599999999997},{"$f":"IFERROR(AA32-AA33,\"\")","v":138.77789999999999},17.607300000000002,199.54179999999999,null,1741.3994]
["Adj. Labor Budget Hrs",{"$f":"IFERROR(B35-B34,\"\")","v":""},{"$f":"IFERROR(C35-C34,\"\")","v":""},"","",{"$f":"IFERROR(F35-F34,\"\")","v":""},{"$f":"IFERROR(G35-G34,\"\")","v":""},"","",{"$f":"IFERROR(J35-J34,\"\")","v":""},{"$f":"IFERROR(K35-K34,\"\")","v":""},"","",{"$f":"IFERROR(N35-N34,\"\")","v":""},{"$f":"IFERROR(O35-O34,\"\")","v":""},"","",{"$f":"IFERROR(R35-R34,\"\")","v":""},{"$f":"IFERROR(S35-S34,\"\")","v":""},"","",{"$f":"IFERROR(V35-V34,\"\")","v":""},{"$f":"IFERROR(W35-W34,\"\")","v":""},"","",{"$f":"IFERROR(Z35-Z34,\"\")","v":""},{"$f":"IFERROR(AA35-AA34,\"\")","v":""},"","",null,""]
[]
["Labor Variance"]
["Variance $",{"$f":"IFERROR(B26-B32,\"\")","v":""},"","","","","","","","","","","","","","","","","","","","","","","","","","","",null,{"$f":"IFERROR(AE26-AE32,\"\")","v":-1741.3994}]
["Variance Hrs",{"$f":"IFERROR(B25-B37,\"\")","v":""},"","","","","","","","","","","","","","","","","","","","","","","","","","","",null,{"$f":"IFERROR(AE25-AE37,\"\")","v":""}]
["Variance %",{"$f":"IFERROR(B40/B19,\"\")","v":""},"","","","","","","","","","","","","","","","","","","","","","","","","","","",null,{"$f":"IFERROR(AE40/AE19,\"\")","v":-0.19}]
[]
[]
["Remember:"]
["1.  This Forecast Must be Completed Along with the Schedule Every Week"]
["2.  This Forecast Must Stapled to the Back of the Schedule Every Week."]

{"sheet":"#Include","index":5,"n_rows":53,"n_cols":3,"rows_kept":53,"cut":false,"hidden":true,"merged":[]}
["Week Start","Period","Week"]
["2014-01-01",1,1]
[{"$f":"A2+7","v":"2014-01-08"},1,2]
[{"$f":"A3+7","v":"2014-01-15"},1,3]
["2014-01-22",1,4]
["2014-01-29",2,1]
["2014-02-05",2,2]
["2014-02-12",2,3]
["2014-02-19",2,4]
["2014-02-26",3,1]
["2014-03-05",3,2]
["2014-03-12",3,3]
["2014-03-19",3,4]
["2014-03-26",4,1]
["2014-04-02",4,2]
["2014-04-09",4,3]
["2014-04-16",4,4]
["2014-04-23",5,1]
["2014-04-30",5,2]
["2014-05-07",5,3]
["2014-05-14",5,4]
["2014-05-21",6,1]
["2014-05-28",6,2]
["2014-06-04",6,3]
["2014-06-11",6,4]
["2014-06-18",7,1]
["2014-06-25",7,2]
["2014-07-02",7,3]
["2014-07-09",7,4]
["2014-07-16",8,1]
["2014-07-23",8,2]
["2014-07-30",8,3]
["2014-08-06",8,4]
["2014-08-13",9,1]
["2014-08-20",9,2]
["2014-08-27",9,3]
["2014-09-03",9,4]
["2014-09-10",10,1]
["2014-09-17",10,2]
["2014-09-24",10,3]
["2014-10-01",10,4]
["2014-10-08",11,1]
["2014-10-15",11,2]
["2014-10-22",11,3]
["2014-10-29",11,4]
["2014-11-05",12,1]
["2014-11-12",12,2]
["2014-11-19",12,3]
["2014-11-26",12,4]
["2014-12-03",13,1]
["2014-12-10",13,2]
["2014-12-17",13,3]
["2014-12-24",13,4]

{"sheet":"Opening-Closing","index":6,"n_rows":52,"n_cols":29,"rows_kept":52,"cut":false,"hidden":false,"merged":[[0,1,0,2]]}
[null,45,null,"$ Below"]
[]
[null,"07:00:00","07:30:00","08:00:00","08:30:00","09:00:00","09:30:00",null,"18:00:00","18:30:00","19:00:00","19:30:00","20:00:00","20:30:00","21:00:00","21:30:00","22:00:00","22:30:00",null,null,"07:00:00","08:00:00","09:00:00",null,"18:00:00","19:00:00","20:00:00","21:00:00","22:00:00"]
[]
["Wednesday",null,null,null,null,null,null,null,null,null,null,null,null,null,null,null,null,null,null,"Wednesday"]
[{"$f":"'Schedule Forecast'!A14","v":"Wk 10-21"},{"$f":"IFERROR(INDEX(INDIRECT(\"'\"&$A6&\"'!$C:$C\"),MATCH(B$3,INDIRECT(\"'\"&$A6&\"'!$A$1:$A$250\"),0)+1),0)","v":35.729999999999997},25.69,56.83,18.399999999999999,23.91,16.72,null,{"$f":"IFERROR(INDEX(INDIRECT(\"'\"&$A6&\"'!$C:$C\"),MATCH(I$3,INDIRECT(\"'\"&$A6&\"'!$A$1:$A$250\"),0)+1),0)","v":70.37},6.38,16.52,5.59,0,0,0,0,0,0,null,{"$f":"'Schedule Forecast'!A14","v":"Wk 10-21"},{"$f":"B6+C6","v":61.42},{"$f":"D6+E6","v":75.22999999999999},{"$f":"F6+G6","v":40.629999999999995},null,{"$f":"I6+J6","v":76.75},{"$f":"K6+L6","v":22.11},{"$f":"M6+N6","v":0},{"$f":"O6+P6","v":0},{"$f":"Q6+R6","v":0}]
[{"$f":"'Schedule Forecast'!A15","v":"Wk 10-28"},12.88,40.11,25.6,21.37,4.9000000000000004,23.41,null,28.44,37.29,10.88,6.24,0,0,0,0,0,0,null,{"$f":"'Schedule Forecast'!A15","v":"Wk 10-28"},{"$f":"B7+C7","v":52.99},{"$f":"D7+E7","v":46.97},{"$f":"F7+G7","v":28.310000000000002},null,{"$f":"I7+J7","v":65.73},{"$f":"K7+L7","v":17.12},{"$f":"M7+N7","v":0},{"$f":"O7+P7","v":0},{"$f":"Q7+R7","v":0}]
[{"$f":"'Schedule Forecast'!A16","v":"Wk 11-4"},15.97,5.89,14.17,16.07,19.86,35.549999999999997,null,43.21,13.47,5.89,14.58,0,0,0,0,0,0,null,{"$f":"'Schedule Forecast'!A16","v":"Wk 11-4"},{"$f":"B8+C8","v":21.86},{"$f":"D8+E8","v":30.240000000000002},{"$f":"F8+G8","v":55.41},null,56.68,20.47,0,0,0]
[{"$f":"'Schedule Forecast'!A17","v":"Wk 11-11"},4.8899999999999997,29.2,33.94,36.75,8.67,4.74,null,50.55,13.58,0,2.79,0,0,0,0,0,0,null,{"$f":"'Schedule Forecast'!A17","v":"Wk 11-11"},{"$f":"B9+C9","v":34.089999999999996},{"$f":"D9+E9","v":70.69},{"$f":"F9+G9","v":13.41},null,64.13,2.79,0,0,0]
["AVG",{"$f":"AVERAGE(B6:B9)","v":17.3675},{"$f":"AVERAGE(C6:C9)","v":25.2225},{"$f":"AVERAGE(D6:D9)","v":32.635000000000005},{"$f":"AVERAGE(E6:E9)","v":23.147500000000001},{"$f":"AVERAGE(F6:F9)","v":14.335000000000001},20.104999999999997,null,{"$f":"AVERAGE(I6:I9)","v":48.142499999999998},{"$f":"AVERAGE(J6:J9)","v":17.68},8.3224999999999998,7.3,{"$f":"AVERAGE(M6:M9)","v":0},0,0,0,0,0,null,"AVG",{"$f":"AVERAGE(U6:U9)","v":42.589999999999996},{"$f":"AVERAGE(V6:V9)","v":55.782499999999999},{"$f":"AVERAGE(W6:W9)","v":34.44},null,{"$f":"AVERAGE(Y6:Y9)","v":65.822500000000005},{"$f":"AVERAGE(Z6:Z9)","v":15.6225},{"$f":"AVERAGE(AA6:AA9)","v":0},0,0]
[]
["Thursday",null,null,null,null,null,null,null,null,null,null,null,null,null,null,null,null,null,null,"Thursday"]
[{"$f":"'Schedule Forecast'!A14","v":"Wk 10-21"},{"$f":"IFERROR(INDEX(INDIRECT(\"'\"&$A13&\"'!$D:$D\"),MATCH(B$3,INDIRECT(\"'\"&$A13&\"'!$A$1:$A$250\"),0)+1),0)","v":105.32},11.67,22.59,14.52,18.77,12.94,null,{"$f":"IFERROR(INDEX(INDIRECT(\"'\"&$A13&\"'!$D:$D\"),MATCH(I$3,INDIRECT(\"'\"&$A13&\"'!$A$1:$A$250\"),0)+1),0)","v":18.07},34.840000000000003,54.15,21.66,0,0,0,0,0,0,null,{"$f":"'Schedule Forecast'!A14","v":"Wk 10-21"},{"$f":"B13+C13","v":116.99},{"$f":"D13+E13","v":37.11},{"$f":"F13+G13","v":31.71},null,{"$f":"I13+J13","v":52.910000000000004},{"$f":"K13+L13","v":75.81},{"$f":"M13+N13","v":0},{"$f":"O13+P13","v":0},{"$f":"Q13+R13","v":0}]
[{"$f":"'Schedule Forecast'!A15","v":"Wk 10-28"},12.63,18.059999999999999,6.64,37.229999999999997,140.58000000000001,23.61,null,32.83,53.06,60.51,10.83,0,0,0,0,0,0,null,{"$f":"'Schedule Forecast'!A15","v":"Wk 10-28"},{"$f":"B14+C14","v":30.689999999999998},{"$f":"D14+E14","v":43.87},{"$f":"F14+G14","v":164.19},null,{"$f":"I14+J14","v":85.89},{"$f":"K14+L14","v":71.34},{"$f":"M14+N14","v":0},{"$f":"O14+P14","v":0},{"$f":"Q14+R14","v":0}]
[{"$f":"'Schedule Forecast'!A16","v":"Wk 11-4"},52.19,11.48,17.66,241.99,8.43,4.79,null,37.020000000000003,35.58,34.75,35.729999999999997,0,0,0,0,0,0,null,{"$f":"'Schedule Forecast'!A16","v":"Wk 11-4"},{"$f":"B15+C15","v":63.67},{"$f":"D15+E15","v":259.65000000000003},{"$f":"F15+G15","v":13.219999999999999},null,72.599999999999994,70.47999999999999,0,0,0]
[{"$f":"'Schedule Forecast'!A17","v":"Wk 11-11"},39.53,29.4,110.19,25.46,19.920000000000002,98.27,null,30.85,37.83,68.709999999999994,64.02,8.68,0,0,0,0,0,null,{"$f":"'Schedule Forecast'!A17","v":"Wk 11-11"},{"$f":"B16+C16","v":68.930000000000007},{"$f":"D16+E16","v":135.65},{"$f":"F16+G16","v":118.19},null,68.680000000000007,132.72999999999999,8.68,0,0]
["AVG",{"$f":"AVERAGE(B13:B16)","v":52.417499999999997},{"$f":"AVERAGE(C13:C16)","v":17.652499999999996},{"$f":"AVERAGE(D13:D16)","v":39.269999999999996},{"$f":"AVERAGE(E13:E16)","v":79.8},{"$f":"AVERAGE(F13:F16)","v":46.925000000000011},34.902499999999996,null,{"$f":"AVERAGE(I13:I16)","v":29.692500000000003},40.327500000000001,{"$f":"AVERAGE(K13:K16)","v":54.53},33.06,0,0,0,0,0,0,null,"AVG",{"$f":"AVERAGE(U13:U16)","v":70.070000000000007},{"$f":"AVERAGE(V13:V16)","v":119.07},{"$f":"AVERAGE(W13:W16)","v":81.827500000000001},null,{"$f":"AVERAGE(Y13:Y16)","v":70.02000000000001},{"$f":"AVERAGE(Z13:Z16)","v":87.59},{"$f":"AVERAGE(AA13:AA16)","v":2.17},{"$f":"AVERAGE(AB13:AB16)","v":0},{"$f":"AVERAGE(AC13:AC16)","v":0}]
[]
["Friday",null,null,null,null,null,null,null,null,null,null,null,null,null,null,null,null,null,null,"Friday"]
[{"$f":"'Schedule Forecast'!A14","v":"Wk 10-21"},{"$f":"IFERROR(INDEX(INDIRECT(\"'\"&$A20&\"'!$E:$E\"),MATCH(B$3,INDIRECT(\"'\"&$A20&\"'!$A$1:$A$250\"),0)+1),0)","v":23.01},13.87,23.56,25.25,22.31,58.88,null,{"$f":"IFERROR(INDEX(INDIRECT(\"'\"&$A20&\"'!$E:$E\"),MATCH(I$3,INDIRECT(\"'\"&$A20&\"'!$A$1:$A$250\"),0)+1),0)","v":48.35},23.55,28.75,0,{"$f":"IFERROR(INDEX(INDIRECT(\"'\"&$A20&\"'!$E:$E\"),MATCH(M$3,INDIRECT(\"'\"&$A20&\"'!$A$1:$A$250\"),0)+1),0)","v":0},0,0,0,0,0,null,{"$f":"'Schedule Forecast'!A14","v":"Wk 10-21"},{"$f":"B20+C20","v":36.880000000000003},{"$f":"D20+E20","v":48.81},{"$f":"F20+G20","v":81.19},null,{"$f":"I20+J20","v":71.900000000000006},{"$f":"K20+L20","v":28.75},{"$f":"M20+N20","v":0},{"$f":"O20+P20","v":0},{"$f":"Q20+R20","v":0}]
[{"$f":"'Schedule Forecast'!A15","v":"Wk 10-28"},40.68,20.46,76.73,11.18,8.98,38.619999999999997,null,40.020000000000003,28.94,14.42,29.24,33.090000000000003,16.37,0,0,0,0,null,{"$f":"'Schedule Forecast'!A15","v":"Wk 10-28"},{"$f":"B21+C21","v":61.14},{"$f":"D21+E21","v":87.91},{"$f":"F21+G21","v":47.599999999999994},null,{"$f":"I21+J21","v":68.960000000000008},{"$f":"K21+L21","v":43.66},{"$f":"M21+N21","v":49.460000000000008},{"$f":"O21+P21","v":0},{"$f":"Q21+R21","v":0}]
[{"$f":"'Schedule Forecast'!A16","v":"Wk 11-4"},0,0,23.9,35.28,27.25,27.7,null,16.22,2.89,6.39,11.28,0,0,0,0,0,0,null,{"$f":"'Schedule Forecast'!A16","v":"Wk 11-4"},{"$f":"B22+C22","v":0},{"$f":"D22+E22","v":59.18},{"$f":"F22+G22","v":54.95},null,19.11,17.669999999999998,0,0,0]
[{"$f":"'Schedule Forecast'!A17","v":"Wk 11-11"},24.34,21.85,39.72,10.48,197.86,38.619999999999997,null,34.229999999999997,23.15,4.49,0,0,24.04,0,0,0,0,null,{"$f":"'Schedule Forecast'!A17","v":"Wk 11-11"},{"$f":"B23+C23","v":46.19},{"$f":"D23+E23","v":50.2},{"$f":"F23+G23","v":236.48000000000002},null,57.379999999999995,4.49,24.04,0,0]
["AVG",{"$f":"AVERAGE(B20:B23)","v":22.0075},{"$f":"AVERAGE(C20:C23)","v":14.045},{"$f":"AVERAGE(D20:D23)","v":40.977499999999999},{"$f":"AVERAGE(E20:E23)","v":20.547500000000003},{"$f":"AVERAGE(F20:F23)","v":64.100000000000009},40.954999999999998,null,{"$f":"AVERAGE(I20:I23)","v":34.704999999999998},19.6325,{"$f":"AVERAGE(K20:K23)","v":13.512500000000001},10.129999999999999,{"$f":"AVERAGE(M20:M23)","v":8.2725000000000009},10.102499999999999,{"$f":"AVERAGE(O20:O23)","v":0},0,0,0,null,"AVG",{"$f":"AVERAGE(U20:U23)","v":36.052500000000002},{"$f":"AVERAGE(V20:V23)","v":61.525000000000006},{"$f":"AVERAGE(W20:W23)","v":105.05500000000001},null,{"$f":"AVERAGE(Y20:Y23)","v":54.337500000000006},{"$f":"AVERAGE(Z20:Z23)","v":23.642499999999998},{"$f":"AVERAGE(AA20:AA23)","v":18.375},{"$f":"AVERAGE(AB20:AB23)","v":0},{"$f":"AVERAGE(AC20:AC23)","v":0}]
[]
["Saturday",null,null,null,null,null,null,null,null,null,null,null,null,null,null,null,null,null,null,"Saturday"]
[{"$f":"'Schedule Forecast'!A14","v":"Wk 10-21"},{"$f":"IFERROR(INDEX(INDIRECT(\"'\"&$A27&\"'!$F:$F\"),MATCH(B$3,INDIRECT(\"'\"&$A27&\"'!$A$1:$A$250\"),0)+1),0)","v":14.56},36.18,17.72,93.75,53.95,47.9,null,{"$f":"IFERROR(INDEX(INDIRECT(\"'\"&$A27&\"'!$F:$F\"),MATCH(I$3,INDIRECT(\"'\"&$A27&\"'!$A$1:$A$250\"),0)+1),0)","v":4.8899999999999997},21.2,23.75,0,{"$f":"IFERROR(INDEX(INDIRECT(\"'\"&$A27&\"'!$F:$F\"),MATCH(M$3,INDIRECT(\"'\"&$A27&\"'!$A$1:$A$250\"),0)+1),0)","v":2.54},10.98,0,0,0,0,null,{"$f":"'Schedule Forecast'!A14","v":"Wk 10-21"},{"$f":"B27+C27","v":50.74},{"$f":"D27+E27","v":111.47},{"$f":"F27+G27","v":101.85},null,{"$f":"I27+J27","v":26.09},{"$f":"K27+L27","v":23.75},{"$f":"M27+N27","v":13.52},{"$f":"O27+P27","v":0},{"$f":"Q27+R27","v":0}]
[{"$f":"'Schedule Forecast'!A15","v":"Wk 10-28"},0,13.47,24.6,18.21,63.12,4.49,null,28.4,165,5.89,9.68,0,34.14,0,0,0,0,null,{"$f":"'Schedule Forecast'!A15","v":"Wk 10-28"},{"$f":"B28+C28","v":13.47},{"$f":"D28+E28","v":42.81},{"$f":"F28+G28","v":67.61},null,{"$f":"I28+J28","v":193.4},{"$f":"K28+L28","v":15.57},{"$f":"M28+N28","v":34.14},{"$f":"O28+P28","v":0},{"$f":"Q28+R28","v":0}]
[{"$f":"'Schedule Forecast'!A16","v":"Wk 11-4"},0,0,0,7.74,79.459999999999994,11.87,null,15.92,0,10.32,0,10.58,4.49,0,0,0,0,null,{"$f":"'Schedule Forecast'!A16","v":"Wk 11-4"},{"$f":"B29+C29","v":0},{"$f":"D29+E29","v":7.74},{"$f":"F29+G29","v":91.33},null,15.92,10.32,15.07,0,0]
[{"$f":"'Schedule Forecast'!A17","v":"Wk 11-11"},0,5.89,26.14,11.78,30.87,52.48,null,14.57,0,5.99,5.89,9.5,0,0,0,0,0,null,{"$f":"'Schedule Forecast'!A17","v":"Wk 11-11"},{"$f":"B30+C30","v":5.89},{"$f":"D30+E30","v":37.92},{"$f":"F30+G30","v":83.35},null,14.57,11.879999999999999,9.5,0,0]
["AVG",{"$f":"AVERAGE(B27:B30)","v":3.64},13.885,{"$f":"AVERAGE(D27:D30)","v":17.115000000000002},{"$f":"AVERAGE(E27:E30)","v":32.869999999999997},{"$f":"AVERAGE(F27:F30)","v":56.849999999999994},{"$f":"AVERAGE(G27:G30)","v":29.185000000000002},null,{"$f":"AVERAGE(I27:I30)","v":15.945},46.55,{"$f":"AVERAGE(K27:K30)","v":11.487500000000001},3.8925000000000001,{"$f":"AVERAGE(M27:M30)","v":5.6550000000000002},12.402500000000002,{"$f":"AVERAGE(O27:O30)","v":0},0,0,0,null,"AVG",{"$f":"AVERAGE(U27:U30)","v":17.525000000000002},{"$f":"AVERAGE(V27:V30)","v":49.984999999999999},{"$f":"AVERAGE(W27:W30)","v":86.034999999999997},null,{"$f":"AVERAGE(Y27:Y30)","v":62.494999999999997},{"$f":"AVERAGE(Z27:Z30)","v":15.379999999999999},{"$f":"AVERAGE(AA27:AA30)","v":18.057499999999997},{"$f":"AVERAGE(AB27:AB30)","v":0},{"$f":"AVERAGE(AC27:AC30)","v":0}]
[]
["Sunday",null,null,null,null,null,null,null,null,null,null,null,null,null,null,null,null,null,null,"Sunday"]
[{"$f":"'Schedule Forecast'!A14","v":"Wk 10-21"},{"$f":"IFERROR(INDEX(INDIRECT(\"'\"&$A34&\"'!$G:$G\"),MATCH(B$3,INDIRECT(\"'\"&$A34&\"'!$A$1:$A$250\"),0)+1),0)","v":0},0,3.59,0,{"$f":"IFERROR(INDEX(INDIRECT(\"'\"&$A34&\"'!$G:$G\"),MATCH(F$3,INDIRECT(\"'\"&$A34&\"'!$A$1:$A$250\"),0)+1),0)","v":57.27},20.260000000000002,null,{"$f":"IFERROR(INDEX(INDIRECT(\"'\"&$A34&\"'!$G:$G\"),MATCH(I$3,INDIRECT(\"'\"&$A34&\"'!$A$1:$A$250\"),0)+1),0)","v":18.059999999999999},27.16,0,0,0,0,0,0,0,0,null,{"$f":"'Schedule Forecast'!A14","v":"Wk 10-21"},{"$f":"B34+C34","v":0},{"$f":"D34+E34","v":3.59},{"$f":"F34+G34","v":77.53},null,{"$f":"I34+J34","v":45.22},{"$f":"K34+L34","v":0},{"$f":"M34+N34","v":0},{"$f":"O34+P34","v":0},{"$f":"Q34+R34","v":0}]
[{"$f":"'Schedule Forecast'!A15","v":"Wk 10-28"},0,0,11.57,41.41,17.96,27.73,null,5.29,13.97,0,0,0,0,0,0,0,0,null,{"$f":"'Schedule Forecast'!A15","v":"Wk 10-28"},{"$f":"B35+C35","v":0},{"$f":"D35+E35","v":52.98},{"$f":"F35+G35","v":45.69},null,{"$f":"I35+J35","v":19.260000000000002},{"$f":"K35+L35","v":0},{"$f":"M35+N35","v":0},{"$f":"O35+P35","v":0},{"$f":"Q35+R35","v":0}]
[{"$f":"'Schedule Forecast'!A16","v":"Wk 11-4"},0,0,38.31,0,51.31,27.74,null,12.82,0,0,0,0,0,0,0,0,0,null,{"$f":"'Schedule Forecast'!A16","v":"Wk 11-4"},{"$f":"B36+C36","v":0},{"$f":"D36+E36","v":38.31},79.05,null,12.82,0,0,0,0]
[{"$f":"'Schedule Forecast'!A17","v":"Wk 11-11"},0,0,0,0,43.18,28.34,null,19.86,4.79,9.98,0,0,0,0,0,0,0,null,{"$f":"'Schedule Forecast'!A17","v":"Wk 11-11"},{"$f":"B37+C37","v":0},{"$f":"D37+E37","v":0},71.52,null,24.65,9.98,0,0,0]
["AVG",{"$f":"AVERAGE(B34:B37)","v":0},0,{"$f":"AVERAGE(D34:D37)","v":13.3675},{"$f":"AVERAGE(E34:E37)","v":10.352499999999999},{"$f":"AVERAGE(F34:F37)","v":42.43},{"$f":"AVERAGE(G34:G37)","v":26.017500000000002},null,{"$f":"AVERAGE(I34:I37)","v":14.0075},11.48,{"$f":"AVERAGE(K34:K37)","v":2.4950000000000001},0,0,0,0,0,0,0,null,"AVG",{"$f":"AVERAGE(U34:U37)","v":0},{"$f":"AVERAGE(V34:V37)","v":23.72},{"$f":"AVERAGE(W34:W37)","v":68.447499999999991},null,{"$f":"AVERAGE(Y34:Y37)","v":25.487500000000004},{"$f":"AVERAGE(Z34:Z37)","v":2.4950000000000001},{"$f":"AVERAGE(AA34:AA37)","v":0},{"$f":"AVERAGE(AB34:AB37)","v":0},{"$f":"AVERAGE(AC34:AC37)","v":0}]
[]
["Monday",null,null,null,null,null,null,null,null,null,null,null,null,null,null,null,null,null,null,"Monday"]
[{"$f":"'Schedule Forecast'!A14","v":"Wk 10-21"},{"$f":"IFERROR(INDEX(INDIRECT(\"'\"&$A41&\"'!$H:$H\"),MATCH(B$3,INDIRECT(\"'\"&$A41&\"'!$A$1:$A$250\"),0)+1),0)","v":11.37},22.4,35.07,32.090000000000003,39.42,25.21,null,{"$f":"IFERROR(INDEX(INDIRECT(\"'\"&$A41&\"'!$H:$H\"),MATCH(I$3,INDIRECT(\"'\"&$A41&\"'!$A$1:$A$250\"),0)+1),0)","v":48.96},28.8,27.7,0,2.79,0,0,0,0,0,null,{"$f":"'Schedule Forecast'!A14","v":"Wk 10-21"},{"$f":"B41+C41","v":33.769999999999996},{"$f":"D41+E41","v":67.16},{"$f":"F41+G41","v":64.63},null,{"$f":"I41+J41","v":77.760000000000005},{"$f":"K41+L41","v":27.7},{"$f":"M41+N41","v":2.79},{"$f":"O41+P41","v":0},{"$f":"Q41+R41","v":0}]
[{"$f":"'Schedule Forecast'!A15","v":"Wk 10-28"},0,62.86,16.16,0,14.47,10.23,null,11.48,20.66,11.18,22.36,0,0,0,0,0,0,null,{"$f":"'Schedule Forecast'!A15","v":"Wk 10-28"},{"$f":"B42+C42","v":62.86},{"$f":"D42+E42","v":16.16},{"$f":"F42+G42","v":24.700000000000003},null,{"$f":"I42+J42","v":32.14},{"$f":"K42+L42","v":33.54},{"$f":"M42+N42","v":0},{"$f":"O42+P42","v":0},{"$f":"Q42+R42","v":0}]
[{"$f":"'Schedule Forecast'!A16","v":"Wk 11-4"},10.58,15.17,26.95,33.39,27.65,2.89,null,41.04,12.67,5.89,0,0,0,0,0,0,0,null,{"$f":"'Schedule Forecast'!A16","v":"Wk 11-4"},{"$f":"B43+C43","v":25.75},{"$f":"D43+E43","v":60.34},30.54,null,53.71,5.89,0,0,0]
[{"$f":"'Schedule Forecast'!A17","v":"Wk 11-11"},10.98,15.66,21.35,11.73,15.97,17.07,null,16.36,0,20.41,19.36,0,0,0,0,0,0,null,{"$f":"'Schedule Forecast'!A17","v":"Wk 11-11"},{"$f":"B44+C44","v":26.64},{"$f":"D44+E44","v":33.08},33.04,null,16.36,39.769999999999996,0,0,0]
["AVG",{"$f":"AVERAGE(B41:B44)","v":8.2324999999999999},29.022499999999997,24.8825,19.302500000000002,24.377499999999998,13.85,null,{"$f":"AVERAGE(I41:I44)","v":29.459999999999997},15.532500000000001,{"$f":"AVERAGE(K41:K44)","v":16.294999999999998},10.43,{"$f":"AVERAGE(M41:M44)","v":0.69750000000000001},0,0,0,0,0,null,"AVG",{"$f":"AVERAGE(U41:U44)","v":37.254999999999995},{"$f":"AVERAGE(V41:V44)","v":44.185000000000002},{"$f":"AVERAGE(W41:W44)","v":38.227499999999999},null,{"$f":"AVERAGE(Y41:Y44)","v":44.992500000000007},{"$f":"AVERAGE(Z41:Z44)","v":26.724999999999998},{"$f":"AVERAGE(AA41:AA44)","v":0.69750000000000001},{"$f":"AVERAGE(AB41:AB44)","v":0},{"$f":"AVERAGE(AC41:AC44)","v":0}]
[]
["Tuesday",null,null,null,null,null,null,null,null,null,null,null,null,null,null,null,null,null,null,"Tuesday"]
[{"$f":"'Schedule Forecast'!A14","v":"Wk 10-21"},{"$f":"IFERROR(INDEX(INDIRECT(\"'\"&$A48&\"'!$I:$I\"),MATCH(B$3,INDIRECT(\"'\"&$A48&\"'!$A$1:$A$250\"),0)+1),0)","v":25.95},17.66,23.71,34.83,5.09,10.78,null,{"$f":"IFERROR(INDEX(INDIRECT(\"'\"&$A48&\"'!$I:$I\"),MATCH(I$3,INDIRECT(\"'\"&$A48&\"'!$A$1:$A$250\"),0)+1),0)","v":41.41},14.07,0,6.89,0,0,0,0,0,0,null,{"$f":"'Schedule Forecast'!A14","v":"Wk 10-21"},{"$f":"B48+C48","v":43.61},{"$f":"D48+E48","v":58.54},{"$f":"F48+G48","v":15.87},null,{"$f":"I48+J48","v":55.48},{"$f":"K48+L48","v":6.89},{"$f":"M48+N48","v":0},{"$f":"O48+P48","v":0},{"$f":"Q48+R48","v":0}]
[{"$f":"'Schedule Forecast'!A15","v":"Wk 10-28"},0,6.78,51.42,40.82,0,24.95,null,23.36,10.19,39.56,0,0,0,0,0,0,0,null,{"$f":"'Schedule Forecast'!A15","v":"Wk 10-28"},{"$f":"B49+C49","v":6.78},{"$f":"D49+E49","v":92.240000000000009},{"$f":"F49+G49","v":24.95},null,{"$f":"I49+J49","v":33.549999999999997},{"$f":"K49+L49","v":39.56},{"$f":"M49+N49","v":0},{"$f":"O49+P49","v":0},{"$f":"Q49+R49","v":0}]
[{"$f":"'Schedule Forecast'!A16","v":"Wk 11-4"},5.49,17.16,41.02,83.48,28.78,12.63,null,28.45,10.88,87.38,0,0,0,0,0,0,0,null,{"$f":"'Schedule Forecast'!A16","v":"Wk 11-4"},{"$f":"B50+C50","v":22.65},{"$f":"D50+E50","v":124.5},41.410000000000004,null,39.33,87.38,0,0,0]
[{"$f":"'Schedule Forecast'!A17","v":"Wk 11-11"},5.29,33.17,36.130000000000003,0,35.92,16.96,null,27.15,14.62,0,6.69,0,0,0,0,0,0,null,{"$f":"'Schedule Forecast'!A17","v":"Wk 11-11"},{"$f":"B51+C51","v":38.46},{"$f":"D51+E51","v":36.130000000000003},{"$f":"F51+G51","v":52.88},null,41.769999999999996,6.69,0,0,0]
["AVG",{"$f":"AVERAGE(B48:B51)","v":9.1824999999999992},18.692500000000003,38.07,39.782499999999999,17.447500000000002,16.329999999999998,null,{"$f":"AVERAGE(I48:I51)","v":30.092500000000001},12.44,{"$f":"AVERAGE(K48:K51)","v":31.734999999999999},3.395,{"$f":"AVERAGE(M48:M51)","v":0},0,0,0,0,0,null,"AVG",{"$f":"AVERAGE(U48:U51)","v":27.875},{"$f":"AVERAGE(V48:V51)","v":77.852499999999992},{"$f":"AVERAGE(W48:W51)","v":33.777500000000003},null,{"$f":"AVERAGE(Y48:Y51)","v":42.532499999999999},{"$f":"AVERAGE(Z48:Z51)","v":35.129999999999995},{"$f":"AVERAGE(AA48:AA51)","v":0},{"$f":"AVERAGE(AB48:AB51)","v":0},{"$f":"AVERAGE(AC48:AC51)","v":0}]

{"sheet":"Wk 11-11","index":7,"n_rows":206,"n_cols":10,"rows_kept":206,"cut":false,"hidden":false,"merged":[]}
["1361 - Jamba Juice #1361 35 Railroad Ave Danville, CA 94526 "]
["11/12/2014 --   5:58 AM"]
["6.7.38 "]
["Weekly Hourly Sales and Labor Report"]
["Week Ending 11/11/2014"]
[null,null,"Wednesday","Thursday","Friday","Saturday","Sunday","Monday","Tuesday","Total"]
[" "," ","2014-11-05","2014-11-06","2014-11-07","2014-11-08","2014-11-09","2014-11-10","2014-11-11"," "]
["04:00:00"," "," "," "," "," "," "," "," "," "]
[" ","Net Sales",0,0,0,0,0,0,0,0]
[" ","Labor Hrs",0.75,1.02,0.75,1,0,0.85,0.57999999999999996,4.95]
[" ","Labor $",15.7,12.21,16.57,13.5,0,11.47,11.67,81.12]
[" ","Labor %",0,0,0,0,0,0,0,0]
[" "]
["07:00:00"," "," "," "," "," "," "," "," "," "]
[" ","Net Sales",4.8899999999999997,39.53,24.34,0,0,10.98,5.29,85.03]
[" ","Labor Hrs",0.5,0.5,0.5,0.5,0.08,0.5,0.5,3.08]
[" ","Labor $",10.47,6,11.05,6.75,1.67,6.75,10,52.69]
[" ","Labor %",214.11,15.18,45.4,0,0,61.48,189.04,61.97]
[" "]
["07:30:00"," "," "," "," "," "," "," "," "," "]
[" ","Net Sales",29.2,29.4,21.85,5.89,0,15.66,33.17,135.16999999999999]
[" ","Labor Hrs",0.5,0.5,0.5,0.5,0.5,0.52,0.5,3.52]
[" ","Labor $",10.47,6,11.05,6.75,9.99,6.9,10,61.16]
[" ","Labor %",35.86,20.41,50.57,114.6,0,44.06,30.15,45.25]
[" "]
["08:00:00"," "," "," "," "," "," "," "," "," "]
[" ","Net Sales",33.94,110.19,39.72,26.14,0,21.35,36.130000000000003,267.47000000000003]
[" ","Labor Hrs",1,1,1,1,0.98,1,1,6.98]
[" ","Labor $",14.97,10.5,15.55,11.87,14.35,11.25,14.5,92.99]
[" ","Labor %",44.11,9.5299999999999994,39.15,45.41,0,52.69,40.130000000000003,34.770000000000003]
[" "]
["08:30:00"," "," "," "," "," "," "," "," "," "]
[" ","Net Sales",36.75,25.46,10.48,11.78,0,11.73,0,96.2]
[" ","Labor Hrs",1,1,1,1,1,1,1,7]
[" ","Labor $",14.97,10.5,15.55,11.87,14.5,11.25,14.5,93.14]
[" ","Labor %",40.729999999999997,41.24,148.38,100.76,0,95.91,0,96.82]
[" "]
["09:00:00"," "," "," "," "," "," "," "," "," "]
[" ","Net Sales",8.67,19.920000000000002,197.86,30.87,43.18,15.97,35.92,352.39]
[" ","Labor Hrs",1,1,1,1,1,1,1,7]
[" ","Labor $",14.97,10.5,15.55,11.87,14.5,11.25,14.5,93.14]
[" ","Labor %",172.66,52.71,7.86,38.450000000000003,33.58,70.44,40.369999999999997,26.43]
[" "]
["09:30:00"," "," "," "," "," "," "," "," "," "]
[" ","Net Sales",4.74,98.27,38.619999999999997,52.48,28.34,17.07,16.96,256.48]
[" ","Labor Hrs",1,1,1,1,1,1,1,7]
[" ","Labor $",14.97,10.5,15.55,11.87,14.5,11.25,14.5,93.14]
[" ","Labor %",315.82,10.68,40.26,22.62,51.16,65.91,85.5,36.31]
[" "]
["10:00:00"," "," "," "," "," "," "," "," "," "]
[" ","Net Sales",17.559999999999999,20.059999999999999,24.25,92.16,42.37,29.74,35.78,261.92]
[" ","Labor Hrs",1,1,1,1,1,1,1,7]
[" ","Labor $",14.97,10.5,15.55,11.87,14.5,11.25,14.5,93.14]
[" ","Labor %",85.25,52.34,64.12,12.88,34.22,37.83,40.53,35.56]
[" "]
["10:30:00"," "," "," "," "," "," "," "," "," "]
[" ","Net Sales",31.29,10.68,58.59,107.53,64.37,11.58,63.89,347.93]
[" ","Labor Hrs",1,1,1,1.5,1,1,1,7.5]
[" ","Labor $",14.97,10.5,15.55,17.87,14.5,11.25,14.5,99.14]
[" ","Labor %",47.84,98.31,26.54,16.62,22.53,97.15,22.7,28.49]
[" "]
["11:00:00"," "," "," "," "," "," "," "," "," "]
[" ","Net Sales",44.31,44.12,84.34,66.38,99.7,12.57,45.22,396.64]
[" ","Labor Hrs",1,1,1,1.5,1.5,0.77,1,7.77]
[" ","Labor $",14.97,10.5,15.55,17.87,19,8.1,14.5,100.49]
[" ","Labor %",33.78,23.8,18.440000000000001,26.92,19.059999999999999,64.44,32.07,25.34]
[" "]
["11:30:00"," "," "," "," "," "," "," "," "," "]
[" ","Net Sales",62.57,89.09,48.96,53.58,57.72,41.93,27.8,381.65]
[" ","Labor Hrs",1,1,1.5,1.5,2,1.23,1.5,9.73]
[" ","Labor $",14.97,10.5,20.05,17.87,24.97,12.15,19.63,120.14]
[" ","Labor %",23.93,11.79,40.950000000000003,33.35,43.26,28.98,70.61,31.48]
[" "]
["12:00:00"," "," "," "," "," "," "," "," "," "]
[" ","Net Sales",62.28,79.66,76.790000000000006,55.06,157.69999999999999,86.53,43.86,561.88]
[" ","Labor Hrs",1,1,1.5,1.2,1.97,1.5,1.5,9.67]
[" ","Labor $",14.97,10.5,20.05,13.82,24.7,15.75,19.63,119.42]
[" ","Labor %",24.04,13.18,26.11,25.1,15.66,18.2,44.76,21.25]
[" "]
["12:30:00"," "," "," "," "," "," "," "," "," "]
[" ","Net Sales",101.69,143.19999999999999,120.34,103.44,88.09,122.88,64.87,744.51]
[" ","Labor Hrs",1.45,1.5,1.5,1.3,2,1.53,1.55,10.83]
[" ","Labor $",21.27,17.25,20.05,15.17,25.6,17.5,22.25,139.09]
[" ","Labor %",20.92,12.05,16.66,14.67,29.06,14.24,34.299999999999997,18.68]
[" "]
["13:00:00"," "," "," "," "," "," "," "," "," "]
[" ","Net Sales",55.63,40.520000000000003,40.42,47.21,55.85,128.66999999999999,51.7,420]
[" ","Labor Hrs",1.05,1.5,1.1200000000000001,1.5,1.9,1.5,1.5,10.07]
[" ","Labor $",17.670000000000002,17.25,16.600000000000001,17.87,21.98,17.239999999999998,21.88,130.49]
[" ","Labor %",31.76,42.57,41.07,37.85,39.36,13.4,42.32,31.07]
[" "]
["13:30:00"," "," "," "," "," "," "," "," "," "]
[" ","Net Sales",65.010000000000005,46.96,34.729999999999997,123.4,62.76,84.25,87.55,504.66]
[" ","Labor Hrs",1.5,0.7,1.75,1.5,1.85,1.33,1.52,10.15]
[" ","Labor $",21.72,8.84,23.8,21.12,18.78,15,22.03,131.29]
[" ","Labor %",33.409999999999997,18.82,68.53,17.12,29.92,17.8,25.16,26.02]
[" "]
["14:00:00"," "," "," "," "," "," "," "," "," "]
[" ","Net Sales",96.97,80.3,89.08,75.36,77.209999999999994,81.48,66.05,566.45000000000005]
[" ","Labor Hrs",2,0.9,1.63,1.98,2,1,1.72,11.23]
[" ","Labor $",26.2,10.34,22.75,25.51,20.13,10.5,20.68,136.11000000000001]
[" ","Labor %",27.02,12.88,25.54,33.85,26.07,12.89,31.31,24.03]
[" "]
["14:30:00"," "," "," "," "," "," "," "," "," "]
[" ","Net Sales",92.82,81.73,70.52,70.03,77.099999999999994,38.78,90.75,521.73]
[" ","Labor Hrs",2,1,2,1,2,1.1200000000000001,1.5,10.62]
[" ","Labor $",26.22,11.24,26.04,14.5,20.13,11.55,16.37,126.05]
[" ","Labor %",28.25,13.75,36.93,20.71,26.11,29.78,18.04,24.16]
[" "]
["15:00:00"," "," "," "," "," "," "," "," "," "]
[" ","Net Sales",163.56,152.84,177.63,46.06,45.11,112.72,87.43,785.35]
[" ","Labor Hrs",1.59,1.5,2,1.5,1.55,1.1299999999999999,1.23,10.5]
[" ","Labor $",17.3,15.75,26.05,20.5,16.079999999999998,11.7,12.77,120.15]
[" ","Labor %",10.58,10.3,14.67,44.51,35.65,10.38,14.61,15.3]
[" "]
["15:30:00"," "," "," "," "," "," "," "," "," "]
[" ","Net Sales",82.88,114.88,136.22999999999999,79.25,97.76,77.650000000000006,52.14,640.79]
[" ","Labor Hrs",1.85,2,1.57,1.5,1.5,1.5,1.27,11.19]
[" ","Labor $",18.899999999999999,20.260000000000002,22.14,20.5,15.63,15,13.22,125.65]
[" ","Labor %",22.8,17.64,16.25,25.87,15.99,19.32,25.35,19.61]
[" "]
["16:00:00"," "," "," "," "," "," "," "," "," "]
[" ","Net Sales",63.78,113.22,15.97,70.36,33.729999999999997,70.56,88.88,456.5]
[" ","Labor Hrs",1.02,1.03,1.38,1.5,1.02,1.5,1.05,8.5]
[" ","Labor $",9.23,9.4499999999999993,18.97,20.5,9.82,15,11.76,94.73]
[" ","Labor %",14.47,8.35,118.79,29.14,29.11,21.26,13.23,20.75]
[" "]
["16:30:00"," "," "," "," "," "," "," "," "," "]
[" ","Net Sales",67.67,57.64,27.4,42.22,65.13,40,24.16,324.22000000000003]
[" ","Labor Hrs",1.55,1.47,1,1.5,1.43,1.5,0.87,9.32]
[" ","Labor $",16.12,15.29,10.5,20.5,14.98,15,10.050000000000001,102.44]
[" ","Labor %",23.82,26.53,38.32,48.56,23,37.5,41.6,31.6]
[" "]
["17:00:00"," "," "," "," "," "," "," "," "," "]
[" ","Net Sales",68.37,80.45,40.99,46.87,18.27,12.38,22.85,290.18]
[" ","Labor Hrs",1.93,1.02,1,1.03,1,1.5,0.63,8.11]
[" ","Labor $",19.649999999999999,11.39,10.5,16.3,11.13,15,7.95,91.92]
[" ","Labor %",28.74,14.16,25.62,34.78,60.92,121.16,34.79,31.68]
[" "]
["17:30:00"," "," "," "," "," "," "," "," "," "]
[" ","Net Sales",34.630000000000003,80.31,5.29,47.71,20.81,19.91,21.36,230.02]
[" ","Labor Hrs",2,1.48,1.33,1.22,1,1.5,1,9.5299999999999994]
[" ","Labor $",20.25,15.59,13,17.2,11.13,15,11.25,103.42]
[" ","Labor %",58.48,19.41,245.75,36.049999999999997,53.48,75.34,52.67,44.96]
[" "]
["18:00:00"," "," "," "," "," "," "," "," "," "]
[" ","Net Sales",50.55,30.85,34.229999999999997,14.57,19.86,16.36,27.15,193.57]
[" ","Labor Hrs",1.88,1.48,1.17,1,1,1.07,1,8.6]
[" ","Labor $",19.2,15.59,11,14.5,11.13,11.1,11.25,93.77]
[" ","Labor %",37.979999999999997,50.53,32.14,99.52,56.04,67.849999999999994,41.44,48.44]
[" "]
["18:30:00"," "," "," "," "," "," "," "," "," "]
[" ","Net Sales",13.58,37.83,23.15,0,4.79,0,14.62,93.97]
[" ","Labor Hrs",1.5,1,1.5,1,1,1,1,8]
[" ","Labor $",15.75,11.25,15,14.5,11.13,10.5,11.25,89.38]
[" ","Labor %",115.98,29.74,64.790000000000006,0,232.36,0,76.95,95.12]
[" "]
["19:00:00"," "," "," "," "," "," "," "," "," "]
[" ","Net Sales",0,68.709999999999994,4.49,5.99,9.98,20.41,0,109.58]
[" ","Labor Hrs",1.5,1,1.5,1,1,1,1,8]
[" ","Labor $",15.75,11.25,15,14.5,11.13,10.5,11.25,89.38]
[" ","Labor %",0,16.37,334.08,242.07,111.52,51.45,0,81.569999999999993]
[" "]
["19:30:00"," "," "," "," "," "," "," "," "," "]
[" ","Net Sales",2.79,64.02,0,5.89,0,19.36,6.69,98.75]
[" ","Labor Hrs",1.5,1,1.02,1,0.09,1,1,6.61]
[" ","Labor $",15.75,11.25,10.64,14.5,0.91,10.5,11.25,74.8]
[" ","Labor %",564.52,17.57,0,246.18,0,54.24,168.16,75.75]
[" "]
["20:00:00"," "," "," "," "," "," "," "," "," "]
[" ","Net Sales",0,8.68,0,9.5,0,0,0,18.18]
[" ","Labor Hrs",0.5,1,1,1,0,0.53,0.51,4.54]
[" ","Labor $",6.53,11.25,10.49,14.5,0,5.6,5.85,54.22]
[" ","Labor %",0,129.61000000000001,0,152.63,0,0,0,298.24]
[" "]
["20:30:00"," "," "," "," "," "," "," "," "," "]
[" ","Net Sales",0,0,24.04,0,0,0,0,24.04]
[" ","Labor Hrs",0,0.43,1,1,0,0,0,2.4300000000000002]
[" ","Labor $",0,4.87,10.49,14.5,0,0,0,29.86]
[" ","Labor %",0,0,43.64,0,0,0,0,124.21]
[" "]
["21:00:00"," "," "," "," "," "," "," "," "," "]
[" ","Net Sales",0,0,0,0,0,0,0,0]
[" ","Labor Hrs",0,0,0.65,0.52,0,0,0,1.17]
[" ","Labor $",0,0,7.34,10.15,0,0,0,17.489999999999998]
[" ","Labor %",0,0,0,0,0,0,0,0]
[" "]
["21:30:00"," "," "," "," "," "," "," "," "," "]
[" ","Net Sales",0,0,0,0,0,0,0,0]
[" ","Labor Hrs",0,0,0.31,0,0,0,0,0.31]
[" ","Labor $",0,0,3.8,0,0,0,0,3.8]
[" ","Labor %",0,0,0,0,0,0,0,0]
[" "]
["22:00:00"," "," "," "," "," "," "," "," "," "]
[" ","Net Sales",0,0,0,0,0,0,0,0]
[" ","Labor Hrs",0,0,0,0,0,0,0,0]
[" ","Labor $",0,0,0,0,0,0,0,0]
[" ","Labor %",0,0,0,0,0,0,0,0]
[" "]
["22:30:00"," "," "," "," "," "," "," "," "," "]
[" ","Net Sales",0,0,0,0,0,0,0,0]
[" ","Labor Hrs",0,0,0,0,0,0,0,0]
[" ","Labor $",0,0,0,0,0,0,0,0]
[" ","Labor %",0,0,0,0,0,0,0,0]
[" "]
["****************************  End of Report  ****************************"]

{"sheet":"Wk 11-4","index":8,"n_rows":206,"n_cols":10,"rows_kept":206,"cut":false,"hidden":false,"merged":[]}
["1361 - Jamba Juice #1361 35 Railroad Ave Danville, CA 94526 "]
["11/05/2014 --   7:52 AM"]
["6.7.38 "]
["Weekly Hourly Sales and Labor Report"]
["Week Ending 11/04/2014"]
[null,null,"Wednesday","Thursday","Friday","Saturday","Sunday","Monday","Tuesday","Total"]
[" "," ","2014-10-29","2014-10-30","2014-10-31","2014-11-01","2014-11-02","2014-11-03","2014-11-04"," "]
["04:00:00"," "," "," "," "," "," "," "," "," "]
[" ","Net Sales",0,0,0,0,0,0,0,0]
[" ","Labor Hrs",1.58,1,0.57999999999999996,0.57999999999999996,0,0.92,0.57999999999999996,5.24]
[" ","Labor $",35.409999999999997,12.09,11.93,11.67,0,12.38,11.65,95.13]
[" ","Labor %",0,0,0,0,0,0,0,0]
[" "]
["07:00:00"," "," "," "," "," "," "," "," "," "]
[" ","Net Sales",15.97,52.19,0,0,0,10.58,5.49,84.23]
[" ","Labor Hrs",0.5,0.5,0.5,0.5,0,0.5,0.5,3]
[" ","Labor $",11.18,6.05,10.220000000000001,10,0,6.75,9.99,54.19]
[" ","Labor %",70.010000000000005,11.59,0,0,0,63.8,181.97,64.34]
[" "]
["07:30:00"," "," "," "," "," "," "," "," "," "]
[" ","Net Sales",5.89,11.48,0,0,0,15.17,17.16,49.7]
[" ","Labor Hrs",0.5,0.5,0.5,0.5,0.42,0.5,0.5,3.42]
[" ","Labor $",11.18,6.05,10.220000000000001,10,8.33,6.75,9.99,62.52]
[" ","Labor %",189.81,52.7,0,0,0,44.5,58.22,125.79]
[" "]
["08:00:00"," "," "," "," "," "," "," "," "," "]
[" ","Net Sales",14.17,17.66,23.9,0,38.31,26.95,41.02,162.01]
[" ","Labor Hrs",1,1,1,1,1,1,1.5,7.5]
[" ","Labor $",15.68,10.55,14.73,16.010000000000002,14.5,11.25,21.24,103.96]
[" ","Labor %",110.66,59.74,61.63,0,37.85,41.74,51.78,64.17]
[" "]
["08:30:00"," "," "," "," "," "," "," "," "," "]
[" ","Net Sales",16.07,241.99,35.28,7.74,0,33.39,83.48,417.95]
[" ","Labor Hrs",1,1,1,1.02,1,1,1.5,7.52]
[" ","Labor $",15.68,10.55,14.73,16.16,14.5,11.25,21.24,104.11]
[" ","Labor %",97.57,4.3600000000000003,41.75,208.79,0,33.69,25.44,24.91]
[" "]
["09:00:00"," "," "," "," "," "," "," "," "," "]
[" ","Net Sales",19.86,8.43,27.25,79.459999999999994,51.31,27.65,28.78,242.74]
[" ","Labor Hrs",1,1,1,1.5,1,1,1,7.5]
[" ","Labor $",15.68,10.55,14.73,20.5,14.5,11.25,11.25,98.46]
[" ","Labor %",78.95,125.15,54.06,25.8,28.26,40.69,39.090000000000003,40.56]
[" "]
["09:30:00"," "," "," "," "," "," "," "," "," "]
[" ","Net Sales",35.549999999999997,4.79,27.7,11.87,27.74,2.89,12.63,123.17]
[" ","Labor Hrs",1,1,1,1.5,1,1,1,7.5]
[" ","Labor $",15.68,10.55,14.73,20.5,14.5,11.25,11.25,98.46]
[" ","Labor %",44.11,220.25,53.18,172.7,52.27,389.27,89.07,79.94]
[" "]
["10:00:00"," "," "," "," "," "," "," "," "," "]
[" ","Net Sales",26.06,31.74,6.89,43.01,46.4,12.57,21.17,187.84]
[" ","Labor Hrs",1,1,1,1.5,1,1,1,7.5]
[" ","Labor $",15.68,10.55,14.73,20.5,14.5,11.25,11.25,98.46]
[" ","Labor %",60.17,33.24,213.79,47.66,31.25,89.5,53.14,52.42]
[" "]
["10:30:00"," "," "," "," "," "," "," "," "," "]
[" ","Net Sales",51.6,44.23,13.57,57.64,16.16,14.47,33.130000000000003,230.8]
[" ","Labor Hrs",1,1,1,2,1,1,1,8]
[" ","Labor $",15.68,10.55,14.73,27.25,14.5,11.25,11.25,105.21]
[" ","Labor %",30.39,23.85,108.55,47.28,89.73,77.75,33.96,45.58]
[" "]
["11:00:00"," "," "," "," "," "," "," "," "," "]
[" ","Net Sales",73.64,22.45,9.98,22.06,21.86,26.55,21.46,198]
[" ","Labor Hrs",1,1.47,1,2.2200000000000002,1.5,0.82,1,9.01]
[" ","Labor $",15.68,14.65,14.73,26.05,19,8.7799999999999994,11.25,110.14]
[" ","Labor %",21.29,65.260000000000005,147.6,118.09,86.92,33.07,52.42,55.63]
[" "]
["11:30:00"," "," "," "," "," "," "," "," "," "]
[" ","Net Sales",32.92,94.23,57.35,18.66,90.49,27.79,70.91,392.35]
[" ","Labor Hrs",1,1.03,1.5,2,1.98,0.51,0.9,8.92]
[" ","Labor $",15.68,9.41,20.73,21.75,24.81,5.48,10.35,108.21]
[" ","Labor %",47.63,9.99,36.15,116.56,27.42,19.72,14.6,27.58]
[" "]
["12:00:00"," "," "," "," "," "," "," "," "," "]
[" ","Net Sales",75.31,49.06,65.400000000000006,96.47,78.69,15.77,58.93,439.63]
[" ","Labor Hrs",1,1.52,1.5,2,2,0.67,0.6,9.2899999999999991]
[" ","Labor $",15.68,15.22,20.73,21.75,24.99,8.25,7.65,114.27]
[" ","Labor %",20.82,31.02,31.7,22.55,31.76,52.31,12.98,25.99]
[" "]
["12:30:00"," "," "," "," "," "," "," "," "," "]
[" ","Net Sales",139.82,159.83000000000001,81.94,81.59,67.97,30.42,98.29,659.86]
[" ","Labor Hrs",1.43,2,1.5,1.63,2,1.5,1.48,11.54]
[" ","Labor $",21.83,20.21,20.73,17.350000000000001,25.01,17.28,16.2,138.61000000000001]
[" ","Labor %",15.61,12.64,25.3,21.26,36.799999999999997,56.8,16.48,21.01]
[" "]
["13:00:00"," "," "," "," "," "," "," "," "," "]
[" ","Net Sales",37.369999999999997,66.37,45.81,116.92,79.790000000000006,89.19,65.12,500.57]
[" ","Labor Hrs",1.07,1.7,1.5,1.87,1.53,1.5,1,10.17]
[" ","Labor $",18.53,17.54,20.73,20.149999999999999,20.81,17.25,9.6199999999999992,124.63]
[" ","Labor %",49.59,26.43,45.25,17.23,26.08,19.34,14.77,24.9]
[" "]
["13:30:00"," "," "," "," "," "," "," "," "," "]
[" ","Net Sales",49.16,111.06,35.21,106,82.14,24.56,57.01,465.14]
[" ","Labor Hrs",1.5,1.8,1.99,1.91,1.5,1.5,1,11.2]
[" ","Labor $",22.43,18.45,27.17,21,20.51,17.25,11.87,138.68]
[" ","Labor %",45.63,16.61,77.17,19.809999999999999,24.97,70.239999999999995,20.82,29.81]
[" "]
["14:00:00"," "," "," "," "," "," "," "," "," "]
[" ","Net Sales",142.47999999999999,90.36,29.58,72.66,65.89,66.459999999999994,62.3,529.73]
[" ","Labor Hrs",1.5,2,2,1.5,1.47,1,1,10.47]
[" ","Labor $",22.43,20.25,27.4,17.25,20.21,10.5,11.87,129.91]
[" ","Labor %",15.74,22.41,92.63,23.74,30.67,15.8,19.05,24.52]
[" "]
["14:30:00"," "," "," "," "," "," "," "," "," "]
[" ","Net Sales",105.74,75.17,52.97,58.2,62.62,79.75,85.42,519.87]
[" ","Labor Hrs",2,1.63,1.8,1.6,1.53,1,1.65,11.21]
[" ","Labor $",26.93,15.81,23.38,16.98,20.8,10.5,23.9,138.30000000000001]
[" ","Labor %",25.47,21.03,44.14,29.18,33.22,13.17,27.98,26.6]
[" "]
["15:00:00"," "," "," "," "," "," "," "," "," "]
[" ","Net Sales",220.07,94.16,33.64,47.4,51.95,97.04,174.96,719.22]
[" ","Labor Hrs",2,1.77,1.5,2.09,1.88,1.02,1.5,11.76]
[" ","Labor $",26.93,16.600000000000001,17.25,21.72,22.67,10.65,22.37,138.19]
[" ","Labor %",12.24,17.63,51.28,45.82,43.64,10.97,12.79,19.21]
[" "]
["15:30:00"," "," "," "," "," "," "," "," "," "]
[" ","Net Sales",79.36,47,17.45,100.21,59.7,154.16999999999999,46.5,504.39]
[" ","Labor Hrs",2.27,1.52,1.38,1.58,1.03,1.5,1.72,11]
[" ","Labor $",27.79,14.35,15.67,16.62,9.4,15,23.06,121.89]
[" ","Labor %",35.020000000000003,30.53,89.8,16.59,15.75,9.73,49.59,24.17]
[" "]
["16:00:00"," "," "," "," "," "," "," "," "," "]
[" ","Net Sales",81.040000000000006,63.44,2.4900000000000002,32.94,62.09,63.57,56.14,361.71]
[" ","Labor Hrs",1.17,1.5,1.02,1.38,1.47,1.17,1.5,9.2100000000000009]
[" ","Labor $",11.25,14.2,11.1,15.2,14.6,12,20.12,98.47]
[" ","Labor %",13.88,22.38,445.78,46.14,23.51,18.88,35.840000000000003,27.22]
[" "]
["16:30:00"," "," "," "," "," "," "," "," "," "]
[" ","Net Sales",32.590000000000003,54.48,4.88,44.41,7.08,39.619999999999997,36.979999999999997,220.04]
[" ","Labor Hrs",1.83,1.5,1.08,1.02,1.5,1.42,1.1299999999999999,9.48]
[" ","Labor $",18.010000000000002,14.2,13.5,12.03,15,13.99,16.82,103.55]
[" ","Labor %",55.26,26.06,276.64,27.09,211.86,35.31,45.48,47.06]
[" "]
["17:00:00"," "," "," "," "," "," "," "," "," "]
[" ","Net Sales",40.869999999999997,89.13,14.97,48.86,12.28,17.36,64.17,287.64]
[" ","Labor Hrs",1.92,1.5,1.5,1.1499999999999999,1.1399999999999999,1.08,1.34,9.6300000000000008]
[" ","Labor $",19.510000000000002,14.2,17.25,11.65,11.7,9.99,18.18,102.48]
[" ","Labor %",47.74,15.93,115.23,23.84,95.28,57.55,28.33,35.630000000000003]
[" "]
["17:30:00"," "," "," "," "," "," "," "," "," "]
[" ","Net Sales",42.17,46.65,7.04,40.72,11.46,31.64,93.29,272.97000000000003]
[" ","Labor Hrs",1.58,1.5,1,1,1,1.5,1.03,8.61]
[" ","Labor $",16.510000000000002,14.2,11.25,9.6300000000000008,10.5,14.99,9.74,86.82]
[" ","Labor %",39.15,30.44,159.80000000000001,23.65,91.62,47.38,10.44,31.81]
[" "]
["18:00:00"," "," "," "," "," "," "," "," "," "]
[" ","Net Sales",43.21,37.020000000000003,16.22,15.92,12.82,41.04,28.45,194.68]
[" ","Labor Hrs",1.82,1.5,1,1,1,1.5,1.5,9.32]
[" ","Labor $",18.600000000000001,14.2,11.25,9.6300000000000008,10.5,14.99,20.12,99.29]
[" ","Labor %",43.05,38.36,69.36,60.49,81.900000000000006,36.53,70.72,51]
[" "]
["18:30:00"," "," "," "," "," "," "," "," "," "]
[" ","Net Sales",13.47,35.58,2.89,0,0,12.67,10.88,75.489999999999995]
[" ","Labor Hrs",1.5,1.02,1,1,1,1.5,1.02,8.0399999999999991]
[" ","Labor $",15.75,9.84,11.25,9.6300000000000008,10.5,14.99,15.76,87.72]
[" ","Labor %",116.93,27.66,389.27,0,0,118.31,144.85,116.2]
[" "]
["19:00:00"," "," "," "," "," "," "," "," "," "]
[" ","Net Sales",5.89,34.75,6.39,10.32,0,5.89,87.38,150.62]
[" ","Labor Hrs",1.5,1,1,1,0.27,1.41,1,7.18]
[" ","Labor $",15.75,9.69,11.25,9.6300000000000008,2.8,14.24,15.61,78.97]
[" ","Labor %",267.39999999999998,27.88,176.06,93.31,0,241.77,17.86,52.43]
[" "]
["19:30:00"," "," "," "," "," "," "," "," "," "]
[" ","Net Sales",14.58,35.729999999999997,11.28,0,0,0,0,61.59]
[" ","Labor Hrs",1.47,1,0.5,1,0,1,1,5.97]
[" ","Labor $",15.45,9.69,6.75,9.6300000000000008,0,10.5,15.61,67.63]
[" ","Labor %",105.97,27.12,59.84,0,0,0,0,109.81]
[" "]
["20:00:00"," "," "," "," "," "," "," "," "," "]
[" ","Net Sales",0,0,0,10.58,0,0,0,10.58]
[" ","Labor Hrs",0.28000000000000003,0.63,0.28000000000000003,1,0,0.61,0.83,3.63]
[" ","Labor $",3.82,6.39,3.82,9.6300000000000008,0,7.05,14.12,44.83]
[" ","Labor %",0,0,0,91.02,0,0,0,423.72]
[" "]
["20:30:00"," "," "," "," "," "," "," "," "," "]
[" ","Net Sales",0,0,0,4.49,0,0,0,4.49]
[" ","Labor Hrs",0,0.21,0,1,0,0.05,0.5,1.76]
[" ","Labor $",0,2.25,0,9.6300000000000008,0,0.6,11.12,23.6]
[" ","Labor %",0,0,0,214.48,0,0,0,525.61]
[" "]
["21:00:00"," "," "," "," "," "," "," "," "," "]
[" ","Net Sales",0,0,0,0,0,0,0,0]
[" ","Labor Hrs",0,0,0,0.5,0,0,0.5,1]
[" ","Labor $",0,0,0,4.9000000000000004,0,0,11.12,16.02]
[" ","Labor %",0,0,0,0,0,0,0,0]
[" "]
["21:30:00"," "," "," "," "," "," "," "," "," "]
[" ","Net Sales",0,0,0,0,0,0,0,0]
[" ","Labor Hrs",0,0,0,0,0,0,0.47,0.47]
[" ","Labor $",0,0,0,0,0,0,10.38,10.38]
[" ","Labor %",0,0,0,0,0,0,0,0]
[" "]
["22:00:00"," "," "," "," "," "," "," "," "," "]
[" ","Net Sales",0,0,0,0,0,0,0,0]
[" ","Labor Hrs",0,0,0,0,0,0,0,0]
[" ","Labor $",0,0,0,0,0,0,0,0]
[" ","Labor %",0,0,0,0,0,0,0,0]
[" "]
["22:30:00"," "," "," "," "," "," "," "," "," "]
[" ","Net Sales",0,0,0,0,0,0,0,0]
[" ","Labor Hrs",0,0,0,0,0,0,0,0]
[" ","Labor $",0,0,0,0,0,0,0,0]
[" ","Labor %",0,0,0,0,0,0,0,0]
[" "]
["****************************  End of Report  ****************************"]

{"sheet":"Wk 10-28","index":9,"n_rows":206,"n_cols":10,"rows_kept":206,"cut":false,"hidden":false,"merged":[]}
["1361 - Jamba Juice #1361 35 Railroad Ave Danville, CA 94526 "]
["10/29/2014 --   9:10 AM"]
["6.7.38 "]
["Weekly Hourly Sales and Labor Report"]
["Week Ending 10/28/2014"]
[null,null,"Wednesday","Thursday","Friday","Saturday","Sunday","Monday","Tuesday","Total"]
[" "," ","2014-10-22","2014-10-23","2014-10-24","2014-10-25","2014-10-26","2014-10-27","2014-10-28"," "]
["04:00:00"," "," "," "," "," "," "," "," "," "]
[" ","Net Sales",0,0,0,0,0,0,0,0]
[" ","Labor Hrs",1.75,1,0.57999999999999996,0,0,1,0.57999999999999996,4.91]
[" ","Labor $",39.479999999999997,13.01,12.36,0,0,14.33,11.65,90.83]
[" ","Labor %",0,0,0,0,0,0,0,0]
[" "]
["07:00:00"," "," "," "," "," "," "," "," "," "]
[" ","Net Sales",12.88,12.63,40.68,0,0,0,0,66.19]
[" ","Labor Hrs",0.5,0.5,0.5,0.08,0,0.5,0.5,2.58]
[" ","Labor $",11.28,6.51,10.59,1.67,0,7.17,9.99,47.21]
[" ","Labor %",87.58,51.54,26.03,0,0,0,0,71.319999999999993]
[" "]
["07:30:00"," "," "," "," "," "," "," "," "," "]
[" ","Net Sales",40.11,18.059999999999999,20.46,13.47,0,62.86,6.78,161.74]
[" ","Labor Hrs",0.5,0.5,0.5,0.5,0,0.5,0.5,3]
[" ","Labor $",11.28,6.51,10.59,9.99,0,7.17,9.99,55.53]
[" ","Labor %",28.12,36.049999999999997,51.76,74.16,0,11.41,147.35,34.33]
[" "]
["08:00:00"," "," "," "," "," "," "," "," "," "]
[" ","Net Sales",25.6,6.64,76.73,24.6,11.57,16.16,51.42,212.72]
[" ","Labor Hrs",1,1,1,1,0.5,1,1.5,7]
[" ","Labor $",15.78,11.01,16.600000000000001,15.99,4.5,11.67,21.24,96.79]
[" ","Labor %",61.64,165.81,21.63,65,38.89,72.22,41.31,45.5]
[" "]
["08:30:00"," "," "," "," "," "," "," "," "," "]
[" ","Net Sales",21.37,37.229999999999997,11.18,18.21,41.41,0,40.82,170.22]
[" ","Labor Hrs",1,1,1,1,0.5,1,1.5,7]
[" ","Labor $",15.78,11.01,16.600000000000001,15.99,4.5,11.67,21.24,96.79]
[" ","Labor %",73.84,29.57,148.47999999999999,87.81,10.87,0,52.03,56.86]
[" "]
["09:00:00"," "," "," "," "," "," "," "," "," "]
[" ","Net Sales",4.9000000000000004,140.58000000000001,8.98,63.12,17.96,14.47,0,250.01]
[" ","Labor Hrs",1,1,1,1,0.5,1,1.5,7]
[" ","Labor $",15.78,11.01,16.600000000000001,15.99,4.5,11.67,21.24,96.79]
[" ","Labor %",322.04000000000002,7.83,184.86,25.33,25.06,80.650000000000006,0,38.71]
[" "]
["09:30:00"," "," "," "," "," "," "," "," "," "]
[" ","Net Sales",23.41,23.61,38.619999999999997,4.49,27.73,10.23,24.95,153.04]
[" ","Labor Hrs",1,1,1,1,0.5,1,1.05,6.55]
[" ","Labor $",15.78,11.01,16.600000000000001,15.99,4.5,11.67,12.25,87.8]
[" ","Labor %",67.41,46.63,42.98,356.12,16.23,114.08,49.1,57.37]
[" "]
["10:00:00"," "," "," "," "," "," "," "," "," "]
[" ","Net Sales",33.29,31.13,15.08,33.14,69.38,0,9.08,191.1]
[" ","Labor Hrs",1,1,1,1.5,0.5,1,1,7]
[" ","Labor $",15.78,11.01,16.600000000000001,20.49,4.5,11.67,11.25,91.3]
[" ","Labor %",47.4,35.369999999999997,110.08,61.83,6.49,0,123.9,47.78]
[" "]
["10:30:00"," "," "," "," "," "," "," "," "," "]
[" ","Net Sales",47.81,10.58,11.97,22.76,72.319999999999993,18.170000000000002,3.39,187]
[" ","Labor Hrs",1,1,1,2,0.5,1,1,7.5]
[" ","Labor $",15.78,11.01,16.600000000000001,27.37,4.5,11.67,11.25,98.18]
[" ","Labor %",33.01,104.06,138.68,120.25,6.22,64.23,331.86,52.5]
[" "]
["11:00:00"," "," "," "," "," "," "," "," "," "]
[" ","Net Sales",40.130000000000003,26.04,77.959999999999994,54.45,43.07,21.76,44.15,307.56]
[" ","Labor Hrs",1,1,1,1.5,0.82,0.98,0.53,6.83]
[" ","Labor $",15.78,11.01,16.600000000000001,17.350000000000001,7.35,11.43,7.05,86.57]
[" ","Labor %",39.32,42.28,21.29,31.86,17.07,52.53,15.97,28.15]
[" "]
["11:30:00"," "," "," "," "," "," "," "," "," "]
[" ","Net Sales",46.09,41.96,138.77000000000001,60.73,36.18,41.52,44.29,409.54]
[" ","Labor Hrs",1,1,1,2,1.17,0.52,0.97,7.66]
[" ","Labor $",15.78,11.01,16.600000000000001,21.86,12,4.74,10.95,92.94]
[" ","Labor %",34.24,26.24,11.96,36,33.17,11.42,24.72,22.69]
[" "]
["12:00:00"," "," "," "," "," "," "," "," "," "]
[" ","Net Sales",56.88,38.380000000000003,21.81,100.15,33.44,86.49,46.17,383.32]
[" ","Labor Hrs",1,1,1,2,1.5,0.85,1,8.35]
[" ","Labor $",15.78,11.01,16.600000000000001,21.86,15,11.37,11.25,102.87]
[" ","Labor %",27.74,28.69,76.11,21.83,44.86,13.15,24.37,26.84]
[" "]
["12:30:00"," "," "," "," "," "," "," "," "," "]
[" ","Net Sales",130.05000000000001,155.66,101.66,89.08,76.17,71.849999999999994,113.01,737.48]
[" ","Labor Hrs",1.38,1.5,1.5,1.97,1.5,1.5,2,11.35]
[" ","Labor $",21.48,17.75,21.1,21.46,15,17.66,20.86,135.31]
[" ","Labor %",16.52,11.4,20.76,24.09,19.690000000000001,24.58,18.46,18.350000000000001]
[" "]
["13:00:00"," "," "," "," "," "," "," "," "," "]
[" ","Net Sales",6.68,32.57,62.63,28.45,44.92,105.59,55.46,336.3]
[" ","Labor Hrs",1.1200000000000001,1.5,1.5,1.52,1.5,1.5,1.98,10.62]
[" ","Labor $",19.079999999999998,17.75,21.1,16.010000000000002,15,17.66,20.72,127.32]
[" ","Labor %",285.63,54.5,33.69,56.27,33.39,16.73,37.36,37.86]
[" "]
["13:30:00"," "," "," "," "," "," "," "," "," "]
[" ","Net Sales",18.809999999999999,51.75,24.85,62.31,109.49,30.35,38.68,336.24]
[" ","Labor Hrs",2,1,1.58,2,1.82,1.5,1.08,10.98]
[" ","Labor $",27.03,11.24,20.59,20.36,17.829999999999998,17.66,10.75,125.46]
[" ","Labor %",143.69999999999999,21.72,82.86,32.68,16.28,58.19,27.79,37.31]
[" "]
["14:00:00"," "," "," "," "," "," "," "," "," "]
[" ","Net Sales",68.11,41.17,39.42,76.790000000000006,119.11,103.44,49.05,497.09]
[" ","Labor Hrs",2,1,1.92,1.93,1.34,1.5,1.42,11.11]
[" ","Labor $",27.03,13.25,24.6,19.760000000000002,13.65,17.66,15.25,131.19999999999999]
[" ","Labor %",39.69,32.18,62.4,25.73,11.46,17.07,31.09,26.39]
[" "]
["14:30:00"," "," "," "," "," "," "," "," "," "]
[" ","Net Sales",173.08,127.8,262.29000000000002,53.08,114.26,55.59,94.47,880.57]
[" ","Labor Hrs",2.5,1.5,2.42,2,1.5,1.5,1.5,12.92]
[" ","Labor $",31.54,17.75,29.87,20.98,15,17.66,16.38,149.18]
[" ","Labor %",18.22,13.89,11.39,39.53,13.13,31.77,17.34,16.940000000000001]
[" "]
["15:00:00"," "," "," "," "," "," "," "," "," "]
[" ","Net Sales",105,223.24,96.56,57.54,45.5,93.83,127.65,749.32]
[" ","Labor Hrs",2.5,2,2.5,1.8,1.5,1.5,1.5,13.3]
[" ","Labor $",31.53,22.25,30.7,18.239999999999998,15,17.66,16.38,151.76]
[" ","Labor %",30.03,9.9700000000000006,31.79,31.7,32.97,18.82,12.83,20.25]
[" "]
["15:30:00"," "," "," "," "," "," "," "," "," "]
[" ","Net Sales",154.88999999999999,163.81,148.49,20.07,30.69,72.599999999999994,136.74,727.29]
[" ","Labor Hrs",2.4900000000000002,2.5,1.9,1.68,1.5,1.92,2,13.99]
[" ","Labor $",31.38,26.7,19.239999999999998,16.64,15,19.38,20.88,149.22]
[" ","Labor %",20.260000000000002,16.3,12.96,82.91,48.88,26.69,15.27,20.52]
[" "]
["16:00:00"," "," "," "," "," "," "," "," "," "]
[" ","Net Sales",72.47,44.21,72.510000000000005,70.819999999999993,65.67,42.47,45.32,413.47]
[" ","Labor Hrs",1.5,1.25,1.6,1.54,1.02,1.5,1.55,9.9600000000000009]
[" ","Labor $",15.75,12.32,16.54,16.77,9.1999999999999993,15,14.8,100.38]
[" ","Labor %",21.73,27.87,22.81,23.68,14.01,35.32,32.659999999999997,24.28]
[" "]
["16:30:00"," "," "," "," "," "," "," "," "," "]
[" ","Net Sales",75.45,54.48,69.150000000000006,25.84,49.95,45.06,115.29,435.22]
[" ","Labor Hrs",1.5,1.38,1.52,1.5,1.48,1.3,1.5,10.18]
[" ","Labor $",15.75,14.18,14.33,16.47,14.8,12.6,14.13,102.26]
[" ","Labor %",20.87,26.03,20.72,63.74,29.63,27.96,12.26,23.5]
[" "]
["17:00:00"," "," "," "," "," "," "," "," "," "]
[" ","Net Sales",25.7,60.55,30.9,20.21,8.33,19.97,35.89,201.55]
[" ","Labor Hrs",1.07,1.5,1.07,1.5,1.5,1.2,1.2,9.0399999999999991]
[" ","Labor $",9.9,15.75,10.23,16.47,15,11.4,11.43,90.18]
[" ","Labor %",38.520000000000003,26.01,33.11,81.489999999999995,180.07,57.09,31.85,44.74]
[" "]
["17:30:00"," "," "," "," "," "," "," "," "," "]
[" ","Net Sales",55.54,39.340000000000003,40.630000000000003,13.47,26.64,8.34,10.38,194.34]
[" ","Labor Hrs",1.28,1.07,1.43,1.5,1.5,1.5,1.3,9.58]
[" ","Labor $",13.5,11.85,13.53,16.47,15,15,12.33,97.68]
[" ","Labor %",24.31,30.12,33.299999999999997,122.27,56.31,179.86,118.79,50.26]
[" "]
["18:00:00"," "," "," "," "," "," "," "," "," "]
[" ","Net Sales",28.44,32.83,40.020000000000003,28.4,5.29,11.48,23.36,169.82]
[" ","Labor Hrs",1.1499999999999999,1.25,1.5,0.98,1,1.45,1.5,8.83]
[" ","Labor $",12.6,13.5,14.13,11.2,10.5,14.55,14.13,90.61]
[" ","Labor %",44.3,41.12,35.31,39.44,198.49,126.74,60.49,53.36]
[" "]
["18:30:00"," "," "," "," "," "," "," "," "," "]
[" ","Net Sales",37.29,53.06,28.94,165,13.97,20.66,10.19,329.11]
[" ","Labor Hrs",1.03,1,1.38,1,1,1,1.02,7.43]
[" ","Labor $",11.55,11.25,12.93,11.97,10.5,10.5,9.77,78.47]
[" ","Labor %",30.97,21.2,44.68,7.25,75.16,50.82,95.88,23.84]
[" "]
["19:00:00"," "," "," "," "," "," "," "," "," "]
[" ","Net Sales",10.88,60.51,14.42,5.89,0,11.18,39.56,142.44]
[" ","Labor Hrs",1,1,1,0.77,0.73,1,1,6.5]
[" ","Labor $",11.25,11.25,9,8.7799999999999994,7.7,10.5,9.6199999999999992,68.099999999999994]
[" ","Labor %",103.4,18.59,62.41,149.07,0,93.92,24.32,47.81]
[" "]
["19:30:00"," "," "," "," "," "," "," "," "," "]
[" ","Net Sales",6.24,10.83,29.24,9.68,0,22.36,0,78.349999999999994]
[" ","Labor Hrs",1,1,0.9,0.5,0,0.72,1,5.12]
[" ","Labor $",11.25,11.25,8.6,5.12,0,7.95,9.6199999999999992,53.79]
[" ","Labor %",180.29,103.88,29.41,52.89,0,35.549999999999997,0,68.650000000000006]
[" "]
["20:00:00"," "," "," "," "," "," "," "," "," "]
[" ","Net Sales",0,0,33.090000000000003,0,0,0,0,33.090000000000003]
[" ","Labor Hrs",0.6,0.63,1,0.5,0,0.48,0.45,3.66]
[" ","Labor $",7.2,7.8,9.6300000000000008,5.12,0,5.8,4.34,39.89]
[" ","Labor %",0,0,29.1,0,0,0,0,120.55]
[" "]
["20:30:00"," "," "," "," "," "," "," "," "," "]
[" ","Net Sales",0,0,16.37,34.14,0,0,0,50.51]
[" ","Labor Hrs",0,0,1,0.5,0,0,0,1.5]
[" ","Labor $",0,0,9.6300000000000008,5.12,0,0,0,14.75]
[" ","Labor %",0,0,58.83,15,0,0,0,29.2]
[" "]
["21:00:00"," "," "," "," "," "," "," "," "," "]
[" ","Net Sales",0,0,0,0,0,0,0,0]
[" ","Labor Hrs",0,0,0.45,0.13,0,0,0,0.57999999999999996]
[" ","Labor $",0,0,4.45,1.37,0,0,0,5.82]
[" ","Labor %",0,0,0,0,0,0,0,0]
[" "]
["21:30:00"," "," "," "," "," "," "," "," "," "]
[" ","Net Sales",0,0,0,0,0,0,0,0]
[" ","Labor Hrs",0,0,0,0,0,0,0,0]
[" ","Labor $",0,0,0,0,0,0,0,0]
[" ","Labor %",0,0,0,0,0,0,0,0]
[" "]
["22:00:00"," "," "," "," "," "," "," "," "," "]
[" ","Net Sales",0,0,0,0,0,0,0,0]
[" ","Labor Hrs",0,0,0,0,0,0,0,0]
[" ","Labor $",0,0,0,0,0,0,0,0]
[" ","Labor %",0,0,0,0,0,0,0,0]
[" "]
["22:30:00"," "," "," "," "," "," "," "," "," "]
[" ","Net Sales",0,0,0,0,0,0,0,0]
[" ","Labor Hrs",0,0,0,0,0,0,0,0]
[" ","Labor $",0,0,0,0,0,0,0,0]
[" ","Labor %",0,0,0,0,0,0,0,0]
[" "]
["****************************  End of Report  ****************************"]

{"sheet":"Wk 10-21","index":10,"n_rows":206,"n_cols":10,"rows_kept":206,"cut":false,"hidden":false,"merged":[]}
["1361 - Jamba Juice #1361 35 Railroad Ave Danville, CA 94526 "]
["10/22/2014 --   8:41 AM"]
["6.7.38 "]
["Weekly Hourly Sales and Labor Report"]
["Week Ending 10/21/2014"]
[null,null,"Wednesday","Thursday","Friday","Saturday","Sunday","Monday","Tuesday","Total"]
[" "," ","2014-10-15","2014-10-16","2014-10-17","2014-10-18","2014-10-19","2014-10-20","2014-10-21"," "]
["04:00:00"," "," "," "," "," "," "," "," "," "]
[" ","Net Sales",0,0,0,0,0,0,0,0]
[" ","Labor Hrs",1.75,1,0.75,0.75,0,1,0.57999999999999996,5.83]
[" ","Labor $",39.85,13.22,16.2,14.99,0,14.63,11.65,110.54]
[" ","Labor %",0,0,0,0,0,0,0,0]
[" "]
["07:00:00"," "," "," "," "," "," "," "," "," "]
[" ","Net Sales",35.729999999999997,105.32,23.01,14.56,0,11.37,25.95,215.94]
[" ","Labor Hrs",0.5,0.5,0.5,0.5,0.5,0.5,0.5,3.5]
[" ","Labor $",11.39,6.61,10.8,9.99,10.16,7.31,9.99,66.25]
[" ","Labor %",31.88,6.28,46.94,68.61,0,64.290000000000006,38.5,30.68]
[" "]
["07:30:00"," "," "," "," "," "," "," "," "," "]
[" ","Net Sales",25.69,11.67,13.87,36.18,0,22.4,17.66,127.47]
[" ","Labor Hrs",0.5,0.5,0.5,0.5,0.5,0.5,0.5,3.5]
[" ","Labor $",11.39,6.61,10.8,9.99,10.16,7.31,9.99,66.25]
[" ","Labor %",44.34,56.64,77.87,27.61,0,32.630000000000003,56.57,51.97]
[" "]
["08:00:00"," "," "," "," "," "," "," "," "," "]
[" ","Net Sales",56.83,22.59,23.56,17.72,3.59,35.07,23.71,183.07]
[" ","Labor Hrs",0.93,1,1,1,1,1,1.5,7.43]
[" ","Labor $",16.579999999999998,11.11,15.3,15.99,14.66,11.81,21.24,106.69]
[" ","Labor %",29.17,49.18,64.94,90.24,408.36,33.68,89.58,58.28]
[" "]
["08:30:00"," "," "," "," "," "," "," "," "," "]
[" ","Net Sales",18.399999999999999,14.52,25.25,93.75,0,32.090000000000003,34.83,218.84]
[" ","Labor Hrs",1,1,1,1,1,1,1.5,7.5]
[" ","Labor $",17.38,11.11,15.3,15.99,14.66,11.81,21.24,107.49]
[" ","Labor %",94.46,76.52,60.59,17.059999999999999,0,36.799999999999997,60.98,49.12]
[" "]
["09:00:00"," "," "," "," "," "," "," "," "," "]
[" ","Net Sales",23.91,18.77,22.31,53.95,57.27,39.42,5.09,220.72]
[" ","Labor Hrs",1,1,1,1.5,1,1,1,7.5]
[" ","Labor $",17.38,11.11,15.3,20.49,14.66,11.81,11.25,102]
[" ","Labor %",72.69,59.19,68.58,37.979999999999997,25.6,29.96,221.02,46.21]
[" "]
["09:30:00"," "," "," "," "," "," "," "," "," "]
[" ","Net Sales",16.72,12.94,58.88,47.9,20.260000000000002,25.21,10.78,192.69]
[" ","Labor Hrs",1,1,1,1.5,1,1,1,7.5]
[" ","Labor $",17.38,11.11,15.3,20.49,14.66,11.81,11.25,102]
[" ","Labor %",103.95,85.86,25.99,42.78,72.36,46.85,104.36,52.93]
[" "]
["10:00:00"," "," "," "," "," "," "," "," "," "]
[" ","Net Sales",6010.44,40.89,14.16,76.47,21.06,5.14,13.03,6181.19]
[" ","Labor Hrs",1,1,1,2.48,1,1,1,8.48]
[" ","Labor $",17.38,11.11,15.3,31.51,14.66,11.81,11.25,113.02]
[" ","Labor %",0.28999999999999998,27.17,108.05,41.21,69.61,229.77,86.34,1.83]
[" "]
["10:30:00"," "," "," "," "," "," "," "," "," "]
[" ","Net Sales",58.49,9.93,22.1,79.06,55.45,21.36,46.7,293.08999999999997]
[" ","Labor Hrs",1,1,1,2.5,1,1,1,8.5]
[" ","Labor $",17.38,11.11,15.3,31.74,14.66,11.81,11.25,113.25]
[" ","Labor %",29.71,111.88,69.23,40.15,26.44,55.29,24.09,38.64]
[" "]
["11:00:00"," "," "," "," "," "," "," "," "," "]
[" ","Net Sales",54.36,42.84,21.46,120.28,62.15,35.130000000000003,0,336.22]
[" ","Labor Hrs",1,1,1.5,2.59,1.5,0.8,1,9.39]
[" ","Labor $",17.38,11.11,19.8,27.95,19.170000000000002,8.89,11.25,115.55]
[" ","Labor %",31.97,25.93,92.26,23.24,30.84,25.31,0,34.369999999999997]
[" "]
["11:30:00"," "," "," "," "," "," "," "," "," "]
[" ","Net Sales",43.56,73.94,105.77,100.77,53.55,21.75,28.49,427.83]
[" ","Labor Hrs",1,1,1.07,2.5,1.82,0.7,1,9.09]
[" ","Labor $",17.38,11.11,15.9,26.25,23.41,7.43,11.25,112.73]
[" ","Labor %",39.9,15.03,15.03,26.05,43.72,34.159999999999997,39.49,26.35]
[" "]
["12:00:00"," "," "," "," "," "," "," "," "," "]
[" ","Net Sales",119.31,100.63,113.84,139.86000000000001,80.260000000000005,0,20.66,574.55999999999995]
[" ","Labor Hrs",1,1,1.43,2.38,1.63,1,1,9.44]
[" ","Labor $",17.38,11.11,19.2,24.85,21.86,11.81,11.25,117.46]
[" ","Labor %",14.57,11.04,16.87,17.77,27.24,0,54.45,20.440000000000001]
[" "]
["12:30:00"," "," "," "," "," "," "," "," "," "]
[" ","Net Sales",129.71,190.82,178,96.2,89.73,31.69,164.96,881.11]
[" ","Labor Hrs",1.5,1.48,1.5,2.04,1.97,1.4,1.9,11.79]
[" ","Labor $",24.13,16.059999999999999,19.8,20.9,24.86,16.920000000000002,19.97,142.63999999999999]
[" ","Labor %",18.600000000000001,8.42,11.12,21.73,27.71,53.39,12.11,16.190000000000001]
[" "]
["13:00:00"," "," "," "," "," "," "," "," "," "]
[" ","Net Sales",80.75,56.68,70.17,144.72,82.37,11.28,0,445.97]
[" ","Labor Hrs",1.5,1.93,1.5,2.08,1.53,1,1.5,11.04]
[" ","Labor $",24.13,20.14,19.8,22.49,20.96,13.32,16.37,137.21]
[" ","Labor %",29.88,35.53,28.22,15.54,25.45,118.09,0,30.77]
[" "]
["13:30:00"," "," "," "," "," "," "," "," "," "]
[" ","Net Sales",63.37,109.29,58.28,99.37,74.7,25.65,37.28,467.94]
[" ","Labor Hrs",1.17,1.52,2,2.2200000000000002,2.4500000000000002,1,1.22,11.58]
[" ","Labor $",20.14,16.170000000000002,26.54,22.42,29.21,13.32,12.55,140.35]
[" ","Labor %",31.78,14.8,45.54,22.56,39.1,51.93,33.659999999999997,29.99]
[" "]
["14:00:00"," "," "," "," "," "," "," "," "," "]
[" ","Net Sales",122.04,101.82,41.37,93.02,106.98,83.05,58.27,606.54999999999995]
[" ","Labor Hrs",1.33,1.55,1.97,1.8,2.5099999999999998,1,1.23,11.39]
[" ","Labor $",22.14,14.79,26.24,18.97,29.68,13.32,12.94,138.08000000000001]
[" ","Labor %",18.14,14.53,63.43,20.39,27.74,16.04,22.21,22.76]
[" "]
["14:30:00"," "," "," "," "," "," "," "," "," "]
[" ","Net Sales",66.760000000000005,68.19,68.680000000000007,115.44,110.04,118.46,133.13999999999999,680.71]
[" ","Labor Hrs",1.5,2,1.53,2.39,2.4500000000000002,1,1.05,11.92]
[" ","Labor $",24.13,20.74,22.34,25.7,29.21,13.32,11.76,147.19999999999999]
[" ","Labor %",36.14,30.42,32.53,22.26,26.54,11.24,8.83,21.62]
[" "]
["15:00:00"," "," "," "," "," "," "," "," "," "]
[" ","Net Sales",111.53,162.41,161.13,58.64,59.68,63.43,209.73,826.55]
[" ","Labor Hrs",1.5,2.5,2.4500000000000002,2.02,1.78,1.5,2.0099999999999998,13.76]
[" ","Labor $",24.13,25.22,31.15,21.02,20.76,17.78,20.89,160.94999999999999]
[" ","Labor %",21.64,15.53,19.329999999999998,35.85,34.79,28.03,9.9600000000000009,19.47]
[" "]
["15:30:00"," "," "," "," "," "," "," "," "," "]
[" ","Net Sales",60.08,141.52000000000001,76.5,64.72,60.38,133.37,134.30000000000001,670.87]
[" ","Labor Hrs",1.58,2.5,2.67,2,1.5,1.5,2,13.75]
[" ","Labor $",23.01,25.24,30.41,20.87,15,17.809999999999999,20.87,153.21]
[" ","Labor %",38.299999999999997,17.829999999999998,39.75,32.25,24.84,13.35,15.54,22.84]
[" "]
["16:00:00"," "," "," "," "," "," "," "," "," "]
[" ","Net Sales",49.31,26.76,114.06,43.07,95.13,39.32,34.18,401.83]
[" ","Labor Hrs",1.81,2,2.1,2,1.49,1.1000000000000001,1.27,11.77]
[" ","Labor $",23.7,20.74,19.98,20.87,13.4,11.96,12.02,122.67]
[" ","Labor %",48.06,77.5,17.52,48.46,14.09,30.42,35.17,30.53]
[" "]
["16:30:00"," "," "," "," "," "," "," "," "," "]
[" ","Net Sales",45.61,82.34,41.17,38.479999999999997,52.41,29.2,77.5,366.71]
[" ","Labor Hrs",1.5,1.56,2.4,1.63,1.98,1.02,1.23,11.32]
[" ","Labor $",15.76,15.01,24.03,17.57,19.3,9.19,11.72,112.58]
[" ","Labor %",34.549999999999997,18.23,58.37,45.66,36.83,31.47,15.12,30.7]
[" "]
["17:00:00"," "," "," "," "," "," "," "," "," "]
[" ","Net Sales",14.57,55.52,35.53,27.9,5.59,51.16,83.13,273.39999999999998]
[" ","Labor Hrs",1.5,1.47,2.5,1,2,1.48,1.5,11.45]
[" ","Labor $",15.76,13.83,25.38,9.17,19.5,14.8,14.12,112.56]
[" ","Labor %",108.17,24.91,71.430000000000007,32.869999999999997,348.84,28.93,16.989999999999998,41.17]
[" "]
["17:30:00"," "," "," "," "," "," "," "," "," "]
[" ","Net Sales",36.49,20.56,37.28,31.79,10.32,21.12,29.04,186.6]
[" ","Labor Hrs",1.5,1.03,2,1,1.87,1.5,1.5,10.4]
[" ","Labor $",15.76,9.93,20.88,9.31,18.3,15,14.12,103.3]
[" ","Labor %",43.19,48.3,56.01,29.29,177.33,71.02,48.62,55.36]
[" "]
["18:00:00"," "," "," "," "," "," "," "," "," "]
[" ","Net Sales",70.37,18.07,48.35,4.8899999999999997,18.059999999999999,48.96,41.41,250.11]
[" ","Labor Hrs",1.5,1.3,2,1.25,1.5,1.5,1.45,10.5]
[" ","Labor $",15.76,12.33,20.88,11.87,14.99,15,13.67,104.5]
[" ","Labor %",22.4,68.23,43.19,242.74,83,30.64,33.01,41.78]
[" "]
["18:30:00"," "," "," "," "," "," "," "," "," "]
[" ","Net Sales",6.38,34.840000000000003,23.55,21.2,27.16,28.8,14.07,156]
[" ","Labor Hrs",1.1200000000000001,1,1.57,1,1.5,1.5,1,8.69]
[" ","Labor $",12.31,9.6300000000000008,16.440000000000001,9.6199999999999992,14.99,15,9.6199999999999992,87.61]
[" ","Labor %",192.95,27.64,69.81,45.38,55.19,52.08,68.37,56.16]
[" "]
["19:00:00"," "," "," "," "," "," "," "," "," "]
[" ","Net Sales",16.52,54.15,28.75,23.75,0,27.7,0,150.87]
[" ","Labor Hrs",1,1,1.88,1,1.08,1.5,1,8.4600000000000009]
[" ","Labor $",11.26,9.6300000000000008,19.68,9.6199999999999992,11.24,15,9.6199999999999992,86.05]
[" ","Labor %",68.16,17.78,68.45,40.51,0,54.15,0,57.04]
[" "]
["19:30:00"," "," "," "," "," "," "," "," "," "]
[" ","Net Sales",5.59,21.66,0,0,0,0,6.89,34.14]
[" ","Labor Hrs",1,1,1.52,1,0.19,1.5,1,7.21]
[" ","Labor $",11.26,9.6300000000000008,16.52,9.6199999999999992,2.4,15,9.6199999999999992,74.05]
[" ","Labor %",201.43,44.46,0,0,0,0,139.62,216.9]
[" "]
["20:00:00"," "," "," "," "," "," "," "," "," "]
[" ","Net Sales",0,0,0,2.54,0,2.79,0,5.33]
[" ","Labor Hrs",0.56000000000000005,0.39,1.5,1,0,1.36,0.28000000000000003,5.09]
[" ","Labor $",7.05,3.78,16.37,9.6199999999999992,0,13.8,2.8,53.42]
[" ","Labor %",0,0,0,378.74,0,494.62,0,1002.25]
[" "]
["20:30:00"," "," "," "," "," "," "," "," "," "]
[" ","Net Sales",0,0,0,10.98,0,0,0,10.98]
[" ","Labor Hrs",0,0,1.5,1,0,7.0000000000000007E-2,0,2.57]
[" ","Labor $",0,0,16.37,9.6199999999999992,0,0.8,0,26.79]
[" ","Labor %",0,0,0,87.61,0,0,0,243.99]
[" "]
["21:00:00"," "," "," "," "," "," "," "," "," "]
[" ","Net Sales",0,0,0,0,0,0,0,0]
[" ","Labor Hrs",0,0,0.48,0.69,0,0,0,1.17]
[" ","Labor $",0,0,5.69,6.63,0,0,0,12.32]
[" ","Labor %",0,0,0,0,0,0,0,0]
[" "]
["21:30:00"," "," "," "," "," "," "," "," "," "]
[" ","Net Sales",0,0,0,0,0,0,0,0]
[" ","Labor Hrs",0,0,0,0,0,0,0,0]
[" ","Labor $",0,0,0,0,0,0,0,0]
[" ","Labor %",0,0,0,0,0,0,0,0]
[" "]
["22:00:00"," "," "," "," "," "," "," "," "," "]
[" ","Net Sales",0,0,0,0,0,0,0,0]
[" ","Labor Hrs",0,0,0,0,0,0,0,0]
[" ","Labor $",0,0,0,0,0,0,0,0]
[" ","Labor %",0,0,0,0,0,0,0,0]
[" "]
["22:30:00"," "," "," "," "," "," "," "," "," "]
[" ","Net Sales",0,0,0,0,0,0,0,0]
[" ","Labor Hrs",0,0,0,0,0,0,0,0]
[" ","Labor $",0,0,0,0,0,0,0,0]
[" ","Labor %",0,0,0,0,0,0,0,0]
[" "]
["****************************  End of Report  ****************************"]